{"text_format":"1","workbook":"xlsx","n_sheets":2,"sheets":["名刺管理（Eight）","CSV出力データ"],"not_rendered":{"charts":0,"images":0,"macros":1,"external_links":0,"defined_names":0,"comments":0,"pivot_tables":0},"unopened":[],"bounds":{"document_bytes":16777216,"sheet_cells":100000,"rows_first":2000,"rows_last":500,"rows_between":2000,"halvings":0,"cell_chars":16384,"cell_head_chars":4096},"cells_cut":0,"cells_raw":0,"read":"whole","date_system":"1900"}

{"sheet":"名刺管理（Eight）","index":0,"n_rows":7,"n_cols":21,"rows_kept":7,"cut":false,"hidden":false,"merged":[]}
["会社名","部署名","役職","氏名","e-mail","郵便番号","住所","TEL会社","TEL部門","TEL直通","FAX","携帯電話","URL","名刺交換日","Eightでつながっている人","再データ化中の名刺","'?'を含んだデータ","ラベル1","ラベル2","ラベル3","ラベル4"]
["株式会社A","マーケティング部","マネージャー","岡安裕一","1111@communicatio-biz.jp",null,"神奈川県○○市××町1-1-1",null,null,null,null,"090-1111-1111","http://communicatio-biz.jp/","2016-01-07",1]
["株式会社B",null,"常務取締役","姓姓名","2222@communicatio-biz.jp","111-1111","東京都○○区××２－２－２","11-1111-1111",null,null,"11-1111-1112",null,null,"2016-03-02",1,null,null,1]
["株式会社C","営業部","部長","姓姓姓名名","3333@communicatio-biz.jp","222-2222","鹿児島県△△市○○33-3","22-2222-2222",null,null,null,null,null,"2016-03-02",1,null,null,1]
["株式会社D","システム部","課長","姓名","4444@communicatio-biz.jp","333-3333","千葉県××市○○５－５－５","33-3333-3333",null,null,null,null,null,"2016-02-16",1,null,null,null,1]
["株式会社E",null,null,"姓姓名名名","5555@communicatio-biz.jp","444-4444","埼玉県○○市××区","44-4444-4444",null,null,"44-4444-4445",null,null,"2016-01-26",1,null,null,null,1]
["株式会社F",null,null,"姓姓名名名","66666@communicatio-biz.jp","555-5555","和歌山県×××市○○7-7-7","55-5555-5555",null,null,null,"080-1111-1111",null,"2016-02-11",1,null,null,null,1]

{"sheet":"CSV出力データ","index":1,"n_rows":501,"n_cols":17,"rows_kept":501,"cut":false,"hidden":false,"merged":[]}
[]
[]
["姓","名","★文字数不一致","★姓文字数","★名文字数","会社","部署","職位","メール","郵便番号","都道府県","市区町村","電話番号","Fax","携帯電話","Webサイト","名刺交換日"]
[{"$f":"LEFT('名刺管理（Eight）'!D2,D4)","v":"岡安"},{"$f":"RIGHT('名刺管理（Eight）'!D2,E4)","v":"裕一"},{"$f":"IF('名刺管理（Eight）'!D2=\"\",\"\",IF(LEN('名刺管理（Eight）'!D2)=D4+E4,\"\",\"不一致\"))","v":""},2,2,{"$f":"IF('名刺管理（Eight）'!A2=\"\",\"\",'名刺管理（Eight）'!A2)","v":"株式会社A"},{"$f":"IF('名刺管理（Eight）'!B2=\"\",\"\",'名刺管理（Eight）'!B2)","v":"マーケティング部"},{"$f":"IF('名刺管理（Eight）'!C2=\"\",\"\",'名刺管理（Eight）'!C2)","v":"マネージャー"},{"$f":"IF('名刺管理（Eight）'!E2=\"\",\"\",'名刺管理（Eight）'!E2)","v":"1111@communicatio-biz.jp"},{"$f":"IF('名刺管理（Eight）'!F2=\"\",\"\",'名刺管理（Eight）'!F2)","v":""},{"$f":"IF('名刺管理（Eight）'!G2=\"\",\"\",IF(LEFT('名刺管理（Eight）'!G2,3)=\"神奈川\",LEFT('名刺管理（Eight）'!G2,4),IF(LEFT('名刺管理（Eight）'!G2,3)=\"和歌山\",LEFT('名刺管理（Eight）'!G2,4),IF(LEFT('名刺管理（Eight）'!G2,3)=\"鹿児島\",LEFT('名刺管理（Eight）'!G2,4),LEFT('名刺管理（Eight）'!G2,3)))))","v":"神奈川県"},{"$f":"IF(K4=\"\",\"\",IF(LEN(K4)=3,MID('名刺管理（Eight）'!G2,4,50),MID('名刺管理（Eight）'!G2,5,50)))","v":"○○市××町1-1-1"},{"$f":"IF('名刺管理（Eight）'!H2=\"\",\"\",'名刺管理（Eight）'!H2)","v":""},{"$f":"IF('名刺管理（Eight）'!K2=\"\",\"\",'名刺管理（Eight）'!K2)","v":""},{"$f":"IF('名刺管理（Eight）'!L2=\"\",\"\",'名刺管理（Eight）'!L2)","v":"090-1111-1111"},{"$f":"IF('名刺管理（Eight）'!M2=\"\",\"\",'名刺管理（Eight）'!M2)","v":"http://communicatio-biz.jp/"},{"$f":"IF('名刺管理（Eight）'!N2=\"\",\"\",TEXT('名刺管理（Eight）'!N2,\"yyyy/m/d\"))","v":"2016/1/7"}]
[{"$f":"LEFT('名刺管理（Eight）'!D3,D5)","v":"姓姓"},{"$f":"RIGHT('名刺管理（Eight）'!D3,E5)","v":"姓名"},{"$f":"IF('名刺管理（Eight）'!D3=\"\",\"\",IF(LEN('名刺管理（Eight）'!D3)=D5+E5,\"\",\"不一致\"))","v":"不一致"},2,2,{"$f":"IF('名刺管理（Eight）'!A3=\"\",\"\",'名刺管理（Eight）'!A3)","v":"株式会社B"},{"$f":"IF('名刺管理（Eight）'!B3=\"\",\"\",'名刺管理（Eight）'!B3)","v":""},{"$f":"IF('名刺管理（Eight）'!C3=\"\",\"\",'名刺管理（Eight）'!C3)","v":"常務取締役"},{"$f":"IF('名刺管理（Eight）'!E3=\"\",\"\",'名刺管理（Eight）'!E3)","v":"2222@communicatio-biz.jp"},{"$f":"IF('名刺管理（Eight）'!F3=\"\",\"\",'名刺管理（Eight）'!F3)","v":"111-1111"},{"$f":"IF('名刺管理（Eight）'!G3=\"\",\"\",IF(LEFT('名刺管理（Eight）'!G3,3)=\"神奈川\",LEFT('名刺管理（Eight）'!G3,4),IF(LEFT('名刺管理（Eight）'!G3,3)=\"和歌山\",LEFT('名刺管理（Eight）'!G3,4),IF(LEFT('名刺管理（Eight）'!G3,3)=\"鹿児島\",LEFT('名刺管理（Eight）'!G3,4),LEFT('名刺管理（Eight）'!G3,3)))))","v":"東京都"},{"$f":"IF(K5=\"\",\"\",IF(LEN(K5)=3,MID('名刺管理（Eight）'!G3,4,50),MID('名刺管理（Eight）'!G3,5,50)))","v":"○○区××２－２－２"},{"$f":"IF('名刺管理（Eight）'!H3=\"\",\"\",'名刺管理（Eight）'!H3)","v":"11-1111-1111"},{"$f":"IF('名刺管理（Eight）'!K3=\"\",\"\",'名刺管理（Eight）'!K3)","v":"11-1111-1112"},{"$f":"IF('名刺管理（Eight）'!L3=\"\",\"\",'名刺管理（Eight）'!L3)","v":""},{"$f":"IF('名刺管理（Eight）'!M3=\"\",\"\",'名刺管理（Eight）'!M3)","v":""},{"$f":"IF('名刺管理（Eight）'!N3=\"\",\"\",TEXT('名刺管理（Eight）'!N3,\"yyyy/m/d\"))","v":"2016/3/2"}]
[{"$f":"LEFT('名刺管理（Eight）'!D4,D6)","v":"姓姓"},{"$f":"RIGHT('名刺管理（Eight）'!D4,E6)","v":"名名"},{"$f":"IF('名刺管理（Eight）'!D4=\"\",\"\",IF(LEN('名刺管理（Eight）'!D4)=D6+E6,\"\",\"不一致\"))","v":"不一致"},2,2,{"$f":"IF('名刺管理（Eight）'!A4=\"\",\"\",'名刺管理（Eight）'!A4)","v":"株式会社C"},{"$f":"IF('名刺管理（Eight）'!B4=\"\",\"\",'名刺管理（Eight）'!B4)","v":"営業部"},{"$f":"IF('名刺管理（Eight）'!C4=\"\",\"\",'名刺管理（Eight）'!C4)","v":"部長"},{"$f":"IF('名刺管理（Eight）'!E4=\"\",\"\",'名刺管理（Eight）'!E4)","v":"3333@communicatio-biz.jp"},{"$f":"IF('名刺管理（Eight）'!F4=\"\",\"\",'名刺管理（Eight）'!F4)","v":"222-2222"},{"$f":"IF('名刺管理（Eight）'!G4=\"\",\"\",IF(LEFT('名刺管理（Eight）'!G4,3)=\"神奈川\",LEFT('名刺管理（Eight）'!G4,4),IF(LEFT('名刺管理（Eight）'!G4,3)=\"和歌山\",LEFT('名刺管理（Eight）'!G4,4),IF(LEFT('名刺管理（Eight）'!G4,3)=\"鹿児島\",LEFT('名刺管理（Eight）'!G4,4),LEFT('名刺管理（Eight）'!G4,3)))))","v":"鹿児島県"},{"$f":"IF(K6=\"\",\"\",IF(LEN(K6)=3,MID('名刺管理（Eight）'!G4,4,50),MID('名刺管理（Eight）'!G4,5,50)))","v":"△△市○○33-3"},{"$f":"IF('名刺管理（Eight）'!H4=\"\",\"\",'名刺管理（Eight）'!H4)","v":"22-2222-2222"},{"$f":"IF('名刺管理（Eight）'!K4=\"\",\"\",'名刺管理（Eight）'!K4)","v":""},{"$f":"IF('名刺管理（Eight）'!L4=\"\",\"\",'名刺管理（Eight）'!L4)","v":""},{"$f":"IF('名刺管理（Eight）'!M4=\"\",\"\",'名刺管理（Eight）'!M4)","v":""},{"$f":"IF('名刺管理（Eight）'!N4=\"\",\"\",TEXT('名刺管理（Eight）'!N4,\"yyyy/m/d\"))","v":"2016/3/2"}]
[{"$f":"LEFT('名刺管理（Eight）'!D5,D7)","v":"姓名"},{"$f":"RIGHT('名刺管理（Eight）'!D5,E7)","v":"姓名"},{"$f":"IF('名刺管理（Eight）'!D5=\"\",\"\",IF(LEN('名刺管理（Eight）'!D5)=D7+E7,\"\",\"不一致\"))","v":"不一致"},2,2,{"$f":"IF('名刺管理（Eight）'!A5=\"\",\"\",'名刺管理（Eight）'!A5)","v":"株式会社D"},{"$f":"IF('名刺管理（Eight）'!B5=\"\",\"\",'名刺管理（Eight）'!B5)","v":"システム部"},{"$f":"IF('名刺管理（Eight）'!C5=\"\",\"\",'名刺管理（Eight）'!C5)","v":"課長"},{"$f":"IF('名刺管理（Eight）'!E5=\"\",\"\",'名刺管理（Eight）'!E5)","v":"4444@communicatio-biz.jp"},{"$f":"IF('名刺管理（Eight）'!F5=\"\",\"\",'名刺管理（Eight）'!F5)","v":"333-3333"},{"$f":"IF('名刺管理（Eight）'!G5=\"\",\"\",IF(LEFT('名刺管理（Eight）'!G5,3)=\"神奈川\",LEFT('名刺管理（Eight）'!G5,4),IF(LEFT('名刺管理（Eight）'!G5,3)=\"和歌山\",LEFT('名刺管理（Eight）'!G5,4),IF(LEFT('名刺管理（Eight）'!G5,3)=\"鹿児島\",LEFT('名刺管理（Eight）'!G5,4),LEFT('名刺管理（Eight）'!G5,3)))))","v":"千葉県"},{"$f":"IF(K7=\"\",\"\",IF(LEN(K7)=3,MID('名刺管理（Eight）'!G5,4,50),MID('名刺管理（Eight）'!G5,5,50)))","v":"××市○○５－５－５"},{"$f":"IF('名刺管理（Eight）'!H5=\"\",\"\",'名刺管理（Eight）'!H5)","v":"33-3333-3333"},{"$f":"IF('名刺管理（Eight）'!K5=\"\",\"\",'名刺管理（Eight）'!K5)","v":""},{"$f":"IF('名刺管理（Eight）'!L5=\"\",\"\",'名刺管理（Eight）'!L5)","v":""},{"$f":"IF('名刺管理（Eight）'!M5=\"\",\"\",'名刺管理（Eight）'!M5)","v":""},{"$f":"IF('名刺管理（Eight）'!N5=\"\",\"\",TEXT('名刺管理（Eight）'!N5,\"yyyy/m/d\"))","v":"2016/2/16"}]
[{"$f":"LEFT('名刺管理（Eight）'!D6,D8)","v":"姓姓"},{"$f":"RIGHT('名刺管理（Eight）'!D6,E8)","v":"名名"},{"$f":"IF('名刺管理（Eight）'!D6=\"\",\"\",IF(LEN('名刺管理（Eight）'!D6)=D8+E8,\"\",\"不一致\"))","v":"不一致"},2,2,{"$f":"IF('名刺管理（Eight）'!A6=\"\",\"\",'名刺管理（Eight）'!A6)","v":"株式会社E"},{"$f":"IF('名刺管理（Eight）'!B6=\"\",\"\",'名刺管理（Eight）'!B6)","v":""},{"$f":"IF('名刺管理（Eight）'!C6=\"\",\"\",'名刺管理（Eight）'!C6)","v":""},{"$f":"IF('名刺管理（Eight）'!E6=\"\",\"\",'名刺管理（Eight）'!E6)","v":"5555@communicatio-biz.jp"},{"$f":"IF('名刺管理（Eight）'!F6=\"\",\"\",'名刺管理（Eight）'!F6)","v":"444-4444"},{"$f":"IF('名刺管理（Eight）'!G6=\"\",\"\",IF(LEFT('名刺管理（Eight）'!G6,3)=\"神奈川\",LEFT('名刺管理（Eight）'!G6,4),IF(LEFT('名刺管理（Eight）'!G6,3)=\"和歌山\",LEFT('名刺管理（Eight）'!G6,4),IF(LEFT('名刺管理（Eight）'!G6,3)=\"鹿児島\",LEFT('名刺管理（Eight）'!G6,4),LEFT('名刺管理（Eight）'!G6,3)))))","v":"埼玉県"},{"$f":"IF(K8=\"\",\"\",IF(LEN(K8)=3,MID('名刺管理（Eight）'!G6,4,50),MID('名刺管理（Eight）'!G6,5,50)))","v":"○○市××区"},{"$f":"IF('名刺管理（Eight）'!H6=\"\",\"\",'名刺管理（Eight）'!H6)","v":"44-4444-4444"},{"$f":"IF('名刺管理（Eight）'!K6=\"\",\"\",'名刺管理（Eight）'!K6)","v":"44-4444-4445"},{"$f":"IF('名刺管理（Eight）'!L6=\"\",\"\",'名刺管理（Eight）'!L6)","v":""},{"$f":"IF('名刺管理（Eight）'!M6=\"\",\"\",'名刺管理（Eight）'!M6)","v":""},{"$f":"IF('名刺管理（Eight）'!N6=\"\",\"\",TEXT('名刺管理（Eight）'!N6,\"yyyy/m/d\"))","v":"2016/1/26"}]
[{"$f":"LEFT('名刺管理（Eight）'!D7,D9)","v":"姓姓"},{"$f":"RIGHT('名刺管理（Eight）'!D7,E9)","v":"名名"},{"$f":"IF('名刺管理（Eight）'!D7=\"\",\"\",IF(LEN('名刺管理（Eight）'!D7)=D9+E9,\"\",\"不一致\"))","v":"不一致"},2,2,{"$f":"IF('名刺管理（Eight）'!A7=\"\",\"\",'名刺管理（Eight）'!A7)","v":"株式会社F"},{"$f":"IF('名刺管理（Eight）'!B7=\"\",\"\",'名刺管理（Eight）'!B7)","v":""},{"$f":"IF('名刺管理（Eight）'!C7=\"\",\"\",'名刺管理（Eight）'!C7)","v":""},{"$f":"IF('名刺管理（Eight）'!E7=\"\",\"\",'名刺管理（Eight）'!E7)","v":"66666@communicatio-biz.jp"},{"$f":"IF('名刺管理（Eight）'!F7=\"\",\"\",'名刺管理（Eight）'!F7)","v":"555-5555"},{"$f":"IF('名刺管理（Eight）'!G7=\"\",\"\",IF(LEFT('名刺管理（Eight）'!G7,3)=\"神奈川\",LEFT('名刺管理（Eight）'!G7,4),IF(LEFT('名刺管理（Eight）'!G7,3)=\"和歌山\",LEFT('名刺管理（Eight）'!G7,4),IF(LEFT('名刺管理（Eight）'!G7,3)=\"鹿児島\",LEFT('名刺管理（Eight）'!G7,4),LEFT('名刺管理（Eight）'!G7,3)))))","v":"和歌山県"},{"$f":"IF(K9=\"\",\"\",IF(LEN(K9)=3,MID('名刺管理（Eight）'!G7,4,50),MID('名刺管理（Eight）'!G7,5,50)))","v":"×××市○○7-7-7"},{"$f":"IF('名刺管理（Eight）'!H7=\"\",\"\",'名刺管理（Eight）'!H7)","v":"55-5555-5555"},{"$f":"IF('名刺管理（Eight）'!K7=\"\",\"\",'名刺管理（Eight）'!K7)","v":""},{"$f":"IF('名刺管理（Eight）'!L7=\"\",\"\",'名刺管理（Eight）'!L7)","v":"080-1111-1111"},{"$f":"IF('名刺管理（Eight）'!M7=\"\",\"\",'名刺管理（Eight）'!M7)","v":""},{"$f":"IF('名刺管理（Eight）'!N7=\"\",\"\",TEXT('名刺管理（Eight）'!N7,\"yyyy/m/d\"))","v":"2016/2/11"}]
[{"$f":"LEFT('名刺管理（Eight）'!D8,D10)","v":""},{"$f":"RIGHT('名刺管理（Eight）'!D8,E10)","v":""},{"$f":"IF('名刺管理（Eight）'!D8=\"\",\"\",IF(LEN('名刺管理（Eight）'!D8)=D10+E10,\"\",\"不一致\"))","v":""},null,null,{"$f":"IF('名刺管理（Eight）'!A8=\"\",\"\",'名刺管理（Eight）'!A8)","v":""},{"$f":"IF('名刺管理（Eight）'!B8=\"\",\"\",'名刺管理（Eight）'!B8)","v":""},{"$f":"IF('名刺管理（Eight）'!C8=\"\",\"\",'名刺管理（Eight）'!C8)","v":""},{"$f":"IF('名刺管理（Eight）'!E8=\"\",\"\",'名刺管理（Eight）'!E8)","v":""},{"$f":"IF('名刺管理（Eight）'!F8=\"\",\"\",'名刺管理（Eight）'!F8)","v":""},{"$f":"IF('名刺管理（Eight）'!G8=\"\",\"\",IF(LEFT('名刺管理（Eight）'!G8,3)=\"神奈川\",LEFT('名刺管理（Eight）'!G8,4),IF(LEFT('名刺管理（Eight）'!G8,3)=\"和歌山\",LEFT('名刺管理（Eight）'!G8,4),IF(LEFT('名刺管理（Eight）'!G8,3)=\"鹿児島\",LEFT('名刺管理（Eight）'!G8,4),LEFT('名刺管理（Eight）'!G8,3)))))","v":""},{"$f":"IF(K10=\"\",\"\",IF(LEN(K10)=3,MID('名刺管理（Eight）'!G8,4,50),MID('名刺管理（Eight）'!G8,5,50)))","v":""},{"$f":"IF('名刺管理（Eight）'!H8=\"\",\"\",'名刺管理（Eight）'!H8)","v":""},{"$f":"IF('名刺管理（Eight）'!K8=\"\",\"\",'名刺管理（Eight）'!K8)","v":""},{"$f":"IF('名刺管理（Eight）'!L8=\"\",\"\",'名刺管理（Eight）'!L8)","v":""},{"$f":"IF('名刺管理（Eight）'!M8=\"\",\"\",'名刺管理（Eight）'!M8)","v":""},{"$f":"IF('名刺管理（Eight）'!N8=\"\",\"\",TEXT('名刺管理（Eight）'!N8,\"yyyy/m/d\"))","v":""}]
[{"$f":"LEFT('名刺管理（Eight）'!D9,D11)","v":""},{"$f":"RIGHT('名刺管理（Eight）'!D9,E11)","v":""},{"$f":"IF('名刺管理（Eight）'!D9=\"\",\"\",IF(LEN('名刺管理（Eight）'!D9)=D11+E11,\"\",\"不一致\"))","v":""},null,null,{"$f":"IF('名刺管理（Eight）'!A9=\"\",\"\",'名刺管理（Eight）'!A9)","v":""},{"$f":"IF('名刺管理（Eight）'!B9=\"\",\"\",'名刺管理（Eight）'!B9)","v":""},{"$f":"IF('名刺管理（Eight）'!C9=\"\",\"\",'名刺管理（Eight）'!C9)","v":""},{"$f":"IF('名刺管理（Eight）'!E9=\"\",\"\",'名刺管理（Eight）'!E9)","v":""},{"$f":"IF('名刺管理（Eight）'!F9=\"\",\"\",'名刺管理（Eight）'!F9)","v":""},{"$f":"IF('名刺管理（Eight）'!G9=\"\",\"\",IF(LEFT('名刺管理（Eight）'!G9,3)=\"神奈川\",LEFT('名刺管理（Eight）'!G9,4),IF(LEFT('名刺管理（Eight）'!G9,3)=\"和歌山\",LEFT('名刺管理（Eight）'!G9,4),IF(LEFT('名刺管理（Eight）'!G9,3)=\"鹿児島\",LEFT('名刺管理（Eight）'!G9,4),LEFT('名刺管理（Eight）'!G9,3)))))","v":""},{"$f":"IF(K11=\"\",\"\",IF(LEN(K11)=3,MID('名刺管理（Eight）'!G9,4,50),MID('名刺管理（Eight）'!G9,5,50)))","v":""},{"$f":"IF('名刺管理（Eight）'!H9=\"\",\"\",'名刺管理（Eight）'!H9)","v":""},{"$f":"IF('名刺管理（Eight）'!K9=\"\",\"\",'名刺管理（Eight）'!K9)","v":""},{"$f":"IF('名刺管理（Eight）'!L9=\"\",\"\",'名刺管理（Eight）'!L9)","v":""},{"$f":"IF('名刺管理（Eight）'!M9=\"\",\"\",'名刺管理（Eight）'!M9)","v":""},{"$f":"IF('名刺管理（Eight）'!N9=\"\",\"\",TEXT('名刺管理（Eight）'!N9,\"yyyy/m/d\"))","v":""}]
[{"$f":"LEFT('名刺管理（Eight）'!D10,D12)","v":""},{"$f":"RIGHT('名刺管理（Eight）'!D10,E12)","v":""},{"$f":"IF('名刺管理（Eight）'!D10=\"\",\"\",IF(LEN('名刺管理（Eight）'!D10)=D12+E12,\"\",\"不一致\"))","v":""},null,null,{"$f":"IF('名刺管理（Eight）'!A10=\"\",\"\",'名刺管理（Eight）'!A10)","v":""},{"$f":"IF('名刺管理（Eight）'!B10=\"\",\"\",'名刺管理（Eight）'!B10)","v":""},{"$f":"IF('名刺管理（Eight）'!C10=\"\",\"\",'名刺管理（Eight）'!C10)","v":""},{"$f":"IF('名刺管理（Eight）'!E10=\"\",\"\",'名刺管理（Eight）'!E10)","v":""},{"$f":"IF('名刺管理（Eight）'!F10=\"\",\"\",'名刺管理（Eight）'!F10)","v":""},{"$f":"IF('名刺管理（Eight）'!G10=\"\",\"\",IF(LEFT('名刺管理（Eight）'!G10,3)=\"神奈川\",LEFT('名刺管理（Eight）'!G10,4),IF(LEFT('名刺管理（Eight）'!G10,3)=\"和歌山\",LEFT('名刺管理（Eight）'!G10,4),IF(LEFT('名刺管理（Eight）'!G10,3)=\"鹿児島\",LEFT('名刺管理（Eight）'!G10,4),LEFT('名刺管理（Eight）'!G10,3)))))","v":""},{"$f":"IF(K12=\"\",\"\",IF(LEN(K12)=3,MID('名刺管理（Eight）'!G10,4,50),MID('名刺管理（Eight）'!G10,5,50)))","v":""},{"$f":"IF('名刺管理（Eight）'!H10=\"\",\"\",'名刺管理（Eight）'!H10)","v":""},{"$f":"IF('名刺管理（Eight）'!K10=\"\",\"\",'名刺管理（Eight）'!K10)","v":""},{"$f":"IF('名刺管理（Eight）'!L10=\"\",\"\",'名刺管理（Eight）'!L10)","v":""},{"$f":"IF('名刺管理（Eight）'!M10=\"\",\"\",'名刺管理（Eight）'!M10)","v":""},{"$f":"IF('名刺管理（Eight）'!N10=\"\",\"\",TEXT('名刺管理（Eight）'!N10,\"yyyy/m/d\"))","v":""}]
[{"$f":"LEFT('名刺管理（Eight）'!D11,D13)","v":""},{"$f":"RIGHT('名刺管理（Eight）'!D11,E13)","v":""},{"$f":"IF('名刺管理（Eight）'!D11=\"\",\"\",IF(LEN('名刺管理（Eight）'!D11)=D13+E13,\"\",\"不一致\"))","v":""},null,null,{"$f":"IF('名刺管理（Eight）'!A11=\"\",\"\",'名刺管理（Eight）'!A11)","v":""},{"$f":"IF('名刺管理（Eight）'!B11=\"\",\"\",'名刺管理（Eight）'!B11)","v":""},{"$f":"IF('名刺管理（Eight）'!C11=\"\",\"\",'名刺管理（Eight）'!C11)","v":""},{"$f":"IF('名刺管理（Eight）'!E11=\"\",\"\",'名刺管理（Eight）'!E11)","v":""},{"$f":"IF('名刺管理（Eight）'!F11=\"\",\"\",'名刺管理（Eight）'!F11)","v":""},{"$f":"IF('名刺管理（Eight）'!G11=\"\",\"\",IF(LEFT('名刺管理（Eight）'!G11,3)=\"神奈川\",LEFT('名刺管理（Eight）'!G11,4),IF(LEFT('名刺管理（Eight）'!G11,3)=\"和歌山\",LEFT('名刺管理（Eight）'!G11,4),IF(LEFT('名刺管理（Eight）'!G11,3)=\"鹿児島\",LEFT('名刺管理（Eight）'!G11,4),LEFT('名刺管理（Eight）'!G11,3)))))","v":""},{"$f":"IF(K13=\"\",\"\",IF(LEN(K13)=3,MID('名刺管理（Eight）'!G11,4,50),MID('名刺管理（Eight）'!G11,5,50)))","v":""},{"$f":"IF('名刺管理（Eight）'!H11=\"\",\"\",'名刺管理（Eight）'!H11)","v":""},{"$f":"IF('名刺管理（Eight）'!K11=\"\",\"\",'名刺管理（Eight）'!K11)","v":""},{"$f":"IF('名刺管理（Eight）'!L11=\"\",\"\",'名刺管理（Eight）'!L11)","v":""},{"$f":"IF('名刺管理（Eight）'!M11=\"\",\"\",'名刺管理（Eight）'!M11)","v":""},{"$f":"IF('名刺管理（Eight）'!N11=\"\",\"\",TEXT('名刺管理（Eight）'!N11,\"yyyy/m/d\"))","v":""}]
[{"$f":"LEFT('名刺管理（Eight）'!D12,D14)","v":""},{"$f":"RIGHT('名刺管理（Eight）'!D12,E14)","v":""},{"$f":"IF('名刺管理（Eight）'!D12=\"\",\"\",IF(LEN('名刺管理（Eight）'!D12)=D14+E14,\"\",\"不一致\"))","v":""},null,null,{"$f":"IF('名刺管理（Eight）'!A12=\"\",\"\",'名刺管理（Eight）'!A12)","v":""},{"$f":"IF('名刺管理（Eight）'!B12=\"\",\"\",'名刺管理（Eight）'!B12)","v":""},{"$f":"IF('名刺管理（Eight）'!C12=\"\",\"\",'名刺管理（Eight）'!C12)","v":""},{"$f":"IF('名刺管理（Eight）'!E12=\"\",\"\",'名刺管理（Eight）'!E12)","v":""},{"$f":"IF('名刺管理（Eight）'!F12=\"\",\"\",'名刺管理（Eight）'!F12)","v":""},{"$f":"IF('名刺管理（Eight）'!G12=\"\",\"\",IF(LEFT('名刺管理（Eight）'!G12,3)=\"神奈川\",LEFT('名刺管理（Eight）'!G12,4),IF(LEFT('名刺管理（Eight）'!G12,3)=\"和歌山\",LEFT('名刺管理（Eight）'!G12,4),IF(LEFT('名刺管理（Eight）'!G12,3)=\"鹿児島\",LEFT('名刺管理（Eight）'!G12,4),LEFT('名刺管理（Eight）'!G12,3)))))","v":""},{"$f":"IF(K14=\"\",\"\",IF(LEN(K14)=3,MID('名刺管理（Eight）'!G12,4,50),MID('名刺管理（Eight）'!G12,5,50)))","v":""},{"$f":"IF('名刺管理（Eight）'!H12=\"\",\"\",'名刺管理（Eight）'!H12)","v":""},{"$f":"IF('名刺管理（Eight）'!K12=\"\",\"\",'名刺管理（Eight）'!K12)","v":""},{"$f":"IF('名刺管理（Eight）'!L12=\"\",\"\",'名刺管理（Eight）'!L12)","v":""},{"$f":"IF('名刺管理（Eight）'!M12=\"\",\"\",'名刺管理（Eight）'!M12)","v":""},{"$f":"IF('名刺管理（Eight）'!N12=\"\",\"\",TEXT('名刺管理（Eight）'!N12,\"yyyy/m/d\"))","v":""}]
[{"$f":"LEFT('名刺管理（Eight）'!D13,D15)","v":""},{"$f":"RIGHT('名刺管理（Eight）'!D13,E15)","v":""},{"$f":"IF('名刺管理（Eight）'!D13=\"\",\"\",IF(LEN('名刺管理（Eight）'!D13)=D15+E15,\"\",\"不一致\"))","v":""},null,null,{"$f":"IF('名刺管理（Eight）'!A13=\"\",\"\",'名刺管理（Eight）'!A13)","v":""},{"$f":"IF('名刺管理（Eight）'!B13=\"\",\"\",'名刺管理（Eight）'!B13)","v":""},{"$f":"IF('名刺管理（Eight）'!C13=\"\",\"\",'名刺管理（Eight）'!C13)","v":""},{"$f":"IF('名刺管理（Eight）'!E13=\"\",\"\",'名刺管理（Eight）'!E13)","v":""},{"$f":"IF('名刺管理（Eight）'!F13=\"\",\"\",'名刺管理（Eight）'!F13)","v":""},{"$f":"IF('名刺管理（Eight）'!G13=\"\",\"\",IF(LEFT('名刺管理（Eight）'!G13,3)=\"神奈川\",LEFT('名刺管理（Eight）'!G13,4),IF(LEFT('名刺管理（Eight）'!G13,3)=\"和歌山\",LEFT('名刺管理（Eight）'!G13,4),IF(LEFT('名刺管理（Eight）'!G13,3)=\"鹿児島\",LEFT('名刺管理（Eight）'!G13,4),LEFT('名刺管理（Eight）'!G13,3)))))","v":""},{"$f":"IF(K15=\"\",\"\",IF(LEN(K15)=3,MID('名刺管理（Eight）'!G13,4,50),MID('名刺管理（Eight）'!G13,5,50)))","v":""},{"$f":"IF('名刺管理（Eight）'!H13=\"\",\"\",'名刺管理（Eight）'!H13)","v":""},{"$f":"IF('名刺管理（Eight）'!K13=\"\",\"\",'名刺管理（Eight）'!K13)","v":""},{"$f":"IF('名刺管理（Eight）'!L13=\"\",\"\",'名刺管理（Eight）'!L13)","v":""},{"$f":"IF('名刺管理（Eight）'!M13=\"\",\"\",'名刺管理（Eight）'!M13)","v":""},{"$f":"IF('名刺管理（Eight）'!N13=\"\",\"\",TEXT('名刺管理（Eight）'!N13,\"yyyy/m/d\"))","v":""}]
[{"$f":"LEFT('名刺管理（Eight）'!D14,D16)","v":""},{"$f":"RIGHT('名刺管理（Eight）'!D14,E16)","v":""},{"$f":"IF('名刺管理（Eight）'!D14=\"\",\"\",IF(LEN('名刺管理（Eight）'!D14)=D16+E16,\"\",\"不一致\"))","v":""},null,null,{"$f":"IF('名刺管理（Eight）'!A14=\"\",\"\",'名刺管理（Eight）'!A14)","v":""},{"$f":"IF('名刺管理（Eight）'!B14=\"\",\"\",'名刺管理（Eight）'!B14)","v":""},{"$f":"IF('名刺管理（Eight）'!C14=\"\",\"\",'名刺管理（Eight）'!C14)","v":""},{"$f":"IF('名刺管理（Eight）'!E14=\"\",\"\",'名刺管理（Eight）'!E14)","v":""},{"$f":"IF('名刺管理（Eight）'!F14=\"\",\"\",'名刺管理（Eight）'!F14)","v":""},{"$f":"IF('名刺管理（Eight）'!G14=\"\",\"\",IF(LEFT('名刺管理（Eight）'!G14,3)=\"神奈川\",LEFT('名刺管理（Eight）'!G14,4),IF(LEFT('名刺管理（Eight）'!G14,3)=\"和歌山\",LEFT('名刺管理（Eight）'!G14,4),IF(LEFT('名刺管理（Eight）'!G14,3)=\"鹿児島\",LEFT('名刺管理（Eight）'!G14,4),LEFT('名刺管理（Eight）'!G14,3)))))","v":""},{"$f":"IF(K16=\"\",\"\",IF(LEN(K16)=3,MID('名刺管理（Eight）'!G14,4,50),MID('名刺管理（Eight）'!G14,5,50)))","v":""},{"$f":"IF('名刺管理（Eight）'!H14=\"\",\"\",'名刺管理（Eight）'!H14)","v":""},{"$f":"IF('名刺管理（Eight）'!K14=\"\",\"\",'名刺管理（Eight）'!K14)","v":""},{"$f":"IF('名刺管理（Eight）'!L14=\"\",\"\",'名刺管理（Eight）'!L14)","v":""},{"$f":"IF('名刺管理（Eight）'!M14=\"\",\"\",'名刺管理（Eight）'!M14)","v":""},{"$f":"IF('名刺管理（Eight）'!N14=\"\",\"\",TEXT('名刺管理（Eight）'!N14,\"yyyy/m/d\"))","v":""}]
[{"$f":"LEFT('名刺管理（Eight）'!D15,D17)","v":""},{"$f":"RIGHT('名刺管理（Eight）'!D15,E17)","v":""},{"$f":"IF('名刺管理（Eight）'!D15=\"\",\"\",IF(LEN('名刺管理（Eight）'!D15)=D17+E17,\"\",\"不一致\"))","v":""},null,null,{"$f":"IF('名刺管理（Eight）'!A15=\"\",\"\",'名刺管理（Eight）'!A15)","v":""},{"$f":"IF('名刺管理（Eight）'!B15=\"\",\"\",'名刺管理（Eight）'!B15)","v":""},{"$f":"IF('名刺管理（Eight）'!C15=\"\",\"\",'名刺管理（Eight）'!C15)","v":""},{"$f":"IF('名刺管理（Eight）'!E15=\"\",\"\",'名刺管理（Eight）'!E15)","v":""},{"$f":"IF('名刺管理（Eight）'!F15=\"\",\"\",'名刺管理（Eight）'!F15)","v":""},{"$f":"IF('名刺管理（Eight）'!G15=\"\",\"\",IF(LEFT('名刺管理（Eight）'!G15,3)=\"神奈川\",LEFT('名刺管理（Eight）'!G15,4),IF(LEFT('名刺管理（Eight）'!G15,3)=\"和歌山\",LEFT('名刺管理（Eight）'!G15,4),IF(LEFT('名刺管理（Eight）'!G15,3)=\"鹿児島\",LEFT('名刺管理（Eight）'!G15,4),LEFT('名刺管理（Eight）'!G15,3)))))","v":""},{"$f":"IF(K17=\"\",\"\",IF(LEN(K17)=3,MID('名刺管理（Eight）'!G15,4,50),MID('名刺管理（Eight）'!G15,5,50)))","v":""},{"$f":"IF('名刺管理（Eight）'!H15=\"\",\"\",'名刺管理（Eight）'!H15)","v":""},{"$f":"IF('名刺管理（Eight）'!K15=\"\",\"\",'名刺管理（Eight）'!K15)","v":""},{"$f":"IF('名刺管理（Eight）'!L15=\"\",\"\",'名刺管理（Eight）'!L15)","v":""},{"$f":"IF('名刺管理（Eight）'!M15=\"\",\"\",'名刺管理（Eight）'!M15)","v":""},{"$f":"IF('名刺管理（Eight）'!N15=\"\",\"\",TEXT('名刺管理（Eight）'!N15,\"yyyy/m/d\"))","v":""}]
[{"$f":"LEFT('名刺管理（Eight）'!D16,D18)","v":""},{"$f":"RIGHT('名刺管理（Eight）'!D16,E18)","v":""},{"$f":"IF('名刺管理（Eight）'!D16=\"\",\"\",IF(LEN('名刺管理（Eight）'!D16)=D18+E18,\"\",\"不一致\"))","v":""},null,null,{"$f":"IF('名刺管理（Eight）'!A16=\"\",\"\",'名刺管理（Eight）'!A16)","v":""},{"$f":"IF('名刺管理（Eight）'!B16=\"\",\"\",'名刺管理（Eight）'!B16)","v":""},{"$f":"IF('名刺管理（Eight）'!C16=\"\",\"\",'名刺管理（Eight）'!C16)","v":""},{"$f":"IF('名刺管理（Eight）'!E16=\"\",\"\",'名刺管理（Eight）'!E16)","v":""},{"$f":"IF('名刺管理（Eight）'!F16=\"\",\"\",'名刺管理（Eight）'!F16)","v":""},{"$f":"IF('名刺管理（Eight）'!G16=\"\",\"\",IF(LEFT('名刺管理（Eight）'!G16,3)=\"神奈川\",LEFT('名刺管理（Eight）'!G16,4),IF(LEFT('名刺管理（Eight）'!G16,3)=\"和歌山\",LEFT('名刺管理（Eight）'!G16,4),IF(LEFT('名刺管理（Eight）'!G16,3)=\"鹿児島\",LEFT('名刺管理（Eight）'!G16,4),LEFT('名刺管理（Eight）'!G16,3)))))","v":""},{"$f":"IF(K18=\"\",\"\",IF(LEN(K18)=3,MID('名刺管理（Eight）'!G16,4,50),MID('名刺管理（Eight）'!G16,5,50)))","v":""},{"$f":"IF('名刺管理（Eight）'!H16=\"\",\"\",'名刺管理（Eight）'!H16)","v":""},{"$f":"IF('名刺管理（Eight）'!K16=\"\",\"\",'名刺管理（Eight）'!K16)","v":""},{"$f":"IF('名刺管理（Eight）'!L16=\"\",\"\",'名刺管理（Eight）'!L16)","v":""},{"$f":"IF('名刺管理（Eight）'!M16=\"\",\"\",'名刺管理（Eight）'!M16)","v":""},{"$f":"IF('名刺管理（Eight）'!N16=\"\",\"\",TEXT('名刺管理（Eight）'!N16,\"yyyy/m/d\"))","v":""}]
[{"$f":"LEFT('名刺管理（Eight）'!D17,D19)","v":""},{"$f":"RIGHT('名刺管理（Eight）'!D17,E19)","v":""},{"$f":"IF('名刺管理（Eight）'!D17=\"\",\"\",IF(LEN('名刺管理（Eight）'!D17)=D19+E19,\"\",\"不一致\"))","v":""},null,null,{"$f":"IF('名刺管理（Eight）'!A17=\"\",\"\",'名刺管理（Eight）'!A17)","v":""},{"$f":"IF('名刺管理（Eight）'!B17=\"\",\"\",'名刺管理（Eight）'!B17)","v":""},{"$f":"IF('名刺管理（Eight）'!C17=\"\",\"\",'名刺管理（Eight）'!C17)","v":""},{"$f":"IF('名刺管理（Eight）'!E17=\"\",\"\",'名刺管理（Eight）'!E17)","v":""},{"$f":"IF('名刺管理（Eight）'!F17=\"\",\"\",'名刺管理（Eight）'!F17)","v":""},{"$f":"IF('名刺管理（Eight）'!G17=\"\",\"\",IF(LEFT('名刺管理（Eight）'!G17,3)=\"神奈川\",LEFT('名刺管理（Eight）'!G17,4),IF(LEFT('名刺管理（Eight）'!G17,3)=\"和歌山\",LEFT('名刺管理（Eight）'!G17,4),IF(LEFT('名刺管理（Eight）'!G17,3)=\"鹿児島\",LEFT('名刺管理（Eight）'!G17,4),LEFT('名刺管理（Eight）'!G17,3)))))","v":""},{"$f":"IF(K19=\"\",\"\",IF(LEN(K19)=3,MID('名刺管理（Eight）'!G17,4,50),MID('名刺管理（Eight）'!G17,5,50)))","v":""},{"$f":"IF('名刺管理（Eight）'!H17=\"\",\"\",'名刺管理（Eight）'!H17)","v":""},{"$f":"IF('名刺管理（Eight）'!K17=\"\",\"\",'名刺管理（Eight）'!K17)","v":""},{"$f":"IF('名刺管理（Eight）'!L17=\"\",\"\",'名刺管理（Eight）'!L17)","v":""},{"$f":"IF('名刺管理（Eight）'!M17=\"\",\"\",'名刺管理（Eight）'!M17)","v":""},{"$f":"IF('名刺管理（Eight）'!N17=\"\",\"\",TEXT('名刺管理（Eight）'!N17,\"yyyy/m/d\"))","v":""}]
[{"$f":"LEFT('名刺管理（Eight）'!D18,D20)","v":""},{"$f":"RIGHT('名刺管理（Eight）'!D18,E20)","v":""},{"$f":"IF('名刺管理（Eight）'!D18=\"\",\"\",IF(LEN('名刺管理（Eight）'!D18)=D20+E20,\"\",\"不一致\"))","v":""},null,null,{"$f":"IF('名刺管理（Eight）'!A18=\"\",\"\",'名刺管理（Eight）'!A18)","v":""},{"$f":"IF('名刺管理（Eight）'!B18=\"\",\"\",'名刺管理（Eight）'!B18)","v":""},{"$f":"IF('名刺管理（Eight）'!C18=\"\",\"\",'名刺管理（Eight）'!C18)","v":""},{"$f":"IF('名刺管理（Eight）'!E18=\"\",\"\",'名刺管理（Eight）'!E18)","v":""},{"$f":"IF('名刺管理（Eight）'!F18=\"\",\"\",'名刺管理（Eight）'!F18)","v":""},{"$f":"IF('名刺管理（Eight）'!G18=\"\",\"\",IF(LEFT('名刺管理（Eight）'!G18,3)=\"神奈川\",LEFT('名刺管理（Eight）'!G18,4),IF(LEFT('名刺管理（Eight）'!G18,3)=\"和歌山\",LEFT('名刺管理（Eight）'!G18,4),IF(LEFT('名刺管理（Eight）'!G18,3)=\"鹿児島\",LEFT('名刺管理（Eight）'!G18,4),LEFT('名刺管理（Eight）'!G18,3)))))","v":""},{"$f":"IF(K20=\"\",\"\",IF(LEN(K20)=3,MID('名刺管理（Eight）'!G18,4,50),MID('名刺管理（Eight）'!G18,5,50)))","v":""},{"$f":"IF('名刺管理（Eight）'!H18=\"\",\"\",'名刺管理（Eight）'!H18)","v":""},{"$f":"IF('名刺管理（Eight）'!K18=\"\",\"\",'名刺管理（Eight）'!K18)","v":""},{"$f":"IF('名刺管理（Eight）'!L18=\"\",\"\",'名刺管理（Eight）'!L18)","v":""},{"$f":"IF('名刺管理（Eight）'!M18=\"\",\"\",'名刺管理（Eight）'!M18)","v":""},{"$f":"IF('名刺管理（Eight）'!N18=\"\",\"\",TEXT('名刺管理（Eight）'!N18,\"yyyy/m/d\"))","v":""}]
[{"$f":"LEFT('名刺管理（Eight）'!D19,D21)","v":""},{"$f":"RIGHT('名刺管理（Eight）'!D19,E21)","v":""},{"$f":"IF('名刺管理（Eight）'!D19=\"\",\"\",IF(LEN('名刺管理（Eight）'!D19)=D21+E21,\"\",\"不一致\"))","v":""},null,null,{"$f":"IF('名刺管理（Eight）'!A19=\"\",\"\",'名刺管理（Eight）'!A19)","v":""},{"$f":"IF('名刺管理（Eight）'!B19=\"\",\"\",'名刺管理（Eight）'!B19)","v":""},{"$f":"IF('名刺管理（Eight）'!C19=\"\",\"\",'名刺管理（Eight）'!C19)","v":""},{"$f":"IF('名刺管理（Eight）'!E19=\"\",\"\",'名刺管理（Eight）'!E19)","v":""},{"$f":"IF('名刺管理（Eight）'!F19=\"\",\"\",'名刺管理（Eight）'!F19)","v":""},{"$f":"IF('名刺管理（Eight）'!G19=\"\",\"\",IF(LEFT('名刺管理（Eight）'!G19,3)=\"神奈川\",LEFT('名刺管理（Eight）'!G19,4),IF(LEFT('名刺管理（Eight）'!G19,3)=\"和歌山\",LEFT('名刺管理（Eight）'!G19,4),IF(LEFT('名刺管理（Eight）'!G19,3)=\"鹿児島\",LEFT('名刺管理（Eight）'!G19,4),LEFT('名刺管理（Eight）'!G19,3)))))","v":""},{"$f":"IF(K21=\"\",\"\",IF(LEN(K21)=3,MID('名刺管理（Eight）'!G19,4,50),MID('名刺管理（Eight）'!G19,5,50)))","v":""},{"$f":"IF('名刺管理（Eight）'!H19=\"\",\"\",'名刺管理（Eight）'!H19)","v":""},{"$f":"IF('名刺管理（Eight）'!K19=\"\",\"\",'名刺管理（Eight）'!K19)","v":""},{"$f":"IF('名刺管理（Eight）'!L19=\"\",\"\",'名刺管理（Eight）'!L19)","v":""},{"$f":"IF('名刺管理（Eight）'!M19=\"\",\"\",'名刺管理（Eight）'!M19)","v":""},{"$f":"IF('名刺管理（Eight）'!N19=\"\",\"\",TEXT('名刺管理（Eight）'!N19,\"yyyy/m/d\"))","v":""}]
[{"$f":"LEFT('名刺管理（Eight）'!D20,D22)","v":""},{"$f":"RIGHT('名刺管理（Eight）'!D20,E22)","v":""},{"$f":"IF('名刺管理（Eight）'!D20=\"\",\"\",IF(LEN('名刺管理（Eight）'!D20)=D22+E22,\"\",\"不一致\"))","v":""},null,null,{"$f":"IF('名刺管理（Eight）'!A20=\"\",\"\",'名刺管理（Eight）'!A20)","v":""},{"$f":"IF('名刺管理（Eight）'!B20=\"\",\"\",'名刺管理（Eight）'!B20)","v":""},{"$f":"IF('名刺管理（Eight）'!C20=\"\",\"\",'名刺管理（Eight）'!C20)","v":""},{"$f":"IF('名刺管理（Eight）'!E20=\"\",\"\",'名刺管理（Eight）'!E20)","v":""},{"$f":"IF('名刺管理（Eight）'!F20=\"\",\"\",'名刺管理（Eight）'!F20)","v":""},{"$f":"IF('名刺管理（Eight）'!G20=\"\",\"\",IF(LEFT('名刺管理（Eight）'!G20,3)=\"神奈川\",LEFT('名刺管理（Eight）'!G20,4),IF(LEFT('名刺管理（Eight）'!G20,3)=\"和歌山\",LEFT('名刺管理（Eight）'!G20,4),IF(LEFT('名刺管理（Eight）'!G20,3)=\"鹿児島\",LEFT('名刺管理（Eight）'!G20,4),LEFT('名刺管理（Eight）'!G20,3)))))","v":""},{"$f":"IF(K22=\"\",\"\",IF(LEN(K22)=3,MID('名刺管理（Eight）'!G20,4,50),MID('名刺管理（Eight）'!G20,5,50)))","v":""},{"$f":"IF('名刺管理（Eight）'!H20=\"\",\"\",'名刺管理（Eight）'!H20)","v":""},{"$f":"IF('名刺管理（Eight）'!K20=\"\",\"\",'名刺管理（Eight）'!K20)","v":""},{"$f":"IF('名刺管理（Eight）'!L20=\"\",\"\",'名刺管理（Eight）'!L20)","v":""},{"$f":"IF('名刺管理（Eight）'!M20=\"\",\"\",'名刺管理（Eight）'!M20)","v":""},{"$f":"IF('名刺管理（Eight）'!N20=\"\",\"\",TEXT('名刺管理（Eight）'!N20,\"yyyy/m/d\"))","v":""}]
[{"$f":"LEFT('名刺管理（Eight）'!D21,D23)","v":""},{"$f":"RIGHT('名刺管理（Eight）'!D21,E23)","v":""},{"$f":"IF('名刺管理（Eight）'!D21=\"\",\"\",IF(LEN('名刺管理（Eight）'!D21)=D23+E23,\"\",\"不一致\"))","v":""},null,null,{"$f":"IF('名刺管理（Eight）'!A21=\"\",\"\",'名刺管理（Eight）'!A21)","v":""},{"$f":"IF('名刺管理（Eight）'!B21=\"\",\"\",'名刺管理（Eight）'!B21)","v":""},{"$f":"IF('名刺管理（Eight）'!C21=\"\",\"\",'名刺管理（Eight）'!C21)","v":""},{"$f":"IF('名刺管理（Eight）'!E21=\"\",\"\",'名刺管理（Eight）'!E21)","v":""},{"$f":"IF('名刺管理（Eight）'!F21=\"\",\"\",'名刺管理（Eight）'!F21)","v":""},{"$f":"IF('名刺管理（Eight）'!G21=\"\",\"\",IF(LEFT('名刺管理（Eight）'!G21,3)=\"神奈川\",LEFT('名刺管理（Eight）'!G21,4),IF(LEFT('名刺管理（Eight）'!G21,3)=\"和歌山\",LEFT('名刺管理（Eight）'!G21,4),IF(LEFT('名刺管理（Eight）'!G21,3)=\"鹿児島\",LEFT('名刺管理（Eight）'!G21,4),LEFT('名刺管理（Eight）'!G21,3)))))","v":""},{"$f":"IF(K23=\"\",\"\",IF(LEN(K23)=3,MID('名刺管理（Eight）'!G21,4,50),MID('名刺管理（Eight）'!G21,5,50)))","v":""},{"$f":"IF('名刺管理（Eight）'!H21=\"\",\"\",'名刺管理（Eight）'!H21)","v":""},{"$f":"IF('名刺管理（Eight）'!K21=\"\",\"\",'名刺管理（Eight）'!K21)","v":""},{"$f":"IF('名刺管理（Eight）'!L21=\"\",\"\",'名刺管理（Eight）'!L21)","v":""},{"$f":"IF('名刺管理（Eight）'!M21=\"\",\"\",'名刺管理（Eight）'!M21)","v":""},{"$f":"IF('名刺管理（Eight）'!N21=\"\",\"\",TEXT('名刺管理（Eight）'!N21,\"yyyy/m/d\"))","v":""}]
[{"$f":"LEFT('名刺管理（Eight）'!D22,D24)","v":""},{"$f":"RIGHT('名刺管理（Eight）'!D22,E24)","v":""},{"$f":"IF('名刺管理（Eight）'!D22=\"\",\"\",IF(LEN('名刺管理（Eight）'!D22)=D24+E24,\"\",\"不一致\"))","v":""},null,null,{"$f":"IF('名刺管理（Eight）'!A22=\"\",\"\",'名刺管理（Eight）'!A22)","v":""},{"$f":"IF('名刺管理（Eight）'!B22=\"\",\"\",'名刺管理（Eight）'!B22)","v":""},{"$f":"IF('名刺管理（Eight）'!C22=\"\",\"\",'名刺管理（Eight）'!C22)","v":""},{"$f":"IF('名刺管理（Eight）'!E22=\"\",\"\",'名刺管理（Eight）'!E22)","v":""},{"$f":"IF('名刺管理（Eight）'!F22=\"\",\"\",'名刺管理（Eight）'!F22)","v":""},{"$f":"IF('名刺管理（Eight）'!G22=\"\",\"\",IF(LEFT('名刺管理（Eight）'!G22,3)=\"神奈川\",LEFT('名刺管理（Eight）'!G22,4),IF(LEFT('名刺管理（Eight）'!G22,3)=\"和歌山\",LEFT('名刺管理（Eight）'!G22,4),IF(LEFT('名刺管理（Eight）'!G22,3)=\"鹿児島\",LEFT('名刺管理（Eight）'!G22,4),LEFT('名刺管理（Eight）'!G22,3)))))","v":""},{"$f":"IF(K24=\"\",\"\",IF(LEN(K24)=3,MID('名刺管理（Eight）'!G22,4,50),MID('名刺管理（Eight）'!G22,5,50)))","v":""},{"$f":"IF('名刺管理（Eight）'!H22=\"\",\"\",'名刺管理（Eight）'!H22)","v":""},{"$f":"IF('名刺管理（Eight）'!K22=\"\",\"\",'名刺管理（Eight）'!K22)","v":""},{"$f":"IF('名刺管理（Eight）'!L22=\"\",\"\",'名刺管理（Eight）'!L22)","v":""},{"$f":"IF('名刺管理（Eight）'!M22=\"\",\"\",'名刺管理（Eight）'!M22)","v":""},{"$f":"IF('名刺管理（Eight）'!N22=\"\",\"\",TEXT('名刺管理（Eight）'!N22,\"yyyy/m/d\"))","v":""}]
[{"$f":"LEFT('名刺管理（Eight）'!D23,D25)","v":""},{"$f":"RIGHT('名刺管理（Eight）'!D23,E25)","v":""},{"$f":"IF('名刺管理（Eight）'!D23=\"\",\"\",IF(LEN('名刺管理（Eight）'!D23)=D25+E25,\"\",\"不一致\"))","v":""},null,null,{"$f":"IF('名刺管理（Eight）'!A23=\"\",\"\",'名刺管理（Eight）'!A23)","v":""},{"$f":"IF('名刺管理（Eight）'!B23=\"\",\"\",'名刺管理（Eight）'!B23)","v":""},{"$f":"IF('名刺管理（Eight）'!C23=\"\",\"\",'名刺管理（Eight）'!C23)","v":""},{"$f":"IF('名刺管理（Eight）'!E23=\"\",\"\",'名刺管理（Eight）'!E23)","v":""},{"$f":"IF('名刺管理（Eight）'!F23=\"\",\"\",'名刺管理（Eight）'!F23)","v":""},{"$f":"IF('名刺管理（Eight）'!G23=\"\",\"\",IF(LEFT('名刺管理（Eight）'!G23,3)=\"神奈川\",LEFT('名刺管理（Eight）'!G23,4),IF(LEFT('名刺管理（Eight）'!G23,3)=\"和歌山\",LEFT('名刺管理（Eight）'!G23,4),IF(LEFT('名刺管理（Eight）'!G23,3)=\"鹿児島\",LEFT('名刺管理（Eight）'!G23,4),LEFT('名刺管理（Eight）'!G23,3)))))","v":""},{"$f":"IF(K25=\"\",\"\",IF(LEN(K25)=3,MID('名刺管理（Eight）'!G23,4,50),MID('名刺管理（Eight）'!G23,5,50)))","v":""},{"$f":"IF('名刺管理（Eight）'!H23=\"\",\"\",'名刺管理（Eight）'!H23)","v":""},{"$f":"IF('名刺管理（Eight）'!K23=\"\",\"\",'名刺管理（Eight）'!K23)","v":""},{"$f":"IF('名刺管理（Eight）'!L23=\"\",\"\",'名刺管理（Eight）'!L23)","v":""},{"$f":"IF('名刺管理（Eight）'!M23=\"\",\"\",'名刺管理（Eight）'!M23)","v":""},{"$f":"IF('名刺管理（Eight）'!N23=\"\",\"\",TEXT('名刺管理（Eight）'!N23,\"yyyy/m/d\"))","v":""}]
[{"$f":"LEFT('名刺管理（Eight）'!D24,D26)","v":""},{"$f":"RIGHT('名刺管理（Eight）'!D24,E26)","v":""},{"$f":"IF('名刺管理（Eight）'!D24=\"\",\"\",IF(LEN('名刺管理（Eight）'!D24)=D26+E26,\"\",\"不一致\"))","v":""},null,null,{"$f":"IF('名刺管理（Eight）'!A24=\"\",\"\",'名刺管理（Eight）'!A24)","v":""},{"$f":"IF('名刺管理（Eight）'!B24=\"\",\"\",'名刺管理（Eight）'!B24)","v":""},{"$f":"IF('名刺管理（Eight）'!C24=\"\",\"\",'名刺管理（Eight）'!C24)","v":""},{"$f":"IF('名刺管理（Eight）'!E24=\"\",\"\",'名刺管理（Eight）'!E24)","v":""},{"$f":"IF('名刺管理（Eight）'!F24=\"\",\"\",'名刺管理（Eight）'!F24)","v":""},{"$f":"IF('名刺管理（Eight）'!G24=\"\",\"\",IF(LEFT('名刺管理（Eight）'!G24,3)=\"神奈川\",LEFT('名刺管理（Eight）'!G24,4),IF(LEFT('名刺管理（Eight）'!G24,3)=\"和歌山\",LEFT('名刺管理（Eight）'!G24,4),IF(LEFT('名刺管理（Eight）'!G24,3)=\"鹿児島\",LEFT('名刺管理（Eight）'!G24,4),LEFT('名刺管理（Eight）'!G24,3)))))","v":""},{"$f":"IF(K26=\"\",\"\",IF(LEN(K26)=3,MID('名刺管理（Eight）'!G24,4,50),MID('名刺管理（Eight）'!G24,5,50)))","v":""},{"$f":"IF('名刺管理（Eight）'!H24=\"\",\"\",'名刺管理（Eight）'!H24)","v":""},{"$f":"IF('名刺管理（Eight）'!K24=\"\",\"\",'名刺管理（Eight）'!K24)","v":""},{"$f":"IF('名刺管理（Eight）'!L24=\"\",\"\",'名刺管理（Eight）'!L24)","v":""},{"$f":"IF('名刺管理（Eight）'!M24=\"\",\"\",'名刺管理（Eight）'!M24)","v":""},{"$f":"IF('名刺管理（Eight）'!N24=\"\",\"\",TEXT('名刺管理（Eight）'!N24,\"yyyy/m/d\"))","v":""}]
[{"$f":"LEFT('名刺管理（Eight）'!D25,D27)","v":""},{"$f":"RIGHT('名刺管理（Eight）'!D25,E27)","v":""},{"$f":"IF('名刺管理（Eight）'!D25=\"\",\"\",IF(LEN('名刺管理（Eight）'!D25)=D27+E27,\"\",\"不一致\"))","v":""},null,null,{"$f":"IF('名刺管理（Eight）'!A25=\"\",\"\",'名刺管理（Eight）'!A25)","v":""},{"$f":"IF('名刺管理（Eight）'!B25=\"\",\"\",'名刺管理（Eight）'!B25)","v":""},{"$f":"IF('名刺管理（Eight）'!C25=\"\",\"\",'名刺管理（Eight）'!C25)","v":""},{"$f":"IF('名刺管理（Eight）'!E25=\"\",\"\",'名刺管理（Eight）'!E25)","v":""},{"$f":"IF('名刺管理（Eight）'!F25=\"\",\"\",'名刺管理（Eight）'!F25)","v":""},{"$f":"IF('名刺管理（Eight）'!G25=\"\",\"\",IF(LEFT('名刺管理（Eight）'!G25,3)=\"神奈川\",LEFT('名刺管理（Eight）'!G25,4),IF(LEFT('名刺管理（Eight）'!G25,3)=\"和歌山\",LEFT('名刺管理（Eight）'!G25,4),IF(LEFT('名刺管理（Eight）'!G25,3)=\"鹿児島\",LEFT('名刺管理（Eight）'!G25,4),LEFT('名刺管理（Eight）'!G25,3)))))","v":""},{"$f":"IF(K27=\"\",\"\",IF(LEN(K27)=3,MID('名刺管理（Eight）'!G25,4,50),MID('名刺管理（Eight）'!G25,5,50)))","v":""},{"$f":"IF('名刺管理（Eight）'!H25=\"\",\"\",'名刺管理（Eight）'!H25)","v":""},{"$f":"IF('名刺管理（Eight）'!K25=\"\",\"\",'名刺管理（Eight）'!K25)","v":""},{"$f":"IF('名刺管理（Eight）'!L25=\"\",\"\",'名刺管理（Eight）'!L25)","v":""},{"$f":"IF('名刺管理（Eight）'!M25=\"\",\"\",'名刺管理（Eight）'!M25)","v":""},{"$f":"IF('名刺管理（Eight）'!N25=\"\",\"\",TEXT('名刺管理（Eight）'!N25,\"yyyy/m/d\"))","v":""}]
[{"$f":"LEFT('名刺管理（Eight）'!D26,D28)","v":""},{"$f":"RIGHT('名刺管理（Eight）'!D26,E28)","v":""},{"$f":"IF('名刺管理（Eight）'!D26=\"\",\"\",IF(LEN('名刺管理（Eight）'!D26)=D28+E28,\"\",\"不一致\"))","v":""},null,null,{"$f":"IF('名刺管理（Eight）'!A26=\"\",\"\",'名刺管理（Eight）'!A26)","v":""},{"$f":"IF('名刺管理（Eight）'!B26=\"\",\"\",'名刺管理（Eight）'!B26)","v":""},{"$f":"IF('名刺管理（Eight）'!C26=\"\",\"\",'名刺管理（Eight）'!C26)","v":""},{"$f":"IF('名刺管理（Eight）'!E26=\"\",\"\",'名刺管理（Eight）'!E26)","v":""},{"$f":"IF('名刺管理（Eight）'!F26=\"\",\"\",'名刺管理（Eight）'!F26)","v":""},{"$f":"IF('名刺管理（Eight）'!G26=\"\",\"\",IF(LEFT('名刺管理（Eight）'!G26,3)=\"神奈川\",LEFT('名刺管理（Eight）'!G26,4),IF(LEFT('名刺管理（Eight）'!G26,3)=\"和歌山\",LEFT('名刺管理（Eight）'!G26,4),IF(LEFT('名刺管理（Eight）'!G26,3)=\"鹿児島\",LEFT('名刺管理（Eight）'!G26,4),LEFT('名刺管理（Eight）'!G26,3)))))","v":""},{"$f":"IF(K28=\"\",\"\",IF(LEN(K28)=3,MID('名刺管理（Eight）'!G26,4,50),MID('名刺管理（Eight）'!G26,5,50)))","v":""},{"$f":"IF('名刺管理（Eight）'!H26=\"\",\"\",'名刺管理（Eight）'!H26)","v":""},{"$f":"IF('名刺管理（Eight）'!K26=\"\",\"\",'名刺管理（Eight）'!K26)","v":""},{"$f":"IF('名刺管理（Eight）'!L26=\"\",\"\",'名刺管理（Eight）'!L26)","v":""},{"$f":"IF('名刺管理（Eight）'!M26=\"\",\"\",'名刺管理（Eight）'!M26)","v":""},{"$f":"IF('名刺管理（Eight）'!N26=\"\",\"\",TEXT('名刺管理（Eight）'!N26,\"yyyy/m/d\"))","v":""}]
[{"$f":"LEFT('名刺管理（Eight）'!D27,D29)","v":""},{"$f":"RIGHT('名刺管理（Eight）'!D27,E29)","v":""},{"$f":"IF('名刺管理（Eight）'!D27=\"\",\"\",IF(LEN('名刺管理（Eight）'!D27)=D29+E29,\"\",\"不一致\"))","v":""},null,null,{"$f":"IF('名刺管理（Eight）'!A27=\"\",\"\",'名刺管理（Eight）'!A27)","v":""},{"$f":"IF('名刺管理（Eight）'!B27=\"\",\"\",'名刺管理（Eight）'!B27)","v":""},{"$f":"IF('名刺管理（Eight）'!C27=\"\",\"\",'名刺管理（Eight）'!C27)","v":""},{"$f":"IF('名刺管理（Eight）'!E27=\"\",\"\",'名刺管理（Eight）'!E27)","v":""},{"$f":"IF('名刺管理（Eight）'!F27=\"\",\"\",'名刺管理（Eight）'!F27)","v":""},{"$f":"IF('名刺管理（Eight）'!G27=\"\",\"\",IF(LEFT('名刺管理（Eight）'!G27,3)=\"神奈川\",LEFT('名刺管理（Eight）'!G27,4),IF(LEFT('名刺管理（Eight）'!G27,3)=\"和歌山\",LEFT('名刺管理（Eight）'!G27,4),IF(LEFT('名刺管理（Eight）'!G27,3)=\"鹿児島\",LEFT('名刺管理（Eight）'!G27,4),LEFT('名刺管理（Eight）'!G27,3)))))","v":""},{"$f":"IF(K29=\"\",\"\",IF(LEN(K29)=3,MID('名刺管理（Eight）'!G27,4,50),MID('名刺管理（Eight）'!G27,5,50)))","v":""},{"$f":"IF('名刺管理（Eight）'!H27=\"\",\"\",'名刺管理（Eight）'!H27)","v":""},{"$f":"IF('名刺管理（Eight）'!K27=\"\",\"\",'名刺管理（Eight）'!K27)","v":""},{"$f":"IF('名刺管理（Eight）'!L27=\"\",\"\",'名刺管理（Eight）'!L27)","v":""},{"$f":"IF('名刺管理（Eight）'!M27=\"\",\"\",'名刺管理（Eight）'!M27)","v":""},{"$f":"IF('名刺管理（Eight）'!N27=\"\",\"\",TEXT('名刺管理（Eight）'!N27,\"yyyy/m/d\"))","v":""}]
[{"$f":"LEFT('名刺管理（Eight）'!D28,D30)","v":""},{"$f":"RIGHT('名刺管理（Eight）'!D28,E30)","v":""},{"$f":"IF('名刺管理（Eight）'!D28=\"\",\"\",IF(LEN('名刺管理（Eight）'!D28)=D30+E30,\"\",\"不一致\"))","v":""},null,null,{"$f":"IF('名刺管理（Eight）'!A28=\"\",\"\",'名刺管理（Eight）'!A28)","v":""},{"$f":"IF('名刺管理（Eight）'!B28=\"\",\"\",'名刺管理（Eight）'!B28)","v":""},{"$f":"IF('名刺管理（Eight）'!C28=\"\",\"\",'名刺管理（Eight）'!C28)","v":""},{"$f":"IF('名刺管理（Eight）'!E28=\"\",\"\",'名刺管理（Eight）'!E28)","v":""},{"$f":"IF('名刺管理（Eight）'!F28=\"\",\"\",'名刺管理（Eight）'!F28)","v":""},{"$f":"IF('名刺管理（Eight）'!G28=\"\",\"\",IF(LEFT('名刺管理（Eight）'!G28,3)=\"神奈川\",LEFT('名刺管理（Eight）'!G28,4),IF(LEFT('名刺管理（Eight）'!G28,3)=\"和歌山\",LEFT('名刺管理（Eight）'!G28,4),IF(LEFT('名刺管理（Eight）'!G28,3)=\"鹿児島\",LEFT('名刺管理（Eight）'!G28,4),LEFT('名刺管理（Eight）'!G28,3)))))","v":""},{"$f":"IF(K30=\"\",\"\",IF(LEN(K30)=3,MID('名刺管理（Eight）'!G28,4,50),MID('名刺管理（Eight）'!G28,5,50)))","v":""},{"$f":"IF('名刺管理（Eight）'!H28=\"\",\"\",'名刺管理（Eight）'!H28)","v":""},{"$f":"IF('名刺管理（Eight）'!K28=\"\",\"\",'名刺管理（Eight）'!K28)","v":""},{"$f":"IF('名刺管理（Eight）'!L28=\"\",\"\",'名刺管理（Eight）'!L28)","v":""},{"$f":"IF('名刺管理（Eight）'!M28=\"\",\"\",'名刺管理（Eight）'!M28)","v":""},{"$f":"IF('名刺管理（Eight）'!N28=\"\",\"\",TEXT('名刺管理（Eight）'!N28,\"yyyy/m/d\"))","v":""}]
[{"$f":"LEFT('名刺管理（Eight）'!D29,D31)","v":""},{"$f":"RIGHT('名刺管理（Eight）'!D29,E31)","v":""},{"$f":"IF('名刺管理（Eight）'!D29=\"\",\"\",IF(LEN('名刺管理（Eight）'!D29)=D31+E31,\"\",\"不一致\"))","v":""},null,null,{"$f":"IF('名刺管理（Eight）'!A29=\"\",\"\",'名刺管理（Eight）'!A29)","v":""},{"$f":"IF('名刺管理（Eight）'!B29=\"\",\"\",'名刺管理（Eight）'!B29)","v":""},{"$f":"IF('名刺管理（Eight）'!C29=\"\",\"\",'名刺管理（Eight）'!C29)","v":""},{"$f":"IF('名刺管理（Eight）'!E29=\"\",\"\",'名刺管理（Eight）'!E29)","v":""},{"$f":"IF('名刺管理（Eight）'!F29=\"\",\"\",'名刺管理（Eight）'!F29)","v":""},{"$f":"IF('名刺管理（Eight）'!G29=\"\",\"\",IF(LEFT('名刺管理（Eight）'!G29,3)=\"神奈川\",LEFT('名刺管理（Eight）'!G29,4),IF(LEFT('名刺管理（Eight）'!G29,3)=\"和歌山\",LEFT('名刺管理（Eight）'!G29,4),IF(LEFT('名刺管理（Eight）'!G29,3)=\"鹿児島\",LEFT('名刺管理（Eight）'!G29,4),LEFT('名刺管理（Eight）'!G29,3)))))","v":""},{"$f":"IF(K31=\"\",\"\",IF(LEN(K31)=3,MID('名刺管理（Eight）'!G29,4,50),MID('名刺管理（Eight）'!G29,5,50)))","v":""},{"$f":"IF('名刺管理（Eight）'!H29=\"\",\"\",'名刺管理（Eight）'!H29)","v":""},{"$f":"IF('名刺管理（Eight）'!K29=\"\",\"\",'名刺管理（Eight）'!K29)","v":""},{"$f":"IF('名刺管理（Eight）'!L29=\"\",\"\",'名刺管理（Eight）'!L29)","v":""},{"$f":"IF('名刺管理（Eight）'!M29=\"\",\"\",'名刺管理（Eight）'!M29)","v":""},{"$f":"IF('名刺管理（Eight）'!N29=\"\",\"\",TEXT('名刺管理（Eight）'!N29,\"yyyy/m/d\"))","v":""}]
[{"$f":"LEFT('名刺管理（Eight）'!D30,D32)","v":""},{"$f":"RIGHT('名刺管理（Eight）'!D30,E32)","v":""},{"$f":"IF('名刺管理（Eight）'!D30=\"\",\"\",IF(LEN('名刺管理（Eight）'!D30)=D32+E32,\"\",\"不一致\"))","v":""},null,null,{"$f":"IF('名刺管理（Eight）'!A30=\"\",\"\",'名刺管理（Eight）'!A30)","v":""},{"$f":"IF('名刺管理（Eight）'!B30=\"\",\"\",'名刺管理（Eight）'!B30)","v":""},{"$f":"IF('名刺管理（Eight）'!C30=\"\",\"\",'名刺管理（Eight）'!C30)","v":""},{"$f":"IF('名刺管理（Eight）'!E30=\"\",\"\",'名刺管理（Eight）'!E30)","v":""},{"$f":"IF('名刺管理（Eight）'!F30=\"\",\"\",'名刺管理（Eight）'!F30)","v":""},{"$f":"IF('名刺管理（Eight）'!G30=\"\",\"\",IF(LEFT('名刺管理（Eight）'!G30,3)=\"神奈川\",LEFT('名刺管理（Eight）'!G30,4),IF(LEFT('名刺管理（Eight）'!G30,3)=\"和歌山\",LEFT('名刺管理（Eight）'!G30,4),IF(LEFT('名刺管理（Eight）'!G30,3)=\"鹿児島\",LEFT('名刺管理（Eight）'!G30,4),LEFT('名刺管理（Eight）'!G30,3)))))","v":""},{"$f":"IF(K32=\"\",\"\",IF(LEN(K32)=3,MID('名刺管理（Eight）'!G30,4,50),MID('名刺管理（Eight）'!G30,5,50)))","v":""},{"$f":"IF('名刺管理（Eight）'!H30=\"\",\"\",'名刺管理（Eight）'!H30)","v":""},{"$f":"IF('名刺管理（Eight）'!K30=\"\",\"\",'名刺管理（Eight）'!K30)","v":""},{"$f":"IF('名刺管理（Eight）'!L30=\"\",\"\",'名刺管理（Eight）'!L30)","v":""},{"$f":"IF('名刺管理（Eight）'!M30=\"\",\"\",'名刺管理（Eight）'!M30)","v":""},{"$f":"IF('名刺管理（Eight）'!N30=\"\",\"\",TEXT('名刺管理（Eight）'!N30,\"yyyy/m/d\"))","v":""}]
[{"$f":"LEFT('名刺管理（Eight）'!D31,D33)","v":""},{"$f":"RIGHT('名刺管理（Eight）'!D31,E33)","v":""},{"$f":"IF('名刺管理（Eight）'!D31=\"\",\"\",IF(LEN('名刺管理（Eight）'!D31)=D33+E33,\"\",\"不一致\"))","v":""},null,null,{"$f":"IF('名刺管理（Eight）'!A31=\"\",\"\",'名刺管理（Eight）'!A31)","v":""},{"$f":"IF('名刺管理（Eight）'!B31=\"\",\"\",'名刺管理（Eight）'!B31)","v":""},{"$f":"IF('名刺管理（Eight）'!C31=\"\",\"\",'名刺管理（Eight）'!C31)","v":""},{"$f":"IF('名刺管理（Eight）'!E31=\"\",\"\",'名刺管理（Eight）'!E31)","v":""},{"$f":"IF('名刺管理（Eight）'!F31=\"\",\"\",'名刺管理（Eight）'!F31)","v":""},{"$f":"IF('名刺管理（Eight）'!G31=\"\",\"\",IF(LEFT('名刺管理（Eight）'!G31,3)=\"神奈川\",LEFT('名刺管理（Eight）'!G31,4),IF(LEFT('名刺管理（Eight）'!G31,3)=\"和歌山\",LEFT('名刺管理（Eight）'!G31,4),IF(LEFT('名刺管理（Eight）'!G31,3)=\"鹿児島\",LEFT('名刺管理（Eight）'!G31,4),LEFT('名刺管理（Eight）'!G31,3)))))","v":""},{"$f":"IF(K33=\"\",\"\",IF(LEN(K33)=3,MID('名刺管理（Eight）'!G31,4,50),MID('名刺管理（Eight）'!G31,5,50)))","v":""},{"$f":"IF('名刺管理（Eight）'!H31=\"\",\"\",'名刺管理（Eight）'!H31)","v":""},{"$f":"IF('名刺管理（Eight）'!K31=\"\",\"\",'名刺管理（Eight）'!K31)","v":""},{"$f":"IF('名刺管理（Eight）'!L31=\"\",\"\",'名刺管理（Eight）'!L31)","v":""},{"$f":"IF('名刺管理（Eight）'!M31=\"\",\"\",'名刺管理（Eight）'!M31)","v":""},{"$f":"IF('名刺管理（Eight）'!N31=\"\",\"\",TEXT('名刺管理（Eight）'!N31,\"yyyy/m/d\"))","v":""}]
[{"$f":"LEFT('名刺管理（Eight）'!D32,D34)","v":""},{"$f":"RIGHT('名刺管理（Eight）'!D32,E34)","v":""},{"$f":"IF('名刺管理（Eight）'!D32=\"\",\"\",IF(LEN('名刺管理（Eight）'!D32)=D34+E34,\"\",\"不一致\"))","v":""},null,null,{"$f":"IF('名刺管理（Eight）'!A32=\"\",\"\",'名刺管理（Eight）'!A32)","v":""},{"$f":"IF('名刺管理（Eight）'!B32=\"\",\"\",'名刺管理（Eight）'!B32)","v":""},{"$f":"IF('名刺管理（Eight）'!C32=\"\",\"\",'名刺管理（Eight）'!C32)","v":""},{"$f":"IF('名刺管理（Eight）'!E32=\"\",\"\",'名刺管理（Eight）'!E32)","v":""},{"$f":"IF('名刺管理（Eight）'!F32=\"\",\"\",'名刺管理（Eight）'!F32)","v":""},{"$f":"IF('名刺管理（Eight）'!G32=\"\",\"\",IF(LEFT('名刺管理（Eight）'!G32,3)=\"神奈川\",LEFT('名刺管理（Eight）'!G32,4),IF(LEFT('名刺管理（Eight）'!G32,3)=\"和歌山\",LEFT('名刺管理（Eight）'!G32,4),IF(LEFT('名刺管理（Eight）'!G32,3)=\"鹿児島\",LEFT('名刺管理（Eight）'!G32,4),LEFT('名刺管理（Eight）'!G32,3)))))","v":""},{"$f":"IF(K34=\"\",\"\",IF(LEN(K34)=3,MID('名刺管理（Eight）'!G32,4,50),MID('名刺管理（Eight）'!G32,5,50)))","v":""},{"$f":"IF('名刺管理（Eight）'!H32=\"\",\"\",'名刺管理（Eight）'!H32)","v":""},{"$f":"IF('名刺管理（Eight）'!K32=\"\",\"\",'名刺管理（Eight）'!K32)","v":""},{"$f":"IF('名刺管理（Eight）'!L32=\"\",\"\",'名刺管理（Eight）'!L32)","v":""},{"$f":"IF('名刺管理（Eight）'!M32=\"\",\"\",'名刺管理（Eight）'!M32)","v":""},{"$f":"IF('名刺管理（Eight）'!N32=\"\",\"\",TEXT('名刺管理（Eight）'!N32,\"yyyy/m/d\"))","v":""}]
[{"$f":"LEFT('名刺管理（Eight）'!D33,D35)","v":""},{"$f":"RIGHT('名刺管理（Eight）'!D33,E35)","v":""},{"$f":"IF('名刺管理（Eight）'!D33=\"\",\"\",IF(LEN('名刺管理（Eight）'!D33)=D35+E35,\"\",\"不一致\"))","v":""},null,null,{"$f":"IF('名刺管理（Eight）'!A33=\"\",\"\",'名刺管理（Eight）'!A33)","v":""},{"$f":"IF('名刺管理（Eight）'!B33=\"\",\"\",'名刺管理（Eight）'!B33)","v":""},{"$f":"IF('名刺管理（Eight）'!C33=\"\",\"\",'名刺管理（Eight）'!C33)","v":""},{"$f":"IF('名刺管理（Eight）'!E33=\"\",\"\",'名刺管理（Eight）'!E33)","v":""},{"$f":"IF('名刺管理（Eight）'!F33=\"\",\"\",'名刺管理（Eight）'!F33)","v":""},{"$f":"IF('名刺管理（Eight）'!G33=\"\",\"\",IF(LEFT('名刺管理（Eight）'!G33,3)=\"神奈川\",LEFT('名刺管理（Eight）'!G33,4),IF(LEFT('名刺管理（Eight）'!G33,3)=\"和歌山\",LEFT('名刺管理（Eight）'!G33,4),IF(LEFT('名刺管理（Eight）'!G33,3)=\"鹿児島\",LEFT('名刺管理（Eight）'!G33,4),LEFT('名刺管理（Eight）'!G33,3)))))","v":""},{"$f":"IF(K35=\"\",\"\",IF(LEN(K35)=3,MID('名刺管理（Eight）'!G33,4,50),MID('名刺管理（Eight）'!G33,5,50)))","v":""},{"$f":"IF('名刺管理（Eight）'!H33=\"\",\"\",'名刺管理（Eight）'!H33)","v":""},{"$f":"IF('名刺管理（Eight）'!K33=\"\",\"\",'名刺管理（Eight）'!K33)","v":""},{"$f":"IF('名刺管理（Eight）'!L33=\"\",\"\",'名刺管理（Eight）'!L33)","v":""},{"$f":"IF('名刺管理（Eight）'!M33=\"\",\"\",'名刺管理（Eight）'!M33)","v":""},{"$f":"IF('名刺管理（Eight）'!N33=\"\",\"\",TEXT('名刺管理（Eight）'!N33,\"yyyy/m/d\"))","v":""}]
[{"$f":"LEFT('名刺管理（Eight）'!D34,D36)","v":""},{"$f":"RIGHT('名刺管理（Eight）'!D34,E36)","v":""},{"$f":"IF('名刺管理（Eight）'!D34=\"\",\"\",IF(LEN('名刺管理（Eight）'!D34)=D36+E36,\"\",\"不一致\"))","v":""},null,null,{"$f":"IF('名刺管理（Eight）'!A34=\"\",\"\",'名刺管理（Eight）'!A34)","v":""},{"$f":"IF('名刺管理（Eight）'!B34=\"\",\"\",'名刺管理（Eight）'!B34)","v":""},{"$f":"IF('名刺管理（Eight）'!C34=\"\",\"\",'名刺管理（Eight）'!C34)","v":""},{"$f":"IF('名刺管理（Eight）'!E34=\"\",\"\",'名刺管理（Eight）'!E34)","v":""},{"$f":"IF('名刺管理（Eight）'!F34=\"\",\"\",'名刺管理（Eight）'!F34)","v":""},{"$f":"IF('名刺管理（Eight）'!G34=\"\",\"\",IF(LEFT('名刺管理（Eight）'!G34,3)=\"神奈川\",LEFT('名刺管理（Eight）'!G34,4),IF(LEFT('名刺管理（Eight）'!G34,3)=\"和歌山\",LEFT('名刺管理（Eight）'!G34,4),IF(LEFT('名刺管理（Eight）'!G34,3)=\"鹿児島\",LEFT('名刺管理（Eight）'!G34,4),LEFT('名刺管理（Eight）'!G34,3)))))","v":""},{"$f":"IF(K36=\"\",\"\",IF(LEN(K36)=3,MID('名刺管理（Eight）'!G34,4,50),MID('名刺管理（Eight）'!G34,5,50)))","v":""},{"$f":"IF('名刺管理（Eight）'!H34=\"\",\"\",'名刺管理（Eight）'!H34)","v":""},{"$f":"IF('名刺管理（Eight）'!K34=\"\",\"\",'名刺管理（Eight）'!K34)","v":""},{"$f":"IF('名刺管理（Eight）'!L34=\"\",\"\",'名刺管理（Eight）'!L34)","v":""},{"$f":"IF('名刺管理（Eight）'!M34=\"\",\"\",'名刺管理（Eight）'!M34)","v":""},{"$f":"IF('名刺管理（Eight）'!N34=\"\",\"\",TEXT('名刺管理（Eight）'!N34,\"yyyy/m/d\"))","v":""}]
[{"$f":"LEFT('名刺管理（Eight）'!D35,D37)","v":""},{"$f":"RIGHT('名刺管理（Eight）'!D35,E37)","v":""},{"$f":"IF('名刺管理（Eight）'!D35=\"\",\"\",IF(LEN('名刺管理（Eight）'!D35)=D37+E37,\"\",\"不一致\"))","v":""},null,null,{"$f":"IF('名刺管理（Eight）'!A35=\"\",\"\",'名刺管理（Eight）'!A35)","v":""},{"$f":"IF('名刺管理（Eight）'!B35=\"\",\"\",'名刺管理（Eight）'!B35)","v":""},{"$f":"IF('名刺管理（Eight）'!C35=\"\",\"\",'名刺管理（Eight）'!C35)","v":""},{"$f":"IF('名刺管理（Eight）'!E35=\"\",\"\",'名刺管理（Eight）'!E35)","v":""},{"$f":"IF('名刺管理（Eight）'!F35=\"\",\"\",'名刺管理（Eight）'!F35)","v":""},{"$f":"IF('名刺管理（Eight）'!G35=\"\",\"\",IF(LEFT('名刺管理（Eight）'!G35,3)=\"神奈川\",LEFT('名刺管理（Eight）'!G35,4),IF(LEFT('名刺管理（Eight）'!G35,3)=\"和歌山\",LEFT('名刺管理（Eight）'!G35,4),IF(LEFT('名刺管理（Eight）'!G35,3)=\"鹿児島\",LEFT('名刺管理（Eight）'!G35,4),LEFT('名刺管理（Eight）'!G35,3)))))","v":""},{"$f":"IF(K37=\"\",\"\",IF(LEN(K37)=3,MID('名刺管理（Eight）'!G35,4,50),MID('名刺管理（Eight）'!G35,5,50)))","v":""},{"$f":"IF('名刺管理（Eight）'!H35=\"\",\"\",'名刺管理（Eight）'!H35)","v":""},{"$f":"IF('名刺管理（Eight）'!K35=\"\",\"\",'名刺管理（Eight）'!K35)","v":""},{"$f":"IF('名刺管理（Eight）'!L35=\"\",\"\",'名刺管理（Eight）'!L35)","v":""},{"$f":"IF('名刺管理（Eight）'!M35=\"\",\"\",'名刺管理（Eight）'!M35)","v":""},{"$f":"IF('名刺管理（Eight）'!N35=\"\",\"\",TEXT('名刺管理（Eight）'!N35,\"yyyy/m/d\"))","v":""}]
[{"$f":"LEFT('名刺管理（Eight）'!D36,D38)","v":""},{"$f":"RIGHT('名刺管理（Eight）'!D36,E38)","v":""},{"$f":"IF('名刺管理（Eight）'!D36=\"\",\"\",IF(LEN('名刺管理（Eight）'!D36)=D38+E38,\"\",\"不一致\"))","v":""},null,null,{"$f":"IF('名刺管理（Eight）'!A36=\"\",\"\",'名刺管理（Eight）'!A36)","v":""},{"$f":"IF('名刺管理（Eight）'!B36=\"\",\"\",'名刺管理（Eight）'!B36)","v":""},{"$f":"IF('名刺管理（Eight）'!C36=\"\",\"\",'名刺管理（Eight）'!C36)","v":""},{"$f":"IF('名刺管理（Eight）'!E36=\"\",\"\",'名刺管理（Eight）'!E36)","v":""},{"$f":"IF('名刺管理（Eight）'!F36=\"\",\"\",'名刺管理（Eight）'!F36)","v":""},{"$f":"IF('名刺管理（Eight）'!G36=\"\",\"\",IF(LEFT('名刺管理（Eight）'!G36,3)=\"神奈川\",LEFT('名刺管理（Eight）'!G36,4),IF(LEFT('名刺管理（Eight）'!G36,3)=\"和歌山\",LEFT('名刺管理（Eight）'!G36,4),IF(LEFT('名刺管理（Eight）'!G36,3)=\"鹿児島\",LEFT('名刺管理（Eight）'!G36,4),LEFT('名刺管理（Eight）'!G36,3)))))","v":""},{"$f":"IF(K38=\"\",\"\",IF(LEN(K38)=3,MID('名刺管理（Eight）'!G36,4,50),MID('名刺管理（Eight）'!G36,5,50)))","v":""},{"$f":"IF('名刺管理（Eight）'!H36=\"\",\"\",'名刺管理（Eight）'!H36)","v":""},{"$f":"IF('名刺管理（Eight）'!K36=\"\",\"\",'名刺管理（Eight）'!K36)","v":""},{"$f":"IF('名刺管理（Eight）'!L36=\"\",\"\",'名刺管理（Eight）'!L36)","v":""},{"$f":"IF('名刺管理（Eight）'!M36=\"\",\"\",'名刺管理（Eight）'!M36)","v":""},{"$f":"IF('名刺管理（Eight）'!N36=\"\",\"\",TEXT('名刺管理（Eight）'!N36,\"yyyy/m/d\"))","v":""}]
[{"$f":"LEFT('名刺管理（Eight）'!D37,D39)","v":""},{"$f":"RIGHT('名刺管理（Eight）'!D37,E39)","v":""},{"$f":"IF('名刺管理（Eight）'!D37=\"\",\"\",IF(LEN('名刺管理（Eight）'!D37)=D39+E39,\"\",\"不一致\"))","v":""},null,null,{"$f":"IF('名刺管理（Eight）'!A37=\"\",\"\",'名刺管理（Eight）'!A37)","v":""},{"$f":"IF('名刺管理（Eight）'!B37=\"\",\"\",'名刺管理（Eight）'!B37)","v":""},{"$f":"IF('名刺管理（Eight）'!C37=\"\",\"\",'名刺管理（Eight）'!C37)","v":""},{"$f":"IF('名刺管理（Eight）'!E37=\"\",\"\",'名刺管理（Eight）'!E37)","v":""},{"$f":"IF('名刺管理（Eight）'!F37=\"\",\"\",'名刺管理（Eight）'!F37)","v":""},{"$f":"IF('名刺管理（Eight）'!G37=\"\",\"\",IF(LEFT('名刺管理（Eight）'!G37,3)=\"神奈川\",LEFT('名刺管理（Eight）'!G37,4),IF(LEFT('名刺管理（Eight）'!G37,3)=\"和歌山\",LEFT('名刺管理（Eight）'!G37,4),IF(LEFT('名刺管理（Eight）'!G37,3)=\"鹿児島\",LEFT('名刺管理（Eight）'!G37,4),LEFT('名刺管理（Eight）'!G37,3)))))","v":""},{"$f":"IF(K39=\"\",\"\",IF(LEN(K39)=3,MID('名刺管理（Eight）'!G37,4,50),MID('名刺管理（Eight）'!G37,5,50)))","v":""},{"$f":"IF('名刺管理（Eight）'!H37=\"\",\"\",'名刺管理（Eight）'!H37)","v":""},{"$f":"IF('名刺管理（Eight）'!K37=\"\",\"\",'名刺管理（Eight）'!K37)","v":""},{"$f":"IF('名刺管理（Eight）'!L37=\"\",\"\",'名刺管理（Eight）'!L37)","v":""},{"$f":"IF('名刺管理（Eight）'!M37=\"\",\"\",'名刺管理（Eight）'!M37)","v":""},{"$f":"IF('名刺管理（Eight）'!N37=\"\",\"\",TEXT('名刺管理（Eight）'!N37,\"yyyy/m/d\"))","v":""}]
[{"$f":"LEFT('名刺管理（Eight）'!D38,D40)","v":""},{"$f":"RIGHT('名刺管理（Eight）'!D38,E40)","v":""},{"$f":"IF('名刺管理（Eight）'!D38=\"\",\"\",IF(LEN('名刺管理（Eight）'!D38)=D40+E40,\"\",\"不一致\"))","v":""},null,null,{"$f":"IF('名刺管理（Eight）'!A38=\"\",\"\",'名刺管理（Eight）'!A38)","v":""},{"$f":"IF('名刺管理（Eight）'!B38=\"\",\"\",'名刺管理（Eight）'!B38)","v":""},{"$f":"IF('名刺管理（Eight）'!C38=\"\",\"\",'名刺管理（Eight）'!C38)","v":""},{"$f":"IF('名刺管理（Eight）'!E38=\"\",\"\",'名刺管理（Eight）'!E38)","v":""},{"$f":"IF('名刺管理（Eight）'!F38=\"\",\"\",'名刺管理（Eight）'!F38)","v":""},{"$f":"IF('名刺管理（Eight）'!G38=\"\",\"\",IF(LEFT('名刺管理（Eight）'!G38,3)=\"神奈川\",LEFT('名刺管理（Eight）'!G38,4),IF(LEFT('名刺管理（Eight）'!G38,3)=\"和歌山\",LEFT('名刺管理（Eight）'!G38,4),IF(LEFT('名刺管理（Eight）'!G38,3)=\"鹿児島\",LEFT('名刺管理（Eight）'!G38,4),LEFT('名刺管理（Eight）'!G38,3)))))","v":""},{"$f":"IF(K40=\"\",\"\",IF(LEN(K40)=3,MID('名刺管理（Eight）'!G38,4,50),MID('名刺管理（Eight）'!G38,5,50)))","v":""},{"$f":"IF('名刺管理（Eight）'!H38=\"\",\"\",'名刺管理（Eight）'!H38)","v":""},{"$f":"IF('名刺管理（Eight）'!K38=\"\",\"\",'名刺管理（Eight）'!K38)","v":""},{"$f":"IF('名刺管理（Eight）'!L38=\"\",\"\",'名刺管理（Eight）'!L38)","v":""},{"$f":"IF('名刺管理（Eight）'!M38=\"\",\"\",'名刺管理（Eight）'!M38)","v":""},{"$f":"IF('名刺管理（Eight）'!N38=\"\",\"\",TEXT('名刺管理（Eight）'!N38,\"yyyy/m/d\"))","v":""}]
[{"$f":"LEFT('名刺管理（Eight）'!D39,D41)","v":""},{"$f":"RIGHT('名刺管理（Eight）'!D39,E41)","v":""},{"$f":"IF('名刺管理（Eight）'!D39=\"\",\"\",IF(LEN('名刺管理（Eight）'!D39)=D41+E41,\"\",\"不一致\"))","v":""},null,null,{"$f":"IF('名刺管理（Eight）'!A39=\"\",\"\",'名刺管理（Eight）'!A39)","v":""},{"$f":"IF('名刺管理（Eight）'!B39=\"\",\"\",'名刺管理（Eight）'!B39)","v":""},{"$f":"IF('名刺管理（Eight）'!C39=\"\",\"\",'名刺管理（Eight）'!C39)","v":""},{"$f":"IF('名刺管理（Eight）'!E39=\"\",\"\",'名刺管理（Eight）'!E39)","v":""},{"$f":"IF('名刺管理（Eight）'!F39=\"\",\"\",'名刺管理（Eight）'!F39)","v":""},{"$f":"IF('名刺管理（Eight）'!G39=\"\",\"\",IF(LEFT('名刺管理（Eight）'!G39,3)=\"神奈川\",LEFT('名刺管理（Eight）'!G39,4),IF(LEFT('名刺管理（Eight）'!G39,3)=\"和歌山\",LEFT('名刺管理（Eight）'!G39,4),IF(LEFT('名刺管理（Eight）'!G39,3)=\"鹿児島\",LEFT('名刺管理（Eight）'!G39,4),LEFT('名刺管理（Eight）'!G39,3)))))","v":""},{"$f":"IF(K41=\"\",\"\",IF(LEN(K41)=3,MID('名刺管理（Eight）'!G39,4,50),MID('名刺管理（Eight）'!G39,5,50)))","v":""},{"$f":"IF('名刺管理（Eight）'!H39=\"\",\"\",'名刺管理（Eight）'!H39)","v":""},{"$f":"IF('名刺管理（Eight）'!K39=\"\",\"\",'名刺管理（Eight）'!K39)","v":""},{"$f":"IF('名刺管理（Eight）'!L39=\"\",\"\",'名刺管理（Eight）'!L39)","v":""},{"$f":"IF('名刺管理（Eight）'!M39=\"\",\"\",'名刺管理（Eight）'!M39)","v":""},{"$f":"IF('名刺管理（Eight）'!N39=\"\",\"\",TEXT('名刺管理（Eight）'!N39,\"yyyy/m/d\"))","v":""}]
[{"$f":"LEFT('名刺管理（Eight）'!D40,D42)","v":""},{"$f":"RIGHT('名刺管理（Eight）'!D40,E42)","v":""},{"$f":"IF('名刺管理（Eight）'!D40=\"\",\"\",IF(LEN('名刺管理（Eight）'!D40)=D42+E42,\"\",\"不一致\"))","v":""},null,null,{"$f":"IF('名刺管理（Eight）'!A40=\"\",\"\",'名刺管理（Eight）'!A40)","v":""},{"$f":"IF('名刺管理（Eight）'!B40=\"\",\"\",'名刺管理（Eight）'!B40)","v":""},{"$f":"IF('名刺管理（Eight）'!C40=\"\",\"\",'名刺管理（Eight）'!C40)","v":""},{"$f":"IF('名刺管理（Eight）'!E40=\"\",\"\",'名刺管理（Eight）'!E40)","v":""},{"$f":"IF('名刺管理（Eight）'!F40=\"\",\"\",'名刺管理（Eight）'!F40)","v":""},{"$f":"IF('名刺管理（Eight）'!G40=\"\",\"\",IF(LEFT('名刺管理（Eight）'!G40,3)=\"神奈川\",LEFT('名刺管理（Eight）'!G40,4),IF(LEFT('名刺管理（Eight）'!G40,3)=\"和歌山\",LEFT('名刺管理（Eight）'!G40,4),IF(LEFT('名刺管理（Eight）'!G40,3)=\"鹿児島\",LEFT('名刺管理（Eight）'!G40,4),LEFT('名刺管理（Eight）'!G40,3)))))","v":""},{"$f":"IF(K42=\"\",\"\",IF(LEN(K42)=3,MID('名刺管理（Eight）'!G40,4,50),MID('名刺管理（Eight）'!G40,5,50)))","v":""},{"$f":"IF('名刺管理（Eight）'!H40=\"\",\"\",'名刺管理（Eight）'!H40)","v":""},{"$f":"IF('名刺管理（Eight）'!K40=\"\",\"\",'名刺管理（Eight）'!K40)","v":""},{"$f":"IF('名刺管理（Eight）'!L40=\"\",\"\",'名刺管理（Eight）'!L40)","v":""},{"$f":"IF('名刺管理（Eight）'!M40=\"\",\"\",'名刺管理（Eight）'!M40)","v":""},{"$f":"IF('名刺管理（Eight）'!N40=\"\",\"\",TEXT('名刺管理（Eight）'!N40,\"yyyy/m/d\"))","v":""}]
[{"$f":"LEFT('名刺管理（Eight）'!D41,D43)","v":""},{"$f":"RIGHT('名刺管理（Eight）'!D41,E43)","v":""},{"$f":"IF('名刺管理（Eight）'!D41=\"\",\"\",IF(LEN('名刺管理（Eight）'!D41)=D43+E43,\"\",\"不一致\"))","v":""},null,null,{"$f":"IF('名刺管理（Eight）'!A41=\"\",\"\",'名刺管理（Eight）'!A41)","v":""},{"$f":"IF('名刺管理（Eight）'!B41=\"\",\"\",'名刺管理（Eight）'!B41)","v":""},{"$f":"IF('名刺管理（Eight）'!C41=\"\",\"\",'名刺管理（Eight）'!C41)","v":""},{"$f":"IF('名刺管理（Eight）'!E41=\"\",\"\",'名刺管理（Eight）'!E41)","v":""},{"$f":"IF('名刺管理（Eight）'!F41=\"\",\"\",'名刺管理（Eight）'!F41)","v":""},{"$f":"IF('名刺管理（Eight）'!G41=\"\",\"\",IF(LEFT('名刺管理（Eight）'!G41,3)=\"神奈川\",LEFT('名刺管理（Eight）'!G41,4),IF(LEFT('名刺管理（Eight）'!G41,3)=\"和歌山\",LEFT('名刺管理（Eight）'!G41,4),IF(LEFT('名刺管理（Eight）'!G41,3)=\"鹿児島\",LEFT('名刺管理（Eight）'!G41,4),LEFT('名刺管理（Eight）'!G41,3)))))","v":""},{"$f":"IF(K43=\"\",\"\",IF(LEN(K43)=3,MID('名刺管理（Eight）'!G41,4,50),MID('名刺管理（Eight）'!G41,5,50)))","v":""},{"$f":"IF('名刺管理（Eight）'!H41=\"\",\"\",'名刺管理（Eight）'!H41)","v":""},{"$f":"IF('名刺管理（Eight）'!K41=\"\",\"\",'名刺管理（Eight）'!K41)","v":""},{"$f":"IF('名刺管理（Eight）'!L41=\"\",\"\",'名刺管理（Eight）'!L41)","v":""},{"$f":"IF('名刺管理（Eight）'!M41=\"\",\"\",'名刺管理（Eight）'!M41)","v":""},{"$f":"IF('名刺管理（Eight）'!N41=\"\",\"\",TEXT('名刺管理（Eight）'!N41,\"yyyy/m/d\"))","v":""}]
[{"$f":"LEFT('名刺管理（Eight）'!D42,D44)","v":""},{"$f":"RIGHT('名刺管理（Eight）'!D42,E44)","v":""},{"$f":"IF('名刺管理（Eight）'!D42=\"\",\"\",IF(LEN('名刺管理（Eight）'!D42)=D44+E44,\"\",\"不一致\"))","v":""},null,null,{"$f":"IF('名刺管理（Eight）'!A42=\"\",\"\",'名刺管理（Eight）'!A42)","v":""},{"$f":"IF('名刺管理（Eight）'!B42=\"\",\"\",'名刺管理（Eight）'!B42)","v":""},{"$f":"IF('名刺管理（Eight）'!C42=\"\",\"\",'名刺管理（Eight）'!C42)","v":""},{"$f":"IF('名刺管理（Eight）'!E42=\"\",\"\",'名刺管理（Eight）'!E42)","v":""},{"$f":"IF('名刺管理（Eight）'!F42=\"\",\"\",'名刺管理（Eight）'!F42)","v":""},{"$f":"IF('名刺管理（Eight）'!G42=\"\",\"\",IF(LEFT('名刺管理（Eight）'!G42,3)=\"神奈川\",LEFT('名刺管理（Eight）'!G42,4),IF(LEFT('名刺管理（Eight）'!G42,3)=\"和歌山\",LEFT('名刺管理（Eight）'!G42,4),IF(LEFT('名刺管理（Eight）'!G42,3)=\"鹿児島\",LEFT('名刺管理（Eight）'!G42,4),LEFT('名刺管理（Eight）'!G42,3)))))","v":""},{"$f":"IF(K44=\"\",\"\",IF(LEN(K44)=3,MID('名刺管理（Eight）'!G42,4,50),MID('名刺管理（Eight）'!G42,5,50)))","v":""},{"$f":"IF('名刺管理（Eight）'!H42=\"\",\"\",'名刺管理（Eight）'!H42)","v":""},{"$f":"IF('名刺管理（Eight）'!K42=\"\",\"\",'名刺管理（Eight）'!K42)","v":""},{"$f":"IF('名刺管理（Eight）'!L42=\"\",\"\",'名刺管理（Eight）'!L42)","v":""},{"$f":"IF('名刺管理（Eight）'!M42=\"\",\"\",'名刺管理（Eight）'!M42)","v":""},{"$f":"IF('名刺管理（Eight）'!N42=\"\",\"\",TEXT('名刺管理（Eight）'!N42,\"yyyy/m/d\"))","v":""}]
[{"$f":"LEFT('名刺管理（Eight）'!D43,D45)","v":""},{"$f":"RIGHT('名刺管理（Eight）'!D43,E45)","v":""},{"$f":"IF('名刺管理（Eight）'!D43=\"\",\"\",IF(LEN('名刺管理（Eight）'!D43)=D45+E45,\"\",\"不一致\"))","v":""},null,null,{"$f":"IF('名刺管理（Eight）'!A43=\"\",\"\",'名刺管理（Eight）'!A43)","v":""},{"$f":"IF('名刺管理（Eight）'!B43=\"\",\"\",'名刺管理（Eight）'!B43)","v":""},{"$f":"IF('名刺管理（Eight）'!C43=\"\",\"\",'名刺管理（Eight）'!C43)","v":""},{"$f":"IF('名刺管理（Eight）'!E43=\"\",\"\",'名刺管理（Eight）'!E43)","v":""},{"$f":"IF('名刺管理（Eight）'!F43=\"\",\"\",'名刺管理（Eight）'!F43)","v":""},{"$f":"IF('名刺管理（Eight）'!G43=\"\",\"\",IF(LEFT('名刺管理（Eight）'!G43,3)=\"神奈川\",LEFT('名刺管理（Eight）'!G43,4),IF(LEFT('名刺管理（Eight）'!G43,3)=\"和歌山\",LEFT('名刺管理（Eight）'!G43,4),IF(LEFT('名刺管理（Eight）'!G43,3)=\"鹿児島\",LEFT('名刺管理（Eight）'!G43,4),LEFT('名刺管理（Eight）'!G43,3)))))","v":""},{"$f":"IF(K45=\"\",\"\",IF(LEN(K45)=3,MID('名刺管理（Eight）'!G43,4,50),MID('名刺管理（Eight）'!G43,5,50)))","v":""},{"$f":"IF('名刺管理（Eight）'!H43=\"\",\"\",'名刺管理（Eight）'!H43)","v":""},{"$f":"IF('名刺管理（Eight）'!K43=\"\",\"\",'名刺管理（Eight）'!K43)","v":""},{"$f":"IF('名刺管理（Eight）'!L43=\"\",\"\",'名刺管理（Eight）'!L43)","v":""},{"$f":"IF('名刺管理（Eight）'!M43=\"\",\"\",'名刺管理（Eight）'!M43)","v":""},{"$f":"IF('名刺管理（Eight）'!N43=\"\",\"\",TEXT('名刺管理（Eight）'!N43,\"yyyy/m/d\"))","v":""}]
[{"$f":"LEFT('名刺管理（Eight）'!D44,D46)","v":""},{"$f":"RIGHT('名刺管理（Eight）'!D44,E46)","v":""},{"$f":"IF('名刺管理（Eight）'!D44=\"\",\"\",IF(LEN('名刺管理（Eight）'!D44)=D46+E46,\"\",\"不一致\"))","v":""},null,null,{"$f":"IF('名刺管理（Eight）'!A44=\"\",\"\",'名刺管理（Eight）'!A44)","v":""},{"$f":"IF('名刺管理（Eight）'!B44=\"\",\"\",'名刺管理（Eight）'!B44)","v":""},{"$f":"IF('名刺管理（Eight）'!C44=\"\",\"\",'名刺管理（Eight）'!C44)","v":""},{"$f":"IF('名刺管理（Eight）'!E44=\"\",\"\",'名刺管理（Eight）'!E44)","v":""},{"$f":"IF('名刺管理（Eight）'!F44=\"\",\"\",'名刺管理（Eight）'!F44)","v":""},{"$f":"IF('名刺管理（Eight）'!G44=\"\",\"\",IF(LEFT('名刺管理（Eight）'!G44,3)=\"神奈川\",LEFT('名刺管理（Eight）'!G44,4),IF(LEFT('名刺管理（Eight）'!G44,3)=\"和歌山\",LEFT('名刺管理（Eight）'!G44,4),IF(LEFT('名刺管理（Eight）'!G44,3)=\"鹿児島\",LEFT('名刺管理（Eight）'!G44,4),LEFT('名刺管理（Eight）'!G44,3)))))","v":""},{"$f":"IF(K46=\"\",\"\",IF(LEN(K46)=3,MID('名刺管理（Eight）'!G44,4,50),MID('名刺管理（Eight）'!G44,5,50)))","v":""},{"$f":"IF('名刺管理（Eight）'!H44=\"\",\"\",'名刺管理（Eight）'!H44)","v":""},{"$f":"IF('名刺管理（Eight）'!K44=\"\",\"\",'名刺管理（Eight）'!K44)","v":""},{"$f":"IF('名刺管理（Eight）'!L44=\"\",\"\",'名刺管理（Eight）'!L44)","v":""},{"$f":"IF('名刺管理（Eight）'!M44=\"\",\"\",'名刺管理（Eight）'!M44)","v":""},{"$f":"IF('名刺管理（Eight）'!N44=\"\",\"\",TEXT('名刺管理（Eight）'!N44,\"yyyy/m/d\"))","v":""}]
[{"$f":"LEFT('名刺管理（Eight）'!D45,D47)","v":""},{"$f":"RIGHT('名刺管理（Eight）'!D45,E47)","v":""},{"$f":"IF('名刺管理（Eight）'!D45=\"\",\"\",IF(LEN('名刺管理（Eight）'!D45)=D47+E47,\"\",\"不一致\"))","v":""},null,null,{"$f":"IF('名刺管理（Eight）'!A45=\"\",\"\",'名刺管理（Eight）'!A45)","v":""},{"$f":"IF('名刺管理（Eight）'!B45=\"\",\"\",'名刺管理（Eight）'!B45)","v":""},{"$f":"IF('名刺管理（Eight）'!C45=\"\",\"\",'名刺管理（Eight）'!C45)","v":""},{"$f":"IF('名刺管理（Eight）'!E45=\"\",\"\",'名刺管理（Eight）'!E45)","v":""},{"$f":"IF('名刺管理（Eight）'!F45=\"\",\"\",'名刺管理（Eight）'!F45)","v":""},{"$f":"IF('名刺管理（Eight）'!G45=\"\",\"\",IF(LEFT('名刺管理（Eight）'!G45,3)=\"神奈川\",LEFT('名刺管理（Eight）'!G45,4),IF(LEFT('名刺管理（Eight）'!G45,3)=\"和歌山\",LEFT('名刺管理（Eight）'!G45,4),IF(LEFT('名刺管理（Eight）'!G45,3)=\"鹿児島\",LEFT('名刺管理（Eight）'!G45,4),LEFT('名刺管理（Eight）'!G45,3)))))","v":""},{"$f":"IF(K47=\"\",\"\",IF(LEN(K47)=3,MID('名刺管理（Eight）'!G45,4,50),MID('名刺管理（Eight）'!G45,5,50)))","v":""},{"$f":"IF('名刺管理（Eight）'!H45=\"\",\"\",'名刺管理（Eight）'!H45)","v":""},{"$f":"IF('名刺管理（Eight）'!K45=\"\",\"\",'名刺管理（Eight）'!K45)","v":""},{"$f":"IF('名刺管理（Eight）'!L45=\"\",\"\",'名刺管理（Eight）'!L45)","v":""},{"$f":"IF('名刺管理（Eight）'!M45=\"\",\"\",'名刺管理（Eight）'!M45)","v":""},{"$f":"IF('名刺管理（Eight）'!N45=\"\",\"\",TEXT('名刺管理（Eight）'!N45,\"yyyy/m/d\"))","v":""}]
[{"$f":"LEFT('名刺管理（Eight）'!D46,D48)","v":""},{"$f":"RIGHT('名刺管理（Eight）'!D46,E48)","v":""},{"$f":"IF('名刺管理（Eight）'!D46=\"\",\"\",IF(LEN('名刺管理（Eight）'!D46)=D48+E48,\"\",\"不一致\"))","v":""},null,null,{"$f":"IF('名刺管理（Eight）'!A46=\"\",\"\",'名刺管理（Eight）'!A46)","v":""},{"$f":"IF('名刺管理（Eight）'!B46=\"\",\"\",'名刺管理（Eight）'!B46)","v":""},{"$f":"IF('名刺管理（Eight）'!C46=\"\",\"\",'名刺管理（Eight）'!C46)","v":""},{"$f":"IF('名刺管理（Eight）'!E46=\"\",\"\",'名刺管理（Eight）'!E46)","v":""},{"$f":"IF('名刺管理（Eight）'!F46=\"\",\"\",'名刺管理（Eight）'!F46)","v":""},{"$f":"IF('名刺管理（Eight）'!G46=\"\",\"\",IF(LEFT('名刺管理（Eight）'!G46,3)=\"神奈川\",LEFT('名刺管理（Eight）'!G46,4),IF(LEFT('名刺管理（Eight）'!G46,3)=\"和歌山\",LEFT('名刺管理（Eight）'!G46,4),IF(LEFT('名刺管理（Eight）'!G46,3)=\"鹿児島\",LEFT('名刺管理（Eight）'!G46,4),LEFT('名刺管理（Eight）'!G46,3)))))","v":""},{"$f":"IF(K48=\"\",\"\",IF(LEN(K48)=3,MID('名刺管理（Eight）'!G46,4,50),MID('名刺管理（Eight）'!G46,5,50)))","v":""},{"$f":"IF('名刺管理（Eight）'!H46=\"\",\"\",'名刺管理（Eight）'!H46)","v":""},{"$f":"IF('名刺管理（Eight）'!K46=\"\",\"\",'名刺管理（Eight）'!K46)","v":""},{"$f":"IF('名刺管理（Eight）'!L46=\"\",\"\",'名刺管理（Eight）'!L46)","v":""},{"$f":"IF('名刺管理（Eight）'!M46=\"\",\"\",'名刺管理（Eight）'!M46)","v":""},{"$f":"IF('名刺管理（Eight）'!N46=\"\",\"\",TEXT('名刺管理（Eight）'!N46,\"yyyy/m/d\"))","v":""}]
[{"$f":"LEFT('名刺管理（Eight）'!D47,D49)","v":""},{"$f":"RIGHT('名刺管理（Eight）'!D47,E49)","v":""},{"$f":"IF('名刺管理（Eight）'!D47=\"\",\"\",IF(LEN('名刺管理（Eight）'!D47)=D49+E49,\"\",\"不一致\"))","v":""},null,null,{"$f":"IF('名刺管理（Eight）'!A47=\"\",\"\",'名刺管理（Eight）'!A47)","v":""},{"$f":"IF('名刺管理（Eight）'!B47=\"\",\"\",'名刺管理（Eight）'!B47)","v":""},{"$f":"IF('名刺管理（Eight）'!C47=\"\",\"\",'名刺管理（Eight）'!C47)","v":""},{"$f":"IF('名刺管理（Eight）'!E47=\"\",\"\",'名刺管理（Eight）'!E47)","v":""},{"$f":"IF('名刺管理（Eight）'!F47=\"\",\"\",'名刺管理（Eight）'!F47)","v":""},{"$f":"IF('名刺管理（Eight）'!G47=\"\",\"\",IF(LEFT('名刺管理（Eight）'!G47,3)=\"神奈川\",LEFT('名刺管理（Eight）'!G47,4),IF(LEFT('名刺管理（Eight）'!G47,3)=\"和歌山\",LEFT('名刺管理（Eight）'!G47,4),IF(LEFT('名刺管理（Eight）'!G47,3)=\"鹿児島\",LEFT('名刺管理（Eight）'!G47,4),LEFT('名刺管理（Eight）'!G47,3)))))","v":""},{"$f":"IF(K49=\"\",\"\",IF(LEN(K49)=3,MID('名刺管理（Eight）'!G47,4,50),MID('名刺管理（Eight）'!G47,5,50)))","v":""},{"$f":"IF('名刺管理（Eight）'!H47=\"\",\"\",'名刺管理（Eight）'!H47)","v":""},{"$f":"IF('名刺管理（Eight）'!K47=\"\",\"\",'名刺管理（Eight）'!K47)","v":""},{"$f":"IF('名刺管理（Eight）'!L47=\"\",\"\",'名刺管理（Eight）'!L47)","v":""},{"$f":"IF('名刺管理（Eight）'!M47=\"\",\"\",'名刺管理（Eight）'!M47)","v":""},{"$f":"IF('名刺管理（Eight）'!N47=\"\",\"\",TEXT('名刺管理（Eight）'!N47,\"yyyy/m/d\"))","v":""}]
[{"$f":"LEFT('名刺管理（Eight）'!D48,D50)","v":""},{"$f":"RIGHT('名刺管理（Eight）'!D48,E50)","v":""},{"$f":"IF('名刺管理（Eight）'!D48=\"\",\"\",IF(LEN('名刺管理（Eight）'!D48)=D50+E50,\"\",\"不一致\"))","v":""},null,null,{"$f":"IF('名刺管理（Eight）'!A48=\"\",\"\",'名刺管理（Eight）'!A48)","v":""},{"$f":"IF('名刺管理（Eight）'!B48=\"\",\"\",'名刺管理（Eight）'!B48)","v":""},{"$f":"IF('名刺管理（Eight）'!C48=\"\",\"\",'名刺管理（Eight）'!C48)","v":""},{"$f":"IF('名刺管理（Eight）'!E48=\"\",\"\",'名刺管理（Eight）'!E48)","v":""},{"$f":"IF('名刺管理（Eight）'!F48=\"\",\"\",'名刺管理（Eight）'!F48)","v":""},{"$f":"IF('名刺管理（Eight）'!G48=\"\",\"\",IF(LEFT('名刺管理（Eight）'!G48,3)=\"神奈川\",LEFT('名刺管理（Eight）'!G48,4),IF(LEFT('名刺管理（Eight）'!G48,3)=\"和歌山\",LEFT('名刺管理（Eight）'!G48,4),IF(LEFT('名刺管理（Eight）'!G48,3)=\"鹿児島\",LEFT('名刺管理（Eight）'!G48,4),LEFT('名刺管理（Eight）'!G48,3)))))","v":""},{"$f":"IF(K50=\"\",\"\",IF(LEN(K50)=3,MID('名刺管理（Eight）'!G48,4,50),MID('名刺管理（Eight）'!G48,5,50)))","v":""},{"$f":"IF('名刺管理（Eight）'!H48=\"\",\"\",'名刺管理（Eight）'!H48)","v":""},{"$f":"IF('名刺管理（Eight）'!K48=\"\",\"\",'名刺管理（Eight）'!K48)","v":""},{"$f":"IF('名刺管理（Eight）'!L48=\"\",\"\",'名刺管理（Eight）'!L48)","v":""},{"$f":"IF('名刺管理（Eight）'!M48=\"\",\"\",'名刺管理（Eight）'!M48)","v":""},{"$f":"IF('名刺管理（Eight）'!N48=\"\",\"\",TEXT('名刺管理（Eight）'!N48,\"yyyy/m/d\"))","v":""}]
[{"$f":"LEFT('名刺管理（Eight）'!D49,D51)","v":""},{"$f":"RIGHT('名刺管理（Eight）'!D49,E51)","v":""},{"$f":"IF('名刺管理（Eight）'!D49=\"\",\"\",IF(LEN('名刺管理（Eight）'!D49)=D51+E51,\"\",\"不一致\"))","v":""},null,null,{"$f":"IF('名刺管理（Eight）'!A49=\"\",\"\",'名刺管理（Eight）'!A49)","v":""},{"$f":"IF('名刺管理（Eight）'!B49=\"\",\"\",'名刺管理（Eight）'!B49)","v":""},{"$f":"IF('名刺管理（Eight）'!C49=\"\",\"\",'名刺管理（Eight）'!C49)","v":""},{"$f":"IF('名刺管理（Eight）'!E49=\"\",\"\",'名刺管理（Eight）'!E49)","v":""},{"$f":"IF('名刺管理（Eight）'!F49=\"\",\"\",'名刺管理（Eight）'!F49)","v":""},{"$f":"IF('名刺管理（Eight）'!G49=\"\",\"\",IF(LEFT('名刺管理（Eight）'!G49,3)=\"神奈川\",LEFT('名刺管理（Eight）'!G49,4),IF(LEFT('名刺管理（Eight）'!G49,3)=\"和歌山\",LEFT('名刺管理（Eight）'!G49,4),IF(LEFT('名刺管理（Eight）'!G49,3)=\"鹿児島\",LEFT('名刺管理（Eight）'!G49,4),LEFT('名刺管理（Eight）'!G49,3)))))","v":""},{"$f":"IF(K51=\"\",\"\",IF(LEN(K51)=3,MID('名刺管理（Eight）'!G49,4,50),MID('名刺管理（Eight）'!G49,5,50)))","v":""},{"$f":"IF('名刺管理（Eight）'!H49=\"\",\"\",'名刺管理（Eight）'!H49)","v":""},{"$f":"IF('名刺管理（Eight）'!K49=\"\",\"\",'名刺管理（Eight）'!K49)","v":""},{"$f":"IF('名刺管理（Eight）'!L49=\"\",\"\",'名刺管理（Eight）'!L49)","v":""},{"$f":"IF('名刺管理（Eight）'!M49=\"\",\"\",'名刺管理（Eight）'!M49)","v":""},{"$f":"IF('名刺管理（Eight）'!N49=\"\",\"\",TEXT('名刺管理（Eight）'!N49,\"yyyy/m/d\"))","v":""}]
[{"$f":"LEFT('名刺管理（Eight）'!D50,D52)","v":""},{"$f":"RIGHT('名刺管理（Eight）'!D50,E52)","v":""},{"$f":"IF('名刺管理（Eight）'!D50=\"\",\"\",IF(LEN('名刺管理（Eight）'!D50)=D52+E52,\"\",\"不一致\"))","v":""},null,null,{"$f":"IF('名刺管理（Eight）'!A50=\"\",\"\",'名刺管理（Eight）'!A50)","v":""},{"$f":"IF('名刺管理（Eight）'!B50=\"\",\"\",'名刺管理（Eight）'!B50)","v":""},{"$f":"IF('名刺管理（Eight）'!C50=\"\",\"\",'名刺管理（Eight）'!C50)","v":""},{"$f":"IF('名刺管理（Eight）'!E50=\"\",\"\",'名刺管理（Eight）'!E50)","v":""},{"$f":"IF('名刺管理（Eight）'!F50=\"\",\"\",'名刺管理（Eight）'!F50)","v":""},{"$f":"IF('名刺管理（Eight）'!G50=\"\",\"\",IF(LEFT('名刺管理（Eight）'!G50,3)=\"神奈川\",LEFT('名刺管理（Eight）'!G50,4),IF(LEFT('名刺管理（Eight）'!G50,3)=\"和歌山\",LEFT('名刺管理（Eight）'!G50,4),IF(LEFT('名刺管理（Eight）'!G50,3)=\"鹿児島\",LEFT('名刺管理（Eight）'!G50,4),LEFT('名刺管理（Eight）'!G50,3)))))","v":""},{"$f":"IF(K52=\"\",\"\",IF(LEN(K52)=3,MID('名刺管理（Eight）'!G50,4,50),MID('名刺管理（Eight）'!G50,5,50)))","v":""},{"$f":"IF('名刺管理（Eight）'!H50=\"\",\"\",'名刺管理（Eight）'!H50)","v":""},{"$f":"IF('名刺管理（Eight）'!K50=\"\",\"\",'名刺管理（Eight）'!K50)","v":""},{"$f":"IF('名刺管理（Eight）'!L50=\"\",\"\",'名刺管理（Eight）'!L50)","v":""},{"$f":"IF('名刺管理（Eight）'!M50=\"\",\"\",'名刺管理（Eight）'!M50)","v":""},{"$f":"IF('名刺管理（Eight）'!N50=\"\",\"\",TEXT('名刺管理（Eight）'!N50,\"yyyy/m/d\"))","v":""}]
[{"$f":"LEFT('名刺管理（Eight）'!D51,D53)","v":""},{"$f":"RIGHT('名刺管理（Eight）'!D51,E53)","v":""},{"$f":"IF('名刺管理（Eight）'!D51=\"\",\"\",IF(LEN('名刺管理（Eight）'!D51)=D53+E53,\"\",\"不一致\"))","v":""},null,null,{"$f":"IF('名刺管理（Eight）'!A51=\"\",\"\",'名刺管理（Eight）'!A51)","v":""},{"$f":"IF('名刺管理（Eight）'!B51=\"\",\"\",'名刺管理（Eight）'!B51)","v":""},{"$f":"IF('名刺管理（Eight）'!C51=\"\",\"\",'名刺管理（Eight）'!C51)","v":""},{"$f":"IF('名刺管理（Eight）'!E51=\"\",\"\",'名刺管理（Eight）'!E51)","v":""},{"$f":"IF('名刺管理（Eight）'!F51=\"\",\"\",'名刺管理（Eight）'!F51)","v":""},{"$f":"IF('名刺管理（Eight）'!G51=\"\",\"\",IF(LEFT('名刺管理（Eight）'!G51,3)=\"神奈川\",LEFT('名刺管理（Eight）'!G51,4),IF(LEFT('名刺管理（Eight）'!G51,3)=\"和歌山\",LEFT('名刺管理（Eight）'!G51,4),IF(LEFT('名刺管理（Eight）'!G51,3)=\"鹿児島\",LEFT('名刺管理（Eight）'!G51,4),LEFT('名刺管理（Eight）'!G51,3)))))","v":""},{"$f":"IF(K53=\"\",\"\",IF(LEN(K53)=3,MID('名刺管理（Eight）'!G51,4,50),MID('名刺管理（Eight）'!G51,5,50)))","v":""},{"$f":"IF('名刺管理（Eight）'!H51=\"\",\"\",'名刺管理（Eight）'!H51)","v":""},{"$f":"IF('名刺管理（Eight）'!K51=\"\",\"\",'名刺管理（Eight）'!K51)","v":""},{"$f":"IF('名刺管理（Eight）'!L51=\"\",\"\",'名刺管理（Eight）'!L51)","v":""},{"$f":"IF('名刺管理（Eight）'!M51=\"\",\"\",'名刺管理（Eight）'!M51)","v":""},{"$f":"IF('名刺管理（Eight）'!N51=\"\",\"\",TEXT('名刺管理（Eight）'!N51,\"yyyy/m/d\"))","v":""}]
[{"$f":"LEFT('名刺管理（Eight）'!D52,D54)","v":""},{"$f":"RIGHT('名刺管理（Eight）'!D52,E54)","v":""},{"$f":"IF('名刺管理（Eight）'!D52=\"\",\"\",IF(LEN('名刺管理（Eight）'!D52)=D54+E54,\"\",\"不一致\"))","v":""},null,null,{"$f":"IF('名刺管理（Eight）'!A52=\"\",\"\",'名刺管理（Eight）'!A52)","v":""},{"$f":"IF('名刺管理（Eight）'!B52=\"\",\"\",'名刺管理（Eight）'!B52)","v":""},{"$f":"IF('名刺管理（Eight）'!C52=\"\",\"\",'名刺管理（Eight）'!C52)","v":""},{"$f":"IF('名刺管理（Eight）'!E52=\"\",\"\",'名刺管理（Eight）'!E52)","v":""},{"$f":"IF('名刺管理（Eight）'!F52=\"\",\"\",'名刺管理（Eight）'!F52)","v":""},{"$f":"IF('名刺管理（Eight）'!G52=\"\",\"\",IF(LEFT('名刺管理（Eight）'!G52,3)=\"神奈川\",LEFT('名刺管理（Eight）'!G52,4),IF(LEFT('名刺管理（Eight）'!G52,3)=\"和歌山\",LEFT('名刺管理（Eight）'!G52,4),IF(LEFT('名刺管理（Eight）'!G52,3)=\"鹿児島\",LEFT('名刺管理（Eight）'!G52,4),LEFT('名刺管理（Eight）'!G52,3)))))","v":""},{"$f":"IF(K54=\"\",\"\",IF(LEN(K54)=3,MID('名刺管理（Eight）'!G52,4,50),MID('名刺管理（Eight）'!G52,5,50)))","v":""},{"$f":"IF('名刺管理（Eight）'!H52=\"\",\"\",'名刺管理（Eight）'!H52)","v":""},{"$f":"IF('名刺管理（Eight）'!K52=\"\",\"\",'名刺管理（Eight）'!K52)","v":""},{"$f":"IF('名刺管理（Eight）'!L52=\"\",\"\",'名刺管理（Eight）'!L52)","v":""},{"$f":"IF('名刺管理（Eight）'!M52=\"\",\"\",'名刺管理（Eight）'!M52)","v":""},{"$f":"IF('名刺管理（Eight）'!N52=\"\",\"\",TEXT('名刺管理（Eight）'!N52,\"yyyy/m/d\"))","v":""}]
[{"$f":"LEFT('名刺管理（Eight）'!D53,D55)","v":""},{"$f":"RIGHT('名刺管理（Eight）'!D53,E55)","v":""},{"$f":"IF('名刺管理（Eight）'!D53=\"\",\"\",IF(LEN('名刺管理（Eight）'!D53)=D55+E55,\"\",\"不一致\"))","v":""},null,null,{"$f":"IF('名刺管理（Eight）'!A53=\"\",\"\",'名刺管理（Eight）'!A53)","v":""},{"$f":"IF('名刺管理（Eight）'!B53=\"\",\"\",'名刺管理（Eight）'!B53)","v":""},{"$f":"IF('名刺管理（Eight）'!C53=\"\",\"\",'名刺管理（Eight）'!C53)","v":""},{"$f":"IF('名刺管理（Eight）'!E53=\"\",\"\",'名刺管理（Eight）'!E53)","v":""},{"$f":"IF('名刺管理（Eight）'!F53=\"\",\"\",'名刺管理（Eight）'!F53)","v":""},{"$f":"IF('名刺管理（Eight）'!G53=\"\",\"\",IF(LEFT('名刺管理（Eight）'!G53,3)=\"神奈川\",LEFT('名刺管理（Eight）'!G53,4),IF(LEFT('名刺管理（Eight）'!G53,3)=\"和歌山\",LEFT('名刺管理（Eight）'!G53,4),IF(LEFT('名刺管理（Eight）'!G53,3)=\"鹿児島\",LEFT('名刺管理（Eight）'!G53,4),LEFT('名刺管理（Eight）'!G53,3)))))","v":""},{"$f":"IF(K55=\"\",\"\",IF(LEN(K55)=3,MID('名刺管理（Eight）'!G53,4,50),MID('名刺管理（Eight）'!G53,5,50)))","v":""},{"$f":"IF('名刺管理（Eight）'!H53=\"\",\"\",'名刺管理（Eight）'!H53)","v":""},{"$f":"IF('名刺管理（Eight）'!K53=\"\",\"\",'名刺管理（Eight）'!K53)","v":""},{"$f":"IF('名刺管理（Eight）'!L53=\"\",\"\",'名刺管理（Eight）'!L53)","v":""},{"$f":"IF('名刺管理（Eight）'!M53=\"\",\"\",'名刺管理（Eight）'!M53)","v":""},{"$f":"IF('名刺管理（Eight）'!N53=\"\",\"\",TEXT('名刺管理（Eight）'!N53,\"yyyy/m/d\"))","v":""}]
[{"$f":"LEFT('名刺管理（Eight）'!D54,D56)","v":""},{"$f":"RIGHT('名刺管理（Eight）'!D54,E56)","v":""},{"$f":"IF('名刺管理（Eight）'!D54=\"\",\"\",IF(LEN('名刺管理（Eight）'!D54)=D56+E56,\"\",\"不一致\"))","v":""},null,null,{"$f":"IF('名刺管理（Eight）'!A54=\"\",\"\",'名刺管理（Eight）'!A54)","v":""},{"$f":"IF('名刺管理（Eight）'!B54=\"\",\"\",'名刺管理（Eight）'!B54)","v":""},{"$f":"IF('名刺管理（Eight）'!C54=\"\",\"\",'名刺管理（Eight）'!C54)","v":""},{"$f":"IF('名刺管理（Eight）'!E54=\"\",\"\",'名刺管理（Eight）'!E54)","v":""},{"$f":"IF('名刺管理（Eight）'!F54=\"\",\"\",'名刺管理（Eight）'!F54)","v":""},{"$f":"IF('名刺管理（Eight）'!G54=\"\",\"\",IF(LEFT('名刺管理（Eight）'!G54,3)=\"神奈川\",LEFT('名刺管理（Eight）'!G54,4),IF(LEFT('名刺管理（Eight）'!G54,3)=\"和歌山\",LEFT('名刺管理（Eight）'!G54,4),IF(LEFT('名刺管理（Eight）'!G54,3)=\"鹿児島\",LEFT('名刺管理（Eight）'!G54,4),LEFT('名刺管理（Eight）'!G54,3)))))","v":""},{"$f":"IF(K56=\"\",\"\",IF(LEN(K56)=3,MID('名刺管理（Eight）'!G54,4,50),MID('名刺管理（Eight）'!G54,5,50)))","v":""},{"$f":"IF('名刺管理（Eight）'!H54=\"\",\"\",'名刺管理（Eight）'!H54)","v":""},{"$f":"IF('名刺管理（Eight）'!K54=\"\",\"\",'名刺管理（Eight）'!K54)","v":""},{"$f":"IF('名刺管理（Eight）'!L54=\"\",\"\",'名刺管理（Eight）'!L54)","v":""},{"$f":"IF('名刺管理（Eight）'!M54=\"\",\"\",'名刺管理（Eight）'!M54)","v":""},{"$f":"IF('名刺管理（Eight）'!N54=\"\",\"\",TEXT('名刺管理（Eight）'!N54,\"yyyy/m/d\"))","v":""}]
[{"$f":"LEFT('名刺管理（Eight）'!D55,D57)","v":""},{"$f":"RIGHT('名刺管理（Eight）'!D55,E57)","v":""},{"$f":"IF('名刺管理（Eight）'!D55=\"\",\"\",IF(LEN('名刺管理（Eight）'!D55)=D57+E57,\"\",\"不一致\"))","v":""},null,null,{"$f":"IF('名刺管理（Eight）'!A55=\"\",\"\",'名刺管理（Eight）'!A55)","v":""},{"$f":"IF('名刺管理（Eight）'!B55=\"\",\"\",'名刺管理（Eight）'!B55)","v":""},{"$f":"IF('名刺管理（Eight）'!C55=\"\",\"\",'名刺管理（Eight）'!C55)","v":""},{"$f":"IF('名刺管理（Eight）'!E55=\"\",\"\",'名刺管理（Eight）'!E55)","v":""},{"$f":"IF('名刺管理（Eight）'!F55=\"\",\"\",'名刺管理（Eight）'!F55)","v":""},{"$f":"IF('名刺管理（Eight）'!G55=\"\",\"\",IF(LEFT('名刺管理（Eight）'!G55,3)=\"神奈川\",LEFT('名刺管理（Eight）'!G55,4),IF(LEFT('名刺管理（Eight）'!G55,3)=\"和歌山\",LEFT('名刺管理（Eight）'!G55,4),IF(LEFT('名刺管理（Eight）'!G55,3)=\"鹿児島\",LEFT('名刺管理（Eight）'!G55,4),LEFT('名刺管理（Eight）'!G55,3)))))","v":""},{"$f":"IF(K57=\"\",\"\",IF(LEN(K57)=3,MID('名刺管理（Eight）'!G55,4,50),MID('名刺管理（Eight）'!G55,5,50)))","v":""},{"$f":"IF('名刺管理（Eight）'!H55=\"\",\"\",'名刺管理（Eight）'!H55)","v":""},{"$f":"IF('名刺管理（Eight）'!K55=\"\",\"\",'名刺管理（Eight）'!K55)","v":""},{"$f":"IF('名刺管理（Eight）'!L55=\"\",\"\",'名刺管理（Eight）'!L55)","v":""},{"$f":"IF('名刺管理（Eight）'!M55=\"\",\"\",'名刺管理（Eight）'!M55)","v":""},{"$f":"IF('名刺管理（Eight）'!N55=\"\",\"\",TEXT('名刺管理（Eight）'!N55,\"yyyy/m/d\"))","v":""}]
[{"$f":"LEFT('名刺管理（Eight）'!D56,D58)","v":""},{"$f":"RIGHT('名刺管理（Eight）'!D56,E58)","v":""},{"$f":"IF('名刺管理（Eight）'!D56=\"\",\"\",IF(LEN('名刺管理（Eight）'!D56)=D58+E58,\"\",\"不一致\"))","v":""},null,null,{"$f":"IF('名刺管理（Eight）'!A56=\"\",\"\",'名刺管理（Eight）'!A56)","v":""},{"$f":"IF('名刺管理（Eight）'!B56=\"\",\"\",'名刺管理（Eight）'!B56)","v":""},{"$f":"IF('名刺管理（Eight）'!C56=\"\",\"\",'名刺管理（Eight）'!C56)","v":""},{"$f":"IF('名刺管理（Eight）'!E56=\"\",\"\",'名刺管理（Eight）'!E56)","v":""},{"$f":"IF('名刺管理（Eight）'!F56=\"\",\"\",'名刺管理（Eight）'!F56)","v":""},{"$f":"IF('名刺管理（Eight）'!G56=\"\",\"\",IF(LEFT('名刺管理（Eight）'!G56,3)=\"神奈川\",LEFT('名刺管理（Eight）'!G56,4),IF(LEFT('名刺管理（Eight）'!G56,3)=\"和歌山\",LEFT('名刺管理（Eight）'!G56,4),IF(LEFT('名刺管理（Eight）'!G56,3)=\"鹿児島\",LEFT('名刺管理（Eight）'!G56,4),LEFT('名刺管理（Eight）'!G56,3)))))","v":""},{"$f":"IF(K58=\"\",\"\",IF(LEN(K58)=3,MID('名刺管理（Eight）'!G56,4,50),MID('名刺管理（Eight）'!G56,5,50)))","v":""},{"$f":"IF('名刺管理（Eight）'!H56=\"\",\"\",'名刺管理（Eight）'!H56)","v":""},{"$f":"IF('名刺管理（Eight）'!K56=\"\",\"\",'名刺管理（Eight）'!K56)","v":""},{"$f":"IF('名刺管理（Eight）'!L56=\"\",\"\",'名刺管理（Eight）'!L56)","v":""},{"$f":"IF('名刺管理（Eight）'!M56=\"\",\"\",'名刺管理（Eight）'!M56)","v":""},{"$f":"IF('名刺管理（Eight）'!N56=\"\",\"\",TEXT('名刺管理（Eight）'!N56,\"yyyy/m/d\"))","v":""}]
[{"$f":"LEFT('名刺管理（Eight）'!D57,D59)","v":""},{"$f":"RIGHT('名刺管理（Eight）'!D57,E59)","v":""},{"$f":"IF('名刺管理（Eight）'!D57=\"\",\"\",IF(LEN('名刺管理（Eight）'!D57)=D59+E59,\"\",\"不一致\"))","v":""},null,null,{"$f":"IF('名刺管理（Eight）'!A57=\"\",\"\",'名刺管理（Eight）'!A57)","v":""},{"$f":"IF('名刺管理（Eight）'!B57=\"\",\"\",'名刺管理（Eight）'!B57)","v":""},{"$f":"IF('名刺管理（Eight）'!C57=\"\",\"\",'名刺管理（Eight）'!C57)","v":""},{"$f":"IF('名刺管理（Eight）'!E57=\"\",\"\",'名刺管理（Eight）'!E57)","v":""},{"$f":"IF('名刺管理（Eight）'!F57=\"\",\"\",'名刺管理（Eight）'!F57)","v":""},{"$f":"IF('名刺管理（Eight）'!G57=\"\",\"\",IF(LEFT('名刺管理（Eight）'!G57,3)=\"神奈川\",LEFT('名刺管理（Eight）'!G57,4),IF(LEFT('名刺管理（Eight）'!G57,3)=\"和歌山\",LEFT('名刺管理（Eight）'!G57,4),IF(LEFT('名刺管理（Eight）'!G57,3)=\"鹿児島\",LEFT('名刺管理（Eight）'!G57,4),LEFT('名刺管理（Eight）'!G57,3)))))","v":""},{"$f":"IF(K59=\"\",\"\",IF(LEN(K59)=3,MID('名刺管理（Eight）'!G57,4,50),MID('名刺管理（Eight）'!G57,5,50)))","v":""},{"$f":"IF('名刺管理（Eight）'!H57=\"\",\"\",'名刺管理（Eight）'!H57)","v":""},{"$f":"IF('名刺管理（Eight）'!K57=\"\",\"\",'名刺管理（Eight）'!K57)","v":""},{"$f":"IF('名刺管理（Eight）'!L57=\"\",\"\",'名刺管理（Eight）'!L57)","v":""},{"$f":"IF('名刺管理（Eight）'!M57=\"\",\"\",'名刺管理（Eight）'!M57)","v":""},{"$f":"IF('名刺管理（Eight）'!N57=\"\",\"\",TEXT('名刺管理（Eight）'!N57,\"yyyy/m/d\"))","v":""}]
[{"$f":"LEFT('名刺管理（Eight）'!D58,D60)","v":""},{"$f":"RIGHT('名刺管理（Eight）'!D58,E60)","v":""},{"$f":"IF('名刺管理（Eight）'!D58=\"\",\"\",IF(LEN('名刺管理（Eight）'!D58)=D60+E60,\"\",\"不一致\"))","v":""},null,null,{"$f":"IF('名刺管理（Eight）'!A58=\"\",\"\",'名刺管理（Eight）'!A58)","v":""},{"$f":"IF('名刺管理（Eight）'!B58=\"\",\"\",'名刺管理（Eight）'!B58)","v":""},{"$f":"IF('名刺管理（Eight）'!C58=\"\",\"\",'名刺管理（Eight）'!C58)","v":""},{"$f":"IF('名刺管理（Eight）'!E58=\"\",\"\",'名刺管理（Eight）'!E58)","v":""},{"$f":"IF('名刺管理（Eight）'!F58=\"\",\"\",'名刺管理（Eight）'!F58)","v":""},{"$f":"IF('名刺管理（Eight）'!G58=\"\",\"\",IF(LEFT('名刺管理（Eight）'!G58,3)=\"神奈川\",LEFT('名刺管理（Eight）'!G58,4),IF(LEFT('名刺管理（Eight）'!G58,3)=\"和歌山\",LEFT('名刺管理（Eight）'!G58,4),IF(LEFT('名刺管理（Eight）'!G58,3)=\"鹿児島\",LEFT('名刺管理（Eight）'!G58,4),LEFT('名刺管理（Eight）'!G58,3)))))","v":""},{"$f":"IF(K60=\"\",\"\",IF(LEN(K60)=3,MID('名刺管理（Eight）'!G58,4,50),MID('名刺管理（Eight）'!G58,5,50)))","v":""},{"$f":"IF('名刺管理（Eight）'!H58=\"\",\"\",'名刺管理（Eight）'!H58)","v":""},{"$f":"IF('名刺管理（Eight）'!K58=\"\",\"\",'名刺管理（Eight）'!K58)","v":""},{"$f":"IF('名刺管理（Eight）'!L58=\"\",\"\",'名刺管理（Eight）'!L58)","v":""},{"$f":"IF('名刺管理（Eight）'!M58=\"\",\"\",'名刺管理（Eight）'!M58)","v":""},{"$f":"IF('名刺管理（Eight）'!N58=\"\",\"\",TEXT('名刺管理（Eight）'!N58,\"yyyy/m/d\"))","v":""}]
[{"$f":"LEFT('名刺管理（Eight）'!D59,D61)","v":""},{"$f":"RIGHT('名刺管理（Eight）'!D59,E61)","v":""},{"$f":"IF('名刺管理（Eight）'!D59=\"\",\"\",IF(LEN('名刺管理（Eight）'!D59)=D61+E61,\"\",\"不一致\"))","v":""},null,null,{"$f":"IF('名刺管理（Eight）'!A59=\"\",\"\",'名刺管理（Eight）'!A59)","v":""},{"$f":"IF('名刺管理（Eight）'!B59=\"\",\"\",'名刺管理（Eight）'!B59)","v":""},{"$f":"IF('名刺管理（Eight）'!C59=\"\",\"\",'名刺管理（Eight）'!C59)","v":""},{"$f":"IF('名刺管理（Eight）'!E59=\"\",\"\",'名刺管理（Eight）'!E59)","v":""},{"$f":"IF('名刺管理（Eight）'!F59=\"\",\"\",'名刺管理（Eight）'!F59)","v":""},{"$f":"IF('名刺管理（Eight）'!G59=\"\",\"\",IF(LEFT('名刺管理（Eight）'!G59,3)=\"神奈川\",LEFT('名刺管理（Eight）'!G59,4),IF(LEFT('名刺管理（Eight）'!G59,3)=\"和歌山\",LEFT('名刺管理（Eight）'!G59,4),IF(LEFT('名刺管理（Eight）'!G59,3)=\"鹿児島\",LEFT('名刺管理（Eight）'!G59,4),LEFT('名刺管理（Eight）'!G59,3)))))","v":""},{"$f":"IF(K61=\"\",\"\",IF(LEN(K61)=3,MID('名刺管理（Eight）'!G59,4,50),MID('名刺管理（Eight）'!G59,5,50)))","v":""},{"$f":"IF('名刺管理（Eight）'!H59=\"\",\"\",'名刺管理（Eight）'!H59)","v":""},{"$f":"IF('名刺管理（Eight）'!K59=\"\",\"\",'名刺管理（Eight）'!K59)","v":""},{"$f":"IF('名刺管理（Eight）'!L59=\"\",\"\",'名刺管理（Eight）'!L59)","v":""},{"$f":"IF('名刺管理（Eight）'!M59=\"\",\"\",'名刺管理（Eight）'!M59)","v":""},{"$f":"IF('名刺管理（Eight）'!N59=\"\",\"\",TEXT('名刺管理（Eight）'!N59,\"yyyy/m/d\"))","v":""}]
[{"$f":"LEFT('名刺管理（Eight）'!D60,D62)","v":""},{"$f":"RIGHT('名刺管理（Eight）'!D60,E62)","v":""},{"$f":"IF('名刺管理（Eight）'!D60=\"\",\"\",IF(LEN('名刺管理（Eight）'!D60)=D62+E62,\"\",\"不一致\"))","v":""},null,null,{"$f":"IF('名刺管理（Eight）'!A60=\"\",\"\",'名刺管理（Eight）'!A60)","v":""},{"$f":"IF('名刺管理（Eight）'!B60=\"\",\"\",'名刺管理（Eight）'!B60)","v":""},{"$f":"IF('名刺管理（Eight）'!C60=\"\",\"\",'名刺管理（Eight）'!C60)","v":""},{"$f":"IF('名刺管理（Eight）'!E60=\"\",\"\",'名刺管理（Eight）'!E60)","v":""},{"$f":"IF('名刺管理（Eight）'!F60=\"\",\"\",'名刺管理（Eight）'!F60)","v":""},{"$f":"IF('名刺管理（Eight）'!G60=\"\",\"\",IF(LEFT('名刺管理（Eight）'!G60,3)=\"神奈川\",LEFT('名刺管理（Eight）'!G60,4),IF(LEFT('名刺管理（Eight）'!G60,3)=\"和歌山\",LEFT('名刺管理（Eight）'!G60,4),IF(LEFT('名刺管理（Eight）'!G60,3)=\"鹿児島\",LEFT('名刺管理（Eight）'!G60,4),LEFT('名刺管理（Eight）'!G60,3)))))","v":""},{"$f":"IF(K62=\"\",\"\",IF(LEN(K62)=3,MID('名刺管理（Eight）'!G60,4,50),MID('名刺管理（Eight）'!G60,5,50)))","v":""},{"$f":"IF('名刺管理（Eight）'!H60=\"\",\"\",'名刺管理（Eight）'!H60)","v":""},{"$f":"IF('名刺管理（Eight）'!K60=\"\",\"\",'名刺管理（Eight）'!K60)","v":""},{"$f":"IF('名刺管理（Eight）'!L60=\"\",\"\",'名刺管理（Eight）'!L60)","v":""},{"$f":"IF('名刺管理（Eight）'!M60=\"\",\"\",'名刺管理（Eight）'!M60)","v":""},{"$f":"IF('名刺管理（Eight）'!N60=\"\",\"\",TEXT('名刺管理（Eight）'!N60,\"yyyy/m/d\"))","v":""}]
[{"$f":"LEFT('名刺管理（Eight）'!D61,D63)","v":""},{"$f":"RIGHT('名刺管理（Eight）'!D61,E63)","v":""},{"$f":"IF('名刺管理（Eight）'!D61=\"\",\"\",IF(LEN('名刺管理（Eight）'!D61)=D63+E63,\"\",\"不一致\"))","v":""},null,null,{"$f":"IF('名刺管理（Eight）'!A61=\"\",\"\",'名刺管理（Eight）'!A61)","v":""},{"$f":"IF('名刺管理（Eight）'!B61=\"\",\"\",'名刺管理（Eight）'!B61)","v":""},{"$f":"IF('名刺管理（Eight）'!C61=\"\",\"\",'名刺管理（Eight）'!C61)","v":""},{"$f":"IF('名刺管理（Eight）'!E61=\"\",\"\",'名刺管理（Eight）'!E61)","v":""},{"$f":"IF('名刺管理（Eight）'!F61=\"\",\"\",'名刺管理（Eight）'!F61)","v":""},{"$f":"IF('名刺管理（Eight）'!G61=\"\",\"\",IF(LEFT('名刺管理（Eight）'!G61,3)=\"神奈川\",LEFT('名刺管理（Eight）'!G61,4),IF(LEFT('名刺管理（Eight）'!G61,3)=\"和歌山\",LEFT('名刺管理（Eight）'!G61,4),IF(LEFT('名刺管理（Eight）'!G61,3)=\"鹿児島\",LEFT('名刺管理（Eight）'!G61,4),LEFT('名刺管理（Eight）'!G61,3)))))","v":""},{"$f":"IF(K63=\"\",\"\",IF(LEN(K63)=3,MID('名刺管理（Eight）'!G61,4,50),MID('名刺管理（Eight）'!G61,5,50)))","v":""},{"$f":"IF('名刺管理（Eight）'!H61=\"\",\"\",'名刺管理（Eight）'!H61)","v":""},{"$f":"IF('名刺管理（Eight）'!K61=\"\",\"\",'名刺管理（Eight）'!K61)","v":""},{"$f":"IF('名刺管理（Eight）'!L61=\"\",\"\",'名刺管理（Eight）'!L61)","v":""},{"$f":"IF('名刺管理（Eight）'!M61=\"\",\"\",'名刺管理（Eight）'!M61)","v":""},{"$f":"IF('名刺管理（Eight）'!N61=\"\",\"\",TEXT('名刺管理（Eight）'!N61,\"yyyy/m/d\"))","v":""}]
[{"$f":"LEFT('名刺管理（Eight）'!D62,D64)","v":""},{"$f":"RIGHT('名刺管理（Eight）'!D62,E64)","v":""},{"$f":"IF('名刺管理（Eight）'!D62=\"\",\"\",IF(LEN('名刺管理（Eight）'!D62)=D64+E64,\"\",\"不一致\"))","v":""},null,null,{"$f":"IF('名刺管理（Eight）'!A62=\"\",\"\",'名刺管理（Eight）'!A62)","v":""},{"$f":"IF('名刺管理（Eight）'!B62=\"\",\"\",'名刺管理（Eight）'!B62)","v":""},{"$f":"IF('名刺管理（Eight）'!C62=\"\",\"\",'名刺管理（Eight）'!C62)","v":""},{"$f":"IF('名刺管理（Eight）'!E62=\"\",\"\",'名刺管理（Eight）'!E62)","v":""},{"$f":"IF('名刺管理（Eight）'!F62=\"\",\"\",'名刺管理（Eight）'!F62)","v":""},{"$f":"IF('名刺管理（Eight）'!G62=\"\",\"\",IF(LEFT('名刺管理（Eight）'!G62,3)=\"神奈川\",LEFT('名刺管理（Eight）'!G62,4),IF(LEFT('名刺管理（Eight）'!G62,3)=\"和歌山\",LEFT('名刺管理（Eight）'!G62,4),IF(LEFT('名刺管理（Eight）'!G62,3)=\"鹿児島\",LEFT('名刺管理（Eight）'!G62,4),LEFT('名刺管理（Eight）'!G62,3)))))","v":""},{"$f":"IF(K64=\"\",\"\",IF(LEN(K64)=3,MID('名刺管理（Eight）'!G62,4,50),MID('名刺管理（Eight）'!G62,5,50)))","v":""},{"$f":"IF('名刺管理（Eight）'!H62=\"\",\"\",'名刺管理（Eight）'!H62)","v":""},{"$f":"IF('名刺管理（Eight）'!K62=\"\",\"\",'名刺管理（Eight）'!K62)","v":""},{"$f":"IF('名刺管理（Eight）'!L62=\"\",\"\",'名刺管理（Eight）'!L62)","v":""},{"$f":"IF('名刺管理（Eight）'!M62=\"\",\"\",'名刺管理（Eight）'!M62)","v":""},{"$f":"IF('名刺管理（Eight）'!N62=\"\",\"\",TEXT('名刺管理（Eight）'!N62,\"yyyy/m/d\"))","v":""}]
[{"$f":"LEFT('名刺管理（Eight）'!D63,D65)","v":""},{"$f":"RIGHT('名刺管理（Eight）'!D63,E65)","v":""},{"$f":"IF('名刺管理（Eight）'!D63=\"\",\"\",IF(LEN('名刺管理（Eight）'!D63)=D65+E65,\"\",\"不一致\"))","v":""},null,null,{"$f":"IF('名刺管理（Eight）'!A63=\"\",\"\",'名刺管理（Eight）'!A63)","v":""},{"$f":"IF('名刺管理（Eight）'!B63=\"\",\"\",'名刺管理（Eight）'!B63)","v":""},{"$f":"IF('名刺管理（Eight）'!C63=\"\",\"\",'名刺管理（Eight）'!C63)","v":""},{"$f":"IF('名刺管理（Eight）'!E63=\"\",\"\",'名刺管理（Eight）'!E63)","v":""},{"$f":"IF('名刺管理（Eight）'!F63=\"\",\"\",'名刺管理（Eight）'!F63)","v":""},{"$f":"IF('名刺管理（Eight）'!G63=\"\",\"\",IF(LEFT('名刺管理（Eight）'!G63,3)=\"神奈川\",LEFT('名刺管理（Eight）'!G63,4),IF(LEFT('名刺管理（Eight）'!G63,3)=\"和歌山\",LEFT('名刺管理（Eight）'!G63,4),IF(LEFT('名刺管理（Eight）'!G63,3)=\"鹿児島\",LEFT('名刺管理（Eight）'!G63,4),LEFT('名刺管理（Eight）'!G63,3)))))","v":""},{"$f":"IF(K65=\"\",\"\",IF(LEN(K65)=3,MID('名刺管理（Eight）'!G63,4,50),MID('名刺管理（Eight）'!G63,5,50)))","v":""},{"$f":"IF('名刺管理（Eight）'!H63=\"\",\"\",'名刺管理（Eight）'!H63)","v":""},{"$f":"IF('名刺管理（Eight）'!K63=\"\",\"\",'名刺管理（Eight）'!K63)","v":""},{"$f":"IF('名刺管理（Eight）'!L63=\"\",\"\",'名刺管理（Eight）'!L63)","v":""},{"$f":"IF('名刺管理（Eight）'!M63=\"\",\"\",'名刺管理（Eight）'!M63)","v":""},{"$f":"IF('名刺管理（Eight）'!N63=\"\",\"\",TEXT('名刺管理（Eight）'!N63,\"yyyy/m/d\"))","v":""}]
[{"$f":"LEFT('名刺管理（Eight）'!D64,D66)","v":""},{"$f":"RIGHT('名刺管理（Eight）'!D64,E66)","v":""},{"$f":"IF('名刺管理（Eight）'!D64=\"\",\"\",IF(LEN('名刺管理（Eight）'!D64)=D66+E66,\"\",\"不一致\"))","v":""},null,null,{"$f":"IF('名刺管理（Eight）'!A64=\"\",\"\",'名刺管理（Eight）'!A64)","v":""},{"$f":"IF('名刺管理（Eight）'!B64=\"\",\"\",'名刺管理（Eight）'!B64)","v":""},{"$f":"IF('名刺管理（Eight）'!C64=\"\",\"\",'名刺管理（Eight）'!C64)","v":""},{"$f":"IF('名刺管理（Eight）'!E64=\"\",\"\",'名刺管理（Eight）'!E64)","v":""},{"$f":"IF('名刺管理（Eight）'!F64=\"\",\"\",'名刺管理（Eight）'!F64)","v":""},{"$f":"IF('名刺管理（Eight）'!G64=\"\",\"\",IF(LEFT('名刺管理（Eight）'!G64,3)=\"神奈川\",LEFT('名刺管理（Eight）'!G64,4),IF(LEFT('名刺管理（Eight）'!G64,3)=\"和歌山\",LEFT('名刺管理（Eight）'!G64,4),IF(LEFT('名刺管理（Eight）'!G64,3)=\"鹿児島\",LEFT('名刺管理（Eight）'!G64,4),LEFT('名刺管理（Eight）'!G64,3)))))","v":""},{"$f":"IF(K66=\"\",\"\",IF(LEN(K66)=3,MID('名刺管理（Eight）'!G64,4,50),MID('名刺管理（Eight）'!G64,5,50)))","v":""},{"$f":"IF('名刺管理（Eight）'!H64=\"\",\"\",'名刺管理（Eight）'!H64)","v":""},{"$f":"IF('名刺管理（Eight）'!K64=\"\",\"\",'名刺管理（Eight）'!K64)","v":""},{"$f":"IF('名刺管理（Eight）'!L64=\"\",\"\",'名刺管理（Eight）'!L64)","v":""},{"$f":"IF('名刺管理（Eight）'!M64=\"\",\"\",'名刺管理（Eight）'!M64)","v":""},{"$f":"IF('名刺管理（Eight）'!N64=\"\",\"\",TEXT('名刺管理（Eight）'!N64,\"yyyy/m/d\"))","v":""}]
[{"$f":"LEFT('名刺管理（Eight）'!D65,D67)","v":""},{"$f":"RIGHT('名刺管理（Eight）'!D65,E67)","v":""},{"$f":"IF('名刺管理（Eight）'!D65=\"\",\"\",IF(LEN('名刺管理（Eight）'!D65)=D67+E67,\"\",\"不一致\"))","v":""},null,null,{"$f":"IF('名刺管理（Eight）'!A65=\"\",\"\",'名刺管理（Eight）'!A65)","v":""},{"$f":"IF('名刺管理（Eight）'!B65=\"\",\"\",'名刺管理（Eight）'!B65)","v":""},{"$f":"IF('名刺管理（Eight）'!C65=\"\",\"\",'名刺管理（Eight）'!C65)","v":""},{"$f":"IF('名刺管理（Eight）'!E65=\"\",\"\",'名刺管理（Eight）'!E65)","v":""},{"$f":"IF('名刺管理（Eight）'!F65=\"\",\"\",'名刺管理（Eight）'!F65)","v":""},{"$f":"IF('名刺管理（Eight）'!G65=\"\",\"\",IF(LEFT('名刺管理（Eight）'!G65,3)=\"神奈川\",LEFT('名刺管理（Eight）'!G65,4),IF(LEFT('名刺管理（Eight）'!G65,3)=\"和歌山\",LEFT('名刺管理（Eight）'!G65,4),IF(LEFT('名刺管理（Eight）'!G65,3)=\"鹿児島\",LEFT('名刺管理（Eight）'!G65,4),LEFT('名刺管理（Eight）'!G65,3)))))","v":""},{"$f":"IF(K67=\"\",\"\",IF(LEN(K67)=3,MID('名刺管理（Eight）'!G65,4,50),MID('名刺管理（Eight）'!G65,5,50)))","v":""},{"$f":"IF('名刺管理（Eight）'!H65=\"\",\"\",'名刺管理（Eight）'!H65)","v":""},{"$f":"IF('名刺管理（Eight）'!K65=\"\",\"\",'名刺管理（Eight）'!K65)","v":""},{"$f":"IF('名刺管理（Eight）'!L65=\"\",\"\",'名刺管理（Eight）'!L65)","v":""},{"$f":"IF('名刺管理（Eight）'!M65=\"\",\"\",'名刺管理（Eight）'!M65)","v":""},{"$f":"IF('名刺管理（Eight）'!N65=\"\",\"\",TEXT('名刺管理（Eight）'!N65,\"yyyy/m/d\"))","v":""}]
[{"$f":"LEFT('名刺管理（Eight）'!D66,D68)","v":""},{"$f":"RIGHT('名刺管理（Eight）'!D66,E68)","v":""},{"$f":"IF('名刺管理（Eight）'!D66=\"\",\"\",IF(LEN('名刺管理（Eight）'!D66)=D68+E68,\"\",\"不一致\"))","v":""},null,null,{"$f":"IF('名刺管理（Eight）'!A66=\"\",\"\",'名刺管理（Eight）'!A66)","v":""},{"$f":"IF('名刺管理（Eight）'!B66=\"\",\"\",'名刺管理（Eight）'!B66)","v":""},{"$f":"IF('名刺管理（Eight）'!C66=\"\",\"\",'名刺管理（Eight）'!C66)","v":""},{"$f":"IF('名刺管理（Eight）'!E66=\"\",\"\",'名刺管理（Eight）'!E66)","v":""},{"$f":"IF('名刺管理（Eight）'!F66=\"\",\"\",'名刺管理（Eight）'!F66)","v":""},{"$f":"IF('名刺管理（Eight）'!G66=\"\",\"\",IF(LEFT('名刺管理（Eight）'!G66,3)=\"神奈川\",LEFT('名刺管理（Eight）'!G66,4),IF(LEFT('名刺管理（Eight）'!G66,3)=\"和歌山\",LEFT('名刺管理（Eight）'!G66,4),IF(LEFT('名刺管理（Eight）'!G66,3)=\"鹿児島\",LEFT('名刺管理（Eight）'!G66,4),LEFT('名刺管理（Eight）'!G66,3)))))","v":""},{"$f":"IF(K68=\"\",\"\",IF(LEN(K68)=3,MID('名刺管理（Eight）'!G66,4,50),MID('名刺管理（Eight）'!G66,5,50)))","v":""},{"$f":"IF('名刺管理（Eight）'!H66=\"\",\"\",'名刺管理（Eight）'!H66)","v":""},{"$f":"IF('名刺管理（Eight）'!K66=\"\",\"\",'名刺管理（Eight）'!K66)","v":""},{"$f":"IF('名刺管理（Eight）'!L66=\"\",\"\",'名刺管理（Eight）'!L66)","v":""},{"$f":"IF('名刺管理（Eight）'!M66=\"\",\"\",'名刺管理（Eight）'!M66)","v":""},{"$f":"IF('名刺管理（Eight）'!N66=\"\",\"\",TEXT('名刺管理（Eight）'!N66,\"yyyy/m/d\"))","v":""}]
[{"$f":"LEFT('名刺管理（Eight）'!D67,D69)","v":""},{"$f":"RIGHT('名刺管理（Eight）'!D67,E69)","v":""},{"$f":"IF('名刺管理（Eight）'!D67=\"\",\"\",IF(LEN('名刺管理（Eight）'!D67)=D69+E69,\"\",\"不一致\"))","v":""},null,null,{"$f":"IF('名刺管理（Eight）'!A67=\"\",\"\",'名刺管理（Eight）'!A67)","v":""},{"$f":"IF('名刺管理（Eight）'!B67=\"\",\"\",'名刺管理（Eight）'!B67)","v":""},{"$f":"IF('名刺管理（Eight）'!C67=\"\",\"\",'名刺管理（Eight）'!C67)","v":""},{"$f":"IF('名刺管理（Eight）'!E67=\"\",\"\",'名刺管理（Eight）'!E67)","v":""},{"$f":"IF('名刺管理（Eight）'!F67=\"\",\"\",'名刺管理（Eight）'!F67)","v":""},{"$f":"IF('名刺管理（Eight）'!G67=\"\",\"\",IF(LEFT('名刺管理（Eight）'!G67,3)=\"神奈川\",LEFT('名刺管理（Eight）'!G67,4),IF(LEFT('名刺管理（Eight）'!G67,3)=\"和歌山\",LEFT('名刺管理（Eight）'!G67,4),IF(LEFT('名刺管理（Eight）'!G67,3)=\"鹿児島\",LEFT('名刺管理（Eight）'!G67,4),LEFT('名刺管理（Eight）'!G67,3)))))","v":""},{"$f":"IF(K69=\"\",\"\",IF(LEN(K69)=3,MID('名刺管理（Eight）'!G67,4,50),MID('名刺管理（Eight）'!G67,5,50)))","v":""},{"$f":"IF('名刺管理（Eight）'!H67=\"\",\"\",'名刺管理（Eight）'!H67)","v":""},{"$f":"IF('名刺管理（Eight）'!K67=\"\",\"\",'名刺管理（Eight）'!K67)","v":""},{"$f":"IF('名刺管理（Eight）'!L67=\"\",\"\",'名刺管理（Eight）'!L67)","v":""},{"$f":"IF('名刺管理（Eight）'!M67=\"\",\"\",'名刺管理（Eight）'!M67)","v":""},{"$f":"IF('名刺管理（Eight）'!N67=\"\",\"\",TEXT('名刺管理（Eight）'!N67,\"yyyy/m/d\"))","v":""}]
[{"$f":"LEFT('名刺管理（Eight）'!D68,D70)","v":""},{"$f":"RIGHT('名刺管理（Eight）'!D68,E70)","v":""},{"$f":"IF('名刺管理（Eight）'!D68=\"\",\"\",IF(LEN('名刺管理（Eight）'!D68)=D70+E70,\"\",\"不一致\"))","v":""},null,null,{"$f":"IF('名刺管理（Eight）'!A68=\"\",\"\",'名刺管理（Eight）'!A68)","v":""},{"$f":"IF('名刺管理（Eight）'!B68=\"\",\"\",'名刺管理（Eight）'!B68)","v":""},{"$f":"IF('名刺管理（Eight）'!C68=\"\",\"\",'名刺管理（Eight）'!C68)","v":""},{"$f":"IF('名刺管理（Eight）'!E68=\"\",\"\",'名刺管理（Eight）'!E68)","v":""},{"$f":"IF('名刺管理（Eight）'!F68=\"\",\"\",'名刺管理（Eight）'!F68)","v":""},{"$f":"IF('名刺管理（Eight）'!G68=\"\",\"\",IF(LEFT('名刺管理（Eight）'!G68,3)=\"神奈川\",LEFT('名刺管理（Eight）'!G68,4),IF(LEFT('名刺管理（Eight）'!G68,3)=\"和歌山\",LEFT('名刺管理（Eight）'!G68,4),IF(LEFT('名刺管理（Eight）'!G68,3)=\"鹿児島\",LEFT('名刺管理（Eight）'!G68,4),LEFT('名刺管理（Eight）'!G68,3)))))","v":""},{"$f":"IF(K70=\"\",\"\",IF(LEN(K70)=3,MID('名刺管理（Eight）'!G68,4,50),MID('名刺管理（Eight）'!G68,5,50)))","v":""},{"$f":"IF('名刺管理（Eight）'!H68=\"\",\"\",'名刺管理（Eight）'!H68)","v":""},{"$f":"IF('名刺管理（Eight）'!K68=\"\",\"\",'名刺管理（Eight）'!K68)","v":""},{"$f":"IF('名刺管理（Eight）'!L68=\"\",\"\",'名刺管理（Eight）'!L68)","v":""},{"$f":"IF('名刺管理（Eight）'!M68=\"\",\"\",'名刺管理（Eight）'!M68)","v":""},{"$f":"IF('名刺管理（Eight）'!N68=\"\",\"\",TEXT('名刺管理（Eight）'!N68,\"yyyy/m/d\"))","v":""}]
[{"$f":"LEFT('名刺管理（Eight）'!D69,D71)","v":""},{"$f":"RIGHT('名刺管理（Eight）'!D69,E71)","v":""},{"$f":"IF('名刺管理（Eight）'!D69=\"\",\"\",IF(LEN('名刺管理（Eight）'!D69)=D71+E71,\"\",\"不一致\"))","v":""},null,null,{"$f":"IF('名刺管理（Eight）'!A69=\"\",\"\",'名刺管理（Eight）'!A69)","v":""},{"$f":"IF('名刺管理（Eight）'!B69=\"\",\"\",'名刺管理（Eight）'!B69)","v":""},{"$f":"IF('名刺管理（Eight）'!C69=\"\",\"\",'名刺管理（Eight）'!C69)","v":""},{"$f":"IF('名刺管理（Eight）'!E69=\"\",\"\",'名刺管理（Eight）'!E69)","v":""},{"$f":"IF('名刺管理（Eight）'!F69=\"\",\"\",'名刺管理（Eight）'!F69)","v":""},{"$f":"IF('名刺管理（Eight）'!G69=\"\",\"\",IF(LEFT('名刺管理（Eight）'!G69,3)=\"神奈川\",LEFT('名刺管理（Eight）'!G69,4),IF(LEFT('名刺管理（Eight）'!G69,3)=\"和歌山\",LEFT('名刺管理（Eight）'!G69,4),IF(LEFT('名刺管理（Eight）'!G69,3)=\"鹿児島\",LEFT('名刺管理（Eight）'!G69,4),LEFT('名刺管理（Eight）'!G69,3)))))","v":""},{"$f":"IF(K71=\"\",\"\",IF(LEN(K71)=3,MID('名刺管理（Eight）'!G69,4,50),MID('名刺管理（Eight）'!G69,5,50)))","v":""},{"$f":"IF('名刺管理（Eight）'!H69=\"\",\"\",'名刺管理（Eight）'!H69)","v":""},{"$f":"IF('名刺管理（Eight）'!K69=\"\",\"\",'名刺管理（Eight）'!K69)","v":""},{"$f":"IF('名刺管理（Eight）'!L69=\"\",\"\",'名刺管理（Eight）'!L69)","v":""},{"$f":"IF('名刺管理（Eight）'!M69=\"\",\"\",'名刺管理（Eight）'!M69)","v":""},{"$f":"IF('名刺管理（Eight）'!N69=\"\",\"\",TEXT('名刺管理（Eight）'!N69,\"yyyy/m/d\"))","v":""}]
[{"$f":"LEFT('名刺管理（Eight）'!D70,D72)","v":""},{"$f":"RIGHT('名刺管理（Eight）'!D70,E72)","v":""},{"$f":"IF('名刺管理（Eight）'!D70=\"\",\"\",IF(LEN('名刺管理（Eight）'!D70)=D72+E72,\"\",\"不一致\"))","v":""},null,null,{"$f":"IF('名刺管理（Eight）'!A70=\"\",\"\",'名刺管理（Eight）'!A70)","v":""},{"$f":"IF('名刺管理（Eight）'!B70=\"\",\"\",'名刺管理（Eight）'!B70)","v":""},{"$f":"IF('名刺管理（Eight）'!C70=\"\",\"\",'名刺管理（Eight）'!C70)","v":""},{"$f":"IF('名刺管理（Eight）'!E70=\"\",\"\",'名刺管理（Eight）'!E70)","v":""},{"$f":"IF('名刺管理（Eight）'!F70=\"\",\"\",'名刺管理（Eight）'!F70)","v":""},{"$f":"IF('名刺管理（Eight）'!G70=\"\",\"\",IF(LEFT('名刺管理（Eight）'!G70,3)=\"神奈川\",LEFT('名刺管理（Eight）'!G70,4),IF(LEFT('名刺管理（Eight）'!G70,3)=\"和歌山\",LEFT('名刺管理（Eight）'!G70,4),IF(LEFT('名刺管理（Eight）'!G70,3)=\"鹿児島\",LEFT('名刺管理（Eight）'!G70,4),LEFT('名刺管理（Eight）'!G70,3)))))","v":""},{"$f":"IF(K72=\"\",\"\",IF(LEN(K72)=3,MID('名刺管理（Eight）'!G70,4,50),MID('名刺管理（Eight）'!G70,5,50)))","v":""},{"$f":"IF('名刺管理（Eight）'!H70=\"\",\"\",'名刺管理（Eight）'!H70)","v":""},{"$f":"IF('名刺管理（Eight）'!K70=\"\",\"\",'名刺管理（Eight）'!K70)","v":""},{"$f":"IF('名刺管理（Eight）'!L70=\"\",\"\",'名刺管理（Eight）'!L70)","v":""},{"$f":"IF('名刺管理（Eight）'!M70=\"\",\"\",'名刺管理（Eight）'!M70)","v":""},{"$f":"IF('名刺管理（Eight）'!N70=\"\",\"\",TEXT('名刺管理（Eight）'!N70,\"yyyy/m/d\"))","v":""}]
[{"$f":"LEFT('名刺管理（Eight）'!D71,D73)","v":""},{"$f":"RIGHT('名刺管理（Eight）'!D71,E73)","v":""},{"$f":"IF('名刺管理（Eight）'!D71=\"\",\"\",IF(LEN('名刺管理（Eight）'!D71)=D73+E73,\"\",\"不一致\"))","v":""},null,null,{"$f":"IF('名刺管理（Eight）'!A71=\"\",\"\",'名刺管理（Eight）'!A71)","v":""},{"$f":"IF('名刺管理（Eight）'!B71=\"\",\"\",'名刺管理（Eight）'!B71)","v":""},{"$f":"IF('名刺管理（Eight）'!C71=\"\",\"\",'名刺管理（Eight）'!C71)","v":""},{"$f":"IF('名刺管理（Eight）'!E71=\"\",\"\",'名刺管理（Eight）'!E71)","v":""},{"$f":"IF('名刺管理（Eight）'!F71=\"\",\"\",'名刺管理（Eight）'!F71)","v":""},{"$f":"IF('名刺管理（Eight）'!G71=\"\",\"\",IF(LEFT('名刺管理（Eight）'!G71,3)=\"神奈川\",LEFT('名刺管理（Eight）'!G71,4),IF(LEFT('名刺管理（Eight）'!G71,3)=\"和歌山\",LEFT('名刺管理（Eight）'!G71,4),IF(LEFT('名刺管理（Eight）'!G71,3)=\"鹿児島\",LEFT('名刺管理（Eight）'!G71,4),LEFT('名刺管理（Eight）'!G71,3)))))","v":""},{"$f":"IF(K73=\"\",\"\",IF(LEN(K73)=3,MID('名刺管理（Eight）'!G71,4,50),MID('名刺管理（Eight）'!G71,5,50)))","v":""},{"$f":"IF('名刺管理（Eight）'!H71=\"\",\"\",'名刺管理（Eight）'!H71)","v":""},{"$f":"IF('名刺管理（Eight）'!K71=\"\",\"\",'名刺管理（Eight）'!K71)","v":""},{"$f":"IF('名刺管理（Eight）'!L71=\"\",\"\",'名刺管理（Eight）'!L71)","v":""},{"$f":"IF('名刺管理（Eight）'!M71=\"\",\"\",'名刺管理（Eight）'!M71)","v":""},{"$f":"IF('名刺管理（Eight）'!N71=\"\",\"\",TEXT('名刺管理（Eight）'!N71,\"yyyy/m/d\"))","v":""}]
[{"$f":"LEFT('名刺管理（Eight）'!D72,D74)","v":""},{"$f":"RIGHT('名刺管理（Eight）'!D72,E74)","v":""},{"$f":"IF('名刺管理（Eight）'!D72=\"\",\"\",IF(LEN('名刺管理（Eight）'!D72)=D74+E74,\"\",\"不一致\"))","v":""},null,null,{"$f":"IF('名刺管理（Eight）'!A72=\"\",\"\",'名刺管理（Eight）'!A72)","v":""},{"$f":"IF('名刺管理（Eight）'!B72=\"\",\"\",'名刺管理（Eight）'!B72)","v":""},{"$f":"IF('名刺管理（Eight）'!C72=\"\",\"\",'名刺管理（Eight）'!C72)","v":""},{"$f":"IF('名刺管理（Eight）'!E72=\"\",\"\",'名刺管理（Eight）'!E72)","v":""},{"$f":"IF('名刺管理（Eight）'!F72=\"\",\"\",'名刺管理（Eight）'!F72)","v":""},{"$f":"IF('名刺管理（Eight）'!G72=\"\",\"\",IF(LEFT('名刺管理（Eight）'!G72,3)=\"神奈川\",LEFT('名刺管理（Eight）'!G72,4),IF(LEFT('名刺管理（Eight）'!G72,3)=\"和歌山\",LEFT('名刺管理（Eight）'!G72,4),IF(LEFT('名刺管理（Eight）'!G72,3)=\"鹿児島\",LEFT('名刺管理（Eight）'!G72,4),LEFT('名刺管理（Eight）'!G72,3)))))","v":""},{"$f":"IF(K74=\"\",\"\",IF(LEN(K74)=3,MID('名刺管理（Eight）'!G72,4,50),MID('名刺管理（Eight）'!G72,5,50)))","v":""},{"$f":"IF('名刺管理（Eight）'!H72=\"\",\"\",'名刺管理（Eight）'!H72)","v":""},{"$f":"IF('名刺管理（Eight）'!K72=\"\",\"\",'名刺管理（Eight）'!K72)","v":""},{"$f":"IF('名刺管理（Eight）'!L72=\"\",\"\",'名刺管理（Eight）'!L72)","v":""},{"$f":"IF('名刺管理（Eight）'!M72=\"\",\"\",'名刺管理（Eight）'!M72)","v":""},{"$f":"IF('名刺管理（Eight）'!N72=\"\",\"\",TEXT('名刺管理（Eight）'!N72,\"yyyy/m/d\"))","v":""}]
[{"$f":"LEFT('名刺管理（Eight）'!D73,D75)","v":""},{"$f":"RIGHT('名刺管理（Eight）'!D73,E75)","v":""},{"$f":"IF('名刺管理（Eight）'!D73=\"\",\"\",IF(LEN('名刺管理（Eight）'!D73)=D75+E75,\"\",\"不一致\"))","v":""},null,null,{"$f":"IF('名刺管理（Eight）'!A73=\"\",\"\",'名刺管理（Eight）'!A73)","v":""},{"$f":"IF('名刺管理（Eight）'!B73=\"\",\"\",'名刺管理（Eight）'!B73)","v":""},{"$f":"IF('名刺管理（Eight）'!C73=\"\",\"\",'名刺管理（Eight）'!C73)","v":""},{"$f":"IF('名刺管理（Eight）'!E73=\"\",\"\",'名刺管理（Eight）'!E73)","v":""},{"$f":"IF('名刺管理（Eight）'!F73=\"\",\"\",'名刺管理（Eight）'!F73)","v":""},{"$f":"IF('名刺管理（Eight）'!G73=\"\",\"\",IF(LEFT('名刺管理（Eight）'!G73,3)=\"神奈川\",LEFT('名刺管理（Eight）'!G73,4),IF(LEFT('名刺管理（Eight）'!G73,3)=\"和歌山\",LEFT('名刺管理（Eight）'!G73,4),IF(LEFT('名刺管理（Eight）'!G73,3)=\"鹿児島\",LEFT('名刺管理（Eight）'!G73,4),LEFT('名刺管理（Eight）'!G73,3)))))","v":""},{"$f":"IF(K75=\"\",\"\",IF(LEN(K75)=3,MID('名刺管理（Eight）'!G73,4,50),MID('名刺管理（Eight）'!G73,5,50)))","v":""},{"$f":"IF('名刺管理（Eight）'!H73=\"\",\"\",'名刺管理（Eight）'!H73)","v":""},{"$f":"IF('名刺管理（Eight）'!K73=\"\",\"\",'名刺管理（Eight）'!K73)","v":""},{"$f":"IF('名刺管理（Eight）'!L73=\"\",\"\",'名刺管理（Eight）'!L73)","v":""},{"$f":"IF('名刺管理（Eight）'!M73=\"\",\"\",'名刺管理（Eight）'!M73)","v":""},{"$f":"IF('名刺管理（Eight）'!N73=\"\",\"\",TEXT('名刺管理（Eight）'!N73,\"yyyy/m/d\"))","v":""}]
[{"$f":"LEFT('名刺管理（Eight）'!D74,D76)","v":""},{"$f":"RIGHT('名刺管理（Eight）'!D74,E76)","v":""},{"$f":"IF('名刺管理（Eight）'!D74=\"\",\"\",IF(LEN('名刺管理（Eight）'!D74)=D76+E76,\"\",\"不一致\"))","v":""},null,null,{"$f":"IF('名刺管理（Eight）'!A74=\"\",\"\",'名刺管理（Eight）'!A74)","v":""},{"$f":"IF('名刺管理（Eight）'!B74=\"\",\"\",'名刺管理（Eight）'!B74)","v":""},{"$f":"IF('名刺管理（Eight）'!C74=\"\",\"\",'名刺管理（Eight）'!C74)","v":""},{"$f":"IF('名刺管理（Eight）'!E74=\"\",\"\",'名刺管理（Eight）'!E74)","v":""},{"$f":"IF('名刺管理（Eight）'!F74=\"\",\"\",'名刺管理（Eight）'!F74)","v":""},{"$f":"IF('名刺管理（Eight）'!G74=\"\",\"\",IF(LEFT('名刺管理（Eight）'!G74,3)=\"神奈川\",LEFT('名刺管理（Eight）'!G74,4),IF(LEFT('名刺管理（Eight）'!G74,3)=\"和歌山\",LEFT('名刺管理（Eight）'!G74,4),IF(LEFT('名刺管理（Eight）'!G74,3)=\"鹿児島\",LEFT('名刺管理（Eight）'!G74,4),LEFT('名刺管理（Eight）'!G74,3)))))","v":""},{"$f":"IF(K76=\"\",\"\",IF(LEN(K76)=3,MID('名刺管理（Eight）'!G74,4,50),MID('名刺管理（Eight）'!G74,5,50)))","v":""},{"$f":"IF('名刺管理（Eight）'!H74=\"\",\"\",'名刺管理（Eight）'!H74)","v":""},{"$f":"IF('名刺管理（Eight）'!K74=\"\",\"\",'名刺管理（Eight）'!K74)","v":""},{"$f":"IF('名刺管理（Eight）'!L74=\"\",\"\",'名刺管理（Eight）'!L74)","v":""},{"$f":"IF('名刺管理（Eight）'!M74=\"\",\"\",'名刺管理（Eight）'!M74)","v":""},{"$f":"IF('名刺管理（Eight）'!N74=\"\",\"\",TEXT('名刺管理（Eight）'!N74,\"yyyy/m/d\"))","v":""}]
[{"$f":"LEFT('名刺管理（Eight）'!D75,D77)","v":""},{"$f":"RIGHT('名刺管理（Eight）'!D75,E77)","v":""},{"$f":"IF('名刺管理（Eight）'!D75=\"\",\"\",IF(LEN('名刺管理（Eight）'!D75)=D77+E77,\"\",\"不一致\"))","v":""},null,null,{"$f":"IF('名刺管理（Eight）'!A75=\"\",\"\",'名刺管理（Eight）'!A75)","v":""},{"$f":"IF('名刺管理（Eight）'!B75=\"\",\"\",'名刺管理（Eight）'!B75)","v":""},{"$f":"IF('名刺管理（Eight）'!C75=\"\",\"\",'名刺管理（Eight）'!C75)","v":""},{"$f":"IF('名刺管理（Eight）'!E75=\"\",\"\",'名刺管理（Eight）'!E75)","v":""},{"$f":"IF('名刺管理（Eight）'!F75=\"\",\"\",'名刺管理（Eight）'!F75)","v":""},{"$f":"IF('名刺管理（Eight）'!G75=\"\",\"\",IF(LEFT('名刺管理（Eight）'!G75,3)=\"神奈川\",LEFT('名刺管理（Eight）'!G75,4),IF(LEFT('名刺管理（Eight）'!G75,3)=\"和歌山\",LEFT('名刺管理（Eight）'!G75,4),IF(LEFT('名刺管理（Eight）'!G75,3)=\"鹿児島\",LEFT('名刺管理（Eight）'!G75,4),LEFT('名刺管理（Eight）'!G75,3)))))","v":""},{"$f":"IF(K77=\"\",\"\",IF(LEN(K77)=3,MID('名刺管理（Eight）'!G75,4,50),MID('名刺管理（Eight）'!G75,5,50)))","v":""},{"$f":"IF('名刺管理（Eight）'!H75=\"\",\"\",'名刺管理（Eight）'!H75)","v":""},{"$f":"IF('名刺管理（Eight）'!K75=\"\",\"\",'名刺管理（Eight）'!K75)","v":""},{"$f":"IF('名刺管理（Eight）'!L75=\"\",\"\",'名刺管理（Eight）'!L75)","v":""},{"$f":"IF('名刺管理（Eight）'!M75=\"\",\"\",'名刺管理（Eight）'!M75)","v":""},{"$f":"IF('名刺管理（Eight）'!N75=\"\",\"\",TEXT('名刺管理（Eight）'!N75,\"yyyy/m/d\"))","v":""}]
[{"$f":"LEFT('名刺管理（Eight）'!D76,D78)","v":""},{"$f":"RIGHT('名刺管理（Eight）'!D76,E78)","v":""},{"$f":"IF('名刺管理（Eight）'!D76=\"\",\"\",IF(LEN('名刺管理（Eight）'!D76)=D78+E78,\"\",\"不一致\"))","v":""},null,null,{"$f":"IF('名刺管理（Eight）'!A76=\"\",\"\",'名刺管理（Eight）'!A76)","v":""},{"$f":"IF('名刺管理（Eight）'!B76=\"\",\"\",'名刺管理（Eight）'!B76)","v":""},{"$f":"IF('名刺管理（Eight）'!C76=\"\",\"\",'名刺管理（Eight）'!C76)","v":""},{"$f":"IF('名刺管理（Eight）'!E76=\"\",\"\",'名刺管理（Eight）'!E76)","v":""},{"$f":"IF('名刺管理（Eight）'!F76=\"\",\"\",'名刺管理（Eight）'!F76)","v":""},{"$f":"IF('名刺管理（Eight）'!G76=\"\",\"\",IF(LEFT('名刺管理（Eight）'!G76,3)=\"神奈川\",LEFT('名刺管理（Eight）'!G76,4),IF(LEFT('名刺管理（Eight）'!G76,3)=\"和歌山\",LEFT('名刺管理（Eight）'!G76,4),IF(LEFT('名刺管理（Eight）'!G76,3)=\"鹿児島\",LEFT('名刺管理（Eight）'!G76,4),LEFT('名刺管理（Eight）'!G76,3)))))","v":""},{"$f":"IF(K78=\"\",\"\",IF(LEN(K78)=3,MID('名刺管理（Eight）'!G76,4,50),MID('名刺管理（Eight）'!G76,5,50)))","v":""},{"$f":"IF('名刺管理（Eight）'!H76=\"\",\"\",'名刺管理（Eight）'!H76)","v":""},{"$f":"IF('名刺管理（Eight）'!K76=\"\",\"\",'名刺管理（Eight）'!K76)","v":""},{"$f":"IF('名刺管理（Eight）'!L76=\"\",\"\",'名刺管理（Eight）'!L76)","v":""},{"$f":"IF('名刺管理（Eight）'!M76=\"\",\"\",'名刺管理（Eight）'!M76)","v":""},{"$f":"IF('名刺管理（Eight）'!N76=\"\",\"\",TEXT('名刺管理（Eight）'!N76,\"yyyy/m/d\"))","v":""}]
[{"$f":"LEFT('名刺管理（Eight）'!D77,D79)","v":""},{"$f":"RIGHT('名刺管理（Eight）'!D77,E79)","v":""},{"$f":"IF('名刺管理（Eight）'!D77=\"\",\"\",IF(LEN('名刺管理（Eight）'!D77)=D79+E79,\"\",\"不一致\"))","v":""},null,null,{"$f":"IF('名刺管理（Eight）'!A77=\"\",\"\",'名刺管理（Eight）'!A77)","v":""},{"$f":"IF('名刺管理（Eight）'!B77=\"\",\"\",'名刺管理（Eight）'!B77)","v":""},{"$f":"IF('名刺管理（Eight）'!C77=\"\",\"\",'名刺管理（Eight）'!C77)","v":""},{"$f":"IF('名刺管理（Eight）'!E77=\"\",\"\",'名刺管理（Eight）'!E77)","v":""},{"$f":"IF('名刺管理（Eight）'!F77=\"\",\"\",'名刺管理（Eight）'!F77)","v":""},{"$f":"IF('名刺管理（Eight）'!G77=\"\",\"\",IF(LEFT('名刺管理（Eight）'!G77,3)=\"神奈川\",LEFT('名刺管理（Eight）'!G77,4),IF(LEFT('名刺管理（Eight）'!G77,3)=\"和歌山\",LEFT('名刺管理（Eight）'!G77,4),IF(LEFT('名刺管理（Eight）'!G77,3)=\"鹿児島\",LEFT('名刺管理（Eight）'!G77,4),LEFT('名刺管理（Eight）'!G77,3)))))","v":""},{"$f":"IF(K79=\"\",\"\",IF(LEN(K79)=3,MID('名刺管理（Eight）'!G77,4,50),MID('名刺管理（Eight）'!G77,5,50)))","v":""},{"$f":"IF('名刺管理（Eight）'!H77=\"\",\"\",'名刺管理（Eight）'!H77)","v":""},{"$f":"IF('名刺管理（Eight）'!K77=\"\",\"\",'名刺管理（Eight）'!K77)","v":""},{"$f":"IF('名刺管理（Eight）'!L77=\"\",\"\",'名刺管理（Eight）'!L77)","v":""},{"$f":"IF('名刺管理（Eight）'!M77=\"\",\"\",'名刺管理（Eight）'!M77)","v":""},{"$f":"IF('名刺管理（Eight）'!N77=\"\",\"\",TEXT('名刺管理（Eight）'!N77,\"yyyy/m/d\"))","v":""}]
[{"$f":"LEFT('名刺管理（Eight）'!D78,D80)","v":""},{"$f":"RIGHT('名刺管理（Eight）'!D78,E80)","v":""},{"$f":"IF('名刺管理（Eight）'!D78=\"\",\"\",IF(LEN('名刺管理（Eight）'!D78)=D80+E80,\"\",\"不一致\"))","v":""},null,null,{"$f":"IF('名刺管理（Eight）'!A78=\"\",\"\",'名刺管理（Eight）'!A78)","v":""},{"$f":"IF('名刺管理（Eight）'!B78=\"\",\"\",'名刺管理（Eight）'!B78)","v":""},{"$f":"IF('名刺管理（Eight）'!C78=\"\",\"\",'名刺管理（Eight）'!C78)","v":""},{"$f":"IF('名刺管理（Eight）'!E78=\"\",\"\",'名刺管理（Eight）'!E78)","v":""},{"$f":"IF('名刺管理（Eight）'!F78=\"\",\"\",'名刺管理（Eight）'!F78)","v":""},{"$f":"IF('名刺管理（Eight）'!G78=\"\",\"\",IF(LEFT('名刺管理（Eight）'!G78,3)=\"神奈川\",LEFT('名刺管理（Eight）'!G78,4),IF(LEFT('名刺管理（Eight）'!G78,3)=\"和歌山\",LEFT('名刺管理（Eight）'!G78,4),IF(LEFT('名刺管理（Eight）'!G78,3)=\"鹿児島\",LEFT('名刺管理（Eight）'!G78,4),LEFT('名刺管理（Eight）'!G78,3)))))","v":""},{"$f":"IF(K80=\"\",\"\",IF(LEN(K80)=3,MID('名刺管理（Eight）'!G78,4,50),MID('名刺管理（Eight）'!G78,5,50)))","v":""},{"$f":"IF('名刺管理（Eight）'!H78=\"\",\"\",'名刺管理（Eight）'!H78)","v":""},{"$f":"IF('名刺管理（Eight）'!K78=\"\",\"\",'名刺管理（Eight）'!K78)","v":""},{"$f":"IF('名刺管理（Eight）'!L78=\"\",\"\",'名刺管理（Eight）'!L78)","v":""},{"$f":"IF('名刺管理（Eight）'!M78=\"\",\"\",'名刺管理（Eight）'!M78)","v":""},{"$f":"IF('名刺管理（Eight）'!N78=\"\",\"\",TEXT('名刺管理（Eight）'!N78,\"yyyy/m/d\"))","v":""}]
[{"$f":"LEFT('名刺管理（Eight）'!D79,D81)","v":""},{"$f":"RIGHT('名刺管理（Eight）'!D79,E81)","v":""},{"$f":"IF('名刺管理（Eight）'!D79=\"\",\"\",IF(LEN('名刺管理（Eight）'!D79)=D81+E81,\"\",\"不一致\"))","v":""},null,null,{"$f":"IF('名刺管理（Eight）'!A79=\"\",\"\",'名刺管理（Eight）'!A79)","v":""},{"$f":"IF('名刺管理（Eight）'!B79=\"\",\"\",'名刺管理（Eight）'!B79)","v":""},{"$f":"IF('名刺管理（Eight）'!C79=\"\",\"\",'名刺管理（Eight）'!C79)","v":""},{"$f":"IF('名刺管理（Eight）'!E79=\"\",\"\",'名刺管理（Eight）'!E79)","v":""},{"$f":"IF('名刺管理（Eight）'!F79=\"\",\"\",'名刺管理（Eight）'!F79)","v":""},{"$f":"IF('名刺管理（Eight）'!G79=\"\",\"\",IF(LEFT('名刺管理（Eight）'!G79,3)=\"神奈川\",LEFT('名刺管理（Eight）'!G79,4),IF(LEFT('名刺管理（Eight）'!G79,3)=\"和歌山\",LEFT('名刺管理（Eight）'!G79,4),IF(LEFT('名刺管理（Eight）'!G79,3)=\"鹿児島\",LEFT('名刺管理（Eight）'!G79,4),LEFT('名刺管理（Eight）'!G79,3)))))","v":""},{"$f":"IF(K81=\"\",\"\",IF(LEN(K81)=3,MID('名刺管理（Eight）'!G79,4,50),MID('名刺管理（Eight）'!G79,5,50)))","v":""},{"$f":"IF('名刺管理（Eight）'!H79=\"\",\"\",'名刺管理（Eight）'!H79)","v":""},{"$f":"IF('名刺管理（Eight）'!K79=\"\",\"\",'名刺管理（Eight）'!K79)","v":""},{"$f":"IF('名刺管理（Eight）'!L79=\"\",\"\",'名刺管理（Eight）'!L79)","v":""},{"$f":"IF('名刺管理（Eight）'!M79=\"\",\"\",'名刺管理（Eight）'!M79)","v":""},{"$f":"IF('名刺管理（Eight）'!N79=\"\",\"\",TEXT('名刺管理（Eight）'!N79,\"yyyy/m/d\"))","v":""}]
[{"$f":"LEFT('名刺管理（Eight）'!D80,D82)","v":""},{"$f":"RIGHT('名刺管理（Eight）'!D80,E82)","v":""},{"$f":"IF('名刺管理（Eight）'!D80=\"\",\"\",IF(LEN('名刺管理（Eight）'!D80)=D82+E82,\"\",\"不一致\"))","v":""},null,null,{"$f":"IF('名刺管理（Eight）'!A80=\"\",\"\",'名刺管理（Eight）'!A80)","v":""},{"$f":"IF('名刺管理（Eight）'!B80=\"\",\"\",'名刺管理（Eight）'!B80)","v":""},{"$f":"IF('名刺管理（Eight）'!C80=\"\",\"\",'名刺管理（Eight）'!C80)","v":""},{"$f":"IF('名刺管理（Eight）'!E80=\"\",\"\",'名刺管理（Eight）'!E80)","v":""},{"$f":"IF('名刺管理（Eight）'!F80=\"\",\"\",'名刺管理（Eight）'!F80)","v":""},{"$f":"IF('名刺管理（Eight）'!G80=\"\",\"\",IF(LEFT('名刺管理（Eight）'!G80,3)=\"神奈川\",LEFT('名刺管理（Eight）'!G80,4),IF(LEFT('名刺管理（Eight）'!G80,3)=\"和歌山\",LEFT('名刺管理（Eight）'!G80,4),IF(LEFT('名刺管理（Eight）'!G80,3)=\"鹿児島\",LEFT('名刺管理（Eight）'!G80,4),LEFT('名刺管理（Eight）'!G80,3)))))","v":""},{"$f":"IF(K82=\"\",\"\",IF(LEN(K82)=3,MID('名刺管理（Eight）'!G80,4,50),MID('名刺管理（Eight）'!G80,5,50)))","v":""},{"$f":"IF('名刺管理（Eight）'!H80=\"\",\"\",'名刺管理（Eight）'!H80)","v":""},{"$f":"IF('名刺管理（Eight）'!K80=\"\",\"\",'名刺管理（Eight）'!K80)","v":""},{"$f":"IF('名刺管理（Eight）'!L80=\"\",\"\",'名刺管理（Eight）'!L80)","v":""},{"$f":"IF('名刺管理（Eight）'!M80=\"\",\"\",'名刺管理（Eight）'!M80)","v":""},{"$f":"IF('名刺管理（Eight）'!N80=\"\",\"\",TEXT('名刺管理（Eight）'!N80,\"yyyy/m/d\"))","v":""}]
[{"$f":"LEFT('名刺管理（Eight）'!D81,D83)","v":""},{"$f":"RIGHT('名刺管理（Eight）'!D81,E83)","v":""},{"$f":"IF('名刺管理（Eight）'!D81=\"\",\"\",IF(LEN('名刺管理（Eight）'!D81)=D83+E83,\"\",\"不一致\"))","v":""},null,null,{"$f":"IF('名刺管理（Eight）'!A81=\"\",\"\",'名刺管理（Eight）'!A81)","v":""},{"$f":"IF('名刺管理（Eight）'!B81=\"\",\"\",'名刺管理（Eight）'!B81)","v":""},{"$f":"IF('名刺管理（Eight）'!C81=\"\",\"\",'名刺管理（Eight）'!C81)","v":""},{"$f":"IF('名刺管理（Eight）'!E81=\"\",\"\",'名刺管理（Eight）'!E81)","v":""},{"$f":"IF('名刺管理（Eight）'!F81=\"\",\"\",'名刺管理（Eight）'!F81)","v":""},{"$f":"IF('名刺管理（Eight）'!G81=\"\",\"\",IF(LEFT('名刺管理（Eight）'!G81,3)=\"神奈川\",LEFT('名刺管理（Eight）'!G81,4),IF(LEFT('名刺管理（Eight）'!G81,3)=\"和歌山\",LEFT('名刺管理（Eight）'!G81,4),IF(LEFT('名刺管理（Eight）'!G81,3)=\"鹿児島\",LEFT('名刺管理（Eight）'!G81,4),LEFT('名刺管理（Eight）'!G81,3)))))","v":""},{"$f":"IF(K83=\"\",\"\",IF(LEN(K83)=3,MID('名刺管理（Eight）'!G81,4,50),MID('名刺管理（Eight）'!G81,5,50)))","v":""},{"$f":"IF('名刺管理（Eight）'!H81=\"\",\"\",'名刺管理（Eight）'!H81)","v":""},{"$f":"IF('名刺管理（Eight）'!K81=\"\",\"\",'名刺管理（Eight）'!K81)","v":""},{"$f":"IF('名刺管理（Eight）'!L81=\"\",\"\",'名刺管理（Eight）'!L81)","v":""},{"$f":"IF('名刺管理（Eight）'!M81=\"\",\"\",'名刺管理（Eight）'!M81)","v":""},{"$f":"IF('名刺管理（Eight）'!N81=\"\",\"\",TEXT('名刺管理（Eight）'!N81,\"yyyy/m/d\"))","v":""}]
[{"$f":"LEFT('名刺管理（Eight）'!D82,D84)","v":""},{"$f":"RIGHT('名刺管理（Eight）'!D82,E84)","v":""},{"$f":"IF('名刺管理（Eight）'!D82=\"\",\"\",IF(LEN('名刺管理（Eight）'!D82)=D84+E84,\"\",\"不一致\"))","v":""},null,null,{"$f":"IF('名刺管理（Eight）'!A82=\"\",\"\",'名刺管理（Eight）'!A82)","v":""},{"$f":"IF('名刺管理（Eight）'!B82=\"\",\"\",'名刺管理（Eight）'!B82)","v":""},{"$f":"IF('名刺管理（Eight）'!C82=\"\",\"\",'名刺管理（Eight）'!C82)","v":""},{"$f":"IF('名刺管理（Eight）'!E82=\"\",\"\",'名刺管理（Eight）'!E82)","v":""},{"$f":"IF('名刺管理（Eight）'!F82=\"\",\"\",'名刺管理（Eight）'!F82)","v":""},{"$f":"IF('名刺管理（Eight）'!G82=\"\",\"\",IF(LEFT('名刺管理（Eight）'!G82,3)=\"神奈川\",LEFT('名刺管理（Eight）'!G82,4),IF(LEFT('名刺管理（Eight）'!G82,3)=\"和歌山\",LEFT('名刺管理（Eight）'!G82,4),IF(LEFT('名刺管理（Eight）'!G82,3)=\"鹿児島\",LEFT('名刺管理（Eight）'!G82,4),LEFT('名刺管理（Eight）'!G82,3)))))","v":""},{"$f":"IF(K84=\"\",\"\",IF(LEN(K84)=3,MID('名刺管理（Eight）'!G82,4,50),MID('名刺管理（Eight）'!G82,5,50)))","v":""},{"$f":"IF('名刺管理（Eight）'!H82=\"\",\"\",'名刺管理（Eight）'!H82)","v":""},{"$f":"IF('名刺管理（Eight）'!K82=\"\",\"\",'名刺管理（Eight）'!K82)","v":""},{"$f":"IF('名刺管理（Eight）'!L82=\"\",\"\",'名刺管理（Eight）'!L82)","v":""},{"$f":"IF('名刺管理（Eight）'!M82=\"\",\"\",'名刺管理（Eight）'!M82)","v":""},{"$f":"IF('名刺管理（Eight）'!N82=\"\",\"\",TEXT('名刺管理（Eight）'!N82,\"yyyy/m/d\"))","v":""}]
[{"$f":"LEFT('名刺管理（Eight）'!D83,D85)","v":""},{"$f":"RIGHT('名刺管理（Eight）'!D83,E85)","v":""},{"$f":"IF('名刺管理（Eight）'!D83=\"\",\"\",IF(LEN('名刺管理（Eight）'!D83)=D85+E85,\"\",\"不一致\"))","v":""},null,null,{"$f":"IF('名刺管理（Eight）'!A83=\"\",\"\",'名刺管理（Eight）'!A83)","v":""},{"$f":"IF('名刺管理（Eight）'!B83=\"\",\"\",'名刺管理（Eight）'!B83)","v":""},{"$f":"IF('名刺管理（Eight）'!C83=\"\",\"\",'名刺管理（Eight）'!C83)","v":""},{"$f":"IF('名刺管理（Eight）'!E83=\"\",\"\",'名刺管理（Eight）'!E83)","v":""},{"$f":"IF('名刺管理（Eight）'!F83=\"\",\"\",'名刺管理（Eight）'!F83)","v":""},{"$f":"IF('名刺管理（Eight）'!G83=\"\",\"\",IF(LEFT('名刺管理（Eight）'!G83,3)=\"神奈川\",LEFT('名刺管理（Eight）'!G83,4),IF(LEFT('名刺管理（Eight）'!G83,3)=\"和歌山\",LEFT('名刺管理（Eight）'!G83,4),IF(LEFT('名刺管理（Eight）'!G83,3)=\"鹿児島\",LEFT('名刺管理（Eight）'!G83,4),LEFT('名刺管理（Eight）'!G83,3)))))","v":""},{"$f":"IF(K85=\"\",\"\",IF(LEN(K85)=3,MID('名刺管理（Eight）'!G83,4,50),MID('名刺管理（Eight）'!G83,5,50)))","v":""},{"$f":"IF('名刺管理（Eight）'!H83=\"\",\"\",'名刺管理（Eight）'!H83)","v":""},{"$f":"IF('名刺管理（Eight）'!K83=\"\",\"\",'名刺管理（Eight）'!K83)","v":""},{"$f":"IF('名刺管理（Eight）'!L83=\"\",\"\",'名刺管理（Eight）'!L83)","v":""},{"$f":"IF('名刺管理（Eight）'!M83=\"\",\"\",'名刺管理（Eight）'!M83)","v":""},{"$f":"IF('名刺管理（Eight）'!N83=\"\",\"\",TEXT('名刺管理（Eight）'!N83,\"yyyy/m/d\"))","v":""}]
[{"$f":"LEFT('名刺管理（Eight）'!D84,D86)","v":""},{"$f":"RIGHT('名刺管理（Eight）'!D84,E86)","v":""},{"$f":"IF('名刺管理（Eight）'!D84=\"\",\"\",IF(LEN('名刺管理（Eight）'!D84)=D86+E86,\"\",\"不一致\"))","v":""},null,null,{"$f":"IF('名刺管理（Eight）'!A84=\"\",\"\",'名刺管理（Eight）'!A84)","v":""},{"$f":"IF('名刺管理（Eight）'!B84=\"\",\"\",'名刺管理（Eight）'!B84)","v":""},{"$f":"IF('名刺管理（Eight）'!C84=\"\",\"\",'名刺管理（Eight）'!C84)","v":""},{"$f":"IF('名刺管理（Eight）'!E84=\"\",\"\",'名刺管理（Eight）'!E84)","v":""},{"$f":"IF('名刺管理（Eight）'!F84=\"\",\"\",'名刺管理（Eight）'!F84)","v":""},{"$f":"IF('名刺管理（Eight）'!G84=\"\",\"\",IF(LEFT('名刺管理（Eight）'!G84,3)=\"神奈川\",LEFT('名刺管理（Eight）'!G84,4),IF(LEFT('名刺管理（Eight）'!G84,3)=\"和歌山\",LEFT('名刺管理（Eight）'!G84,4),IF(LEFT('名刺管理（Eight）'!G84,3)=\"鹿児島\",LEFT('名刺管理（Eight）'!G84,4),LEFT('名刺管理（Eight）'!G84,3)))))","v":""},{"$f":"IF(K86=\"\",\"\",IF(LEN(K86)=3,MID('名刺管理（Eight）'!G84,4,50),MID('名刺管理（Eight）'!G84,5,50)))","v":""},{"$f":"IF('名刺管理（Eight）'!H84=\"\",\"\",'名刺管理（Eight）'!H84)","v":""},{"$f":"IF('名刺管理（Eight）'!K84=\"\",\"\",'名刺管理（Eight）'!K84)","v":""},{"$f":"IF('名刺管理（Eight）'!L84=\"\",\"\",'名刺管理（Eight）'!L84)","v":""},{"$f":"IF('名刺管理（Eight）'!M84=\"\",\"\",'名刺管理（Eight）'!M84)","v":""},{"$f":"IF('名刺管理（Eight）'!N84=\"\",\"\",TEXT('名刺管理（Eight）'!N84,\"yyyy/m/d\"))","v":""}]
[{"$f":"LEFT('名刺管理（Eight）'!D85,D87)","v":""},{"$f":"RIGHT('名刺管理（Eight）'!D85,E87)","v":""},{"$f":"IF('名刺管理（Eight）'!D85=\"\",\"\",IF(LEN('名刺管理（Eight）'!D85)=D87+E87,\"\",\"不一致\"))","v":""},null,null,{"$f":"IF('名刺管理（Eight）'!A85=\"\",\"\",'名刺管理（Eight）'!A85)","v":""},{"$f":"IF('名刺管理（Eight）'!B85=\"\",\"\",'名刺管理（Eight）'!B85)","v":""},{"$f":"IF('名刺管理（Eight）'!C85=\"\",\"\",'名刺管理（Eight）'!C85)","v":""},{"$f":"IF('名刺管理（Eight）'!E85=\"\",\"\",'名刺管理（Eight）'!E85)","v":""},{"$f":"IF('名刺管理（Eight）'!F85=\"\",\"\",'名刺管理（Eight）'!F85)","v":""},{"$f":"IF('名刺管理（Eight）'!G85=\"\",\"\",IF(LEFT('名刺管理（Eight）'!G85,3)=\"神奈川\",LEFT('名刺管理（Eight）'!G85,4),IF(LEFT('名刺管理（Eight）'!G85,3)=\"和歌山\",LEFT('名刺管理（Eight）'!G85,4),IF(LEFT('名刺管理（Eight）'!G85,3)=\"鹿児島\",LEFT('名刺管理（Eight）'!G85,4),LEFT('名刺管理（Eight）'!G85,3)))))","v":""},{"$f":"IF(K87=\"\",\"\",IF(LEN(K87)=3,MID('名刺管理（Eight）'!G85,4,50),MID('名刺管理（Eight）'!G85,5,50)))","v":""},{"$f":"IF('名刺管理（Eight）'!H85=\"\",\"\",'名刺管理（Eight）'!H85)","v":""},{"$f":"IF('名刺管理（Eight）'!K85=\"\",\"\",'名刺管理（Eight）'!K85)","v":""},{"$f":"IF('名刺管理（Eight）'!L85=\"\",\"\",'名刺管理（Eight）'!L85)","v":""},{"$f":"IF('名刺管理（Eight）'!M85=\"\",\"\",'名刺管理（Eight）'!M85)","v":""},{"$f":"IF('名刺管理（Eight）'!N85=\"\",\"\",TEXT('名刺管理（Eight）'!N85,\"yyyy/m/d\"))","v":""}]
[{"$f":"LEFT('名刺管理（Eight）'!D86,D88)","v":""},{"$f":"RIGHT('名刺管理（Eight）'!D86,E88)","v":""},{"$f":"IF('名刺管理（Eight）'!D86=\"\",\"\",IF(LEN('名刺管理（Eight）'!D86)=D88+E88,\"\",\"不一致\"))","v":""},null,null,{"$f":"IF('名刺管理（Eight）'!A86=\"\",\"\",'名刺管理（Eight）'!A86)","v":""},{"$f":"IF('名刺管理（Eight）'!B86=\"\",\"\",'名刺管理（Eight）'!B86)","v":""},{"$f":"IF('名刺管理（Eight）'!C86=\"\",\"\",'名刺管理（Eight）'!C86)","v":""},{"$f":"IF('名刺管理（Eight）'!E86=\"\",\"\",'名刺管理（Eight）'!E86)","v":""},{"$f":"IF('名刺管理（Eight）'!F86=\"\",\"\",'名刺管理（Eight）'!F86)","v":""},{"$f":"IF('名刺管理（Eight）'!G86=\"\",\"\",IF(LEFT('名刺管理（Eight）'!G86,3)=\"神奈川\",LEFT('名刺管理（Eight）'!G86,4),IF(LEFT('名刺管理（Eight）'!G86,3)=\"和歌山\",LEFT('名刺管理（Eight）'!G86,4),IF(LEFT('名刺管理（Eight）'!G86,3)=\"鹿児島\",LEFT('名刺管理（Eight）'!G86,4),LEFT('名刺管理（Eight）'!G86,3)))))","v":""},{"$f":"IF(K88=\"\",\"\",IF(LEN(K88)=3,MID('名刺管理（Eight）'!G86,4,50),MID('名刺管理（Eight）'!G86,5,50)))","v":""},{"$f":"IF('名刺管理（Eight）'!H86=\"\",\"\",'名刺管理（Eight）'!H86)","v":""},{"$f":"IF('名刺管理（Eight）'!K86=\"\",\"\",'名刺管理（Eight）'!K86)","v":""},{"$f":"IF('名刺管理（Eight）'!L86=\"\",\"\",'名刺管理（Eight）'!L86)","v":""},{"$f":"IF('名刺管理（Eight）'!M86=\"\",\"\",'名刺管理（Eight）'!M86)","v":""},{"$f":"IF('名刺管理（Eight）'!N86=\"\",\"\",TEXT('名刺管理（Eight）'!N86,\"yyyy/m/d\"))","v":""}]
[{"$f":"LEFT('名刺管理（Eight）'!D87,D89)","v":""},{"$f":"RIGHT('名刺管理（Eight）'!D87,E89)","v":""},{"$f":"IF('名刺管理（Eight）'!D87=\"\",\"\",IF(LEN('名刺管理（Eight）'!D87)=D89+E89,\"\",\"不一致\"))","v":""},null,null,{"$f":"IF('名刺管理（Eight）'!A87=\"\",\"\",'名刺管理（Eight）'!A87)","v":""},{"$f":"IF('名刺管理（Eight）'!B87=\"\",\"\",'名刺管理（Eight）'!B87)","v":""},{"$f":"IF('名刺管理（Eight）'!C87=\"\",\"\",'名刺管理（Eight）'!C87)","v":""},{"$f":"IF('名刺管理（Eight）'!E87=\"\",\"\",'名刺管理（Eight）'!E87)","v":""},{"$f":"IF('名刺管理（Eight）'!F87=\"\",\"\",'名刺管理（Eight）'!F87)","v":""},{"$f":"IF('名刺管理（Eight）'!G87=\"\",\"\",IF(LEFT('名刺管理（Eight）'!G87,3)=\"神奈川\",LEFT('名刺管理（Eight）'!G87,4),IF(LEFT('名刺管理（Eight）'!G87,3)=\"和歌山\",LEFT('名刺管理（Eight）'!G87,4),IF(LEFT('名刺管理（Eight）'!G87,3)=\"鹿児島\",LEFT('名刺管理（Eight）'!G87,4),LEFT('名刺管理（Eight）'!G87,3)))))","v":""},{"$f":"IF(K89=\"\",\"\",IF(LEN(K89)=3,MID('名刺管理（Eight）'!G87,4,50),MID('名刺管理（Eight）'!G87,5,50)))","v":""},{"$f":"IF('名刺管理（Eight）'!H87=\"\",\"\",'名刺管理（Eight）'!H87)","v":""},{"$f":"IF('名刺管理（Eight）'!K87=\"\",\"\",'名刺管理（Eight）'!K87)","v":""},{"$f":"IF('名刺管理（Eight）'!L87=\"\",\"\",'名刺管理（Eight）'!L87)","v":""},{"$f":"IF('名刺管理（Eight）'!M87=\"\",\"\",'名刺管理（Eight）'!M87)","v":""},{"$f":"IF('名刺管理（Eight）'!N87=\"\",\"\",TEXT('名刺管理（Eight）'!N87,\"yyyy/m/d\"))","v":""}]
[{"$f":"LEFT('名刺管理（Eight）'!D88,D90)","v":""},{"$f":"RIGHT('名刺管理（Eight）'!D88,E90)","v":""},{"$f":"IF('名刺管理（Eight）'!D88=\"\",\"\",IF(LEN('名刺管理（Eight）'!D88)=D90+E90,\"\",\"不一致\"))","v":""},null,null,{"$f":"IF('名刺管理（Eight）'!A88=\"\",\"\",'名刺管理（Eight）'!A88)","v":""},{"$f":"IF('名刺管理（Eight）'!B88=\"\",\"\",'名刺管理（Eight）'!B88)","v":""},{"$f":"IF('名刺管理（Eight）'!C88=\"\",\"\",'名刺管理（Eight）'!C88)","v":""},{"$f":"IF('名刺管理（Eight）'!E88=\"\",\"\",'名刺管理（Eight）'!E88)","v":""},{"$f":"IF('名刺管理（Eight）'!F88=\"\",\"\",'名刺管理（Eight）'!F88)","v":""},{"$f":"IF('名刺管理（Eight）'!G88=\"\",\"\",IF(LEFT('名刺管理（Eight）'!G88,3)=\"神奈川\",LEFT('名刺管理（Eight）'!G88,4),IF(LEFT('名刺管理（Eight）'!G88,3)=\"和歌山\",LEFT('名刺管理（Eight）'!G88,4),IF(LEFT('名刺管理（Eight）'!G88,3)=\"鹿児島\",LEFT('名刺管理（Eight）'!G88,4),LEFT('名刺管理（Eight）'!G88,3)))))","v":""},{"$f":"IF(K90=\"\",\"\",IF(LEN(K90)=3,MID('名刺管理（Eight）'!G88,4,50),MID('名刺管理（Eight）'!G88,5,50)))","v":""},{"$f":"IF('名刺管理（Eight）'!H88=\"\",\"\",'名刺管理（Eight）'!H88)","v":""},{"$f":"IF('名刺管理（Eight）'!K88=\"\",\"\",'名刺管理（Eight）'!K88)","v":""},{"$f":"IF('名刺管理（Eight）'!L88=\"\",\"\",'名刺管理（Eight）'!L88)","v":""},{"$f":"IF('名刺管理（Eight）'!M88=\"\",\"\",'名刺管理（Eight）'!M88)","v":""},{"$f":"IF('名刺管理（Eight）'!N88=\"\",\"\",TEXT('名刺管理（Eight）'!N88,\"yyyy/m/d\"))","v":""}]
[{"$f":"LEFT('名刺管理（Eight）'!D89,D91)","v":""},{"$f":"RIGHT('名刺管理（Eight）'!D89,E91)","v":""},{"$f":"IF('名刺管理（Eight）'!D89=\"\",\"\",IF(LEN('名刺管理（Eight）'!D89)=D91+E91,\"\",\"不一致\"))","v":""},null,null,{"$f":"IF('名刺管理（Eight）'!A89=\"\",\"\",'名刺管理（Eight）'!A89)","v":""},{"$f":"IF('名刺管理（Eight）'!B89=\"\",\"\",'名刺管理（Eight）'!B89)","v":""},{"$f":"IF('名刺管理（Eight）'!C89=\"\",\"\",'名刺管理（Eight）'!C89)","v":""},{"$f":"IF('名刺管理（Eight）'!E89=\"\",\"\",'名刺管理（Eight）'!E89)","v":""},{"$f":"IF('名刺管理（Eight）'!F89=\"\",\"\",'名刺管理（Eight）'!F89)","v":""},{"$f":"IF('名刺管理（Eight）'!G89=\"\",\"\",IF(LEFT('名刺管理（Eight）'!G89,3)=\"神奈川\",LEFT('名刺管理（Eight）'!G89,4),IF(LEFT('名刺管理（Eight）'!G89,3)=\"和歌山\",LEFT('名刺管理（Eight）'!G89,4),IF(LEFT('名刺管理（Eight）'!G89,3)=\"鹿児島\",LEFT('名刺管理（Eight）'!G89,4),LEFT('名刺管理（Eight）'!G89,3)))))","v":""},{"$f":"IF(K91=\"\",\"\",IF(LEN(K91)=3,MID('名刺管理（Eight）'!G89,4,50),MID('名刺管理（Eight）'!G89,5,50)))","v":""},{"$f":"IF('名刺管理（Eight）'!H89=\"\",\"\",'名刺管理（Eight）'!H89)","v":""},{"$f":"IF('名刺管理（Eight）'!K89=\"\",\"\",'名刺管理（Eight）'!K89)","v":""},{"$f":"IF('名刺管理（Eight）'!L89=\"\",\"\",'名刺管理（Eight）'!L89)","v":""},{"$f":"IF('名刺管理（Eight）'!M89=\"\",\"\",'名刺管理（Eight）'!M89)","v":""},{"$f":"IF('名刺管理（Eight）'!N89=\"\",\"\",TEXT('名刺管理（Eight）'!N89,\"yyyy/m/d\"))","v":""}]
[{"$f":"LEFT('名刺管理（Eight）'!D90,D92)","v":""},{"$f":"RIGHT('名刺管理（Eight）'!D90,E92)","v":""},{"$f":"IF('名刺管理（Eight）'!D90=\"\",\"\",IF(LEN('名刺管理（Eight）'!D90)=D92+E92,\"\",\"不一致\"))","v":""},null,null,{"$f":"IF('名刺管理（Eight）'!A90=\"\",\"\",'名刺管理（Eight）'!A90)","v":""},{"$f":"IF('名刺管理（Eight）'!B90=\"\",\"\",'名刺管理（Eight）'!B90)","v":""},{"$f":"IF('名刺管理（Eight）'!C90=\"\",\"\",'名刺管理（Eight）'!C90)","v":""},{"$f":"IF('名刺管理（Eight）'!E90=\"\",\"\",'名刺管理（Eight）'!E90)","v":""},{"$f":"IF('名刺管理（Eight）'!F90=\"\",\"\",'名刺管理（Eight）'!F90)","v":""},{"$f":"IF('名刺管理（Eight）'!G90=\"\",\"\",IF(LEFT('名刺管理（Eight）'!G90,3)=\"神奈川\",LEFT('名刺管理（Eight）'!G90,4),IF(LEFT('名刺管理（Eight）'!G90,3)=\"和歌山\",LEFT('名刺管理（Eight）'!G90,4),IF(LEFT('名刺管理（Eight）'!G90,3)=\"鹿児島\",LEFT('名刺管理（Eight）'!G90,4),LEFT('名刺管理（Eight）'!G90,3)))))","v":""},{"$f":"IF(K92=\"\",\"\",IF(LEN(K92)=3,MID('名刺管理（Eight）'!G90,4,50),MID('名刺管理（Eight）'!G90,5,50)))","v":""},{"$f":"IF('名刺管理（Eight）'!H90=\"\",\"\",'名刺管理（Eight）'!H90)","v":""},{"$f":"IF('名刺管理（Eight）'!K90=\"\",\"\",'名刺管理（Eight）'!K90)","v":""},{"$f":"IF('名刺管理（Eight）'!L90=\"\",\"\",'名刺管理（Eight）'!L90)","v":""},{"$f":"IF('名刺管理（Eight）'!M90=\"\",\"\",'名刺管理（Eight）'!M90)","v":""},{"$f":"IF('名刺管理（Eight）'!N90=\"\",\"\",TEXT('名刺管理（Eight）'!N90,\"yyyy/m/d\"))","v":""}]
[{"$f":"LEFT('名刺管理（Eight）'!D91,D93)","v":""},{"$f":"RIGHT('名刺管理（Eight）'!D91,E93)","v":""},{"$f":"IF('名刺管理（Eight）'!D91=\"\",\"\",IF(LEN('名刺管理（Eight）'!D91)=D93+E93,\"\",\"不一致\"))","v":""},null,null,{"$f":"IF('名刺管理（Eight）'!A91=\"\",\"\",'名刺管理（Eight）'!A91)","v":""},{"$f":"IF('名刺管理（Eight）'!B91=\"\",\"\",'名刺管理（Eight）'!B91)","v":""},{"$f":"IF('名刺管理（Eight）'!C91=\"\",\"\",'名刺管理（Eight）'!C91)","v":""},{"$f":"IF('名刺管理（Eight）'!E91=\"\",\"\",'名刺管理（Eight）'!E91)","v":""},{"$f":"IF('名刺管理（Eight）'!F91=\"\",\"\",'名刺管理（Eight）'!F91)","v":""},{"$f":"IF('名刺管理（Eight）'!G91=\"\",\"\",IF(LEFT('名刺管理（Eight）'!G91,3)=\"神奈川\",LEFT('名刺管理（Eight）'!G91,4),IF(LEFT('名刺管理（Eight）'!G91,3)=\"和歌山\",LEFT('名刺管理（Eight）'!G91,4),IF(LEFT('名刺管理（Eight）'!G91,3)=\"鹿児島\",LEFT('名刺管理（Eight）'!G91,4),LEFT('名刺管理（Eight）'!G91,3)))))","v":""},{"$f":"IF(K93=\"\",\"\",IF(LEN(K93)=3,MID('名刺管理（Eight）'!G91,4,50),MID('名刺管理（Eight）'!G91,5,50)))","v":""},{"$f":"IF('名刺管理（Eight）'!H91=\"\",\"\",'名刺管理（Eight）'!H91)","v":""},{"$f":"IF('名刺管理（Eight）'!K91=\"\",\"\",'名刺管理（Eight）'!K91)","v":""},{"$f":"IF('名刺管理（Eight）'!L91=\"\",\"\",'名刺管理（Eight）'!L91)","v":""},{"$f":"IF('名刺管理（Eight）'!M91=\"\",\"\",'名刺管理（Eight）'!M91)","v":""},{"$f":"IF('名刺管理（Eight）'!N91=\"\",\"\",TEXT('名刺管理（Eight）'!N91,\"yyyy/m/d\"))","v":""}]
[{"$f":"LEFT('名刺管理（Eight）'!D92,D94)","v":""},{"$f":"RIGHT('名刺管理（Eight）'!D92,E94)","v":""},{"$f":"IF('名刺管理（Eight）'!D92=\"\",\"\",IF(LEN('名刺管理（Eight）'!D92)=D94+E94,\"\",\"不一致\"))","v":""},null,null,{"$f":"IF('名刺管理（Eight）'!A92=\"\",\"\",'名刺管理（Eight）'!A92)","v":""},{"$f":"IF('名刺管理（Eight）'!B92=\"\",\"\",'名刺管理（Eight）'!B92)","v":""},{"$f":"IF('名刺管理（Eight）'!C92=\"\",\"\",'名刺管理（Eight）'!C92)","v":""},{"$f":"IF('名刺管理（Eight）'!E92=\"\",\"\",'名刺管理（Eight）'!E92)","v":""},{"$f":"IF('名刺管理（Eight）'!F92=\"\",\"\",'名刺管理（Eight）'!F92)","v":""},{"$f":"IF('名刺管理（Eight）'!G92=\"\",\"\",IF(LEFT('名刺管理（Eight）'!G92,3)=\"神奈川\",LEFT('名刺管理（Eight）'!G92,4),IF(LEFT('名刺管理（Eight）'!G92,3)=\"和歌山\",LEFT('名刺管理（Eight）'!G92,4),IF(LEFT('名刺管理（Eight）'!G92,3)=\"鹿児島\",LEFT('名刺管理（Eight）'!G92,4),LEFT('名刺管理（Eight）'!G92,3)))))","v":""},{"$f":"IF(K94=\"\",\"\",IF(LEN(K94)=3,MID('名刺管理（Eight）'!G92,4,50),MID('名刺管理（Eight）'!G92,5,50)))","v":""},{"$f":"IF('名刺管理（Eight）'!H92=\"\",\"\",'名刺管理（Eight）'!H92)","v":""},{"$f":"IF('名刺管理（Eight）'!K92=\"\",\"\",'名刺管理（Eight）'!K92)","v":""},{"$f":"IF('名刺管理（Eight）'!L92=\"\",\"\",'名刺管理（Eight）'!L92)","v":""},{"$f":"IF('名刺管理（Eight）'!M92=\"\",\"\",'名刺管理（Eight）'!M92)","v":""},{"$f":"IF('名刺管理（Eight）'!N92=\"\",\"\",TEXT('名刺管理（Eight）'!N92,\"yyyy/m/d\"))","v":""}]
[{"$f":"LEFT('名刺管理（Eight）'!D93,D95)","v":""},{"$f":"RIGHT('名刺管理（Eight）'!D93,E95)","v":""},{"$f":"IF('名刺管理（Eight）'!D93=\"\",\"\",IF(LEN('名刺管理（Eight）'!D93)=D95+E95,\"\",\"不一致\"))","v":""},null,null,{"$f":"IF('名刺管理（Eight）'!A93=\"\",\"\",'名刺管理（Eight）'!A93)","v":""},{"$f":"IF('名刺管理（Eight）'!B93=\"\",\"\",'名刺管理（Eight）'!B93)","v":""},{"$f":"IF('名刺管理（Eight）'!C93=\"\",\"\",'名刺管理（Eight）'!C93)","v":""},{"$f":"IF('名刺管理（Eight）'!E93=\"\",\"\",'名刺管理（Eight）'!E93)","v":""},{"$f":"IF('名刺管理（Eight）'!F93=\"\",\"\",'名刺管理（Eight）'!F93)","v":""},{"$f":"IF('名刺管理（Eight）'!G93=\"\",\"\",IF(LEFT('名刺管理（Eight）'!G93,3)=\"神奈川\",LEFT('名刺管理（Eight）'!G93,4),IF(LEFT('名刺管理（Eight）'!G93,3)=\"和歌山\",LEFT('名刺管理（Eight）'!G93,4),IF(LEFT('名刺管理（Eight）'!G93,3)=\"鹿児島\",LEFT('名刺管理（Eight）'!G93,4),LEFT('名刺管理（Eight）'!G93,3)))))","v":""},{"$f":"IF(K95=\"\",\"\",IF(LEN(K95)=3,MID('名刺管理（Eight）'!G93,4,50),MID('名刺管理（Eight）'!G93,5,50)))","v":""},{"$f":"IF('名刺管理（Eight）'!H93=\"\",\"\",'名刺管理（Eight）'!H93)","v":""},{"$f":"IF('名刺管理（Eight）'!K93=\"\",\"\",'名刺管理（Eight）'!K93)","v":""},{"$f":"IF('名刺管理（Eight）'!L93=\"\",\"\",'名刺管理（Eight）'!L93)","v":""},{"$f":"IF('名刺管理（Eight）'!M93=\"\",\"\",'名刺管理（Eight）'!M93)","v":""},{"$f":"IF('名刺管理（Eight）'!N93=\"\",\"\",TEXT('名刺管理（Eight）'!N93,\"yyyy/m/d\"))","v":""}]
[{"$f":"LEFT('名刺管理（Eight）'!D94,D96)","v":""},{"$f":"RIGHT('名刺管理（Eight）'!D94,E96)","v":""},{"$f":"IF('名刺管理（Eight）'!D94=\"\",\"\",IF(LEN('名刺管理（Eight）'!D94)=D96+E96,\"\",\"不一致\"))","v":""},null,null,{"$f":"IF('名刺管理（Eight）'!A94=\"\",\"\",'名刺管理（Eight）'!A94)","v":""},{"$f":"IF('名刺管理（Eight）'!B94=\"\",\"\",'名刺管理（Eight）'!B94)","v":""},{"$f":"IF('名刺管理（Eight）'!C94=\"\",\"\",'名刺管理（Eight）'!C94)","v":""},{"$f":"IF('名刺管理（Eight）'!E94=\"\",\"\",'名刺管理（Eight）'!E94)","v":""},{"$f":"IF('名刺管理（Eight）'!F94=\"\",\"\",'名刺管理（Eight）'!F94)","v":""},{"$f":"IF('名刺管理（Eight）'!G94=\"\",\"\",IF(LEFT('名刺管理（Eight）'!G94,3)=\"神奈川\",LEFT('名刺管理（Eight）'!G94,4),IF(LEFT('名刺管理（Eight）'!G94,3)=\"和歌山\",LEFT('名刺管理（Eight）'!G94,4),IF(LEFT('名刺管理（Eight）'!G94,3)=\"鹿児島\",LEFT('名刺管理（Eight）'!G94,4),LEFT('名刺管理（Eight）'!G94,3)))))","v":""},{"$f":"IF(K96=\"\",\"\",IF(LEN(K96)=3,MID('名刺管理（Eight）'!G94,4,50),MID('名刺管理（Eight）'!G94,5,50)))","v":""},{"$f":"IF('名刺管理（Eight）'!H94=\"\",\"\",'名刺管理（Eight）'!H94)","v":""},{"$f":"IF('名刺管理（Eight）'!K94=\"\",\"\",'名刺管理（Eight）'!K94)","v":""},{"$f":"IF('名刺管理（Eight）'!L94=\"\",\"\",'名刺管理（Eight）'!L94)","v":""},{"$f":"IF('名刺管理（Eight）'!M94=\"\",\"\",'名刺管理（Eight）'!M94)","v":""},{"$f":"IF('名刺管理（Eight）'!N94=\"\",\"\",TEXT('名刺管理（Eight）'!N94,\"yyyy/m/d\"))","v":""}]
[{"$f":"LEFT('名刺管理（Eight）'!D95,D97)","v":""},{"$f":"RIGHT('名刺管理（Eight）'!D95,E97)","v":""},{"$f":"IF('名刺管理（Eight）'!D95=\"\",\"\",IF(LEN('名刺管理（Eight）'!D95)=D97+E97,\"\",\"不一致\"))","v":""},null,null,{"$f":"IF('名刺管理（Eight）'!A95=\"\",\"\",'名刺管理（Eight）'!A95)","v":""},{"$f":"IF('名刺管理（Eight）'!B95=\"\",\"\",'名刺管理（Eight）'!B95)","v":""},{"$f":"IF('名刺管理（Eight）'!C95=\"\",\"\",'名刺管理（Eight）'!C95)","v":""},{"$f":"IF('名刺管理（Eight）'!E95=\"\",\"\",'名刺管理（Eight）'!E95)","v":""},{"$f":"IF('名刺管理（Eight）'!F95=\"\",\"\",'名刺管理（Eight）'!F95)","v":""},{"$f":"IF('名刺管理（Eight）'!G95=\"\",\"\",IF(LEFT('名刺管理（Eight）'!G95,3)=\"神奈川\",LEFT('名刺管理（Eight）'!G95,4),IF(LEFT('名刺管理（Eight）'!G95,3)=\"和歌山\",LEFT('名刺管理（Eight）'!G95,4),IF(LEFT('名刺管理（Eight）'!G95,3)=\"鹿児島\",LEFT('名刺管理（Eight）'!G95,4),LEFT('名刺管理（Eight）'!G95,3)))))","v":""},{"$f":"IF(K97=\"\",\"\",IF(LEN(K97)=3,MID('名刺管理（Eight）'!G95,4,50),MID('名刺管理（Eight）'!G95,5,50)))","v":""},{"$f":"IF('名刺管理（Eight）'!H95=\"\",\"\",'名刺管理（Eight）'!H95)","v":""},{"$f":"IF('名刺管理（Eight）'!K95=\"\",\"\",'名刺管理（Eight）'!K95)","v":""},{"$f":"IF('名刺管理（Eight）'!L95=\"\",\"\",'名刺管理（Eight）'!L95)","v":""},{"$f":"IF('名刺管理（Eight）'!M95=\"\",\"\",'名刺管理（Eight）'!M95)","v":""},{"$f":"IF('名刺管理（Eight）'!N95=\"\",\"\",TEXT('名刺管理（Eight）'!N95,\"yyyy/m/d\"))","v":""}]
[{"$f":"LEFT('名刺管理（Eight）'!D96,D98)","v":""},{"$f":"RIGHT('名刺管理（Eight）'!D96,E98)","v":""},{"$f":"IF('名刺管理（Eight）'!D96=\"\",\"\",IF(LEN('名刺管理（Eight）'!D96)=D98+E98,\"\",\"不一致\"))","v":""},null,null,{"$f":"IF('名刺管理（Eight）'!A96=\"\",\"\",'名刺管理（Eight）'!A96)","v":""},{"$f":"IF('名刺管理（Eight）'!B96=\"\",\"\",'名刺管理（Eight）'!B96)","v":""},{"$f":"IF('名刺管理（Eight）'!C96=\"\",\"\",'名刺管理（Eight）'!C96)","v":""},{"$f":"IF('名刺管理（Eight）'!E96=\"\",\"\",'名刺管理（Eight）'!E96)","v":""},{"$f":"IF('名刺管理（Eight）'!F96=\"\",\"\",'名刺管理（Eight）'!F96)","v":""},{"$f":"IF('名刺管理（Eight）'!G96=\"\",\"\",IF(LEFT('名刺管理（Eight）'!G96,3)=\"神奈川\",LEFT('名刺管理（Eight）'!G96,4),IF(LEFT('名刺管理（Eight）'!G96,3)=\"和歌山\",LEFT('名刺管理（Eight）'!G96,4),IF(LEFT('名刺管理（Eight）'!G96,3)=\"鹿児島\",LEFT('名刺管理（Eight）'!G96,4),LEFT('名刺管理（Eight）'!G96,3)))))","v":""},{"$f":"IF(K98=\"\",\"\",IF(LEN(K98)=3,MID('名刺管理（Eight）'!G96,4,50),MID('名刺管理（Eight）'!G96,5,50)))","v":""},{"$f":"IF('名刺管理（Eight）'!H96=\"\",\"\",'名刺管理（Eight）'!H96)","v":""},{"$f":"IF('名刺管理（Eight）'!K96=\"\",\"\",'名刺管理（Eight）'!K96)","v":""},{"$f":"IF('名刺管理（Eight）'!L96=\"\",\"\",'名刺管理（Eight）'!L96)","v":""},{"$f":"IF('名刺管理（Eight）'!M96=\"\",\"\",'名刺管理（Eight）'!M96)","v":""},{"$f":"IF('名刺管理（Eight）'!N96=\"\",\"\",TEXT('名刺管理（Eight）'!N96,\"yyyy/m/d\"))","v":""}]
[{"$f":"LEFT('名刺管理（Eight）'!D97,D99)","v":""},{"$f":"RIGHT('名刺管理（Eight）'!D97,E99)","v":""},{"$f":"IF('名刺管理（Eight）'!D97=\"\",\"\",IF(LEN('名刺管理（Eight）'!D97)=D99+E99,\"\",\"不一致\"))","v":""},null,null,{"$f":"IF('名刺管理（Eight）'!A97=\"\",\"\",'名刺管理（Eight）'!A97)","v":""},{"$f":"IF('名刺管理（Eight）'!B97=\"\",\"\",'名刺管理（Eight）'!B97)","v":""},{"$f":"IF('名刺管理（Eight）'!C97=\"\",\"\",'名刺管理（Eight）'!C97)","v":""},{"$f":"IF('名刺管理（Eight）'!E97=\"\",\"\",'名刺管理（Eight）'!E97)","v":""},{"$f":"IF('名刺管理（Eight）'!F97=\"\",\"\",'名刺管理（Eight）'!F97)","v":""},{"$f":"IF('名刺管理（Eight）'!G97=\"\",\"\",IF(LEFT('名刺管理（Eight）'!G97,3)=\"神奈川\",LEFT('名刺管理（Eight）'!G97,4),IF(LEFT('名刺管理（Eight）'!G97,3)=\"和歌山\",LEFT('名刺管理（Eight）'!G97,4),IF(LEFT('名刺管理（Eight）'!G97,3)=\"鹿児島\",LEFT('名刺管理（Eight）'!G97,4),LEFT('名刺管理（Eight）'!G97,3)))))","v":""},{"$f":"IF(K99=\"\",\"\",IF(LEN(K99)=3,MID('名刺管理（Eight）'!G97,4,50),MID('名刺管理（Eight）'!G97,5,50)))","v":""},{"$f":"IF('名刺管理（Eight）'!H97=\"\",\"\",'名刺管理（Eight）'!H97)","v":""},{"$f":"IF('名刺管理（Eight）'!K97=\"\",\"\",'名刺管理（Eight）'!K97)","v":""},{"$f":"IF('名刺管理（Eight）'!L97=\"\",\"\",'名刺管理（Eight）'!L97)","v":""},{"$f":"IF('名刺管理（Eight）'!M97=\"\",\"\",'名刺管理（Eight）'!M97)","v":""},{"$f":"IF('名刺管理（Eight）'!N97=\"\",\"\",TEXT('名刺管理（Eight）'!N97,\"yyyy/m/d\"))","v":""}]
[{"$f":"LEFT('名刺管理（Eight）'!D98,D100)","v":""},{"$f":"RIGHT('名刺管理（Eight）'!D98,E100)","v":""},{"$f":"IF('名刺管理（Eight）'!D98=\"\",\"\",IF(LEN('名刺管理（Eight）'!D98)=D100+E100,\"\",\"不一致\"))","v":""},null,null,{"$f":"IF('名刺管理（Eight）'!A98=\"\",\"\",'名刺管理（Eight）'!A98)","v":""},{"$f":"IF('名刺管理（Eight）'!B98=\"\",\"\",'名刺管理（Eight）'!B98)","v":""},{"$f":"IF('名刺管理（Eight）'!C98=\"\",\"\",'名刺管理（Eight）'!C98)","v":""},{"$f":"IF('名刺管理（Eight）'!E98=\"\",\"\",'名刺管理（Eight）'!E98)","v":""},{"$f":"IF('名刺管理（Eight）'!F98=\"\",\"\",'名刺管理（Eight）'!F98)","v":""},{"$f":"IF('名刺管理（Eight）'!G98=\"\",\"\",IF(LEFT('名刺管理（Eight）'!G98,3)=\"神奈川\",LEFT('名刺管理（Eight）'!G98,4),IF(LEFT('名刺管理（Eight）'!G98,3)=\"和歌山\",LEFT('名刺管理（Eight）'!G98,4),IF(LEFT('名刺管理（Eight）'!G98,3)=\"鹿児島\",LEFT('名刺管理（Eight）'!G98,4),LEFT('名刺管理（Eight）'!G98,3)))))","v":""},{"$f":"IF(K100=\"\",\"\",IF(LEN(K100)=3,MID('名刺管理（Eight）'!G98,4,50),MID('名刺管理（Eight）'!G98,5,50)))","v":""},{"$f":"IF('名刺管理（Eight）'!H98=\"\",\"\",'名刺管理（Eight）'!H98)","v":""},{"$f":"IF('名刺管理（Eight）'!K98=\"\",\"\",'名刺管理（Eight）'!K98)","v":""},{"$f":"IF('名刺管理（Eight）'!L98=\"\",\"\",'名刺管理（Eight）'!L98)","v":""},{"$f":"IF('名刺管理（Eight）'!M98=\"\",\"\",'名刺管理（Eight）'!M98)","v":""},{"$f":"IF('名刺管理（Eight）'!N98=\"\",\"\",TEXT('名刺管理（Eight）'!N98,\"yyyy/m/d\"))","v":""}]
[{"$f":"LEFT('名刺管理（Eight）'!D99,D101)","v":""},{"$f":"RIGHT('名刺管理（Eight）'!D99,E101)","v":""},{"$f":"IF('名刺管理（Eight）'!D99=\"\",\"\",IF(LEN('名刺管理（Eight）'!D99)=D101+E101,\"\",\"不一致\"))","v":""},null,null,{"$f":"IF('名刺管理（Eight）'!A99=\"\",\"\",'名刺管理（Eight）'!A99)","v":""},{"$f":"IF('名刺管理（Eight）'!B99=\"\",\"\",'名刺管理（Eight）'!B99)","v":""},{"$f":"IF('名刺管理（Eight）'!C99=\"\",\"\",'名刺管理（Eight）'!C99)","v":""},{"$f":"IF('名刺管理（Eight）'!E99=\"\",\"\",'名刺管理（Eight）'!E99)","v":""},{"$f":"IF('名刺管理（Eight）'!F99=\"\",\"\",'名刺管理（Eight）'!F99)","v":""},{"$f":"IF('名刺管理（Eight）'!G99=\"\",\"\",IF(LEFT('名刺管理（Eight）'!G99,3)=\"神奈川\",LEFT('名刺管理（Eight）'!G99,4),IF(LEFT('名刺管理（Eight）'!G99,3)=\"和歌山\",LEFT('名刺管理（Eight）'!G99,4),IF(LEFT('名刺管理（Eight）'!G99,3)=\"鹿児島\",LEFT('名刺管理（Eight）'!G99,4),LEFT('名刺管理（Eight）'!G99,3)))))","v":""},{"$f":"IF(K101=\"\",\"\",IF(LEN(K101)=3,MID('名刺管理（Eight）'!G99,4,50),MID('名刺管理（Eight）'!G99,5,50)))","v":""},{"$f":"IF('名刺管理（Eight）'!H99=\"\",\"\",'名刺管理（Eight）'!H99)","v":""},{"$f":"IF('名刺管理（Eight）'!K99=\"\",\"\",'名刺管理（Eight）'!K99)","v":""},{"$f":"IF('名刺管理（Eight）'!L99=\"\",\"\",'名刺管理（Eight）'!L99)","v":""},{"$f":"IF('名刺管理（Eight）'!M99=\"\",\"\",'名刺管理（Eight）'!M99)","v":""},{"$f":"IF('名刺管理（Eight）'!N99=\"\",\"\",TEXT('名刺管理（Eight）'!N99,\"yyyy/m/d\"))","v":""}]
[{"$f":"LEFT('名刺管理（Eight）'!D100,D102)","v":""},{"$f":"RIGHT('名刺管理（Eight）'!D100,E102)","v":""},{"$f":"IF('名刺管理（Eight）'!D100=\"\",\"\",IF(LEN('名刺管理（Eight）'!D100)=D102+E102,\"\",\"不一致\"))","v":""},null,null,{"$f":"IF('名刺管理（Eight）'!A100=\"\",\"\",'名刺管理（Eight）'!A100)","v":""},{"$f":"IF('名刺管理（Eight）'!B100=\"\",\"\",'名刺管理（Eight）'!B100)","v":""},{"$f":"IF('名刺管理（Eight）'!C100=\"\",\"\",'名刺管理（Eight）'!C100)","v":""},{"$f":"IF('名刺管理（Eight）'!E100=\"\",\"\",'名刺管理（Eight）'!E100)","v":""},{"$f":"IF('名刺管理（Eight）'!F100=\"\",\"\",'名刺管理（Eight）'!F100)","v":""},{"$f":"IF('名刺管理（Eight）'!G100=\"\",\"\",IF(LEFT('名刺管理（Eight）'!G100,3)=\"神奈川\",LEFT('名刺管理（Eight）'!G100,4),IF(LEFT('名刺管理（Eight）'!G100,3)=\"和歌山\",LEFT('名刺管理（Eight）'!G100,4),IF(LEFT('名刺管理（Eight）'!G100,3)=\"鹿児島\",LEFT('名刺管理（Eight）'!G100,4),LEFT('名刺管理（Eight）'!G100,3)))))","v":""},{"$f":"IF(K102=\"\",\"\",IF(LEN(K102)=3,MID('名刺管理（Eight）'!G100,4,50),MID('名刺管理（Eight）'!G100,5,50)))","v":""},{"$f":"IF('名刺管理（Eight）'!H100=\"\",\"\",'名刺管理（Eight）'!H100)","v":""},{"$f":"IF('名刺管理（Eight）'!K100=\"\",\"\",'名刺管理（Eight）'!K100)","v":""},{"$f":"IF('名刺管理（Eight）'!L100=\"\",\"\",'名刺管理（Eight）'!L100)","v":""},{"$f":"IF('名刺管理（Eight）'!M100=\"\",\"\",'名刺管理（Eight）'!M100)","v":""},{"$f":"IF('名刺管理（Eight）'!N100=\"\",\"\",TEXT('名刺管理（Eight）'!N100,\"yyyy/m/d\"))","v":""}]
[{"$f":"LEFT('名刺管理（Eight）'!D101,D103)","v":""},{"$f":"RIGHT('名刺管理（Eight）'!D101,E103)","v":""},{"$f":"IF('名刺管理（Eight）'!D101=\"\",\"\",IF(LEN('名刺管理（Eight）'!D101)=D103+E103,\"\",\"不一致\"))","v":""},null,null,{"$f":"IF('名刺管理（Eight）'!A101=\"\",\"\",'名刺管理（Eight）'!A101)","v":""},{"$f":"IF('名刺管理（Eight）'!B101=\"\",\"\",'名刺管理（Eight）'!B101)","v":""},{"$f":"IF('名刺管理（Eight）'!C101=\"\",\"\",'名刺管理（Eight）'!C101)","v":""},{"$f":"IF('名刺管理（Eight）'!E101=\"\",\"\",'名刺管理（Eight）'!E101)","v":""},{"$f":"IF('名刺管理（Eight）'!F101=\"\",\"\",'名刺管理（Eight）'!F101)","v":""},{"$f":"IF('名刺管理（Eight）'!G101=\"\",\"\",IF(LEFT('名刺管理（Eight）'!G101,3)=\"神奈川\",LEFT('名刺管理（Eight）'!G101,4),IF(LEFT('名刺管理（Eight）'!G101,3)=\"和歌山\",LEFT('名刺管理（Eight）'!G101,4),IF(LEFT('名刺管理（Eight）'!G101,3)=\"鹿児島\",LEFT('名刺管理（Eight）'!G101,4),LEFT('名刺管理（Eight）'!G101,3)))))","v":""},{"$f":"IF(K103=\"\",\"\",IF(LEN(K103)=3,MID('名刺管理（Eight）'!G101,4,50),MID('名刺管理（Eight）'!G101,5,50)))","v":""},{"$f":"IF('名刺管理（Eight）'!H101=\"\",\"\",'名刺管理（Eight）'!H101)","v":""},{"$f":"IF('名刺管理（Eight）'!K101=\"\",\"\",'名刺管理（Eight）'!K101)","v":""},{"$f":"IF('名刺管理（Eight）'!L101=\"\",\"\",'名刺管理（Eight）'!L101)","v":""},{"$f":"IF('名刺管理（Eight）'!M101=\"\",\"\",'名刺管理（Eight）'!M101)","v":""},{"$f":"IF('名刺管理（Eight）'!N101=\"\",\"\",TEXT('名刺管理（Eight）'!N101,\"yyyy/m/d\"))","v":""}]
[{"$f":"LEFT('名刺管理（Eight）'!D102,D104)","v":""},{"$f":"RIGHT('名刺管理（Eight）'!D102,E104)","v":""},{"$f":"IF('名刺管理（Eight）'!D102=\"\",\"\",IF(LEN('名刺管理（Eight）'!D102)=D104+E104,\"\",\"不一致\"))","v":""},null,null,{"$f":"IF('名刺管理（Eight）'!A102=\"\",\"\",'名刺管理（Eight）'!A102)","v":""},{"$f":"IF('名刺管理（Eight）'!B102=\"\",\"\",'名刺管理（Eight）'!B102)","v":""},{"$f":"IF('名刺管理（Eight）'!C102=\"\",\"\",'名刺管理（Eight）'!C102)","v":""},{"$f":"IF('名刺管理（Eight）'!E102=\"\",\"\",'名刺管理（Eight）'!E102)","v":""},{"$f":"IF('名刺管理（Eight）'!F102=\"\",\"\",'名刺管理（Eight）'!F102)","v":""},{"$f":"IF('名刺管理（Eight）'!G102=\"\",\"\",IF(LEFT('名刺管理（Eight）'!G102,3)=\"神奈川\",LEFT('名刺管理（Eight）'!G102,4),IF(LEFT('名刺管理（Eight）'!G102,3)=\"和歌山\",LEFT('名刺管理（Eight）'!G102,4),IF(LEFT('名刺管理（Eight）'!G102,3)=\"鹿児島\",LEFT('名刺管理（Eight）'!G102,4),LEFT('名刺管理（Eight）'!G102,3)))))","v":""},{"$f":"IF(K104=\"\",\"\",IF(LEN(K104)=3,MID('名刺管理（Eight）'!G102,4,50),MID('名刺管理（Eight）'!G102,5,50)))","v":""},{"$f":"IF('名刺管理（Eight）'!H102=\"\",\"\",'名刺管理（Eight）'!H102)","v":""},{"$f":"IF('名刺管理（Eight）'!K102=\"\",\"\",'名刺管理（Eight）'!K102)","v":""},{"$f":"IF('名刺管理（Eight）'!L102=\"\",\"\",'名刺管理（Eight）'!L102)","v":""},{"$f":"IF('名刺管理（Eight）'!M102=\"\",\"\",'名刺管理（Eight）'!M102)","v":""},{"$f":"IF('名刺管理（Eight）'!N102=\"\",\"\",TEXT('名刺管理（Eight）'!N102,\"yyyy/m/d\"))","v":""}]
[{"$f":"LEFT('名刺管理（Eight）'!D103,D105)","v":""},{"$f":"RIGHT('名刺管理（Eight）'!D103,E105)","v":""},{"$f":"IF('名刺管理（Eight）'!D103=\"\",\"\",IF(LEN('名刺管理（Eight）'!D103)=D105+E105,\"\",\"不一致\"))","v":""},null,null,{"$f":"IF('名刺管理（Eight）'!A103=\"\",\"\",'名刺管理（Eight）'!A103)","v":""},{"$f":"IF('名刺管理（Eight）'!B103=\"\",\"\",'名刺管理（Eight）'!B103)","v":""},{"$f":"IF('名刺管理（Eight）'!C103=\"\",\"\",'名刺管理（Eight）'!C103)","v":""},{"$f":"IF('名刺管理（Eight）'!E103=\"\",\"\",'名刺管理（Eight）'!E103)","v":""},{"$f":"IF('名刺管理（Eight）'!F103=\"\",\"\",'名刺管理（Eight）'!F103)","v":""},{"$f":"IF('名刺管理（Eight）'!G103=\"\",\"\",IF(LEFT('名刺管理（Eight）'!G103,3)=\"神奈川\",LEFT('名刺管理（Eight）'!G103,4),IF(LEFT('名刺管理（Eight）'!G103,3)=\"和歌山\",LEFT('名刺管理（Eight）'!G103,4),IF(LEFT('名刺管理（Eight）'!G103,3)=\"鹿児島\",LEFT('名刺管理（Eight）'!G103,4),LEFT('名刺管理（Eight）'!G103,3)))))","v":""},{"$f":"IF(K105=\"\",\"\",IF(LEN(K105)=3,MID('名刺管理（Eight）'!G103,4,50),MID('名刺管理（Eight）'!G103,5,50)))","v":""},{"$f":"IF('名刺管理（Eight）'!H103=\"\",\"\",'名刺管理（Eight）'!H103)","v":""},{"$f":"IF('名刺管理（Eight）'!K103=\"\",\"\",'名刺管理（Eight）'!K103)","v":""},{"$f":"IF('名刺管理（Eight）'!L103=\"\",\"\",'名刺管理（Eight）'!L103)","v":""},{"$f":"IF('名刺管理（Eight）'!M103=\"\",\"\",'名刺管理（Eight）'!M103)","v":""},{"$f":"IF('名刺管理（Eight）'!N103=\"\",\"\",TEXT('名刺管理（Eight）'!N103,\"yyyy/m/d\"))","v":""}]
[{"$f":"LEFT('名刺管理（Eight）'!D104,D106)","v":""},{"$f":"RIGHT('名刺管理（Eight）'!D104,E106)","v":""},{"$f":"IF('名刺管理（Eight）'!D104=\"\",\"\",IF(LEN('名刺管理（Eight）'!D104)=D106+E106,\"\",\"不一致\"))","v":""},null,null,{"$f":"IF('名刺管理（Eight）'!A104=\"\",\"\",'名刺管理（Eight）'!A104)","v":""},{"$f":"IF('名刺管理（Eight）'!B104=\"\",\"\",'名刺管理（Eight）'!B104)","v":""},{"$f":"IF('名刺管理（Eight）'!C104=\"\",\"\",'名刺管理（Eight）'!C104)","v":""},{"$f":"IF('名刺管理（Eight）'!E104=\"\",\"\",'名刺管理（Eight）'!E104)","v":""},{"$f":"IF('名刺管理（Eight）'!F104=\"\",\"\",'名刺管理（Eight）'!F104)","v":""},{"$f":"IF('名刺管理（Eight）'!G104=\"\",\"\",IF(LEFT('名刺管理（Eight）'!G104,3)=\"神奈川\",LEFT('名刺管理（Eight）'!G104,4),IF(LEFT('名刺管理（Eight）'!G104,3)=\"和歌山\",LEFT('名刺管理（Eight）'!G104,4),IF(LEFT('名刺管理（Eight）'!G104,3)=\"鹿児島\",LEFT('名刺管理（Eight）'!G104,4),LEFT('名刺管理（Eight）'!G104,3)))))","v":""},{"$f":"IF(K106=\"\",\"\",IF(LEN(K106)=3,MID('名刺管理（Eight）'!G104,4,50),MID('名刺管理（Eight）'!G104,5,50)))","v":""},{"$f":"IF('名刺管理（Eight）'!H104=\"\",\"\",'名刺管理（Eight）'!H104)","v":""},{"$f":"IF('名刺管理（Eight）'!K104=\"\",\"\",'名刺管理（Eight）'!K104)","v":""},{"$f":"IF('名刺管理（Eight）'!L104=\"\",\"\",'名刺管理（Eight）'!L104)","v":""},{"$f":"IF('名刺管理（Eight）'!M104=\"\",\"\",'名刺管理（Eight）'!M104)","v":""},{"$f":"IF('名刺管理（Eight）'!N104=\"\",\"\",TEXT('名刺管理（Eight）'!N104,\"yyyy/m/d\"))","v":""}]
[{"$f":"LEFT('名刺管理（Eight）'!D105,D107)","v":""},{"$f":"RIGHT('名刺管理（Eight）'!D105,E107)","v":""},{"$f":"IF('名刺管理（Eight）'!D105=\"\",\"\",IF(LEN('名刺管理（Eight）'!D105)=D107+E107,\"\",\"不一致\"))","v":""},null,null,{"$f":"IF('名刺管理（Eight）'!A105=\"\",\"\",'名刺管理（Eight）'!A105)","v":""},{"$f":"IF('名刺管理（Eight）'!B105=\"\",\"\",'名刺管理（Eight）'!B105)","v":""},{"$f":"IF('名刺管理（Eight）'!C105=\"\",\"\",'名刺管理（Eight）'!C105)","v":""},{"$f":"IF('名刺管理（Eight）'!E105=\"\",\"\",'名刺管理（Eight）'!E105)","v":""},{"$f":"IF('名刺管理（Eight）'!F105=\"\",\"\",'名刺管理（Eight）'!F105)","v":""},{"$f":"IF('名刺管理（Eight）'!G105=\"\",\"\",IF(LEFT('名刺管理（Eight）'!G105,3)=\"神奈川\",LEFT('名刺管理（Eight）'!G105,4),IF(LEFT('名刺管理（Eight）'!G105,3)=\"和歌山\",LEFT('名刺管理（Eight）'!G105,4),IF(LEFT('名刺管理（Eight）'!G105,3)=\"鹿児島\",LEFT('名刺管理（Eight）'!G105,4),LEFT('名刺管理（Eight）'!G105,3)))))","v":""},{"$f":"IF(K107=\"\",\"\",IF(LEN(K107)=3,MID('名刺管理（Eight）'!G105,4,50),MID('名刺管理（Eight）'!G105,5,50)))","v":""},{"$f":"IF('名刺管理（Eight）'!H105=\"\",\"\",'名刺管理（Eight）'!H105)","v":""},{"$f":"IF('名刺管理（Eight）'!K105=\"\",\"\",'名刺管理（Eight）'!K105)","v":""},{"$f":"IF('名刺管理（Eight）'!L105=\"\",\"\",'名刺管理（Eight）'!L105)","v":""},{"$f":"IF('名刺管理（Eight）'!M105=\"\",\"\",'名刺管理（Eight）'!M105)","v":""},{"$f":"IF('名刺管理（Eight）'!N105=\"\",\"\",TEXT('名刺管理（Eight）'!N105,\"yyyy/m/d\"))","v":""}]
[{"$f":"LEFT('名刺管理（Eight）'!D106,D108)","v":""},{"$f":"RIGHT('名刺管理（Eight）'!D106,E108)","v":""},{"$f":"IF('名刺管理（Eight）'!D106=\"\",\"\",IF(LEN('名刺管理（Eight）'!D106)=D108+E108,\"\",\"不一致\"))","v":""},null,null,{"$f":"IF('名刺管理（Eight）'!A106=\"\",\"\",'名刺管理（Eight）'!A106)","v":""},{"$f":"IF('名刺管理（Eight）'!B106=\"\",\"\",'名刺管理（Eight）'!B106)","v":""},{"$f":"IF('名刺管理（Eight）'!C106=\"\",\"\",'名刺管理（Eight）'!C106)","v":""},{"$f":"IF('名刺管理（Eight）'!E106=\"\",\"\",'名刺管理（Eight）'!E106)","v":""},{"$f":"IF('名刺管理（Eight）'!F106=\"\",\"\",'名刺管理（Eight）'!F106)","v":""},{"$f":"IF('名刺管理（Eight）'!G106=\"\",\"\",IF(LEFT('名刺管理（Eight）'!G106,3)=\"神奈川\",LEFT('名刺管理（Eight）'!G106,4),IF(LEFT('名刺管理（Eight）'!G106,3)=\"和歌山\",LEFT('名刺管理（Eight）'!G106,4),IF(LEFT('名刺管理（Eight）'!G106,3)=\"鹿児島\",LEFT('名刺管理（Eight）'!G106,4),LEFT('名刺管理（Eight）'!G106,3)))))","v":""},{"$f":"IF(K108=\"\",\"\",IF(LEN(K108)=3,MID('名刺管理（Eight）'!G106,4,50),MID('名刺管理（Eight）'!G106,5,50)))","v":""},{"$f":"IF('名刺管理（Eight）'!H106=\"\",\"\",'名刺管理（Eight）'!H106)","v":""},{"$f":"IF('名刺管理（Eight）'!K106=\"\",\"\",'名刺管理（Eight）'!K106)","v":""},{"$f":"IF('名刺管理（Eight）'!L106=\"\",\"\",'名刺管理（Eight）'!L106)","v":""},{"$f":"IF('名刺管理（Eight）'!M106=\"\",\"\",'名刺管理（Eight）'!M106)","v":""},{"$f":"IF('名刺管理（Eight）'!N106=\"\",\"\",TEXT('名刺管理（Eight）'!N106,\"yyyy/m/d\"))","v":""}]
[{"$f":"LEFT('名刺管理（Eight）'!D107,D109)","v":""},{"$f":"RIGHT('名刺管理（Eight）'!D107,E109)","v":""},{"$f":"IF('名刺管理（Eight）'!D107=\"\",\"\",IF(LEN('名刺管理（Eight）'!D107)=D109+E109,\"\",\"不一致\"))","v":""},null,null,{"$f":"IF('名刺管理（Eight）'!A107=\"\",\"\",'名刺管理（Eight）'!A107)","v":""},{"$f":"IF('名刺管理（Eight）'!B107=\"\",\"\",'名刺管理（Eight）'!B107)","v":""},{"$f":"IF('名刺管理（Eight）'!C107=\"\",\"\",'名刺管理（Eight）'!C107)","v":""},{"$f":"IF('名刺管理（Eight）'!E107=\"\",\"\",'名刺管理（Eight）'!E107)","v":""},{"$f":"IF('名刺管理（Eight）'!F107=\"\",\"\",'名刺管理（Eight）'!F107)","v":""},{"$f":"IF('名刺管理（Eight）'!G107=\"\",\"\",IF(LEFT('名刺管理（Eight）'!G107,3)=\"神奈川\",LEFT('名刺管理（Eight）'!G107,4),IF(LEFT('名刺管理（Eight）'!G107,3)=\"和歌山\",LEFT('名刺管理（Eight）'!G107,4),IF(LEFT('名刺管理（Eight）'!G107,3)=\"鹿児島\",LEFT('名刺管理（Eight）'!G107,4),LEFT('名刺管理（Eight）'!G107,3)))))","v":""},{"$f":"IF(K109=\"\",\"\",IF(LEN(K109)=3,MID('名刺管理（Eight）'!G107,4,50),MID('名刺管理（Eight）'!G107,5,50)))","v":""},{"$f":"IF('名刺管理（Eight）'!H107=\"\",\"\",'名刺管理（Eight）'!H107)","v":""},{"$f":"IF('名刺管理（Eight）'!K107=\"\",\"\",'名刺管理（Eight）'!K107)","v":""},{"$f":"IF('名刺管理（Eight）'!L107=\"\",\"\",'名刺管理（Eight）'!L107)","v":""},{"$f":"IF('名刺管理（Eight）'!M107=\"\",\"\",'名刺管理（Eight）'!M107)","v":""},{"$f":"IF('名刺管理（Eight）'!N107=\"\",\"\",TEXT('名刺管理（Eight）'!N107,\"yyyy/m/d\"))","v":""}]
[{"$f":"LEFT('名刺管理（Eight）'!D108,D110)","v":""},{"$f":"RIGHT('名刺管理（Eight）'!D108,E110)","v":""},{"$f":"IF('名刺管理（Eight）'!D108=\"\",\"\",IF(LEN('名刺管理（Eight）'!D108)=D110+E110,\"\",\"不一致\"))","v":""},null,null,{"$f":"IF('名刺管理（Eight）'!A108=\"\",\"\",'名刺管理（Eight）'!A108)","v":""},{"$f":"IF('名刺管理（Eight）'!B108=\"\",\"\",'名刺管理（Eight）'!B108)","v":""},{"$f":"IF('名刺管理（Eight）'!C108=\"\",\"\",'名刺管理（Eight）'!C108)","v":""},{"$f":"IF('名刺管理（Eight）'!E108=\"\",\"\",'名刺管理（Eight）'!E108)","v":""},{"$f":"IF('名刺管理（Eight）'!F108=\"\",\"\",'名刺管理（Eight）'!F108)","v":""},{"$f":"IF('名刺管理（Eight）'!G108=\"\",\"\",IF(LEFT('名刺管理（Eight）'!G108,3)=\"神奈川\",LEFT('名刺管理（Eight）'!G108,4),IF(LEFT('名刺管理（Eight）'!G108,3)=\"和歌山\",LEFT('名刺管理（Eight）'!G108,4),IF(LEFT('名刺管理（Eight）'!G108,3)=\"鹿児島\",LEFT('名刺管理（Eight）'!G108,4),LEFT('名刺管理（Eight）'!G108,3)))))","v":""},{"$f":"IF(K110=\"\",\"\",IF(LEN(K110)=3,MID('名刺管理（Eight）'!G108,4,50),MID('名刺管理（Eight）'!G108,5,50)))","v":""},{"$f":"IF('名刺管理（Eight）'!H108=\"\",\"\",'名刺管理（Eight）'!H108)","v":""},{"$f":"IF('名刺管理（Eight）'!K108=\"\",\"\",'名刺管理（Eight）'!K108)","v":""},{"$f":"IF('名刺管理（Eight）'!L108=\"\",\"\",'名刺管理（Eight）'!L108)","v":""},{"$f":"IF('名刺管理（Eight）'!M108=\"\",\"\",'名刺管理（Eight）'!M108)","v":""},{"$f":"IF('名刺管理（Eight）'!N108=\"\",\"\",TEXT('名刺管理（Eight）'!N108,\"yyyy/m/d\"))","v":""}]
[{"$f":"LEFT('名刺管理（Eight）'!D109,D111)","v":""},{"$f":"RIGHT('名刺管理（Eight）'!D109,E111)","v":""},{"$f":"IF('名刺管理（Eight）'!D109=\"\",\"\",IF(LEN('名刺管理（Eight）'!D109)=D111+E111,\"\",\"不一致\"))","v":""},null,null,{"$f":"IF('名刺管理（Eight）'!A109=\"\",\"\",'名刺管理（Eight）'!A109)","v":""},{"$f":"IF('名刺管理（Eight）'!B109=\"\",\"\",'名刺管理（Eight）'!B109)","v":""},{"$f":"IF('名刺管理（Eight）'!C109=\"\",\"\",'名刺管理（Eight）'!C109)","v":""},{"$f":"IF('名刺管理（Eight）'!E109=\"\",\"\",'名刺管理（Eight）'!E109)","v":""},{"$f":"IF('名刺管理（Eight）'!F109=\"\",\"\",'名刺管理（Eight）'!F109)","v":""},{"$f":"IF('名刺管理（Eight）'!G109=\"\",\"\",IF(LEFT('名刺管理（Eight）'!G109,3)=\"神奈川\",LEFT('名刺管理（Eight）'!G109,4),IF(LEFT('名刺管理（Eight）'!G109,3)=\"和歌山\",LEFT('名刺管理（Eight）'!G109,4),IF(LEFT('名刺管理（Eight）'!G109,3)=\"鹿児島\",LEFT('名刺管理（Eight）'!G109,4),LEFT('名刺管理（Eight）'!G109,3)))))","v":""},{"$f":"IF(K111=\"\",\"\",IF(LEN(K111)=3,MID('名刺管理（Eight）'!G109,4,50),MID('名刺管理（Eight）'!G109,5,50)))","v":""},{"$f":"IF('名刺管理（Eight）'!H109=\"\",\"\",'名刺管理（Eight）'!H109)","v":""},{"$f":"IF('名刺管理（Eight）'!K109=\"\",\"\",'名刺管理（Eight）'!K109)","v":""},{"$f":"IF('名刺管理（Eight）'!L109=\"\",\"\",'名刺管理（Eight）'!L109)","v":""},{"$f":"IF('名刺管理（Eight）'!M109=\"\",\"\",'名刺管理（Eight）'!M109)","v":""},{"$f":"IF('名刺管理（Eight）'!N109=\"\",\"\",TEXT('名刺管理（Eight）'!N109,\"yyyy/m/d\"))","v":""}]
[{"$f":"LEFT('名刺管理（Eight）'!D110,D112)","v":""},{"$f":"RIGHT('名刺管理（Eight）'!D110,E112)","v":""},{"$f":"IF('名刺管理（Eight）'!D110=\"\",\"\",IF(LEN('名刺管理（Eight）'!D110)=D112+E112,\"\",\"不一致\"))","v":""},null,null,{"$f":"IF('名刺管理（Eight）'!A110=\"\",\"\",'名刺管理（Eight）'!A110)","v":""},{"$f":"IF('名刺管理（Eight）'!B110=\"\",\"\",'名刺管理（Eight）'!B110)","v":""},{"$f":"IF('名刺管理（Eight）'!C110=\"\",\"\",'名刺管理（Eight）'!C110)","v":""},{"$f":"IF('名刺管理（Eight）'!E110=\"\",\"\",'名刺管理（Eight）'!E110)","v":""},{"$f":"IF('名刺管理（Eight）'!F110=\"\",\"\",'名刺管理（Eight）'!F110)","v":""},{"$f":"IF('名刺管理（Eight）'!G110=\"\",\"\",IF(LEFT('名刺管理（Eight）'!G110,3)=\"神奈川\",LEFT('名刺管理（Eight）'!G110,4),IF(LEFT('名刺管理（Eight）'!G110,3)=\"和歌山\",LEFT('名刺管理（Eight）'!G110,4),IF(LEFT('名刺管理（Eight）'!G110,3)=\"鹿児島\",LEFT('名刺管理（Eight）'!G110,4),LEFT('名刺管理（Eight）'!G110,3)))))","v":""},{"$f":"IF(K112=\"\",\"\",IF(LEN(K112)=3,MID('名刺管理（Eight）'!G110,4,50),MID('名刺管理（Eight）'!G110,5,50)))","v":""},{"$f":"IF('名刺管理（Eight）'!H110=\"\",\"\",'名刺管理（Eight）'!H110)","v":""},{"$f":"IF('名刺管理（Eight）'!K110=\"\",\"\",'名刺管理（Eight）'!K110)","v":""},{"$f":"IF('名刺管理（Eight）'!L110=\"\",\"\",'名刺管理（Eight）'!L110)","v":""},{"$f":"IF('名刺管理（Eight）'!M110=\"\",\"\",'名刺管理（Eight）'!M110)","v":""},{"$f":"IF('名刺管理（Eight）'!N110=\"\",\"\",TEXT('名刺管理（Eight）'!N110,\"yyyy/m/d\"))","v":""}]
[{"$f":"LEFT('名刺管理（Eight）'!D111,D113)","v":""},{"$f":"RIGHT('名刺管理（Eight）'!D111,E113)","v":""},{"$f":"IF('名刺管理（Eight）'!D111=\"\",\"\",IF(LEN('名刺管理（Eight）'!D111)=D113+E113,\"\",\"不一致\"))","v":""},null,null,{"$f":"IF('名刺管理（Eight）'!A111=\"\",\"\",'名刺管理（Eight）'!A111)","v":""},{"$f":"IF('名刺管理（Eight）'!B111=\"\",\"\",'名刺管理（Eight）'!B111)","v":""},{"$f":"IF('名刺管理（Eight）'!C111=\"\",\"\",'名刺管理（Eight）'!C111)","v":""},{"$f":"IF('名刺管理（Eight）'!E111=\"\",\"\",'名刺管理（Eight）'!E111)","v":""},{"$f":"IF('名刺管理（Eight）'!F111=\"\",\"\",'名刺管理（Eight）'!F111)","v":""},{"$f":"IF('名刺管理（Eight）'!G111=\"\",\"\",IF(LEFT('名刺管理（Eight）'!G111,3)=\"神奈川\",LEFT('名刺管理（Eight）'!G111,4),IF(LEFT('名刺管理（Eight）'!G111,3)=\"和歌山\",LEFT('名刺管理（Eight）'!G111,4),IF(LEFT('名刺管理（Eight）'!G111,3)=\"鹿児島\",LEFT('名刺管理（Eight）'!G111,4),LEFT('名刺管理（Eight）'!G111,3)))))","v":""},{"$f":"IF(K113=\"\",\"\",IF(LEN(K113)=3,MID('名刺管理（Eight）'!G111,4,50),MID('名刺管理（Eight）'!G111,5,50)))","v":""},{"$f":"IF('名刺管理（Eight）'!H111=\"\",\"\",'名刺管理（Eight）'!H111)","v":""},{"$f":"IF('名刺管理（Eight）'!K111=\"\",\"\",'名刺管理（Eight）'!K111)","v":""},{"$f":"IF('名刺管理（Eight）'!L111=\"\",\"\",'名刺管理（Eight）'!L111)","v":""},{"$f":"IF('名刺管理（Eight）'!M111=\"\",\"\",'名刺管理（Eight）'!M111)","v":""},{"$f":"IF('名刺管理（Eight）'!N111=\"\",\"\",TEXT('名刺管理（Eight）'!N111,\"yyyy/m/d\"))","v":""}]
[{"$f":"LEFT('名刺管理（Eight）'!D112,D114)","v":""},{"$f":"RIGHT('名刺管理（Eight）'!D112,E114)","v":""},{"$f":"IF('名刺管理（Eight）'!D112=\"\",\"\",IF(LEN('名刺管理（Eight）'!D112)=D114+E114,\"\",\"不一致\"))","v":""},null,null,{"$f":"IF('名刺管理（Eight）'!A112=\"\",\"\",'名刺管理（Eight）'!A112)","v":""},{"$f":"IF('名刺管理（Eight）'!B112=\"\",\"\",'名刺管理（Eight）'!B112)","v":""},{"$f":"IF('名刺管理（Eight）'!C112=\"\",\"\",'名刺管理（Eight）'!C112)","v":""},{"$f":"IF('名刺管理（Eight）'!E112=\"\",\"\",'名刺管理（Eight）'!E112)","v":""},{"$f":"IF('名刺管理（Eight）'!F112=\"\",\"\",'名刺管理（Eight）'!F112)","v":""},{"$f":"IF('名刺管理（Eight）'!G112=\"\",\"\",IF(LEFT('名刺管理（Eight）'!G112,3)=\"神奈川\",LEFT('名刺管理（Eight）'!G112,4),IF(LEFT('名刺管理（Eight）'!G112,3)=\"和歌山\",LEFT('名刺管理（Eight）'!G112,4),IF(LEFT('名刺管理（Eight）'!G112,3)=\"鹿児島\",LEFT('名刺管理（Eight）'!G112,4),LEFT('名刺管理（Eight）'!G112,3)))))","v":""},{"$f":"IF(K114=\"\",\"\",IF(LEN(K114)=3,MID('名刺管理（Eight）'!G112,4,50),MID('名刺管理（Eight）'!G112,5,50)))","v":""},{"$f":"IF('名刺管理（Eight）'!H112=\"\",\"\",'名刺管理（Eight）'!H112)","v":""},{"$f":"IF('名刺管理（Eight）'!K112=\"\",\"\",'名刺管理（Eight）'!K112)","v":""},{"$f":"IF('名刺管理（Eight）'!L112=\"\",\"\",'名刺管理（Eight）'!L112)","v":""},{"$f":"IF('名刺管理（Eight）'!M112=\"\",\"\",'名刺管理（Eight）'!M112)","v":""},{"$f":"IF('名刺管理（Eight）'!N112=\"\",\"\",TEXT('名刺管理（Eight）'!N112,\"yyyy/m/d\"))","v":""}]
[{"$f":"LEFT('名刺管理（Eight）'!D113,D115)","v":""},{"$f":"RIGHT('名刺管理（Eight）'!D113,E115)","v":""},{"$f":"IF('名刺管理（Eight）'!D113=\"\",\"\",IF(LEN('名刺管理（Eight）'!D113)=D115+E115,\"\",\"不一致\"))","v":""},null,null,{"$f":"IF('名刺管理（Eight）'!A113=\"\",\"\",'名刺管理（Eight）'!A113)","v":""},{"$f":"IF('名刺管理（Eight）'!B113=\"\",\"\",'名刺管理（Eight）'!B113)","v":""},{"$f":"IF('名刺管理（Eight）'!C113=\"\",\"\",'名刺管理（Eight）'!C113)","v":""},{"$f":"IF('名刺管理（Eight）'!E113=\"\",\"\",'名刺管理（Eight）'!E113)","v":""},{"$f":"IF('名刺管理（Eight）'!F113=\"\",\"\",'名刺管理（Eight）'!F113)","v":""},{"$f":"IF('名刺管理（Eight）'!G113=\"\",\"\",IF(LEFT('名刺管理（Eight）'!G113,3)=\"神奈川\",LEFT('名刺管理（Eight）'!G113,4),IF(LEFT('名刺管理（Eight）'!G113,3)=\"和歌山\",LEFT('名刺管理（Eight）'!G113,4),IF(LEFT('名刺管理（Eight）'!G113,3)=\"鹿児島\",LEFT('名刺管理（Eight）'!G113,4),LEFT('名刺管理（Eight）'!G113,3)))))","v":""},{"$f":"IF(K115=\"\",\"\",IF(LEN(K115)=3,MID('名刺管理（Eight）'!G113,4,50),MID('名刺管理（Eight）'!G113,5,50)))","v":""},{"$f":"IF('名刺管理（Eight）'!H113=\"\",\"\",'名刺管理（Eight）'!H113)","v":""},{"$f":"IF('名刺管理（Eight）'!K113=\"\",\"\",'名刺管理（Eight）'!K113)","v":""},{"$f":"IF('名刺管理（Eight）'!L113=\"\",\"\",'名刺管理（Eight）'!L113)","v":""},{"$f":"IF('名刺管理（Eight）'!M113=\"\",\"\",'名刺管理（Eight）'!M113)","v":""},{"$f":"IF('名刺管理（Eight）'!N113=\"\",\"\",TEXT('名刺管理（Eight）'!N113,\"yyyy/m/d\"))","v":""}]
[{"$f":"LEFT('名刺管理（Eight）'!D114,D116)","v":""},{"$f":"RIGHT('名刺管理（Eight）'!D114,E116)","v":""},{"$f":"IF('名刺管理（Eight）'!D114=\"\",\"\",IF(LEN('名刺管理（Eight）'!D114)=D116+E116,\"\",\"不一致\"))","v":""},null,null,{"$f":"IF('名刺管理（Eight）'!A114=\"\",\"\",'名刺管理（Eight）'!A114)","v":""},{"$f":"IF('名刺管理（Eight）'!B114=\"\",\"\",'名刺管理（Eight）'!B114)","v":""},{"$f":"IF('名刺管理（Eight）'!C114=\"\",\"\",'名刺管理（Eight）'!C114)","v":""},{"$f":"IF('名刺管理（Eight）'!E114=\"\",\"\",'名刺管理（Eight）'!E114)","v":""},{"$f":"IF('名刺管理（Eight）'!F114=\"\",\"\",'名刺管理（Eight）'!F114)","v":""},{"$f":"IF('名刺管理（Eight）'!G114=\"\",\"\",IF(LEFT('名刺管理（Eight）'!G114,3)=\"神奈川\",LEFT('名刺管理（Eight）'!G114,4),IF(LEFT('名刺管理（Eight）'!G114,3)=\"和歌山\",LEFT('名刺管理（Eight）'!G114,4),IF(LEFT('名刺管理（Eight）'!G114,3)=\"鹿児島\",LEFT('名刺管理（Eight）'!G114,4),LEFT('名刺管理（Eight）'!G114,3)))))","v":""},{"$f":"IF(K116=\"\",\"\",IF(LEN(K116)=3,MID('名刺管理（Eight）'!G114,4,50),MID('名刺管理（Eight）'!G114,5,50)))","v":""},{"$f":"IF('名刺管理（Eight）'!H114=\"\",\"\",'名刺管理（Eight）'!H114)","v":""},{"$f":"IF('名刺管理（Eight）'!K114=\"\",\"\",'名刺管理（Eight）'!K114)","v":""},{"$f":"IF('名刺管理（Eight）'!L114=\"\",\"\",'名刺管理（Eight）'!L114)","v":""},{"$f":"IF('名刺管理（Eight）'!M114=\"\",\"\",'名刺管理（Eight）'!M114)","v":""},{"$f":"IF('名刺管理（Eight）'!N114=\"\",\"\",TEXT('名刺管理（Eight）'!N114,\"yyyy/m/d\"))","v":""}]
[{"$f":"LEFT('名刺管理（Eight）'!D115,D117)","v":""},{"$f":"RIGHT('名刺管理（Eight）'!D115,E117)","v":""},{"$f":"IF('名刺管理（Eight）'!D115=\"\",\"\",IF(LEN('名刺管理（Eight）'!D115)=D117+E117,\"\",\"不一致\"))","v":""},null,null,{"$f":"IF('名刺管理（Eight）'!A115=\"\",\"\",'名刺管理（Eight）'!A115)","v":""},{"$f":"IF('名刺管理（Eight）'!B115=\"\",\"\",'名刺管理（Eight）'!B115)","v":""},{"$f":"IF('名刺管理（Eight）'!C115=\"\",\"\",'名刺管理（Eight）'!C115)","v":""},{"$f":"IF('名刺管理（Eight）'!E115=\"\",\"\",'名刺管理（Eight）'!E115)","v":""},{"$f":"IF('名刺管理（Eight）'!F115=\"\",\"\",'名刺管理（Eight）'!F115)","v":""},{"$f":"IF('名刺管理（Eight）'!G115=\"\",\"\",IF(LEFT('名刺管理（Eight）'!G115,3)=\"神奈川\",LEFT('名刺管理（Eight）'!G115,4),IF(LEFT('名刺管理（Eight）'!G115,3)=\"和歌山\",LEFT('名刺管理（Eight）'!G115,4),IF(LEFT('名刺管理（Eight）'!G115,3)=\"鹿児島\",LEFT('名刺管理（Eight）'!G115,4),LEFT('名刺管理（Eight）'!G115,3)))))","v":""},{"$f":"IF(K117=\"\",\"\",IF(LEN(K117)=3,MID('名刺管理（Eight）'!G115,4,50),MID('名刺管理（Eight）'!G115,5,50)))","v":""},{"$f":"IF('名刺管理（Eight）'!H115=\"\",\"\",'名刺管理（Eight）'!H115)","v":""},{"$f":"IF('名刺管理（Eight）'!K115=\"\",\"\",'名刺管理（Eight）'!K115)","v":""},{"$f":"IF('名刺管理（Eight）'!L115=\"\",\"\",'名刺管理（Eight）'!L115)","v":""},{"$f":"IF('名刺管理（Eight）'!M115=\"\",\"\",'名刺管理（Eight）'!M115)","v":""},{"$f":"IF('名刺管理（Eight）'!N115=\"\",\"\",TEXT('名刺管理（Eight）'!N115,\"yyyy/m/d\"))","v":""}]
[{"$f":"LEFT('名刺管理（Eight）'!D116,D118)","v":""},{"$f":"RIGHT('名刺管理（Eight）'!D116,E118)","v":""},{"$f":"IF('名刺管理（Eight）'!D116=\"\",\"\",IF(LEN('名刺管理（Eight）'!D116)=D118+E118,\"\",\"不一致\"))","v":""},null,null,{"$f":"IF('名刺管理（Eight）'!A116=\"\",\"\",'名刺管理（Eight）'!A116)","v":""},{"$f":"IF('名刺管理（Eight）'!B116=\"\",\"\",'名刺管理（Eight）'!B116)","v":""},{"$f":"IF('名刺管理（Eight）'!C116=\"\",\"\",'名刺管理（Eight）'!C116)","v":""},{"$f":"IF('名刺管理（Eight）'!E116=\"\",\"\",'名刺管理（Eight）'!E116)","v":""},{"$f":"IF('名刺管理（Eight）'!F116=\"\",\"\",'名刺管理（Eight）'!F116)","v":""},{"$f":"IF('名刺管理（Eight）'!G116=\"\",\"\",IF(LEFT('名刺管理（Eight）'!G116,3)=\"神奈川\",LEFT('名刺管理（Eight）'!G116,4),IF(LEFT('名刺管理（Eight）'!G116,3)=\"和歌山\",LEFT('名刺管理（Eight）'!G116,4),IF(LEFT('名刺管理（Eight）'!G116,3)=\"鹿児島\",LEFT('名刺管理（Eight）'!G116,4),LEFT('名刺管理（Eight）'!G116,3)))))","v":""},{"$f":"IF(K118=\"\",\"\",IF(LEN(K118)=3,MID('名刺管理（Eight）'!G116,4,50),MID('名刺管理（Eight）'!G116,5,50)))","v":""},{"$f":"IF('名刺管理（Eight）'!H116=\"\",\"\",'名刺管理（Eight）'!H116)","v":""},{"$f":"IF('名刺管理（Eight）'!K116=\"\",\"\",'名刺管理（Eight）'!K116)","v":""},{"$f":"IF('名刺管理（Eight）'!L116=\"\",\"\",'名刺管理（Eight）'!L116)","v":""},{"$f":"IF('名刺管理（Eight）'!M116=\"\",\"\",'名刺管理（Eight）'!M116)","v":""},{"$f":"IF('名刺管理（Eight）'!N116=\"\",\"\",TEXT('名刺管理（Eight）'!N116,\"yyyy/m/d\"))","v":""}]
[{"$f":"LEFT('名刺管理（Eight）'!D117,D119)","v":""},{"$f":"RIGHT('名刺管理（Eight）'!D117,E119)","v":""},{"$f":"IF('名刺管理（Eight）'!D117=\"\",\"\",IF(LEN('名刺管理（Eight）'!D117)=D119+E119,\"\",\"不一致\"))","v":""},null,null,{"$f":"IF('名刺管理（Eight）'!A117=\"\",\"\",'名刺管理（Eight）'!A117)","v":""},{"$f":"IF('名刺管理（Eight）'!B117=\"\",\"\",'名刺管理（Eight）'!B117)","v":""},{"$f":"IF('名刺管理（Eight）'!C117=\"\",\"\",'名刺管理（Eight）'!C117)","v":""},{"$f":"IF('名刺管理（Eight）'!E117=\"\",\"\",'名刺管理（Eight）'!E117)","v":""},{"$f":"IF('名刺管理（Eight）'!F117=\"\",\"\",'名刺管理（Eight）'!F117)","v":""},{"$f":"IF('名刺管理（Eight）'!G117=\"\",\"\",IF(LEFT('名刺管理（Eight）'!G117,3)=\"神奈川\",LEFT('名刺管理（Eight）'!G117,4),IF(LEFT('名刺管理（Eight）'!G117,3)=\"和歌山\",LEFT('名刺管理（Eight）'!G117,4),IF(LEFT('名刺管理（Eight）'!G117,3)=\"鹿児島\",LEFT('名刺管理（Eight）'!G117,4),LEFT('名刺管理（Eight）'!G117,3)))))","v":""},{"$f":"IF(K119=\"\",\"\",IF(LEN(K119)=3,MID('名刺管理（Eight）'!G117,4,50),MID('名刺管理（Eight）'!G117,5,50)))","v":""},{"$f":"IF('名刺管理（Eight）'!H117=\"\",\"\",'名刺管理（Eight）'!H117)","v":""},{"$f":"IF('名刺管理（Eight）'!K117=\"\",\"\",'名刺管理（Eight）'!K117)","v":""},{"$f":"IF('名刺管理（Eight）'!L117=\"\",\"\",'名刺管理（Eight）'!L117)","v":""},{"$f":"IF('名刺管理（Eight）'!M117=\"\",\"\",'名刺管理（Eight）'!M117)","v":""},{"$f":"IF('名刺管理（Eight）'!N117=\"\",\"\",TEXT('名刺管理（Eight）'!N117,\"yyyy/m/d\"))","v":""}]
[{"$f":"LEFT('名刺管理（Eight）'!D118,D120)","v":""},{"$f":"RIGHT('名刺管理（Eight）'!D118,E120)","v":""},{"$f":"IF('名刺管理（Eight）'!D118=\"\",\"\",IF(LEN('名刺管理（Eight）'!D118)=D120+E120,\"\",\"不一致\"))","v":""},null,null,{"$f":"IF('名刺管理（Eight）'!A118=\"\",\"\",'名刺管理（Eight）'!A118)","v":""},{"$f":"IF('名刺管理（Eight）'!B118=\"\",\"\",'名刺管理（Eight）'!B118)","v":""},{"$f":"IF('名刺管理（Eight）'!C118=\"\",\"\",'名刺管理（Eight）'!C118)","v":""},{"$f":"IF('名刺管理（Eight）'!E118=\"\",\"\",'名刺管理（Eight）'!E118)","v":""},{"$f":"IF('名刺管理（Eight）'!F118=\"\",\"\",'名刺管理（Eight）'!F118)","v":""},{"$f":"IF('名刺管理（Eight）'!G118=\"\",\"\",IF(LEFT('名刺管理（Eight）'!G118,3)=\"神奈川\",LEFT('名刺管理（Eight）'!G118,4),IF(LEFT('名刺管理（Eight）'!G118,3)=\"和歌山\",LEFT('名刺管理（Eight）'!G118,4),IF(LEFT('名刺管理（Eight）'!G118,3)=\"鹿児島\",LEFT('名刺管理（Eight）'!G118,4),LEFT('名刺管理（Eight）'!G118,3)))))","v":""},{"$f":"IF(K120=\"\",\"\",IF(LEN(K120)=3,MID('名刺管理（Eight）'!G118,4,50),MID('名刺管理（Eight）'!G118,5,50)))","v":""},{"$f":"IF('名刺管理（Eight）'!H118=\"\",\"\",'名刺管理（Eight）'!H118)","v":""},{"$f":"IF('名刺管理（Eight）'!K118=\"\",\"\",'名刺管理（Eight）'!K118)","v":""},{"$f":"IF('名刺管理（Eight）'!L118=\"\",\"\",'名刺管理（Eight）'!L118)","v":""},{"$f":"IF('名刺管理（Eight）'!M118=\"\",\"\",'名刺管理（Eight）'!M118)","v":""},{"$f":"IF('名刺管理（Eight）'!N118=\"\",\"\",TEXT('名刺管理（Eight）'!N118,\"yyyy/m/d\"))","v":""}]
[{"$f":"LEFT('名刺管理（Eight）'!D119,D121)","v":""},{"$f":"RIGHT('名刺管理（Eight）'!D119,E121)","v":""},{"$f":"IF('名刺管理（Eight）'!D119=\"\",\"\",IF(LEN('名刺管理（Eight）'!D119)=D121+E121,\"\",\"不一致\"))","v":""},null,null,{"$f":"IF('名刺管理（Eight）'!A119=\"\",\"\",'名刺管理（Eight）'!A119)","v":""},{"$f":"IF('名刺管理（Eight）'!B119=\"\",\"\",'名刺管理（Eight）'!B119)","v":""},{"$f":"IF('名刺管理（Eight）'!C119=\"\",\"\",'名刺管理（Eight）'!C119)","v":""},{"$f":"IF('名刺管理（Eight）'!E119=\"\",\"\",'名刺管理（Eight）'!E119)","v":""},{"$f":"IF('名刺管理（Eight）'!F119=\"\",\"\",'名刺管理（Eight）'!F119)","v":""},{"$f":"IF('名刺管理（Eight）'!G119=\"\",\"\",IF(LEFT('名刺管理（Eight）'!G119,3)=\"神奈川\",LEFT('名刺管理（Eight）'!G119,4),IF(LEFT('名刺管理（Eight）'!G119,3)=\"和歌山\",LEFT('名刺管理（Eight）'!G119,4),IF(LEFT('名刺管理（Eight）'!G119,3)=\"鹿児島\",LEFT('名刺管理（Eight）'!G119,4),LEFT('名刺管理（Eight）'!G119,3)))))","v":""},{"$f":"IF(K121=\"\",\"\",IF(LEN(K121)=3,MID('名刺管理（Eight）'!G119,4,50),MID('名刺管理（Eight）'!G119,5,50)))","v":""},{"$f":"IF('名刺管理（Eight）'!H119=\"\",\"\",'名刺管理（Eight）'!H119)","v":""},{"$f":"IF('名刺管理（Eight）'!K119=\"\",\"\",'名刺管理（Eight）'!K119)","v":""},{"$f":"IF('名刺管理（Eight）'!L119=\"\",\"\",'名刺管理（Eight）'!L119)","v":""},{"$f":"IF('名刺管理（Eight）'!M119=\"\",\"\",'名刺管理（Eight）'!M119)","v":""},{"$f":"IF('名刺管理（Eight）'!N119=\"\",\"\",TEXT('名刺管理（Eight）'!N119,\"yyyy/m/d\"))","v":""}]
[{"$f":"LEFT('名刺管理（Eight）'!D120,D122)","v":""},{"$f":"RIGHT('名刺管理（Eight）'!D120,E122)","v":""},{"$f":"IF('名刺管理（Eight）'!D120=\"\",\"\",IF(LEN('名刺管理（Eight）'!D120)=D122+E122,\"\",\"不一致\"))","v":""},null,null,{"$f":"IF('名刺管理（Eight）'!A120=\"\",\"\",'名刺管理（Eight）'!A120)","v":""},{"$f":"IF('名刺管理（Eight）'!B120=\"\",\"\",'名刺管理（Eight）'!B120)","v":""},{"$f":"IF('名刺管理（Eight）'!C120=\"\",\"\",'名刺管理（Eight）'!C120)","v":""},{"$f":"IF('名刺管理（Eight）'!E120=\"\",\"\",'名刺管理（Eight）'!E120)","v":""},{"$f":"IF('名刺管理（Eight）'!F120=\"\",\"\",'名刺管理（Eight）'!F120)","v":""},{"$f":"IF('名刺管理（Eight）'!G120=\"\",\"\",IF(LEFT('名刺管理（Eight）'!G120,3)=\"神奈川\",LEFT('名刺管理（Eight）'!G120,4),IF(LEFT('名刺管理（Eight）'!G120,3)=\"和歌山\",LEFT('名刺管理（Eight）'!G120,4),IF(LEFT('名刺管理（Eight）'!G120,3)=\"鹿児島\",LEFT('名刺管理（Eight）'!G120,4),LEFT('名刺管理（Eight）'!G120,3)))))","v":""},{"$f":"IF(K122=\"\",\"\",IF(LEN(K122)=3,MID('名刺管理（Eight）'!G120,4,50),MID('名刺管理（Eight）'!G120,5,50)))","v":""},{"$f":"IF('名刺管理（Eight）'!H120=\"\",\"\",'名刺管理（Eight）'!H120)","v":""},{"$f":"IF('名刺管理（Eight）'!K120=\"\",\"\",'名刺管理（Eight）'!K120)","v":""},{"$f":"IF('名刺管理（Eight）'!L120=\"\",\"\",'名刺管理（Eight）'!L120)","v":""},{"$f":"IF('名刺管理（Eight）'!M120=\"\",\"\",'名刺管理（Eight）'!M120)","v":""},{"$f":"IF('名刺管理（Eight）'!N120=\"\",\"\",TEXT('名刺管理（Eight）'!N120,\"yyyy/m/d\"))","v":""}]
[{"$f":"LEFT('名刺管理（Eight）'!D121,D123)","v":""},{"$f":"RIGHT('名刺管理（Eight）'!D121,E123)","v":""},{"$f":"IF('名刺管理（Eight）'!D121=\"\",\"\",IF(LEN('名刺管理（Eight）'!D121)=D123+E123,\"\",\"不一致\"))","v":""},null,null,{"$f":"IF('名刺管理（Eight）'!A121=\"\",\"\",'名刺管理（Eight）'!A121)","v":""},{"$f":"IF('名刺管理（Eight）'!B121=\"\",\"\",'名刺管理（Eight）'!B121)","v":""},{"$f":"IF('名刺管理（Eight）'!C121=\"\",\"\",'名刺管理（Eight）'!C121)","v":""},{"$f":"IF('名刺管理（Eight）'!E121=\"\",\"\",'名刺管理（Eight）'!E121)","v":""},{"$f":"IF('名刺管理（Eight）'!F121=\"\",\"\",'名刺管理（Eight）'!F121)","v":""},{"$f":"IF('名刺管理（Eight）'!G121=\"\",\"\",IF(LEFT('名刺管理（Eight）'!G121,3)=\"神奈川\",LEFT('名刺管理（Eight）'!G121,4),IF(LEFT('名刺管理（Eight）'!G121,3)=\"和歌山\",LEFT('名刺管理（Eight）'!G121,4),IF(LEFT('名刺管理（Eight）'!G121,3)=\"鹿児島\",LEFT('名刺管理（Eight）'!G121,4),LEFT('名刺管理（Eight）'!G121,3)))))","v":""},{"$f":"IF(K123=\"\",\"\",IF(LEN(K123)=3,MID('名刺管理（Eight）'!G121,4,50),MID('名刺管理（Eight）'!G121,5,50)))","v":""},{"$f":"IF('名刺管理（Eight）'!H121=\"\",\"\",'名刺管理（Eight）'!H121)","v":""},{"$f":"IF('名刺管理（Eight）'!K121=\"\",\"\",'名刺管理（Eight）'!K121)","v":""},{"$f":"IF('名刺管理（Eight）'!L121=\"\",\"\",'名刺管理（Eight）'!L121)","v":""},{"$f":"IF('名刺管理（Eight）'!M121=\"\",\"\",'名刺管理（Eight）'!M121)","v":""},{"$f":"IF('名刺管理（Eight）'!N121=\"\",\"\",TEXT('名刺管理（Eight）'!N121,\"yyyy/m/d\"))","v":""}]
[{"$f":"LEFT('名刺管理（Eight）'!D122,D124)","v":""},{"$f":"RIGHT('名刺管理（Eight）'!D122,E124)","v":""},{"$f":"IF('名刺管理（Eight）'!D122=\"\",\"\",IF(LEN('名刺管理（Eight）'!D122)=D124+E124,\"\",\"不一致\"))","v":""},null,null,{"$f":"IF('名刺管理（Eight）'!A122=\"\",\"\",'名刺管理（Eight）'!A122)","v":""},{"$f":"IF('名刺管理（Eight）'!B122=\"\",\"\",'名刺管理（Eight）'!B122)","v":""},{"$f":"IF('名刺管理（Eight）'!C122=\"\",\"\",'名刺管理（Eight）'!C122)","v":""},{"$f":"IF('名刺管理（Eight）'!E122=\"\",\"\",'名刺管理（Eight）'!E122)","v":""},{"$f":"IF('名刺管理（Eight）'!F122=\"\",\"\",'名刺管理（Eight）'!F122)","v":""},{"$f":"IF('名刺管理（Eight）'!G122=\"\",\"\",IF(LEFT('名刺管理（Eight）'!G122,3)=\"神奈川\",LEFT('名刺管理（Eight）'!G122,4),IF(LEFT('名刺管理（Eight）'!G122,3)=\"和歌山\",LEFT('名刺管理（Eight）'!G122,4),IF(LEFT('名刺管理（Eight）'!G122,3)=\"鹿児島\",LEFT('名刺管理（Eight）'!G122,4),LEFT('名刺管理（Eight）'!G122,3)))))","v":""},{"$f":"IF(K124=\"\",\"\",IF(LEN(K124)=3,MID('名刺管理（Eight）'!G122,4,50),MID('名刺管理（Eight）'!G122,5,50)))","v":""},{"$f":"IF('名刺管理（Eight）'!H122=\"\",\"\",'名刺管理（Eight）'!H122)","v":""},{"$f":"IF('名刺管理（Eight）'!K122=\"\",\"\",'名刺管理（Eight）'!K122)","v":""},{"$f":"IF('名刺管理（Eight）'!L122=\"\",\"\",'名刺管理（Eight）'!L122)","v":""},{"$f":"IF('名刺管理（Eight）'!M122=\"\",\"\",'名刺管理（Eight）'!M122)","v":""},{"$f":"IF('名刺管理（Eight）'!N122=\"\",\"\",TEXT('名刺管理（Eight）'!N122,\"yyyy/m/d\"))","v":""}]
[{"$f":"LEFT('名刺管理（Eight）'!D123,D125)","v":""},{"$f":"RIGHT('名刺管理（Eight）'!D123,E125)","v":""},{"$f":"IF('名刺管理（Eight）'!D123=\"\",\"\",IF(LEN('名刺管理（Eight）'!D123)=D125+E125,\"\",\"不一致\"))","v":""},null,null,{"$f":"IF('名刺管理（Eight）'!A123=\"\",\"\",'名刺管理（Eight）'!A123)","v":""},{"$f":"IF('名刺管理（Eight）'!B123=\"\",\"\",'名刺管理（Eight）'!B123)","v":""},{"$f":"IF('名刺管理（Eight）'!C123=\"\",\"\",'名刺管理（Eight）'!C123)","v":""},{"$f":"IF('名刺管理（Eight）'!E123=\"\",\"\",'名刺管理（Eight）'!E123)","v":""},{"$f":"IF('名刺管理（Eight）'!F123=\"\",\"\",'名刺管理（Eight）'!F123)","v":""},{"$f":"IF('名刺管理（Eight）'!G123=\"\",\"\",IF(LEFT('名刺管理（Eight）'!G123,3)=\"神奈川\",LEFT('名刺管理（Eight）'!G123,4),IF(LEFT('名刺管理（Eight）'!G123,3)=\"和歌山\",LEFT('名刺管理（Eight）'!G123,4),IF(LEFT('名刺管理（Eight）'!G123,3)=\"鹿児島\",LEFT('名刺管理（Eight）'!G123,4),LEFT('名刺管理（Eight）'!G123,3)))))","v":""},{"$f":"IF(K125=\"\",\"\",IF(LEN(K125)=3,MID('名刺管理（Eight）'!G123,4,50),MID('名刺管理（Eight）'!G123,5,50)))","v":""},{"$f":"IF('名刺管理（Eight）'!H123=\"\",\"\",'名刺管理（Eight）'!H123)","v":""},{"$f":"IF('名刺管理（Eight）'!K123=\"\",\"\",'名刺管理（Eight）'!K123)","v":""},{"$f":"IF('名刺管理（Eight）'!L123=\"\",\"\",'名刺管理（Eight）'!L123)","v":""},{"$f":"IF('名刺管理（Eight）'!M123=\"\",\"\",'名刺管理（Eight）'!M123)","v":""},{"$f":"IF('名刺管理（Eight）'!N123=\"\",\"\",TEXT('名刺管理（Eight）'!N123,\"yyyy/m/d\"))","v":""}]
[{"$f":"LEFT('名刺管理（Eight）'!D124,D126)","v":""},{"$f":"RIGHT('名刺管理（Eight）'!D124,E126)","v":""},{"$f":"IF('名刺管理（Eight）'!D124=\"\",\"\",IF(LEN('名刺管理（Eight）'!D124)=D126+E126,\"\",\"不一致\"))","v":""},null,null,{"$f":"IF('名刺管理（Eight）'!A124=\"\",\"\",'名刺管理（Eight）'!A124)","v":""},{"$f":"IF('名刺管理（Eight）'!B124=\"\",\"\",'名刺管理（Eight）'!B124)","v":""},{"$f":"IF('名刺管理（Eight）'!C124=\"\",\"\",'名刺管理（Eight）'!C124)","v":""},{"$f":"IF('名刺管理（Eight）'!E124=\"\",\"\",'名刺管理（Eight）'!E124)","v":""},{"$f":"IF('名刺管理（Eight）'!F124=\"\",\"\",'名刺管理（Eight）'!F124)","v":""},{"$f":"IF('名刺管理（Eight）'!G124=\"\",\"\",IF(LEFT('名刺管理（Eight）'!G124,3)=\"神奈川\",LEFT('名刺管理（Eight）'!G124,4),IF(LEFT('名刺管理（Eight）'!G124,3)=\"和歌山\",LEFT('名刺管理（Eight）'!G124,4),IF(LEFT('名刺管理（Eight）'!G124,3)=\"鹿児島\",LEFT('名刺管理（Eight）'!G124,4),LEFT('名刺管理（Eight）'!G124,3)))))","v":""},{"$f":"IF(K126=\"\",\"\",IF(LEN(K126)=3,MID('名刺管理（Eight）'!G124,4,50),MID('名刺管理（Eight）'!G124,5,50)))","v":""},{"$f":"IF('名刺管理（Eight）'!H124=\"\",\"\",'名刺管理（Eight）'!H124)","v":""},{"$f":"IF('名刺管理（Eight）'!K124=\"\",\"\",'名刺管理（Eight）'!K124)","v":""},{"$f":"IF('名刺管理（Eight）'!L124=\"\",\"\",'名刺管理（Eight）'!L124)","v":""},{"$f":"IF('名刺管理（Eight）'!M124=\"\",\"\",'名刺管理（Eight）'!M124)","v":""},{"$f":"IF('名刺管理（Eight）'!N124=\"\",\"\",TEXT('名刺管理（Eight）'!N124,\"yyyy/m/d\"))","v":""}]
[{"$f":"LEFT('名刺管理（Eight）'!D125,D127)","v":""},{"$f":"RIGHT('名刺管理（Eight）'!D125,E127)","v":""},{"$f":"IF('名刺管理（Eight）'!D125=\"\",\"\",IF(LEN('名刺管理（Eight）'!D125)=D127+E127,\"\",\"不一致\"))","v":""},null,null,{"$f":"IF('名刺管理（Eight）'!A125=\"\",\"\",'名刺管理（Eight）'!A125)","v":""},{"$f":"IF('名刺管理（Eight）'!B125=\"\",\"\",'名刺管理（Eight）'!B125)","v":""},{"$f":"IF('名刺管理（Eight）'!C125=\"\",\"\",'名刺管理（Eight）'!C125)","v":""},{"$f":"IF('名刺管理（Eight）'!E125=\"\",\"\",'名刺管理（Eight）'!E125)","v":""},{"$f":"IF('名刺管理（Eight）'!F125=\"\",\"\",'名刺管理（Eight）'!F125)","v":""},{"$f":"IF('名刺管理（Eight）'!G125=\"\",\"\",IF(LEFT('名刺管理（Eight）'!G125,3)=\"神奈川\",LEFT('名刺管理（Eight）'!G125,4),IF(LEFT('名刺管理（Eight）'!G125,3)=\"和歌山\",LEFT('名刺管理（Eight）'!G125,4),IF(LEFT('名刺管理（Eight）'!G125,3)=\"鹿児島\",LEFT('名刺管理（Eight）'!G125,4),LEFT('名刺管理（Eight）'!G125,3)))))","v":""},{"$f":"IF(K127=\"\",\"\",IF(LEN(K127)=3,MID('名刺管理（Eight）'!G125,4,50),MID('名刺管理（Eight）'!G125,5,50)))","v":""},{"$f":"IF('名刺管理（Eight）'!H125=\"\",\"\",'名刺管理（Eight）'!H125)","v":""},{"$f":"IF('名刺管理（Eight）'!K125=\"\",\"\",'名刺管理（Eight）'!K125)","v":""},{"$f":"IF('名刺管理（Eight）'!L125=\"\",\"\",'名刺管理（Eight）'!L125)","v":""},{"$f":"IF('名刺管理（Eight）'!M125=\"\",\"\",'名刺管理（Eight）'!M125)","v":""},{"$f":"IF('名刺管理（Eight）'!N125=\"\",\"\",TEXT('名刺管理（Eight）'!N125,\"yyyy/m/d\"))","v":""}]
[{"$f":"LEFT('名刺管理（Eight）'!D126,D128)","v":""},{"$f":"RIGHT('名刺管理（Eight）'!D126,E128)","v":""},{"$f":"IF('名刺管理（Eight）'!D126=\"\",\"\",IF(LEN('名刺管理（Eight）'!D126)=D128+E128,\"\",\"不一致\"))","v":""},null,null,{"$f":"IF('名刺管理（Eight）'!A126=\"\",\"\",'名刺管理（Eight）'!A126)","v":""},{"$f":"IF('名刺管理（Eight）'!B126=\"\",\"\",'名刺管理（Eight）'!B126)","v":""},{"$f":"IF('名刺管理（Eight）'!C126=\"\",\"\",'名刺管理（Eight）'!C126)","v":""},{"$f":"IF('名刺管理（Eight）'!E126=\"\",\"\",'名刺管理（Eight）'!E126)","v":""},{"$f":"IF('名刺管理（Eight）'!F126=\"\",\"\",'名刺管理（Eight）'!F126)","v":""},{"$f":"IF('名刺管理（Eight）'!G126=\"\",\"\",IF(LEFT('名刺管理（Eight）'!G126,3)=\"神奈川\",LEFT('名刺管理（Eight）'!G126,4),IF(LEFT('名刺管理（Eight）'!G126,3)=\"和歌山\",LEFT('名刺管理（Eight）'!G126,4),IF(LEFT('名刺管理（Eight）'!G126,3)=\"鹿児島\",LEFT('名刺管理（Eight）'!G126,4),LEFT('名刺管理（Eight）'!G126,3)))))","v":""},{"$f":"IF(K128=\"\",\"\",IF(LEN(K128)=3,MID('名刺管理（Eight）'!G126,4,50),MID('名刺管理（Eight）'!G126,5,50)))","v":""},{"$f":"IF('名刺管理（Eight）'!H126=\"\",\"\",'名刺管理（Eight）'!H126)","v":""},{"$f":"IF('名刺管理（Eight）'!K126=\"\",\"\",'名刺管理（Eight）'!K126)","v":""},{"$f":"IF('名刺管理（Eight）'!L126=\"\",\"\",'名刺管理（Eight）'!L126)","v":""},{"$f":"IF('名刺管理（Eight）'!M126=\"\",\"\",'名刺管理（Eight）'!M126)","v":""},{"$f":"IF('名刺管理（Eight）'!N126=\"\",\"\",TEXT('名刺管理（Eight）'!N126,\"yyyy/m/d\"))","v":""}]
[{"$f":"LEFT('名刺管理（Eight）'!D127,D129)","v":""},{"$f":"RIGHT('名刺管理（Eight）'!D127,E129)","v":""},{"$f":"IF('名刺管理（Eight）'!D127=\"\",\"\",IF(LEN('名刺管理（Eight）'!D127)=D129+E129,\"\",\"不一致\"))","v":""},null,null,{"$f":"IF('名刺管理（Eight）'!A127=\"\",\"\",'名刺管理（Eight）'!A127)","v":""},{"$f":"IF('名刺管理（Eight）'!B127=\"\",\"\",'名刺管理（Eight）'!B127)","v":""},{"$f":"IF('名刺管理（Eight）'!C127=\"\",\"\",'名刺管理（Eight）'!C127)","v":""},{"$f":"IF('名刺管理（Eight）'!E127=\"\",\"\",'名刺管理（Eight）'!E127)","v":""},{"$f":"IF('名刺管理（Eight）'!F127=\"\",\"\",'名刺管理（Eight）'!F127)","v":""},{"$f":"IF('名刺管理（Eight）'!G127=\"\",\"\",IF(LEFT('名刺管理（Eight）'!G127,3)=\"神奈川\",LEFT('名刺管理（Eight）'!G127,4),IF(LEFT('名刺管理（Eight）'!G127,3)=\"和歌山\",LEFT('名刺管理（Eight）'!G127,4),IF(LEFT('名刺管理（Eight）'!G127,3)=\"鹿児島\",LEFT('名刺管理（Eight）'!G127,4),LEFT('名刺管理（Eight）'!G127,3)))))","v":""},{"$f":"IF(K129=\"\",\"\",IF(LEN(K129)=3,MID('名刺管理（Eight）'!G127,4,50),MID('名刺管理（Eight）'!G127,5,50)))","v":""},{"$f":"IF('名刺管理（Eight）'!H127=\"\",\"\",'名刺管理（Eight）'!H127)","v":""},{"$f":"IF('名刺管理（Eight）'!K127=\"\",\"\",'名刺管理（Eight）'!K127)","v":""},{"$f":"IF('名刺管理（Eight）'!L127=\"\",\"\",'名刺管理（Eight）'!L127)","v":""},{"$f":"IF('名刺管理（Eight）'!M127=\"\",\"\",'名刺管理（Eight）'!M127)","v":""},{"$f":"IF('名刺管理（Eight）'!N127=\"\",\"\",TEXT('名刺管理（Eight）'!N127,\"yyyy/m/d\"))","v":""}]
[{"$f":"LEFT('名刺管理（Eight）'!D128,D130)","v":""},{"$f":"RIGHT('名刺管理（Eight）'!D128,E130)","v":""},{"$f":"IF('名刺管理（Eight）'!D128=\"\",\"\",IF(LEN('名刺管理（Eight）'!D128)=D130+E130,\"\",\"不一致\"))","v":""},null,null,{"$f":"IF('名刺管理（Eight）'!A128=\"\",\"\",'名刺管理（Eight）'!A128)","v":""},{"$f":"IF('名刺管理（Eight）'!B128=\"\",\"\",'名刺管理（Eight）'!B128)","v":""},{"$f":"IF('名刺管理（Eight）'!C128=\"\",\"\",'名刺管理（Eight）'!C128)","v":""},{"$f":"IF('名刺管理（Eight）'!E128=\"\",\"\",'名刺管理（Eight）'!E128)","v":""},{"$f":"IF('名刺管理（Eight）'!F128=\"\",\"\",'名刺管理（Eight）'!F128)","v":""},{"$f":"IF('名刺管理（Eight）'!G128=\"\",\"\",IF(LEFT('名刺管理（Eight）'!G128,3)=\"神奈川\",LEFT('名刺管理（Eight）'!G128,4),IF(LEFT('名刺管理（Eight）'!G128,3)=\"和歌山\",LEFT('名刺管理（Eight）'!G128,4),IF(LEFT('名刺管理（Eight）'!G128,3)=\"鹿児島\",LEFT('名刺管理（Eight）'!G128,4),LEFT('名刺管理（Eight）'!G128,3)))))","v":""},{"$f":"IF(K130=\"\",\"\",IF(LEN(K130)=3,MID('名刺管理（Eight）'!G128,4,50),MID('名刺管理（Eight）'!G128,5,50)))","v":""},{"$f":"IF('名刺管理（Eight）'!H128=\"\",\"\",'名刺管理（Eight）'!H128)","v":""},{"$f":"IF('名刺管理（Eight）'!K128=\"\",\"\",'名刺管理（Eight）'!K128)","v":""},{"$f":"IF('名刺管理（Eight）'!L128=\"\",\"\",'名刺管理（Eight）'!L128)","v":""},{"$f":"IF('名刺管理（Eight）'!M128=\"\",\"\",'名刺管理（Eight）'!M128)","v":""},{"$f":"IF('名刺管理（Eight）'!N128=\"\",\"\",TEXT('名刺管理（Eight）'!N128,\"yyyy/m/d\"))","v":""}]
[{"$f":"LEFT('名刺管理（Eight）'!D129,D131)","v":""},{"$f":"RIGHT('名刺管理（Eight）'!D129,E131)","v":""},{"$f":"IF('名刺管理（Eight）'!D129=\"\",\"\",IF(LEN('名刺管理（Eight）'!D129)=D131+E131,\"\",\"不一致\"))","v":""},null,null,{"$f":"IF('名刺管理（Eight）'!A129=\"\",\"\",'名刺管理（Eight）'!A129)","v":""},{"$f":"IF('名刺管理（Eight）'!B129=\"\",\"\",'名刺管理（Eight）'!B129)","v":""},{"$f":"IF('名刺管理（Eight）'!C129=\"\",\"\",'名刺管理（Eight）'!C129)","v":""},{"$f":"IF('名刺管理（Eight）'!E129=\"\",\"\",'名刺管理（Eight）'!E129)","v":""},{"$f":"IF('名刺管理（Eight）'!F129=\"\",\"\",'名刺管理（Eight）'!F129)","v":""},{"$f":"IF('名刺管理（Eight）'!G129=\"\",\"\",IF(LEFT('名刺管理（Eight）'!G129,3)=\"神奈川\",LEFT('名刺管理（Eight）'!G129,4),IF(LEFT('名刺管理（Eight）'!G129,3)=\"和歌山\",LEFT('名刺管理（Eight）'!G129,4),IF(LEFT('名刺管理（Eight）'!G129,3)=\"鹿児島\",LEFT('名刺管理（Eight）'!G129,4),LEFT('名刺管理（Eight）'!G129,3)))))","v":""},{"$f":"IF(K131=\"\",\"\",IF(LEN(K131)=3,MID('名刺管理（Eight）'!G129,4,50),MID('名刺管理（Eight）'!G129,5,50)))","v":""},{"$f":"IF('名刺管理（Eight）'!H129=\"\",\"\",'名刺管理（Eight）'!H129)","v":""},{"$f":"IF('名刺管理（Eight）'!K129=\"\",\"\",'名刺管理（Eight）'!K129)","v":""},{"$f":"IF('名刺管理（Eight）'!L129=\"\",\"\",'名刺管理（Eight）'!L129)","v":""},{"$f":"IF('名刺管理（Eight）'!M129=\"\",\"\",'名刺管理（Eight）'!M129)","v":""},{"$f":"IF('名刺管理（Eight）'!N129=\"\",\"\",TEXT('名刺管理（Eight）'!N129,\"yyyy/m/d\"))","v":""}]
[{"$f":"LEFT('名刺管理（Eight）'!D130,D132)","v":""},{"$f":"RIGHT('名刺管理（Eight）'!D130,E132)","v":""},{"$f":"IF('名刺管理（Eight）'!D130=\"\",\"\",IF(LEN('名刺管理（Eight）'!D130)=D132+E132,\"\",\"不一致\"))","v":""},null,null,{"$f":"IF('名刺管理（Eight）'!A130=\"\",\"\",'名刺管理（Eight）'!A130)","v":""},{"$f":"IF('名刺管理（Eight）'!B130=\"\",\"\",'名刺管理（Eight）'!B130)","v":""},{"$f":"IF('名刺管理（Eight）'!C130=\"\",\"\",'名刺管理（Eight）'!C130)","v":""},{"$f":"IF('名刺管理（Eight）'!E130=\"\",\"\",'名刺管理（Eight）'!E130)","v":""},{"$f":"IF('名刺管理（Eight）'!F130=\"\",\"\",'名刺管理（Eight）'!F130)","v":""},{"$f":"IF('名刺管理（Eight）'!G130=\"\",\"\",IF(LEFT('名刺管理（Eight）'!G130,3)=\"神奈川\",LEFT('名刺管理（Eight）'!G130,4),IF(LEFT('名刺管理（Eight）'!G130,3)=\"和歌山\",LEFT('名刺管理（Eight）'!G130,4),IF(LEFT('名刺管理（Eight）'!G130,3)=\"鹿児島\",LEFT('名刺管理（Eight）'!G130,4),LEFT('名刺管理（Eight）'!G130,3)))))","v":""},{"$f":"IF(K132=\"\",\"\",IF(LEN(K132)=3,MID('名刺管理（Eight）'!G130,4,50),MID('名刺管理（Eight）'!G130,5,50)))","v":""},{"$f":"IF('名刺管理（Eight）'!H130=\"\",\"\",'名刺管理（Eight）'!H130)","v":""},{"$f":"IF('名刺管理（Eight）'!K130=\"\",\"\",'名刺管理（Eight）'!K130)","v":""},{"$f":"IF('名刺管理（Eight）'!L130=\"\",\"\",'名刺管理（Eight）'!L130)","v":""},{"$f":"IF('名刺管理（Eight）'!M130=\"\",\"\",'名刺管理（Eight）'!M130)","v":""},{"$f":"IF('名刺管理（Eight）'!N130=\"\",\"\",TEXT('名刺管理（Eight）'!N130,\"yyyy/m/d\"))","v":""}]
[{"$f":"LEFT('名刺管理（Eight）'!D131,D133)","v":""},{"$f":"RIGHT('名刺管理（Eight）'!D131,E133)","v":""},{"$f":"IF('名刺管理（Eight）'!D131=\"\",\"\",IF(LEN('名刺管理（Eight）'!D131)=D133+E133,\"\",\"不一致\"))","v":""},null,null,{"$f":"IF('名刺管理（Eight）'!A131=\"\",\"\",'名刺管理（Eight）'!A131)","v":""},{"$f":"IF('名刺管理（Eight）'!B131=\"\",\"\",'名刺管理（Eight）'!B131)","v":""},{"$f":"IF('名刺管理（Eight）'!C131=\"\",\"\",'名刺管理（Eight）'!C131)","v":""},{"$f":"IF('名刺管理（Eight）'!E131=\"\",\"\",'名刺管理（Eight）'!E131)","v":""},{"$f":"IF('名刺管理（Eight）'!F131=\"\",\"\",'名刺管理（Eight）'!F131)","v":""},{"$f":"IF('名刺管理（Eight）'!G131=\"\",\"\",IF(LEFT('名刺管理（Eight）'!G131,3)=\"神奈川\",LEFT('名刺管理（Eight）'!G131,4),IF(LEFT('名刺管理（Eight）'!G131,3)=\"和歌山\",LEFT('名刺管理（Eight）'!G131,4),IF(LEFT('名刺管理（Eight）'!G131,3)=\"鹿児島\",LEFT('名刺管理（Eight）'!G131,4),LEFT('名刺管理（Eight）'!G131,3)))))","v":""},{"$f":"IF(K133=\"\",\"\",IF(LEN(K133)=3,MID('名刺管理（Eight）'!G131,4,50),MID('名刺管理（Eight）'!G131,5,50)))","v":""},{"$f":"IF('名刺管理（Eight）'!H131=\"\",\"\",'名刺管理（Eight）'!H131)","v":""},{"$f":"IF('名刺管理（Eight）'!K131=\"\",\"\",'名刺管理（Eight）'!K131)","v":""},{"$f":"IF('名刺管理（Eight）'!L131=\"\",\"\",'名刺管理（Eight）'!L131)","v":""},{"$f":"IF('名刺管理（Eight）'!M131=\"\",\"\",'名刺管理（Eight）'!M131)","v":""},{"$f":"IF('名刺管理（Eight）'!N131=\"\",\"\",TEXT('名刺管理（Eight）'!N131,\"yyyy/m/d\"))","v":""}]
[{"$f":"LEFT('名刺管理（Eight）'!D132,D134)","v":""},{"$f":"RIGHT('名刺管理（Eight）'!D132,E134)","v":""},{"$f":"IF('名刺管理（Eight）'!D132=\"\",\"\",IF(LEN('名刺管理（Eight）'!D132)=D134+E134,\"\",\"不一致\"))","v":""},null,null,{"$f":"IF('名刺管理（Eight）'!A132=\"\",\"\",'名刺管理（Eight）'!A132)","v":""},{"$f":"IF('名刺管理（Eight）'!B132=\"\",\"\",'名刺管理（Eight）'!B132)","v":""},{"$f":"IF('名刺管理（Eight）'!C132=\"\",\"\",'名刺管理（Eight）'!C132)","v":""},{"$f":"IF('名刺管理（Eight）'!E132=\"\",\"\",'名刺管理（Eight）'!E132)","v":""},{"$f":"IF('名刺管理（Eight）'!F132=\"\",\"\",'名刺管理（Eight）'!F132)","v":""},{"$f":"IF('名刺管理（Eight）'!G132=\"\",\"\",IF(LEFT('名刺管理（Eight）'!G132,3)=\"神奈川\",LEFT('名刺管理（Eight）'!G132,4),IF(LEFT('名刺管理（Eight）'!G132,3)=\"和歌山\",LEFT('名刺管理（Eight）'!G132,4),IF(LEFT('名刺管理（Eight）'!G132,3)=\"鹿児島\",LEFT('名刺管理（Eight）'!G132,4),LEFT('名刺管理（Eight）'!G132,3)))))","v":""},{"$f":"IF(K134=\"\",\"\",IF(LEN(K134)=3,MID('名刺管理（Eight）'!G132,4,50),MID('名刺管理（Eight）'!G132,5,50)))","v":""},{"$f":"IF('名刺管理（Eight）'!H132=\"\",\"\",'名刺管理（Eight）'!H132)","v":""},{"$f":"IF('名刺管理（Eight）'!K132=\"\",\"\",'名刺管理（Eight）'!K132)","v":""},{"$f":"IF('名刺管理（Eight）'!L132=\"\",\"\",'名刺管理（Eight）'!L132)","v":""},{"$f":"IF('名刺管理（Eight）'!M132=\"\",\"\",'名刺管理（Eight）'!M132)","v":""},{"$f":"IF('名刺管理（Eight）'!N132=\"\",\"\",TEXT('名刺管理（Eight）'!N132,\"yyyy/m/d\"))","v":""}]
[{"$f":"LEFT('名刺管理（Eight）'!D133,D135)","v":""},{"$f":"RIGHT('名刺管理（Eight）'!D133,E135)","v":""},{"$f":"IF('名刺管理（Eight）'!D133=\"\",\"\",IF(LEN('名刺管理（Eight）'!D133)=D135+E135,\"\",\"不一致\"))","v":""},null,null,{"$f":"IF('名刺管理（Eight）'!A133=\"\",\"\",'名刺管理（Eight）'!A133)","v":""},{"$f":"IF('名刺管理（Eight）'!B133=\"\",\"\",'名刺管理（Eight）'!B133)","v":""},{"$f":"IF('名刺管理（Eight）'!C133=\"\",\"\",'名刺管理（Eight）'!C133)","v":""},{"$f":"IF('名刺管理（Eight）'!E133=\"\",\"\",'名刺管理（Eight）'!E133)","v":""},{"$f":"IF('名刺管理（Eight）'!F133=\"\",\"\",'名刺管理（Eight）'!F133)","v":""},{"$f":"IF('名刺管理（Eight）'!G133=\"\",\"\",IF(LEFT('名刺管理（Eight）'!G133,3)=\"神奈川\",LEFT('名刺管理（Eight）'!G133,4),IF(LEFT('名刺管理（Eight）'!G133,3)=\"和歌山\",LEFT('名刺管理（Eight）'!G133,4),IF(LEFT('名刺管理（Eight）'!G133,3)=\"鹿児島\",LEFT('名刺管理（Eight）'!G133,4),LEFT('名刺管理（Eight）'!G133,3)))))","v":""},{"$f":"IF(K135=\"\",\"\",IF(LEN(K135)=3,MID('名刺管理（Eight）'!G133,4,50),MID('名刺管理（Eight）'!G133,5,50)))","v":""},{"$f":"IF('名刺管理（Eight）'!H133=\"\",\"\",'名刺管理（Eight）'!H133)","v":""},{"$f":"IF('名刺管理（Eight）'!K133=\"\",\"\",'名刺管理（Eight）'!K133)","v":""},{"$f":"IF('名刺管理（Eight）'!L133=\"\",\"\",'名刺管理（Eight）'!L133)","v":""},{"$f":"IF('名刺管理（Eight）'!M133=\"\",\"\",'名刺管理（Eight）'!M133)","v":""},{"$f":"IF('名刺管理（Eight）'!N133=\"\",\"\",TEXT('名刺管理（Eight）'!N133,\"yyyy/m/d\"))","v":""}]
[{"$f":"LEFT('名刺管理（Eight）'!D134,D136)","v":""},{"$f":"RIGHT('名刺管理（Eight）'!D134,E136)","v":""},{"$f":"IF('名刺管理（Eight）'!D134=\"\",\"\",IF(LEN('名刺管理（Eight）'!D134)=D136+E136,\"\",\"不一致\"))","v":""},null,null,{"$f":"IF('名刺管理（Eight）'!A134=\"\",\"\",'名刺管理（Eight）'!A134)","v":""},{"$f":"IF('名刺管理（Eight）'!B134=\"\",\"\",'名刺管理（Eight）'!B134)","v":""},{"$f":"IF('名刺管理（Eight）'!C134=\"\",\"\",'名刺管理（Eight）'!C134)","v":""},{"$f":"IF('名刺管理（Eight）'!E134=\"\",\"\",'名刺管理（Eight）'!E134)","v":""},{"$f":"IF('名刺管理（Eight）'!F134=\"\",\"\",'名刺管理（Eight）'!F134)","v":""},{"$f":"IF('名刺管理（Eight）'!G134=\"\",\"\",IF(LEFT('名刺管理（Eight）'!G134,3)=\"神奈川\",LEFT('名刺管理（Eight）'!G134,4),IF(LEFT('名刺管理（Eight）'!G134,3)=\"和歌山\",LEFT('名刺管理（Eight）'!G134,4),IF(LEFT('名刺管理（Eight）'!G134,3)=\"鹿児島\",LEFT('名刺管理（Eight）'!G134,4),LEFT('名刺管理（Eight）'!G134,3)))))","v":""},{"$f":"IF(K136=\"\",\"\",IF(LEN(K136)=3,MID('名刺管理（Eight）'!G134,4,50),MID('名刺管理（Eight）'!G134,5,50)))","v":""},{"$f":"IF('名刺管理（Eight）'!H134=\"\",\"\",'名刺管理（Eight）'!H134)","v":""},{"$f":"IF('名刺管理（Eight）'!K134=\"\",\"\",'名刺管理（Eight）'!K134)","v":""},{"$f":"IF('名刺管理（Eight）'!L134=\"\",\"\",'名刺管理（Eight）'!L134)","v":""},{"$f":"IF('名刺管理（Eight）'!M134=\"\",\"\",'名刺管理（Eight）'!M134)","v":""},{"$f":"IF('名刺管理（Eight）'!N134=\"\",\"\",TEXT('名刺管理（Eight）'!N134,\"yyyy/m/d\"))","v":""}]
[{"$f":"LEFT('名刺管理（Eight）'!D135,D137)","v":""},{"$f":"RIGHT('名刺管理（Eight）'!D135,E137)","v":""},{"$f":"IF('名刺管理（Eight）'!D135=\"\",\"\",IF(LEN('名刺管理（Eight）'!D135)=D137+E137,\"\",\"不一致\"))","v":""},null,null,{"$f":"IF('名刺管理（Eight）'!A135=\"\",\"\",'名刺管理（Eight）'!A135)","v":""},{"$f":"IF('名刺管理（Eight）'!B135=\"\",\"\",'名刺管理（Eight）'!B135)","v":""},{"$f":"IF('名刺管理（Eight）'!C135=\"\",\"\",'名刺管理（Eight）'!C135)","v":""},{"$f":"IF('名刺管理（Eight）'!E135=\"\",\"\",'名刺管理（Eight）'!E135)","v":""},{"$f":"IF('名刺管理（Eight）'!F135=\"\",\"\",'名刺管理（Eight）'!F135)","v":""},{"$f":"IF('名刺管理（Eight）'!G135=\"\",\"\",IF(LEFT('名刺管理（Eight）'!G135,3)=\"神奈川\",LEFT('名刺管理（Eight）'!G135,4),IF(LEFT('名刺管理（Eight）'!G135,3)=\"和歌山\",LEFT('名刺管理（Eight）'!G135,4),IF(LEFT('名刺管理（Eight）'!G135,3)=\"鹿児島\",LEFT('名刺管理（Eight）'!G135,4),LEFT('名刺管理（Eight）'!G135,3)))))","v":""},{"$f":"IF(K137=\"\",\"\",IF(LEN(K137)=3,MID('名刺管理（Eight）'!G135,4,50),MID('名刺管理（Eight）'!G135,5,50)))","v":""},{"$f":"IF('名刺管理（Eight）'!H135=\"\",\"\",'名刺管理（Eight）'!H135)","v":""},{"$f":"IF('名刺管理（Eight）'!K135=\"\",\"\",'名刺管理（Eight）'!K135)","v":""},{"$f":"IF('名刺管理（Eight）'!L135=\"\",\"\",'名刺管理（Eight）'!L135)","v":""},{"$f":"IF('名刺管理（Eight）'!M135=\"\",\"\",'名刺管理（Eight）'!M135)","v":""},{"$f":"IF('名刺管理（Eight）'!N135=\"\",\"\",TEXT('名刺管理（Eight）'!N135,\"yyyy/m/d\"))","v":""}]
[{"$f":"LEFT('名刺管理（Eight）'!D136,D138)","v":""},{"$f":"RIGHT('名刺管理（Eight）'!D136,E138)","v":""},{"$f":"IF('名刺管理（Eight）'!D136=\"\",\"\",IF(LEN('名刺管理（Eight）'!D136)=D138+E138,\"\",\"不一致\"))","v":""},null,null,{"$f":"IF('名刺管理（Eight）'!A136=\"\",\"\",'名刺管理（Eight）'!A136)","v":""},{"$f":"IF('名刺管理（Eight）'!B136=\"\",\"\",'名刺管理（Eight）'!B136)","v":""},{"$f":"IF('名刺管理（Eight）'!C136=\"\",\"\",'名刺管理（Eight）'!C136)","v":""},{"$f":"IF('名刺管理（Eight）'!E136=\"\",\"\",'名刺管理（Eight）'!E136)","v":""},{"$f":"IF('名刺管理（Eight）'!F136=\"\",\"\",'名刺管理（Eight）'!F136)","v":""},{"$f":"IF('名刺管理（Eight）'!G136=\"\",\"\",IF(LEFT('名刺管理（Eight）'!G136,3)=\"神奈川\",LEFT('名刺管理（Eight）'!G136,4),IF(LEFT('名刺管理（Eight）'!G136,3)=\"和歌山\",LEFT('名刺管理（Eight）'!G136,4),IF(LEFT('名刺管理（Eight）'!G136,3)=\"鹿児島\",LEFT('名刺管理（Eight）'!G136,4),LEFT('名刺管理（Eight）'!G136,3)))))","v":""},{"$f":"IF(K138=\"\",\"\",IF(LEN(K138)=3,MID('名刺管理（Eight）'!G136,4,50),MID('名刺管理（Eight）'!G136,5,50)))","v":""},{"$f":"IF('名刺管理（Eight）'!H136=\"\",\"\",'名刺管理（Eight）'!H136)","v":""},{"$f":"IF('名刺管理（Eight）'!K136=\"\",\"\",'名刺管理（Eight）'!K136)","v":""},{"$f":"IF('名刺管理（Eight）'!L136=\"\",\"\",'名刺管理（Eight）'!L136)","v":""},{"$f":"IF('名刺管理（Eight）'!M136=\"\",\"\",'名刺管理（Eight）'!M136)","v":""},{"$f":"IF('名刺管理（Eight）'!N136=\"\",\"\",TEXT('名刺管理（Eight）'!N136,\"yyyy/m/d\"))","v":""}]
[{"$f":"LEFT('名刺管理（Eight）'!D137,D139)","v":""},{"$f":"RIGHT('名刺管理（Eight）'!D137,E139)","v":""},{"$f":"IF('名刺管理（Eight）'!D137=\"\",\"\",IF(LEN('名刺管理（Eight）'!D137)=D139+E139,\"\",\"不一致\"))","v":""},null,null,{"$f":"IF('名刺管理（Eight）'!A137=\"\",\"\",'名刺管理（Eight）'!A137)","v":""},{"$f":"IF('名刺管理（Eight）'!B137=\"\",\"\",'名刺管理（Eight）'!B137)","v":""},{"$f":"IF('名刺管理（Eight）'!C137=\"\",\"\",'名刺管理（Eight）'!C137)","v":""},{"$f":"IF('名刺管理（Eight）'!E137=\"\",\"\",'名刺管理（Eight）'!E137)","v":""},{"$f":"IF('名刺管理（Eight）'!F137=\"\",\"\",'名刺管理（Eight）'!F137)","v":""},{"$f":"IF('名刺管理（Eight）'!G137=\"\",\"\",IF(LEFT('名刺管理（Eight）'!G137,3)=\"神奈川\",LEFT('名刺管理（Eight）'!G137,4),IF(LEFT('名刺管理（Eight）'!G137,3)=\"和歌山\",LEFT('名刺管理（Eight）'!G137,4),IF(LEFT('名刺管理（Eight）'!G137,3)=\"鹿児島\",LEFT('名刺管理（Eight）'!G137,4),LEFT('名刺管理（Eight）'!G137,3)))))","v":""},{"$f":"IF(K139=\"\",\"\",IF(LEN(K139)=3,MID('名刺管理（Eight）'!G137,4,50),MID('名刺管理（Eight）'!G137,5,50)))","v":""},{"$f":"IF('名刺管理（Eight）'!H137=\"\",\"\",'名刺管理（Eight）'!H137)","v":""},{"$f":"IF('名刺管理（Eight）'!K137=\"\",\"\",'名刺管理（Eight）'!K137)","v":""},{"$f":"IF('名刺管理（Eight）'!L137=\"\",\"\",'名刺管理（Eight）'!L137)","v":""},{"$f":"IF('名刺管理（Eight）'!M137=\"\",\"\",'名刺管理（Eight）'!M137)","v":""},{"$f":"IF('名刺管理（Eight）'!N137=\"\",\"\",TEXT('名刺管理（Eight）'!N137,\"yyyy/m/d\"))","v":""}]
[{"$f":"LEFT('名刺管理（Eight）'!D138,D140)","v":""},{"$f":"RIGHT('名刺管理（Eight）'!D138,E140)","v":""},{"$f":"IF('名刺管理（Eight）'!D138=\"\",\"\",IF(LEN('名刺管理（Eight）'!D138)=D140+E140,\"\",\"不一致\"))","v":""},null,null,{"$f":"IF('名刺管理（Eight）'!A138=\"\",\"\",'名刺管理（Eight）'!A138)","v":""},{"$f":"IF('名刺管理（Eight）'!B138=\"\",\"\",'名刺管理（Eight）'!B138)","v":""},{"$f":"IF('名刺管理（Eight）'!C138=\"\",\"\",'名刺管理（Eight）'!C138)","v":""},{"$f":"IF('名刺管理（Eight）'!E138=\"\",\"\",'名刺管理（Eight）'!E138)","v":""},{"$f":"IF('名刺管理（Eight）'!F138=\"\",\"\",'名刺管理（Eight）'!F138)","v":""},{"$f":"IF('名刺管理（Eight）'!G138=\"\",\"\",IF(LEFT('名刺管理（Eight）'!G138,3)=\"神奈川\",LEFT('名刺管理（Eight）'!G138,4),IF(LEFT('名刺管理（Eight）'!G138,3)=\"和歌山\",LEFT('名刺管理（Eight）'!G138,4),IF(LEFT('名刺管理（Eight）'!G138,3)=\"鹿児島\",LEFT('名刺管理（Eight）'!G138,4),LEFT('名刺管理（Eight）'!G138,3)))))","v":""},{"$f":"IF(K140=\"\",\"\",IF(LEN(K140)=3,MID('名刺管理（Eight）'!G138,4,50),MID('名刺管理（Eight）'!G138,5,50)))","v":""},{"$f":"IF('名刺管理（Eight）'!H138=\"\",\"\",'名刺管理（Eight）'!H138)","v":""},{"$f":"IF('名刺管理（Eight）'!K138=\"\",\"\",'名刺管理（Eight）'!K138)","v":""},{"$f":"IF('名刺管理（Eight）'!L138=\"\",\"\",'名刺管理（Eight）'!L138)","v":""},{"$f":"IF('名刺管理（Eight）'!M138=\"\",\"\",'名刺管理（Eight）'!M138)","v":""},{"$f":"IF('名刺管理（Eight）'!N138=\"\",\"\",TEXT('名刺管理（Eight）'!N138,\"yyyy/m/d\"))","v":""}]
[{"$f":"LEFT('名刺管理（Eight）'!D139,D141)","v":""},{"$f":"RIGHT('名刺管理（Eight）'!D139,E141)","v":""},{"$f":"IF('名刺管理（Eight）'!D139=\"\",\"\",IF(LEN('名刺管理（Eight）'!D139)=D141+E141,\"\",\"不一致\"))","v":""},null,null,{"$f":"IF('名刺管理（Eight）'!A139=\"\",\"\",'名刺管理（Eight）'!A139)","v":""},{"$f":"IF('名刺管理（Eight）'!B139=\"\",\"\",'名刺管理（Eight）'!B139)","v":""},{"$f":"IF('名刺管理（Eight）'!C139=\"\",\"\",'名刺管理（Eight）'!C139)","v":""},{"$f":"IF('名刺管理（Eight）'!E139=\"\",\"\",'名刺管理（Eight）'!E139)","v":""},{"$f":"IF('名刺管理（Eight）'!F139=\"\",\"\",'名刺管理（Eight）'!F139)","v":""},{"$f":"IF('名刺管理（Eight）'!G139=\"\",\"\",IF(LEFT('名刺管理（Eight）'!G139,3)=\"神奈川\",LEFT('名刺管理（Eight）'!G139,4),IF(LEFT('名刺管理（Eight）'!G139,3)=\"和歌山\",LEFT('名刺管理（Eight）'!G139,4),IF(LEFT('名刺管理（Eight）'!G139,3)=\"鹿児島\",LEFT('名刺管理（Eight）'!G139,4),LEFT('名刺管理（Eight）'!G139,3)))))","v":""},{"$f":"IF(K141=\"\",\"\",IF(LEN(K141)=3,MID('名刺管理（Eight）'!G139,4,50),MID('名刺管理（Eight）'!G139,5,50)))","v":""},{"$f":"IF('名刺管理（Eight）'!H139=\"\",\"\",'名刺管理（Eight）'!H139)","v":""},{"$f":"IF('名刺管理（Eight）'!K139=\"\",\"\",'名刺管理（Eight）'!K139)","v":""},{"$f":"IF('名刺管理（Eight）'!L139=\"\",\"\",'名刺管理（Eight）'!L139)","v":""},{"$f":"IF('名刺管理（Eight）'!M139=\"\",\"\",'名刺管理（Eight）'!M139)","v":""},{"$f":"IF('名刺管理（Eight）'!N139=\"\",\"\",TEXT('名刺管理（Eight）'!N139,\"yyyy/m/d\"))","v":""}]
[{"$f":"LEFT('名刺管理（Eight）'!D140,D142)","v":""},{"$f":"RIGHT('名刺管理（Eight）'!D140,E142)","v":""},{"$f":"IF('名刺管理（Eight）'!D140=\"\",\"\",IF(LEN('名刺管理（Eight）'!D140)=D142+E142,\"\",\"不一致\"))","v":""},null,null,{"$f":"IF('名刺管理（Eight）'!A140=\"\",\"\",'名刺管理（Eight）'!A140)","v":""},{"$f":"IF('名刺管理（Eight）'!B140=\"\",\"\",'名刺管理（Eight）'!B140)","v":""},{"$f":"IF('名刺管理（Eight）'!C140=\"\",\"\",'名刺管理（Eight）'!C140)","v":""},{"$f":"IF('名刺管理（Eight）'!E140=\"\",\"\",'名刺管理（Eight）'!E140)","v":""},{"$f":"IF('名刺管理（Eight）'!F140=\"\",\"\",'名刺管理（Eight）'!F140)","v":""},{"$f":"IF('名刺管理（Eight）'!G140=\"\",\"\",IF(LEFT('名刺管理（Eight）'!G140,3)=\"神奈川\",LEFT('名刺管理（Eight）'!G140,4),IF(LEFT('名刺管理（Eight）'!G140,3)=\"和歌山\",LEFT('名刺管理（Eight）'!G140,4),IF(LEFT('名刺管理（Eight）'!G140,3)=\"鹿児島\",LEFT('名刺管理（Eight）'!G140,4),LEFT('名刺管理（Eight）'!G140,3)))))","v":""},{"$f":"IF(K142=\"\",\"\",IF(LEN(K142)=3,MID('名刺管理（Eight）'!G140,4,50),MID('名刺管理（Eight）'!G140,5,50)))","v":""},{"$f":"IF('名刺管理（Eight）'!H140=\"\",\"\",'名刺管理（Eight）'!H140)","v":""},{"$f":"IF('名刺管理（Eight）'!K140=\"\",\"\",'名刺管理（Eight）'!K140)","v":""},{"$f":"IF('名刺管理（Eight）'!L140=\"\",\"\",'名刺管理（Eight）'!L140)","v":""},{"$f":"IF('名刺管理（Eight）'!M140=\"\",\"\",'名刺管理（Eight）'!M140)","v":""},{"$f":"IF('名刺管理（Eight）'!N140=\"\",\"\",TEXT('名刺管理（Eight）'!N140,\"yyyy/m/d\"))","v":""}]
[{"$f":"LEFT('名刺管理（Eight）'!D141,D143)","v":""},{"$f":"RIGHT('名刺管理（Eight）'!D141,E143)","v":""},{"$f":"IF('名刺管理（Eight）'!D141=\"\",\"\",IF(LEN('名刺管理（Eight）'!D141)=D143+E143,\"\",\"不一致\"))","v":""},null,null,{"$f":"IF('名刺管理（Eight）'!A141=\"\",\"\",'名刺管理（Eight）'!A141)","v":""},{"$f":"IF('名刺管理（Eight）'!B141=\"\",\"\",'名刺管理（Eight）'!B141)","v":""},{"$f":"IF('名刺管理（Eight）'!C141=\"\",\"\",'名刺管理（Eight）'!C141)","v":""},{"$f":"IF('名刺管理（Eight）'!E141=\"\",\"\",'名刺管理（Eight）'!E141)","v":""},{"$f":"IF('名刺管理（Eight）'!F141=\"\",\"\",'名刺管理（Eight）'!F141)","v":""},{"$f":"IF('名刺管理（Eight）'!G141=\"\",\"\",IF(LEFT('名刺管理（Eight）'!G141,3)=\"神奈川\",LEFT('名刺管理（Eight）'!G141,4),IF(LEFT('名刺管理（Eight）'!G141,3)=\"和歌山\",LEFT('名刺管理（Eight）'!G141,4),IF(LEFT('名刺管理（Eight）'!G141,3)=\"鹿児島\",LEFT('名刺管理（Eight）'!G141,4),LEFT('名刺管理（Eight）'!G141,3)))))","v":""},{"$f":"IF(K143=\"\",\"\",IF(LEN(K143)=3,MID('名刺管理（Eight）'!G141,4,50),MID('名刺管理（Eight）'!G141,5,50)))","v":""},{"$f":"IF('名刺管理（Eight）'!H141=\"\",\"\",'名刺管理（Eight）'!H141)","v":""},{"$f":"IF('名刺管理（Eight）'!K141=\"\",\"\",'名刺管理（Eight）'!K141)","v":""},{"$f":"IF('名刺管理（Eight）'!L141=\"\",\"\",'名刺管理（Eight）'!L141)","v":""},{"$f":"IF('名刺管理（Eight）'!M141=\"\",\"\",'名刺管理（Eight）'!M141)","v":""},{"$f":"IF('名刺管理（Eight）'!N141=\"\",\"\",TEXT('名刺管理（Eight）'!N141,\"yyyy/m/d\"))","v":""}]
[{"$f":"LEFT('名刺管理（Eight）'!D142,D144)","v":""},{"$f":"RIGHT('名刺管理（Eight）'!D142,E144)","v":""},{"$f":"IF('名刺管理（Eight）'!D142=\"\",\"\",IF(LEN('名刺管理（Eight）'!D142)=D144+E144,\"\",\"不一致\"))","v":""},null,null,{"$f":"IF('名刺管理（Eight）'!A142=\"\",\"\",'名刺管理（Eight）'!A142)","v":""},{"$f":"IF('名刺管理（Eight）'!B142=\"\",\"\",'名刺管理（Eight）'!B142)","v":""},{"$f":"IF('名刺管理（Eight）'!C142=\"\",\"\",'名刺管理（Eight）'!C142)","v":""},{"$f":"IF('名刺管理（Eight）'!E142=\"\",\"\",'名刺管理（Eight）'!E142)","v":""},{"$f":"IF('名刺管理（Eight）'!F142=\"\",\"\",'名刺管理（Eight）'!F142)","v":""},{"$f":"IF('名刺管理（Eight）'!G142=\"\",\"\",IF(LEFT('名刺管理（Eight）'!G142,3)=\"神奈川\",LEFT('名刺管理（Eight）'!G142,4),IF(LEFT('名刺管理（Eight）'!G142,3)=\"和歌山\",LEFT('名刺管理（Eight）'!G142,4),IF(LEFT('名刺管理（Eight）'!G142,3)=\"鹿児島\",LEFT('名刺管理（Eight）'!G142,4),LEFT('名刺管理（Eight）'!G142,3)))))","v":""},{"$f":"IF(K144=\"\",\"\",IF(LEN(K144)=3,MID('名刺管理（Eight）'!G142,4,50),MID('名刺管理（Eight）'!G142,5,50)))","v":""},{"$f":"IF('名刺管理（Eight）'!H142=\"\",\"\",'名刺管理（Eight）'!H142)","v":""},{"$f":"IF('名刺管理（Eight）'!K142=\"\",\"\",'名刺管理（Eight）'!K142)","v":""},{"$f":"IF('名刺管理（Eight）'!L142=\"\",\"\",'名刺管理（Eight）'!L142)","v":""},{"$f":"IF('名刺管理（Eight）'!M142=\"\",\"\",'名刺管理（Eight）'!M142)","v":""},{"$f":"IF('名刺管理（Eight）'!N142=\"\",\"\",TEXT('名刺管理（Eight）'!N142,\"yyyy/m/d\"))","v":""}]
[{"$f":"LEFT('名刺管理（Eight）'!D143,D145)","v":""},{"$f":"RIGHT('名刺管理（Eight）'!D143,E145)","v":""},{"$f":"IF('名刺管理（Eight）'!D143=\"\",\"\",IF(LEN('名刺管理（Eight）'!D143)=D145+E145,\"\",\"不一致\"))","v":""},null,null,{"$f":"IF('名刺管理（Eight）'!A143=\"\",\"\",'名刺管理（Eight）'!A143)","v":""},{"$f":"IF('名刺管理（Eight）'!B143=\"\",\"\",'名刺管理（Eight）'!B143)","v":""},{"$f":"IF('名刺管理（Eight）'!C143=\"\",\"\",'名刺管理（Eight）'!C143)","v":""},{"$f":"IF('名刺管理（Eight）'!E143=\"\",\"\",'名刺管理（Eight）'!E143)","v":""},{"$f":"IF('名刺管理（Eight）'!F143=\"\",\"\",'名刺管理（Eight）'!F143)","v":""},{"$f":"IF('名刺管理（Eight）'!G143=\"\",\"\",IF(LEFT('名刺管理（Eight）'!G143,3)=\"神奈川\",LEFT('名刺管理（Eight）'!G143,4),IF(LEFT('名刺管理（Eight）'!G143,3)=\"和歌山\",LEFT('名刺管理（Eight）'!G143,4),IF(LEFT('名刺管理（Eight）'!G143,3)=\"鹿児島\",LEFT('名刺管理（Eight）'!G143,4),LEFT('名刺管理（Eight）'!G143,3)))))","v":""},{"$f":"IF(K145=\"\",\"\",IF(LEN(K145)=3,MID('名刺管理（Eight）'!G143,4,50),MID('名刺管理（Eight）'!G143,5,50)))","v":""},{"$f":"IF('名刺管理（Eight）'!H143=\"\",\"\",'名刺管理（Eight）'!H143)","v":""},{"$f":"IF('名刺管理（Eight）'!K143=\"\",\"\",'名刺管理（Eight）'!K143)","v":""},{"$f":"IF('名刺管理（Eight）'!L143=\"\",\"\",'名刺管理（Eight）'!L143)","v":""},{"$f":"IF('名刺管理（Eight）'!M143=\"\",\"\",'名刺管理（Eight）'!M143)","v":""},{"$f":"IF('名刺管理（Eight）'!N143=\"\",\"\",TEXT('名刺管理（Eight）'!N143,\"yyyy/m/d\"))","v":""}]
[{"$f":"LEFT('名刺管理（Eight）'!D144,D146)","v":""},{"$f":"RIGHT('名刺管理（Eight）'!D144,E146)","v":""},{"$f":"IF('名刺管理（Eight）'!D144=\"\",\"\",IF(LEN('名刺管理（Eight）'!D144)=D146+E146,\"\",\"不一致\"))","v":""},null,null,{"$f":"IF('名刺管理（Eight）'!A144=\"\",\"\",'名刺管理（Eight）'!A144)","v":""},{"$f":"IF('名刺管理（Eight）'!B144=\"\",\"\",'名刺管理（Eight）'!B144)","v":""},{"$f":"IF('名刺管理（Eight）'!C144=\"\",\"\",'名刺管理（Eight）'!C144)","v":""},{"$f":"IF('名刺管理（Eight）'!E144=\"\",\"\",'名刺管理（Eight）'!E144)","v":""},{"$f":"IF('名刺管理（Eight）'!F144=\"\",\"\",'名刺管理（Eight）'!F144)","v":""},{"$f":"IF('名刺管理（Eight）'!G144=\"\",\"\",IF(LEFT('名刺管理（Eight）'!G144,3)=\"神奈川\",LEFT('名刺管理（Eight）'!G144,4),IF(LEFT('名刺管理（Eight）'!G144,3)=\"和歌山\",LEFT('名刺管理（Eight）'!G144,4),IF(LEFT('名刺管理（Eight）'!G144,3)=\"鹿児島\",LEFT('名刺管理（Eight）'!G144,4),LEFT('名刺管理（Eight）'!G144,3)))))","v":""},{"$f":"IF(K146=\"\",\"\",IF(LEN(K146)=3,MID('名刺管理（Eight）'!G144,4,50),MID('名刺管理（Eight）'!G144,5,50)))","v":""},{"$f":"IF('名刺管理（Eight）'!H144=\"\",\"\",'名刺管理（Eight）'!H144)","v":""},{"$f":"IF('名刺管理（Eight）'!K144=\"\",\"\",'名刺管理（Eight）'!K144)","v":""},{"$f":"IF('名刺管理（Eight）'!L144=\"\",\"\",'名刺管理（Eight）'!L144)","v":""},{"$f":"IF('名刺管理（Eight）'!M144=\"\",\"\",'名刺管理（Eight）'!M144)","v":""},{"$f":"IF('名刺管理（Eight）'!N144=\"\",\"\",TEXT('名刺管理（Eight）'!N144,\"yyyy/m/d\"))","v":""}]
[{"$f":"LEFT('名刺管理（Eight）'!D145,D147)","v":""},{"$f":"RIGHT('名刺管理（Eight）'!D145,E147)","v":""},{"$f":"IF('名刺管理（Eight）'!D145=\"\",\"\",IF(LEN('名刺管理（Eight）'!D145)=D147+E147,\"\",\"不一致\"))","v":""},null,null,{"$f":"IF('名刺管理（Eight）'!A145=\"\",\"\",'名刺管理（Eight）'!A145)","v":""},{"$f":"IF('名刺管理（Eight）'!B145=\"\",\"\",'名刺管理（Eight）'!B145)","v":""},{"$f":"IF('名刺管理（Eight）'!C145=\"\",\"\",'名刺管理（Eight）'!C145)","v":""},{"$f":"IF('名刺管理（Eight）'!E145=\"\",\"\",'名刺管理（Eight）'!E145)","v":""},{"$f":"IF('名刺管理（Eight）'!F145=\"\",\"\",'名刺管理（Eight）'!F145)","v":""},{"$f":"IF('名刺管理（Eight）'!G145=\"\",\"\",IF(LEFT('名刺管理（Eight）'!G145,3)=\"神奈川\",LEFT('名刺管理（Eight）'!G145,4),IF(LEFT('名刺管理（Eight）'!G145,3)=\"和歌山\",LEFT('名刺管理（Eight）'!G145,4),IF(LEFT('名刺管理（Eight）'!G145,3)=\"鹿児島\",LEFT('名刺管理（Eight）'!G145,4),LEFT('名刺管理（Eight）'!G145,3)))))","v":""},{"$f":"IF(K147=\"\",\"\",IF(LEN(K147)=3,MID('名刺管理（Eight）'!G145,4,50),MID('名刺管理（Eight）'!G145,5,50)))","v":""},{"$f":"IF('名刺管理（Eight）'!H145=\"\",\"\",'名刺管理（Eight）'!H145)","v":""},{"$f":"IF('名刺管理（Eight）'!K145=\"\",\"\",'名刺管理（Eight）'!K145)","v":""},{"$f":"IF('名刺管理（Eight）'!L145=\"\",\"\",'名刺管理（Eight）'!L145)","v":""},{"$f":"IF('名刺管理（Eight）'!M145=\"\",\"\",'名刺管理（Eight）'!M145)","v":""},{"$f":"IF('名刺管理（Eight）'!N145=\"\",\"\",TEXT('名刺管理（Eight）'!N145,\"yyyy/m/d\"))","v":""}]
[{"$f":"LEFT('名刺管理（Eight）'!D146,D148)","v":""},{"$f":"RIGHT('名刺管理（Eight）'!D146,E148)","v":""},{"$f":"IF('名刺管理（Eight）'!D146=\"\",\"\",IF(LEN('名刺管理（Eight）'!D146)=D148+E148,\"\",\"不一致\"))","v":""},null,null,{"$f":"IF('名刺管理（Eight）'!A146=\"\",\"\",'名刺管理（Eight）'!A146)","v":""},{"$f":"IF('名刺管理（Eight）'!B146=\"\",\"\",'名刺管理（Eight）'!B146)","v":""},{"$f":"IF('名刺管理（Eight）'!C146=\"\",\"\",'名刺管理（Eight）'!C146)","v":""},{"$f":"IF('名刺管理（Eight）'!E146=\"\",\"\",'名刺管理（Eight）'!E146)","v":""},{"$f":"IF('名刺管理（Eight）'!F146=\"\",\"\",'名刺管理（Eight）'!F146)","v":""},{"$f":"IF('名刺管理（Eight）'!G146=\"\",\"\",IF(LEFT('名刺管理（Eight）'!G146,3)=\"神奈川\",LEFT('名刺管理（Eight）'!G146,4),IF(LEFT('名刺管理（Eight）'!G146,3)=\"和歌山\",LEFT('名刺管理（Eight）'!G146,4),IF(LEFT('名刺管理（Eight）'!G146,3)=\"鹿児島\",LEFT('名刺管理（Eight）'!G146,4),LEFT('名刺管理（Eight）'!G146,3)))))","v":""},{"$f":"IF(K148=\"\",\"\",IF(LEN(K148)=3,MID('名刺管理（Eight）'!G146,4,50),MID('名刺管理（Eight）'!G146,5,50)))","v":""},{"$f":"IF('名刺管理（Eight）'!H146=\"\",\"\",'名刺管理（Eight）'!H146)","v":""},{"$f":"IF('名刺管理（Eight）'!K146=\"\",\"\",'名刺管理（Eight）'!K146)","v":""},{"$f":"IF('名刺管理（Eight）'!L146=\"\",\"\",'名刺管理（Eight）'!L146)","v":""},{"$f":"IF('名刺管理（Eight）'!M146=\"\",\"\",'名刺管理（Eight）'!M146)","v":""},{"$f":"IF('名刺管理（Eight）'!N146=\"\",\"\",TEXT('名刺管理（Eight）'!N146,\"yyyy/m/d\"))","v":""}]
[{"$f":"LEFT('名刺管理（Eight）'!D147,D149)","v":""},{"$f":"RIGHT('名刺管理（Eight）'!D147,E149)","v":""},{"$f":"IF('名刺管理（Eight）'!D147=\"\",\"\",IF(LEN('名刺管理（Eight）'!D147)=D149+E149,\"\",\"不一致\"))","v":""},null,null,{"$f":"IF('名刺管理（Eight）'!A147=\"\",\"\",'名刺管理（Eight）'!A147)","v":""},{"$f":"IF('名刺管理（Eight）'!B147=\"\",\"\",'名刺管理（Eight）'!B147)","v":""},{"$f":"IF('名刺管理（Eight）'!C147=\"\",\"\",'名刺管理（Eight）'!C147)","v":""},{"$f":"IF('名刺管理（Eight）'!E147=\"\",\"\",'名刺管理（Eight）'!E147)","v":""},{"$f":"IF('名刺管理（Eight）'!F147=\"\",\"\",'名刺管理（Eight）'!F147)","v":""},{"$f":"IF('名刺管理（Eight）'!G147=\"\",\"\",IF(LEFT('名刺管理（Eight）'!G147,3)=\"神奈川\",LEFT('名刺管理（Eight）'!G147,4),IF(LEFT('名刺管理（Eight）'!G147,3)=\"和歌山\",LEFT('名刺管理（Eight）'!G147,4),IF(LEFT('名刺管理（Eight）'!G147,3)=\"鹿児島\",LEFT('名刺管理（Eight）'!G147,4),LEFT('名刺管理（Eight）'!G147,3)))))","v":""},{"$f":"IF(K149=\"\",\"\",IF(LEN(K149)=3,MID('名刺管理（Eight）'!G147,4,50),MID('名刺管理（Eight）'!G147,5,50)))","v":""},{"$f":"IF('名刺管理（Eight）'!H147=\"\",\"\",'名刺管理（Eight）'!H147)","v":""},{"$f":"IF('名刺管理（Eight）'!K147=\"\",\"\",'名刺管理（Eight）'!K147)","v":""},{"$f":"IF('名刺管理（Eight）'!L147=\"\",\"\",'名刺管理（Eight）'!L147)","v":""},{"$f":"IF('名刺管理（Eight）'!M147=\"\",\"\",'名刺管理（Eight）'!M147)","v":""},{"$f":"IF('名刺管理（Eight）'!N147=\"\",\"\",TEXT('名刺管理（Eight）'!N147,\"yyyy/m/d\"))","v":""}]
[{"$f":"LEFT('名刺管理（Eight）'!D148,D150)","v":""},{"$f":"RIGHT('名刺管理（Eight）'!D148,E150)","v":""},{"$f":"IF('名刺管理（Eight）'!D148=\"\",\"\",IF(LEN('名刺管理（Eight）'!D148)=D150+E150,\"\",\"不一致\"))","v":""},null,null,{"$f":"IF('名刺管理（Eight）'!A148=\"\",\"\",'名刺管理（Eight）'!A148)","v":""},{"$f":"IF('名刺管理（Eight）'!B148=\"\",\"\",'名刺管理（Eight）'!B148)","v":""},{"$f":"IF('名刺管理（Eight）'!C148=\"\",\"\",'名刺管理（Eight）'!C148)","v":""},{"$f":"IF('名刺管理（Eight）'!E148=\"\",\"\",'名刺管理（Eight）'!E148)","v":""},{"$f":"IF('名刺管理（Eight）'!F148=\"\",\"\",'名刺管理（Eight）'!F148)","v":""},{"$f":"IF('名刺管理（Eight）'!G148=\"\",\"\",IF(LEFT('名刺管理（Eight）'!G148,3)=\"神奈川\",LEFT('名刺管理（Eight）'!G148,4),IF(LEFT('名刺管理（Eight）'!G148,3)=\"和歌山\",LEFT('名刺管理（Eight）'!G148,4),IF(LEFT('名刺管理（Eight）'!G148,3)=\"鹿児島\",LEFT('名刺管理（Eight）'!G148,4),LEFT('名刺管理（Eight）'!G148,3)))))","v":""},{"$f":"IF(K150=\"\",\"\",IF(LEN(K150)=3,MID('名刺管理（Eight）'!G148,4,50),MID('名刺管理（Eight）'!G148,5,50)))","v":""},{"$f":"IF('名刺管理（Eight）'!H148=\"\",\"\",'名刺管理（Eight）'!H148)","v":""},{"$f":"IF('名刺管理（Eight）'!K148=\"\",\"\",'名刺管理（Eight）'!K148)","v":""},{"$f":"IF('名刺管理（Eight）'!L148=\"\",\"\",'名刺管理（Eight）'!L148)","v":""},{"$f":"IF('名刺管理（Eight）'!M148=\"\",\"\",'名刺管理（Eight）'!M148)","v":""},{"$f":"IF('名刺管理（Eight）'!N148=\"\",\"\",TEXT('名刺管理（Eight）'!N148,\"yyyy/m/d\"))","v":""}]
[{"$f":"LEFT('名刺管理（Eight）'!D149,D151)","v":""},{"$f":"RIGHT('名刺管理（Eight）'!D149,E151)","v":""},{"$f":"IF('名刺管理（Eight）'!D149=\"\",\"\",IF(LEN('名刺管理（Eight）'!D149)=D151+E151,\"\",\"不一致\"))","v":""},null,null,{"$f":"IF('名刺管理（Eight）'!A149=\"\",\"\",'名刺管理（Eight）'!A149)","v":""},{"$f":"IF('名刺管理（Eight）'!B149=\"\",\"\",'名刺管理（Eight）'!B149)","v":""},{"$f":"IF('名刺管理（Eight）'!C149=\"\",\"\",'名刺管理（Eight）'!C149)","v":""},{"$f":"IF('名刺管理（Eight）'!E149=\"\",\"\",'名刺管理（Eight）'!E149)","v":""},{"$f":"IF('名刺管理（Eight）'!F149=\"\",\"\",'名刺管理（Eight）'!F149)","v":""},{"$f":"IF('名刺管理（Eight）'!G149=\"\",\"\",IF(LEFT('名刺管理（Eight）'!G149,3)=\"神奈川\",LEFT('名刺管理（Eight）'!G149,4),IF(LEFT('名刺管理（Eight）'!G149,3)=\"和歌山\",LEFT('名刺管理（Eight）'!G149,4),IF(LEFT('名刺管理（Eight）'!G149,3)=\"鹿児島\",LEFT('名刺管理（Eight）'!G149,4),LEFT('名刺管理（Eight）'!G149,3)))))","v":""},{"$f":"IF(K151=\"\",\"\",IF(LEN(K151)=3,MID('名刺管理（Eight）'!G149,4,50),MID('名刺管理（Eight）'!G149,5,50)))","v":""},{"$f":"IF('名刺管理（Eight）'!H149=\"\",\"\",'名刺管理（Eight）'!H149)","v":""},{"$f":"IF('名刺管理（Eight）'!K149=\"\",\"\",'名刺管理（Eight）'!K149)","v":""},{"$f":"IF('名刺管理（Eight）'!L149=\"\",\"\",'名刺管理（Eight）'!L149)","v":""},{"$f":"IF('名刺管理（Eight）'!M149=\"\",\"\",'名刺管理（Eight）'!M149)","v":""},{"$f":"IF('名刺管理（Eight）'!N149=\"\",\"\",TEXT('名刺管理（Eight）'!N149,\"yyyy/m/d\"))","v":""}]
[{"$f":"LEFT('名刺管理（Eight）'!D150,D152)","v":""},{"$f":"RIGHT('名刺管理（Eight）'!D150,E152)","v":""},{"$f":"IF('名刺管理（Eight）'!D150=\"\",\"\",IF(LEN('名刺管理（Eight）'!D150)=D152+E152,\"\",\"不一致\"))","v":""},null,null,{"$f":"IF('名刺管理（Eight）'!A150=\"\",\"\",'名刺管理（Eight）'!A150)","v":""},{"$f":"IF('名刺管理（Eight）'!B150=\"\",\"\",'名刺管理（Eight）'!B150)","v":""},{"$f":"IF('名刺管理（Eight）'!C150=\"\",\"\",'名刺管理（Eight）'!C150)","v":""},{"$f":"IF('名刺管理（Eight）'!E150=\"\",\"\",'名刺管理（Eight）'!E150)","v":""},{"$f":"IF('名刺管理（Eight）'!F150=\"\",\"\",'名刺管理（Eight）'!F150)","v":""},{"$f":"IF('名刺管理（Eight）'!G150=\"\",\"\",IF(LEFT('名刺管理（Eight）'!G150,3)=\"神奈川\",LEFT('名刺管理（Eight）'!G150,4),IF(LEFT('名刺管理（Eight）'!G150,3)=\"和歌山\",LEFT('名刺管理（Eight）'!G150,4),IF(LEFT('名刺管理（Eight）'!G150,3)=\"鹿児島\",LEFT('名刺管理（Eight）'!G150,4),LEFT('名刺管理（Eight）'!G150,3)))))","v":""},{"$f":"IF(K152=\"\",\"\",IF(LEN(K152)=3,MID('名刺管理（Eight）'!G150,4,50),MID('名刺管理（Eight）'!G150,5,50)))","v":""},{"$f":"IF('名刺管理（Eight）'!H150=\"\",\"\",'名刺管理（Eight）'!H150)","v":""},{"$f":"IF('名刺管理（Eight）'!K150=\"\",\"\",'名刺管理（Eight）'!K150)","v":""},{"$f":"IF('名刺管理（Eight）'!L150=\"\",\"\",'名刺管理（Eight）'!L150)","v":""},{"$f":"IF('名刺管理（Eight）'!M150=\"\",\"\",'名刺管理（Eight）'!M150)","v":""},{"$f":"IF('名刺管理（Eight）'!N150=\"\",\"\",TEXT('名刺管理（Eight）'!N150,\"yyyy/m/d\"))","v":""}]
[{"$f":"LEFT('名刺管理（Eight）'!D151,D153)","v":""},{"$f":"RIGHT('名刺管理（Eight）'!D151,E153)","v":""},{"$f":"IF('名刺管理（Eight）'!D151=\"\",\"\",IF(LEN('名刺管理（Eight）'!D151)=D153+E153,\"\",\"不一致\"))","v":""},null,null,{"$f":"IF('名刺管理（Eight）'!A151=\"\",\"\",'名刺管理（Eight）'!A151)","v":""},{"$f":"IF('名刺管理（Eight）'!B151=\"\",\"\",'名刺管理（Eight）'!B151)","v":""},{"$f":"IF('名刺管理（Eight）'!C151=\"\",\"\",'名刺管理（Eight）'!C151)","v":""},{"$f":"IF('名刺管理（Eight）'!E151=\"\",\"\",'名刺管理（Eight）'!E151)","v":""},{"$f":"IF('名刺管理（Eight）'!F151=\"\",\"\",'名刺管理（Eight）'!F151)","v":""},{"$f":"IF('名刺管理（Eight）'!G151=\"\",\"\",IF(LEFT('名刺管理（Eight）'!G151,3)=\"神奈川\",LEFT('名刺管理（Eight）'!G151,4),IF(LEFT('名刺管理（Eight）'!G151,3)=\"和歌山\",LEFT('名刺管理（Eight）'!G151,4),IF(LEFT('名刺管理（Eight）'!G151,3)=\"鹿児島\",LEFT('名刺管理（Eight）'!G151,4),LEFT('名刺管理（Eight）'!G151,3)))))","v":""},{"$f":"IF(K153=\"\",\"\",IF(LEN(K153)=3,MID('名刺管理（Eight）'!G151,4,50),MID('名刺管理（Eight）'!G151,5,50)))","v":""},{"$f":"IF('名刺管理（Eight）'!H151=\"\",\"\",'名刺管理（Eight）'!H151)","v":""},{"$f":"IF('名刺管理（Eight）'!K151=\"\",\"\",'名刺管理（Eight）'!K151)","v":""},{"$f":"IF('名刺管理（Eight）'!L151=\"\",\"\",'名刺管理（Eight）'!L151)","v":""},{"$f":"IF('名刺管理（Eight）'!M151=\"\",\"\",'名刺管理（Eight）'!M151)","v":""},{"$f":"IF('名刺管理（Eight）'!N151=\"\",\"\",TEXT('名刺管理（Eight）'!N151,\"yyyy/m/d\"))","v":""}]
[{"$f":"LEFT('名刺管理（Eight）'!D152,D154)","v":""},{"$f":"RIGHT('名刺管理（Eight）'!D152,E154)","v":""},{"$f":"IF('名刺管理（Eight）'!D152=\"\",\"\",IF(LEN('名刺管理（Eight）'!D152)=D154+E154,\"\",\"不一致\"))","v":""},null,null,{"$f":"IF('名刺管理（Eight）'!A152=\"\",\"\",'名刺管理（Eight）'!A152)","v":""},{"$f":"IF('名刺管理（Eight）'!B152=\"\",\"\",'名刺管理（Eight）'!B152)","v":""},{"$f":"IF('名刺管理（Eight）'!C152=\"\",\"\",'名刺管理（Eight）'!C152)","v":""},{"$f":"IF('名刺管理（Eight）'!E152=\"\",\"\",'名刺管理（Eight）'!E152)","v":""},{"$f":"IF('名刺管理（Eight）'!F152=\"\",\"\",'名刺管理（Eight）'!F152)","v":""},{"$f":"IF('名刺管理（Eight）'!G152=\"\",\"\",IF(LEFT('名刺管理（Eight）'!G152,3)=\"神奈川\",LEFT('名刺管理（Eight）'!G152,4),IF(LEFT('名刺管理（Eight）'!G152,3)=\"和歌山\",LEFT('名刺管理（Eight）'!G152,4),IF(LEFT('名刺管理（Eight）'!G152,3)=\"鹿児島\",LEFT('名刺管理（Eight）'!G152,4),LEFT('名刺管理（Eight）'!G152,3)))))","v":""},{"$f":"IF(K154=\"\",\"\",IF(LEN(K154)=3,MID('名刺管理（Eight）'!G152,4,50),MID('名刺管理（Eight）'!G152,5,50)))","v":""},{"$f":"IF('名刺管理（Eight）'!H152=\"\",\"\",'名刺管理（Eight）'!H152)","v":""},{"$f":"IF('名刺管理（Eight）'!K152=\"\",\"\",'名刺管理（Eight）'!K152)","v":""},{"$f":"IF('名刺管理（Eight）'!L152=\"\",\"\",'名刺管理（Eight）'!L152)","v":""},{"$f":"IF('名刺管理（Eight）'!M152=\"\",\"\",'名刺管理（Eight）'!M152)","v":""},{"$f":"IF('名刺管理（Eight）'!N152=\"\",\"\",TEXT('名刺管理（Eight）'!N152,\"yyyy/m/d\"))","v":""}]
[{"$f":"LEFT('名刺管理（Eight）'!D153,D155)","v":""},{"$f":"RIGHT('名刺管理（Eight）'!D153,E155)","v":""},{"$f":"IF('名刺管理（Eight）'!D153=\"\",\"\",IF(LEN('名刺管理（Eight）'!D153)=D155+E155,\"\",\"不一致\"))","v":""},null,null,{"$f":"IF('名刺管理（Eight）'!A153=\"\",\"\",'名刺管理（Eight）'!A153)","v":""},{"$f":"IF('名刺管理（Eight）'!B153=\"\",\"\",'名刺管理（Eight）'!B153)","v":""},{"$f":"IF('名刺管理（Eight）'!C153=\"\",\"\",'名刺管理（Eight）'!C153)","v":""},{"$f":"IF('名刺管理（Eight）'!E153=\"\",\"\",'名刺管理（Eight）'!E153)","v":""},{"$f":"IF('名刺管理（Eight）'!F153=\"\",\"\",'名刺管理（Eight）'!F153)","v":""},{"$f":"IF('名刺管理（Eight）'!G153=\"\",\"\",IF(LEFT('名刺管理（Eight）'!G153,3)=\"神奈川\",LEFT('名刺管理（Eight）'!G153,4),IF(LEFT('名刺管理（Eight）'!G153,3)=\"和歌山\",LEFT('名刺管理（Eight）'!G153,4),IF(LEFT('名刺管理（Eight）'!G153,3)=\"鹿児島\",LEFT('名刺管理（Eight）'!G153,4),LEFT('名刺管理（Eight）'!G153,3)))))","v":""},{"$f":"IF(K155=\"\",\"\",IF(LEN(K155)=3,MID('名刺管理（Eight）'!G153,4,50),MID('名刺管理（Eight）'!G153,5,50)))","v":""},{"$f":"IF('名刺管理（Eight）'!H153=\"\",\"\",'名刺管理（Eight）'!H153)","v":""},{"$f":"IF('名刺管理（Eight）'!K153=\"\",\"\",'名刺管理（Eight）'!K153)","v":""},{"$f":"IF('名刺管理（Eight）'!L153=\"\",\"\",'名刺管理（Eight）'!L153)","v":""},{"$f":"IF('名刺管理（Eight）'!M153=\"\",\"\",'名刺管理（Eight）'!M153)","v":""},{"$f":"IF('名刺管理（Eight）'!N153=\"\",\"\",TEXT('名刺管理（Eight）'!N153,\"yyyy/m/d\"))","v":""}]
[{"$f":"LEFT('名刺管理（Eight）'!D154,D156)","v":""},{"$f":"RIGHT('名刺管理（Eight）'!D154,E156)","v":""},{"$f":"IF('名刺管理（Eight）'!D154=\"\",\"\",IF(LEN('名刺管理（Eight）'!D154)=D156+E156,\"\",\"不一致\"))","v":""},null,null,{"$f":"IF('名刺管理（Eight）'!A154=\"\",\"\",'名刺管理（Eight）'!A154)","v":""},{"$f":"IF('名刺管理（Eight）'!B154=\"\",\"\",'名刺管理（Eight）'!B154)","v":""},{"$f":"IF('名刺管理（Eight）'!C154=\"\",\"\",'名刺管理（Eight）'!C154)","v":""},{"$f":"IF('名刺管理（Eight）'!E154=\"\",\"\",'名刺管理（Eight）'!E154)","v":""},{"$f":"IF('名刺管理（Eight）'!F154=\"\",\"\",'名刺管理（Eight）'!F154)","v":""},{"$f":"IF('名刺管理（Eight）'!G154=\"\",\"\",IF(LEFT('名刺管理（Eight）'!G154,3)=\"神奈川\",LEFT('名刺管理（Eight）'!G154,4),IF(LEFT('名刺管理（Eight）'!G154,3)=\"和歌山\",LEFT('名刺管理（Eight）'!G154,4),IF(LEFT('名刺管理（Eight）'!G154,3)=\"鹿児島\",LEFT('名刺管理（Eight）'!G154,4),LEFT('名刺管理（Eight）'!G154,3)))))","v":""},{"$f":"IF(K156=\"\",\"\",IF(LEN(K156)=3,MID('名刺管理（Eight）'!G154,4,50),MID('名刺管理（Eight）'!G154,5,50)))","v":""},{"$f":"IF('名刺管理（Eight）'!H154=\"\",\"\",'名刺管理（Eight）'!H154)","v":""},{"$f":"IF('名刺管理（Eight）'!K154=\"\",\"\",'名刺管理（Eight）'!K154)","v":""},{"$f":"IF('名刺管理（Eight）'!L154=\"\",\"\",'名刺管理（Eight）'!L154)","v":""},{"$f":"IF('名刺管理（Eight）'!M154=\"\",\"\",'名刺管理（Eight）'!M154)","v":""},{"$f":"IF('名刺管理（Eight）'!N154=\"\",\"\",TEXT('名刺管理（Eight）'!N154,\"yyyy/m/d\"))","v":""}]
[{"$f":"LEFT('名刺管理（Eight）'!D155,D157)","v":""},{"$f":"RIGHT('名刺管理（Eight）'!D155,E157)","v":""},{"$f":"IF('名刺管理（Eight）'!D155=\"\",\"\",IF(LEN('名刺管理（Eight）'!D155)=D157+E157,\"\",\"不一致\"))","v":""},null,null,{"$f":"IF('名刺管理（Eight）'!A155=\"\",\"\",'名刺管理（Eight）'!A155)","v":""},{"$f":"IF('名刺管理（Eight）'!B155=\"\",\"\",'名刺管理（Eight）'!B155)","v":""},{"$f":"IF('名刺管理（Eight）'!C155=\"\",\"\",'名刺管理（Eight）'!C155)","v":""},{"$f":"IF('名刺管理（Eight）'!E155=\"\",\"\",'名刺管理（Eight）'!E155)","v":""},{"$f":"IF('名刺管理（Eight）'!F155=\"\",\"\",'名刺管理（Eight）'!F155)","v":""},{"$f":"IF('名刺管理（Eight）'!G155=\"\",\"\",IF(LEFT('名刺管理（Eight）'!G155,3)=\"神奈川\",LEFT('名刺管理（Eight）'!G155,4),IF(LEFT('名刺管理（Eight）'!G155,3)=\"和歌山\",LEFT('名刺管理（Eight）'!G155,4),IF(LEFT('名刺管理（Eight）'!G155,3)=\"鹿児島\",LEFT('名刺管理（Eight）'!G155,4),LEFT('名刺管理（Eight）'!G155,3)))))","v":""},{"$f":"IF(K157=\"\",\"\",IF(LEN(K157)=3,MID('名刺管理（Eight）'!G155,4,50),MID('名刺管理（Eight）'!G155,5,50)))","v":""},{"$f":"IF('名刺管理（Eight）'!H155=\"\",\"\",'名刺管理（Eight）'!H155)","v":""},{"$f":"IF('名刺管理（Eight）'!K155=\"\",\"\",'名刺管理（Eight）'!K155)","v":""},{"$f":"IF('名刺管理（Eight）'!L155=\"\",\"\",'名刺管理（Eight）'!L155)","v":""},{"$f":"IF('名刺管理（Eight）'!M155=\"\",\"\",'名刺管理（Eight）'!M155)","v":""},{"$f":"IF('名刺管理（Eight）'!N155=\"\",\"\",TEXT('名刺管理（Eight）'!N155,\"yyyy/m/d\"))","v":""}]
[{"$f":"LEFT('名刺管理（Eight）'!D156,D158)","v":""},{"$f":"RIGHT('名刺管理（Eight）'!D156,E158)","v":""},{"$f":"IF('名刺管理（Eight）'!D156=\"\",\"\",IF(LEN('名刺管理（Eight）'!D156)=D158+E158,\"\",\"不一致\"))","v":""},null,null,{"$f":"IF('名刺管理（Eight）'!A156=\"\",\"\",'名刺管理（Eight）'!A156)","v":""},{"$f":"IF('名刺管理（Eight）'!B156=\"\",\"\",'名刺管理（Eight）'!B156)","v":""},{"$f":"IF('名刺管理（Eight）'!C156=\"\",\"\",'名刺管理（Eight）'!C156)","v":""},{"$f":"IF('名刺管理（Eight）'!E156=\"\",\"\",'名刺管理（Eight）'!E156)","v":""},{"$f":"IF('名刺管理（Eight）'!F156=\"\",\"\",'名刺管理（Eight）'!F156)","v":""},{"$f":"IF('名刺管理（Eight）'!G156=\"\",\"\",IF(LEFT('名刺管理（Eight）'!G156,3)=\"神奈川\",LEFT('名刺管理（Eight）'!G156,4),IF(LEFT('名刺管理（Eight）'!G156,3)=\"和歌山\",LEFT('名刺管理（Eight）'!G156,4),IF(LEFT('名刺管理（Eight）'!G156,3)=\"鹿児島\",LEFT('名刺管理（Eight）'!G156,4),LEFT('名刺管理（Eight）'!G156,3)))))","v":""},{"$f":"IF(K158=\"\",\"\",IF(LEN(K158)=3,MID('名刺管理（Eight）'!G156,4,50),MID('名刺管理（Eight）'!G156,5,50)))","v":""},{"$f":"IF('名刺管理（Eight）'!H156=\"\",\"\",'名刺管理（Eight）'!H156)","v":""},{"$f":"IF('名刺管理（Eight）'!K156=\"\",\"\",'名刺管理（Eight）'!K156)","v":""},{"$f":"IF('名刺管理（Eight）'!L156=\"\",\"\",'名刺管理（Eight）'!L156)","v":""},{"$f":"IF('名刺管理（Eight）'!M156=\"\",\"\",'名刺管理（Eight）'!M156)","v":""},{"$f":"IF('名刺管理（Eight）'!N156=\"\",\"\",TEXT('名刺管理（Eight）'!N156,\"yyyy/m/d\"))","v":""}]
[{"$f":"LEFT('名刺管理（Eight）'!D157,D159)","v":""},{"$f":"RIGHT('名刺管理（Eight）'!D157,E159)","v":""},{"$f":"IF('名刺管理（Eight）'!D157=\"\",\"\",IF(LEN('名刺管理（Eight）'!D157)=D159+E159,\"\",\"不一致\"))","v":""},null,null,{"$f":"IF('名刺管理（Eight）'!A157=\"\",\"\",'名刺管理（Eight）'!A157)","v":""},{"$f":"IF('名刺管理（Eight）'!B157=\"\",\"\",'名刺管理（Eight）'!B157)","v":""},{"$f":"IF('名刺管理（Eight）'!C157=\"\",\"\",'名刺管理（Eight）'!C157)","v":""},{"$f":"IF('名刺管理（Eight）'!E157=\"\",\"\",'名刺管理（Eight）'!E157)","v":""},{"$f":"IF('名刺管理（Eight）'!F157=\"\",\"\",'名刺管理（Eight）'!F157)","v":""},{"$f":"IF('名刺管理（Eight）'!G157=\"\",\"\",IF(LEFT('名刺管理（Eight）'!G157,3)=\"神奈川\",LEFT('名刺管理（Eight）'!G157,4),IF(LEFT('名刺管理（Eight）'!G157,3)=\"和歌山\",LEFT('名刺管理（Eight）'!G157,4),IF(LEFT('名刺管理（Eight）'!G157,3)=\"鹿児島\",LEFT('名刺管理（Eight）'!G157,4),LEFT('名刺管理（Eight）'!G157,3)))))","v":""},{"$f":"IF(K159=\"\",\"\",IF(LEN(K159)=3,MID('名刺管理（Eight）'!G157,4,50),MID('名刺管理（Eight）'!G157,5,50)))","v":""},{"$f":"IF('名刺管理（Eight）'!H157=\"\",\"\",'名刺管理（Eight）'!H157)","v":""},{"$f":"IF('名刺管理（Eight）'!K157=\"\",\"\",'名刺管理（Eight）'!K157)","v":""},{"$f":"IF('名刺管理（Eight）'!L157=\"\",\"\",'名刺管理（Eight）'!L157)","v":""},{"$f":"IF('名刺管理（Eight）'!M157=\"\",\"\",'名刺管理（Eight）'!M157)","v":""},{"$f":"IF('名刺管理（Eight）'!N157=\"\",\"\",TEXT('名刺管理（Eight）'!N157,\"yyyy/m/d\"))","v":""}]
[{"$f":"LEFT('名刺管理（Eight）'!D158,D160)","v":""},{"$f":"RIGHT('名刺管理（Eight）'!D158,E160)","v":""},{"$f":"IF('名刺管理（Eight）'!D158=\"\",\"\",IF(LEN('名刺管理（Eight）'!D158)=D160+E160,\"\",\"不一致\"))","v":""},null,null,{"$f":"IF('名刺管理（Eight）'!A158=\"\",\"\",'名刺管理（Eight）'!A158)","v":""},{"$f":"IF('名刺管理（Eight）'!B158=\"\",\"\",'名刺管理（Eight）'!B158)","v":""},{"$f":"IF('名刺管理（Eight）'!C158=\"\",\"\",'名刺管理（Eight）'!C158)","v":""},{"$f":"IF('名刺管理（Eight）'!E158=\"\",\"\",'名刺管理（Eight）'!E158)","v":""},{"$f":"IF('名刺管理（Eight）'!F158=\"\",\"\",'名刺管理（Eight）'!F158)","v":""},{"$f":"IF('名刺管理（Eight）'!G158=\"\",\"\",IF(LEFT('名刺管理（Eight）'!G158,3)=\"神奈川\",LEFT('名刺管理（Eight）'!G158,4),IF(LEFT('名刺管理（Eight）'!G158,3)=\"和歌山\",LEFT('名刺管理（Eight）'!G158,4),IF(LEFT('名刺管理（Eight）'!G158,3)=\"鹿児島\",LEFT('名刺管理（Eight）'!G158,4),LEFT('名刺管理（Eight）'!G158,3)))))","v":""},{"$f":"IF(K160=\"\",\"\",IF(LEN(K160)=3,MID('名刺管理（Eight）'!G158,4,50),MID('名刺管理（Eight）'!G158,5,50)))","v":""},{"$f":"IF('名刺管理（Eight）'!H158=\"\",\"\",'名刺管理（Eight）'!H158)","v":""},{"$f":"IF('名刺管理（Eight）'!K158=\"\",\"\",'名刺管理（Eight）'!K158)","v":""},{"$f":"IF('名刺管理（Eight）'!L158=\"\",\"\",'名刺管理（Eight）'!L158)","v":""},{"$f":"IF('名刺管理（Eight）'!M158=\"\",\"\",'名刺管理（Eight）'!M158)","v":""},{"$f":"IF('名刺管理（Eight）'!N158=\"\",\"\",TEXT('名刺管理（Eight）'!N158,\"yyyy/m/d\"))","v":""}]
[{"$f":"LEFT('名刺管理（Eight）'!D159,D161)","v":""},{"$f":"RIGHT('名刺管理（Eight）'!D159,E161)","v":""},{"$f":"IF('名刺管理（Eight）'!D159=\"\",\"\",IF(LEN('名刺管理（Eight）'!D159)=D161+E161,\"\",\"不一致\"))","v":""},null,null,{"$f":"IF('名刺管理（Eight）'!A159=\"\",\"\",'名刺管理（Eight）'!A159)","v":""},{"$f":"IF('名刺管理（Eight）'!B159=\"\",\"\",'名刺管理（Eight）'!B159)","v":""},{"$f":"IF('名刺管理（Eight）'!C159=\"\",\"\",'名刺管理（Eight）'!C159)","v":""},{"$f":"IF('名刺管理（Eight）'!E159=\"\",\"\",'名刺管理（Eight）'!E159)","v":""},{"$f":"IF('名刺管理（Eight）'!F159=\"\",\"\",'名刺管理（Eight）'!F159)","v":""},{"$f":"IF('名刺管理（Eight）'!G159=\"\",\"\",IF(LEFT('名刺管理（Eight）'!G159,3)=\"神奈川\",LEFT('名刺管理（Eight）'!G159,4),IF(LEFT('名刺管理（Eight）'!G159,3)=\"和歌山\",LEFT('名刺管理（Eight）'!G159,4),IF(LEFT('名刺管理（Eight）'!G159,3)=\"鹿児島\",LEFT('名刺管理（Eight）'!G159,4),LEFT('名刺管理（Eight）'!G159,3)))))","v":""},{"$f":"IF(K161=\"\",\"\",IF(LEN(K161)=3,MID('名刺管理（Eight）'!G159,4,50),MID('名刺管理（Eight）'!G159,5,50)))","v":""},{"$f":"IF('名刺管理（Eight）'!H159=\"\",\"\",'名刺管理（Eight）'!H159)","v":""},{"$f":"IF('名刺管理（Eight）'!K159=\"\",\"\",'名刺管理（Eight）'!K159)","v":""},{"$f":"IF('名刺管理（Eight）'!L159=\"\",\"\",'名刺管理（Eight）'!L159)","v":""},{"$f":"IF('名刺管理（Eight）'!M159=\"\",\"\",'名刺管理（Eight）'!M159)","v":""},{"$f":"IF('名刺管理（Eight）'!N159=\"\",\"\",TEXT('名刺管理（Eight）'!N159,\"yyyy/m/d\"))","v":""}]
[{"$f":"LEFT('名刺管理（Eight）'!D160,D162)","v":""},{"$f":"RIGHT('名刺管理（Eight）'!D160,E162)","v":""},{"$f":"IF('名刺管理（Eight）'!D160=\"\",\"\",IF(LEN('名刺管理（Eight）'!D160)=D162+E162,\"\",\"不一致\"))","v":""},null,null,{"$f":"IF('名刺管理（Eight）'!A160=\"\",\"\",'名刺管理（Eight）'!A160)","v":""},{"$f":"IF('名刺管理（Eight）'!B160=\"\",\"\",'名刺管理（Eight）'!B160)","v":""},{"$f":"IF('名刺管理（Eight）'!C160=\"\",\"\",'名刺管理（Eight）'!C160)","v":""},{"$f":"IF('名刺管理（Eight）'!E160=\"\",\"\",'名刺管理（Eight）'!E160)","v":""},{"$f":"IF('名刺管理（Eight）'!F160=\"\",\"\",'名刺管理（Eight）'!F160)","v":""},{"$f":"IF('名刺管理（Eight）'!G160=\"\",\"\",IF(LEFT('名刺管理（Eight）'!G160,3)=\"神奈川\",LEFT('名刺管理（Eight）'!G160,4),IF(LEFT('名刺管理（Eight）'!G160,3)=\"和歌山\",LEFT('名刺管理（Eight）'!G160,4),IF(LEFT('名刺管理（Eight）'!G160,3)=\"鹿児島\",LEFT('名刺管理（Eight）'!G160,4),LEFT('名刺管理（Eight）'!G160,3)))))","v":""},{"$f":"IF(K162=\"\",\"\",IF(LEN(K162)=3,MID('名刺管理（Eight）'!G160,4,50),MID('名刺管理（Eight）'!G160,5,50)))","v":""},{"$f":"IF('名刺管理（Eight）'!H160=\"\",\"\",'名刺管理（Eight）'!H160)","v":""},{"$f":"IF('名刺管理（Eight）'!K160=\"\",\"\",'名刺管理（Eight）'!K160)","v":""},{"$f":"IF('名刺管理（Eight）'!L160=\"\",\"\",'名刺管理（Eight）'!L160)","v":""},{"$f":"IF('名刺管理（Eight）'!M160=\"\",\"\",'名刺管理（Eight）'!M160)","v":""},{"$f":"IF('名刺管理（Eight）'!N160=\"\",\"\",TEXT('名刺管理（Eight）'!N160,\"yyyy/m/d\"))","v":""}]
[{"$f":"LEFT('名刺管理（Eight）'!D161,D163)","v":""},{"$f":"RIGHT('名刺管理（Eight）'!D161,E163)","v":""},{"$f":"IF('名刺管理（Eight）'!D161=\"\",\"\",IF(LEN('名刺管理（Eight）'!D161)=D163+E163,\"\",\"不一致\"))","v":""},null,null,{"$f":"IF('名刺管理（Eight）'!A161=\"\",\"\",'名刺管理（Eight）'!A161)","v":""},{"$f":"IF('名刺管理（Eight）'!B161=\"\",\"\",'名刺管理（Eight）'!B161)","v":""},{"$f":"IF('名刺管理（Eight）'!C161=\"\",\"\",'名刺管理（Eight）'!C161)","v":""},{"$f":"IF('名刺管理（Eight）'!E161=\"\",\"\",'名刺管理（Eight）'!E161)","v":""},{"$f":"IF('名刺管理（Eight）'!F161=\"\",\"\",'名刺管理（Eight）'!F161)","v":""},{"$f":"IF('名刺管理（Eight）'!G161=\"\",\"\",IF(LEFT('名刺管理（Eight）'!G161,3)=\"神奈川\",LEFT('名刺管理（Eight）'!G161,4),IF(LEFT('名刺管理（Eight）'!G161,3)=\"和歌山\",LEFT('名刺管理（Eight）'!G161,4),IF(LEFT('名刺管理（Eight）'!G161,3)=\"鹿児島\",LEFT('名刺管理（Eight）'!G161,4),LEFT('名刺管理（Eight）'!G161,3)))))","v":""},{"$f":"IF(K163=\"\",\"\",IF(LEN(K163)=3,MID('名刺管理（Eight）'!G161,4,50),MID('名刺管理（Eight）'!G161,5,50)))","v":""},{"$f":"IF('名刺管理（Eight）'!H161=\"\",\"\",'名刺管理（Eight）'!H161)","v":""},{"$f":"IF('名刺管理（Eight）'!K161=\"\",\"\",'名刺管理（Eight）'!K161)","v":""},{"$f":"IF('名刺管理（Eight）'!L161=\"\",\"\",'名刺管理（Eight）'!L161)","v":""},{"$f":"IF('名刺管理（Eight）'!M161=\"\",\"\",'名刺管理（Eight）'!M161)","v":""},{"$f":"IF('名刺管理（Eight）'!N161=\"\",\"\",TEXT('名刺管理（Eight）'!N161,\"yyyy/m/d\"))","v":""}]
[{"$f":"LEFT('名刺管理（Eight）'!D162,D164)","v":""},{"$f":"RIGHT('名刺管理（Eight）'!D162,E164)","v":""},{"$f":"IF('名刺管理（Eight）'!D162=\"\",\"\",IF(LEN('名刺管理（Eight）'!D162)=D164+E164,\"\",\"不一致\"))","v":""},null,null,{"$f":"IF('名刺管理（Eight）'!A162=\"\",\"\",'名刺管理（Eight）'!A162)","v":""},{"$f":"IF('名刺管理（Eight）'!B162=\"\",\"\",'名刺管理（Eight）'!B162)","v":""},{"$f":"IF('名刺管理（Eight）'!C162=\"\",\"\",'名刺管理（Eight）'!C162)","v":""},{"$f":"IF('名刺管理（Eight）'!E162=\"\",\"\",'名刺管理（Eight）'!E162)","v":""},{"$f":"IF('名刺管理（Eight）'!F162=\"\",\"\",'名刺管理（Eight）'!F162)","v":""},{"$f":"IF('名刺管理（Eight）'!G162=\"\",\"\",IF(LEFT('名刺管理（Eight）'!G162,3)=\"神奈川\",LEFT('名刺管理（Eight）'!G162,4),IF(LEFT('名刺管理（Eight）'!G162,3)=\"和歌山\",LEFT('名刺管理（Eight）'!G162,4),IF(LEFT('名刺管理（Eight）'!G162,3)=\"鹿児島\",LEFT('名刺管理（Eight）'!G162,4),LEFT('名刺管理（Eight）'!G162,3)))))","v":""},{"$f":"IF(K164=\"\",\"\",IF(LEN(K164)=3,MID('名刺管理（Eight）'!G162,4,50),MID('名刺管理（Eight）'!G162,5,50)))","v":""},{"$f":"IF('名刺管理（Eight）'!H162=\"\",\"\",'名刺管理（Eight）'!H162)","v":""},{"$f":"IF('名刺管理（Eight）'!K162=\"\",\"\",'名刺管理（Eight）'!K162)","v":""},{"$f":"IF('名刺管理（Eight）'!L162=\"\",\"\",'名刺管理（Eight）'!L162)","v":""},{"$f":"IF('名刺管理（Eight）'!M162=\"\",\"\",'名刺管理（Eight）'!M162)","v":""},{"$f":"IF('名刺管理（Eight）'!N162=\"\",\"\",TEXT('名刺管理（Eight）'!N162,\"yyyy/m/d\"))","v":""}]
[{"$f":"LEFT('名刺管理（Eight）'!D163,D165)","v":""},{"$f":"RIGHT('名刺管理（Eight）'!D163,E165)","v":""},{"$f":"IF('名刺管理（Eight）'!D163=\"\",\"\",IF(LEN('名刺管理（Eight）'!D163)=D165+E165,\"\",\"不一致\"))","v":""},null,null,{"$f":"IF('名刺管理（Eight）'!A163=\"\",\"\",'名刺管理（Eight）'!A163)","v":""},{"$f":"IF('名刺管理（Eight）'!B163=\"\",\"\",'名刺管理（Eight）'!B163)","v":""},{"$f":"IF('名刺管理（Eight）'!C163=\"\",\"\",'名刺管理（Eight）'!C163)","v":""},{"$f":"IF('名刺管理（Eight）'!E163=\"\",\"\",'名刺管理（Eight）'!E163)","v":""},{"$f":"IF('名刺管理（Eight）'!F163=\"\",\"\",'名刺管理（Eight）'!F163)","v":""},{"$f":"IF('名刺管理（Eight）'!G163=\"\",\"\",IF(LEFT('名刺管理（Eight）'!G163,3)=\"神奈川\",LEFT('名刺管理（Eight）'!G163,4),IF(LEFT('名刺管理（Eight）'!G163,3)=\"和歌山\",LEFT('名刺管理（Eight）'!G163,4),IF(LEFT('名刺管理（Eight）'!G163,3)=\"鹿児島\",LEFT('名刺管理（Eight）'!G163,4),LEFT('名刺管理（Eight）'!G163,3)))))","v":""},{"$f":"IF(K165=\"\",\"\",IF(LEN(K165)=3,MID('名刺管理（Eight）'!G163,4,50),MID('名刺管理（Eight）'!G163,5,50)))","v":""},{"$f":"IF('名刺管理（Eight）'!H163=\"\",\"\",'名刺管理（Eight）'!H163)","v":""},{"$f":"IF('名刺管理（Eight）'!K163=\"\",\"\",'名刺管理（Eight）'!K163)","v":""},{"$f":"IF('名刺管理（Eight）'!L163=\"\",\"\",'名刺管理（Eight）'!L163)","v":""},{"$f":"IF('名刺管理（Eight）'!M163=\"\",\"\",'名刺管理（Eight）'!M163)","v":""},{"$f":"IF('名刺管理（Eight）'!N163=\"\",\"\",TEXT('名刺管理（Eight）'!N163,\"yyyy/m/d\"))","v":""}]
[{"$f":"LEFT('名刺管理（Eight）'!D164,D166)","v":""},{"$f":"RIGHT('名刺管理（Eight）'!D164,E166)","v":""},{"$f":"IF('名刺管理（Eight）'!D164=\"\",\"\",IF(LEN('名刺管理（Eight）'!D164)=D166+E166,\"\",\"不一致\"))","v":""},null,null,{"$f":"IF('名刺管理（Eight）'!A164=\"\",\"\",'名刺管理（Eight）'!A164)","v":""},{"$f":"IF('名刺管理（Eight）'!B164=\"\",\"\",'名刺管理（Eight）'!B164)","v":""},{"$f":"IF('名刺管理（Eight）'!C164=\"\",\"\",'名刺管理（Eight）'!C164)","v":""},{"$f":"IF('名刺管理（Eight）'!E164=\"\",\"\",'名刺管理（Eight）'!E164)","v":""},{"$f":"IF('名刺管理（Eight）'!F164=\"\",\"\",'名刺管理（Eight）'!F164)","v":""},{"$f":"IF('名刺管理（Eight）'!G164=\"\",\"\",IF(LEFT('名刺管理（Eight）'!G164,3)=\"神奈川\",LEFT('名刺管理（Eight）'!G164,4),IF(LEFT('名刺管理（Eight）'!G164,3)=\"和歌山\",LEFT('名刺管理（Eight）'!G164,4),IF(LEFT('名刺管理（Eight）'!G164,3)=\"鹿児島\",LEFT('名刺管理（Eight）'!G164,4),LEFT('名刺管理（Eight）'!G164,3)))))","v":""},{"$f":"IF(K166=\"\",\"\",IF(LEN(K166)=3,MID('名刺管理（Eight）'!G164,4,50),MID('名刺管理（Eight）'!G164,5,50)))","v":""},{"$f":"IF('名刺管理（Eight）'!H164=\"\",\"\",'名刺管理（Eight）'!H164)","v":""},{"$f":"IF('名刺管理（Eight）'!K164=\"\",\"\",'名刺管理（Eight）'!K164)","v":""},{"$f":"IF('名刺管理（Eight）'!L164=\"\",\"\",'名刺管理（Eight）'!L164)","v":""},{"$f":"IF('名刺管理（Eight）'!M164=\"\",\"\",'名刺管理（Eight）'!M164)","v":""},{"$f":"IF('名刺管理（Eight）'!N164=\"\",\"\",TEXT('名刺管理（Eight）'!N164,\"yyyy/m/d\"))","v":""}]
[{"$f":"LEFT('名刺管理（Eight）'!D165,D167)","v":""},{"$f":"RIGHT('名刺管理（Eight）'!D165,E167)","v":""},{"$f":"IF('名刺管理（Eight）'!D165=\"\",\"\",IF(LEN('名刺管理（Eight）'!D165)=D167+E167,\"\",\"不一致\"))","v":""},null,null,{"$f":"IF('名刺管理（Eight）'!A165=\"\",\"\",'名刺管理（Eight）'!A165)","v":""},{"$f":"IF('名刺管理（Eight）'!B165=\"\",\"\",'名刺管理（Eight）'!B165)","v":""},{"$f":"IF('名刺管理（Eight）'!C165=\"\",\"\",'名刺管理（Eight）'!C165)","v":""},{"$f":"IF('名刺管理（Eight）'!E165=\"\",\"\",'名刺管理（Eight）'!E165)","v":""},{"$f":"IF('名刺管理（Eight）'!F165=\"\",\"\",'名刺管理（Eight）'!F165)","v":""},{"$f":"IF('名刺管理（Eight）'!G165=\"\",\"\",IF(LEFT('名刺管理（Eight）'!G165,3)=\"神奈川\",LEFT('名刺管理（Eight）'!G165,4),IF(LEFT('名刺管理（Eight）'!G165,3)=\"和歌山\",LEFT('名刺管理（Eight）'!G165,4),IF(LEFT('名刺管理（Eight）'!G165,3)=\"鹿児島\",LEFT('名刺管理（Eight）'!G165,4),LEFT('名刺管理（Eight）'!G165,3)))))","v":""},{"$f":"IF(K167=\"\",\"\",IF(LEN(K167)=3,MID('名刺管理（Eight）'!G165,4,50),MID('名刺管理（Eight）'!G165,5,50)))","v":""},{"$f":"IF('名刺管理（Eight）'!H165=\"\",\"\",'名刺管理（Eight）'!H165)","v":""},{"$f":"IF('名刺管理（Eight）'!K165=\"\",\"\",'名刺管理（Eight）'!K165)","v":""},{"$f":"IF('名刺管理（Eight）'!L165=\"\",\"\",'名刺管理（Eight）'!L165)","v":""},{"$f":"IF('名刺管理（Eight）'!M165=\"\",\"\",'名刺管理（Eight）'!M165)","v":""},{"$f":"IF('名刺管理（Eight）'!N165=\"\",\"\",TEXT('名刺管理（Eight）'!N165,\"yyyy/m/d\"))","v":""}]
[{"$f":"LEFT('名刺管理（Eight）'!D166,D168)","v":""},{"$f":"RIGHT('名刺管理（Eight）'!D166,E168)","v":""},{"$f":"IF('名刺管理（Eight）'!D166=\"\",\"\",IF(LEN('名刺管理（Eight）'!D166)=D168+E168,\"\",\"不一致\"))","v":""},null,null,{"$f":"IF('名刺管理（Eight）'!A166=\"\",\"\",'名刺管理（Eight）'!A166)","v":""},{"$f":"IF('名刺管理（Eight）'!B166=\"\",\"\",'名刺管理（Eight）'!B166)","v":""},{"$f":"IF('名刺管理（Eight）'!C166=\"\",\"\",'名刺管理（Eight）'!C166)","v":""},{"$f":"IF('名刺管理（Eight）'!E166=\"\",\"\",'名刺管理（Eight）'!E166)","v":""},{"$f":"IF('名刺管理（Eight）'!F166=\"\",\"\",'名刺管理（Eight）'!F166)","v":""},{"$f":"IF('名刺管理（Eight）'!G166=\"\",\"\",IF(LEFT('名刺管理（Eight）'!G166,3)=\"神奈川\",LEFT('名刺管理（Eight）'!G166,4),IF(LEFT('名刺管理（Eight）'!G166,3)=\"和歌山\",LEFT('名刺管理（Eight）'!G166,4),IF(LEFT('名刺管理（Eight）'!G166,3)=\"鹿児島\",LEFT('名刺管理（Eight）'!G166,4),LEFT('名刺管理（Eight）'!G166,3)))))","v":""},{"$f":"IF(K168=\"\",\"\",IF(LEN(K168)=3,MID('名刺管理（Eight）'!G166,4,50),MID('名刺管理（Eight）'!G166,5,50)))","v":""},{"$f":"IF('名刺管理（Eight）'!H166=\"\",\"\",'名刺管理（Eight）'!H166)","v":""},{"$f":"IF('名刺管理（Eight）'!K166=\"\",\"\",'名刺管理（Eight）'!K166)","v":""},{"$f":"IF('名刺管理（Eight）'!L166=\"\",\"\",'名刺管理（Eight）'!L166)","v":""},{"$f":"IF('名刺管理（Eight）'!M166=\"\",\"\",'名刺管理（Eight）'!M166)","v":""},{"$f":"IF('名刺管理（Eight）'!N166=\"\",\"\",TEXT('名刺管理（Eight）'!N166,\"yyyy/m/d\"))","v":""}]
[{"$f":"LEFT('名刺管理（Eight）'!D167,D169)","v":""},{"$f":"RIGHT('名刺管理（Eight）'!D167,E169)","v":""},{"$f":"IF('名刺管理（Eight）'!D167=\"\",\"\",IF(LEN('名刺管理（Eight）'!D167)=D169+E169,\"\",\"不一致\"))","v":""},null,null,{"$f":"IF('名刺管理（Eight）'!A167=\"\",\"\",'名刺管理（Eight）'!A167)","v":""},{"$f":"IF('名刺管理（Eight）'!B167=\"\",\"\",'名刺管理（Eight）'!B167)","v":""},{"$f":"IF('名刺管理（Eight）'!C167=\"\",\"\",'名刺管理（Eight）'!C167)","v":""},{"$f":"IF('名刺管理（Eight）'!E167=\"\",\"\",'名刺管理（Eight）'!E167)","v":""},{"$f":"IF('名刺管理（Eight）'!F167=\"\",\"\",'名刺管理（Eight）'!F167)","v":""},{"$f":"IF('名刺管理（Eight）'!G167=\"\",\"\",IF(LEFT('名刺管理（Eight）'!G167,3)=\"神奈川\",LEFT('名刺管理（Eight）'!G167,4),IF(LEFT('名刺管理（Eight）'!G167,3)=\"和歌山\",LEFT('名刺管理（Eight）'!G167,4),IF(LEFT('名刺管理（Eight）'!G167,3)=\"鹿児島\",LEFT('名刺管理（Eight）'!G167,4),LEFT('名刺管理（Eight）'!G167,3)))))","v":""},{"$f":"IF(K169=\"\",\"\",IF(LEN(K169)=3,MID('名刺管理（Eight）'!G167,4,50),MID('名刺管理（Eight）'!G167,5,50)))","v":""},{"$f":"IF('名刺管理（Eight）'!H167=\"\",\"\",'名刺管理（Eight）'!H167)","v":""},{"$f":"IF('名刺管理（Eight）'!K167=\"\",\"\",'名刺管理（Eight）'!K167)","v":""},{"$f":"IF('名刺管理（Eight）'!L167=\"\",\"\",'名刺管理（Eight）'!L167)","v":""},{"$f":"IF('名刺管理（Eight）'!M167=\"\",\"\",'名刺管理（Eight）'!M167)","v":""},{"$f":"IF('名刺管理（Eight）'!N167=\"\",\"\",TEXT('名刺管理（Eight）'!N167,\"yyyy/m/d\"))","v":""}]
[{"$f":"LEFT('名刺管理（Eight）'!D168,D170)","v":""},{"$f":"RIGHT('名刺管理（Eight）'!D168,E170)","v":""},{"$f":"IF('名刺管理（Eight）'!D168=\"\",\"\",IF(LEN('名刺管理（Eight）'!D168)=D170+E170,\"\",\"不一致\"))","v":""},null,null,{"$f":"IF('名刺管理（Eight）'!A168=\"\",\"\",'名刺管理（Eight）'!A168)","v":""},{"$f":"IF('名刺管理（Eight）'!B168=\"\",\"\",'名刺管理（Eight）'!B168)","v":""},{"$f":"IF('名刺管理（Eight）'!C168=\"\",\"\",'名刺管理（Eight）'!C168)","v":""},{"$f":"IF('名刺管理（Eight）'!E168=\"\",\"\",'名刺管理（Eight）'!E168)","v":""},{"$f":"IF('名刺管理（Eight）'!F168=\"\",\"\",'名刺管理（Eight）'!F168)","v":""},{"$f":"IF('名刺管理（Eight）'!G168=\"\",\"\",IF(LEFT('名刺管理（Eight）'!G168,3)=\"神奈川\",LEFT('名刺管理（Eight）'!G168,4),IF(LEFT('名刺管理（Eight）'!G168,3)=\"和歌山\",LEFT('名刺管理（Eight）'!G168,4),IF(LEFT('名刺管理（Eight）'!G168,3)=\"鹿児島\",LEFT('名刺管理（Eight）'!G168,4),LEFT('名刺管理（Eight）'!G168,3)))))","v":""},{"$f":"IF(K170=\"\",\"\",IF(LEN(K170)=3,MID('名刺管理（Eight）'!G168,4,50),MID('名刺管理（Eight）'!G168,5,50)))","v":""},{"$f":"IF('名刺管理（Eight）'!H168=\"\",\"\",'名刺管理（Eight）'!H168)","v":""},{"$f":"IF('名刺管理（Eight）'!K168=\"\",\"\",'名刺管理（Eight）'!K168)","v":""},{"$f":"IF('名刺管理（Eight）'!L168=\"\",\"\",'名刺管理（Eight）'!L168)","v":""},{"$f":"IF('名刺管理（Eight）'!M168=\"\",\"\",'名刺管理（Eight）'!M168)","v":""},{"$f":"IF('名刺管理（Eight）'!N168=\"\",\"\",TEXT('名刺管理（Eight）'!N168,\"yyyy/m/d\"))","v":""}]
[{"$f":"LEFT('名刺管理（Eight）'!D169,D171)","v":""},{"$f":"RIGHT('名刺管理（Eight）'!D169,E171)","v":""},{"$f":"IF('名刺管理（Eight）'!D169=\"\",\"\",IF(LEN('名刺管理（Eight）'!D169)=D171+E171,\"\",\"不一致\"))","v":""},null,null,{"$f":"IF('名刺管理（Eight）'!A169=\"\",\"\",'名刺管理（Eight）'!A169)","v":""},{"$f":"IF('名刺管理（Eight）'!B169=\"\",\"\",'名刺管理（Eight）'!B169)","v":""},{"$f":"IF('名刺管理（Eight）'!C169=\"\",\"\",'名刺管理（Eight）'!C169)","v":""},{"$f":"IF('名刺管理（Eight）'!E169=\"\",\"\",'名刺管理（Eight）'!E169)","v":""},{"$f":"IF('名刺管理（Eight）'!F169=\"\",\"\",'名刺管理（Eight）'!F169)","v":""},{"$f":"IF('名刺管理（Eight）'!G169=\"\",\"\",IF(LEFT('名刺管理（Eight）'!G169,3)=\"神奈川\",LEFT('名刺管理（Eight）'!G169,4),IF(LEFT('名刺管理（Eight）'!G169,3)=\"和歌山\",LEFT('名刺管理（Eight）'!G169,4),IF(LEFT('名刺管理（Eight）'!G169,3)=\"鹿児島\",LEFT('名刺管理（Eight）'!G169,4),LEFT('名刺管理（Eight）'!G169,3)))))","v":""},{"$f":"IF(K171=\"\",\"\",IF(LEN(K171)=3,MID('名刺管理（Eight）'!G169,4,50),MID('名刺管理（Eight）'!G169,5,50)))","v":""},{"$f":"IF('名刺管理（Eight）'!H169=\"\",\"\",'名刺管理（Eight）'!H169)","v":""},{"$f":"IF('名刺管理（Eight）'!K169=\"\",\"\",'名刺管理（Eight）'!K169)","v":""},{"$f":"IF('名刺管理（Eight）'!L169=\"\",\"\",'名刺管理（Eight）'!L169)","v":""},{"$f":"IF('名刺管理（Eight）'!M169=\"\",\"\",'名刺管理（Eight）'!M169)","v":""},{"$f":"IF('名刺管理（Eight）'!N169=\"\",\"\",TEXT('名刺管理（Eight）'!N169,\"yyyy/m/d\"))","v":""}]
[{"$f":"LEFT('名刺管理（Eight）'!D170,D172)","v":""},{"$f":"RIGHT('名刺管理（Eight）'!D170,E172)","v":""},{"$f":"IF('名刺管理（Eight）'!D170=\"\",\"\",IF(LEN('名刺管理（Eight）'!D170)=D172+E172,\"\",\"不一致\"))","v":""},null,null,{"$f":"IF('名刺管理（Eight）'!A170=\"\",\"\",'名刺管理（Eight）'!A170)","v":""},{"$f":"IF('名刺管理（Eight）'!B170=\"\",\"\",'名刺管理（Eight）'!B170)","v":""},{"$f":"IF('名刺管理（Eight）'!C170=\"\",\"\",'名刺管理（Eight）'!C170)","v":""},{"$f":"IF('名刺管理（Eight）'!E170=\"\",\"\",'名刺管理（Eight）'!E170)","v":""},{"$f":"IF('名刺管理（Eight）'!F170=\"\",\"\",'名刺管理（Eight）'!F170)","v":""},{"$f":"IF('名刺管理（Eight）'!G170=\"\",\"\",IF(LEFT('名刺管理（Eight）'!G170,3)=\"神奈川\",LEFT('名刺管理（Eight）'!G170,4),IF(LEFT('名刺管理（Eight）'!G170,3)=\"和歌山\",LEFT('名刺管理（Eight）'!G170,4),IF(LEFT('名刺管理（Eight）'!G170,3)=\"鹿児島\",LEFT('名刺管理（Eight）'!G170,4),LEFT('名刺管理（Eight）'!G170,3)))))","v":""},{"$f":"IF(K172=\"\",\"\",IF(LEN(K172)=3,MID('名刺管理（Eight）'!G170,4,50),MID('名刺管理（Eight）'!G170,5,50)))","v":""},{"$f":"IF('名刺管理（Eight）'!H170=\"\",\"\",'名刺管理（Eight）'!H170)","v":""},{"$f":"IF('名刺管理（Eight）'!K170=\"\",\"\",'名刺管理（Eight）'!K170)","v":""},{"$f":"IF('名刺管理（Eight）'!L170=\"\",\"\",'名刺管理（Eight）'!L170)","v":""},{"$f":"IF('名刺管理（Eight）'!M170=\"\",\"\",'名刺管理（Eight）'!M170)","v":""},{"$f":"IF('名刺管理（Eight）'!N170=\"\",\"\",TEXT('名刺管理（Eight）'!N170,\"yyyy/m/d\"))","v":""}]
[{"$f":"LEFT('名刺管理（Eight）'!D171,D173)","v":""},{"$f":"RIGHT('名刺管理（Eight）'!D171,E173)","v":""},{"$f":"IF('名刺管理（Eight）'!D171=\"\",\"\",IF(LEN('名刺管理（Eight）'!D171)=D173+E173,\"\",\"不一致\"))","v":""},null,null,{"$f":"IF('名刺管理（Eight）'!A171=\"\",\"\",'名刺管理（Eight）'!A171)","v":""},{"$f":"IF('名刺管理（Eight）'!B171=\"\",\"\",'名刺管理（Eight）'!B171)","v":""},{"$f":"IF('名刺管理（Eight）'!C171=\"\",\"\",'名刺管理（Eight）'!C171)","v":""},{"$f":"IF('名刺管理（Eight）'!E171=\"\",\"\",'名刺管理（Eight）'!E171)","v":""},{"$f":"IF('名刺管理（Eight）'!F171=\"\",\"\",'名刺管理（Eight）'!F171)","v":""},{"$f":"IF('名刺管理（Eight）'!G171=\"\",\"\",IF(LEFT('名刺管理（Eight）'!G171,3)=\"神奈川\",LEFT('名刺管理（Eight）'!G171,4),IF(LEFT('名刺管理（Eight）'!G171,3)=\"和歌山\",LEFT('名刺管理（Eight）'!G171,4),IF(LEFT('名刺管理（Eight）'!G171,3)=\"鹿児島\",LEFT('名刺管理（Eight）'!G171,4),LEFT('名刺管理（Eight）'!G171,3)))))","v":""},{"$f":"IF(K173=\"\",\"\",IF(LEN(K173)=3,MID('名刺管理（Eight）'!G171,4,50),MID('名刺管理（Eight）'!G171,5,50)))","v":""},{"$f":"IF('名刺管理（Eight）'!H171=\"\",\"\",'名刺管理（Eight）'!H171)","v":""},{"$f":"IF('名刺管理（Eight）'!K171=\"\",\"\",'名刺管理（Eight）'!K171)","v":""},{"$f":"IF('名刺管理（Eight）'!L171=\"\",\"\",'名刺管理（Eight）'!L171)","v":""},{"$f":"IF('名刺管理（Eight）'!M171=\"\",\"\",'名刺管理（Eight）'!M171)","v":""},{"$f":"IF('名刺管理（Eight）'!N171=\"\",\"\",TEXT('名刺管理（Eight）'!N171,\"yyyy/m/d\"))","v":""}]
[{"$f":"LEFT('名刺管理（Eight）'!D172,D174)","v":""},{"$f":"RIGHT('名刺管理（Eight）'!D172,E174)","v":""},{"$f":"IF('名刺管理（Eight）'!D172=\"\",\"\",IF(LEN('名刺管理（Eight）'!D172)=D174+E174,\"\",\"不一致\"))","v":""},null,null,{"$f":"IF('名刺管理（Eight）'!A172=\"\",\"\",'名刺管理（Eight）'!A172)","v":""},{"$f":"IF('名刺管理（Eight）'!B172=\"\",\"\",'名刺管理（Eight）'!B172)","v":""},{"$f":"IF('名刺管理（Eight）'!C172=\"\",\"\",'名刺管理（Eight）'!C172)","v":""},{"$f":"IF('名刺管理（Eight）'!E172=\"\",\"\",'名刺管理（Eight）'!E172)","v":""},{"$f":"IF('名刺管理（Eight）'!F172=\"\",\"\",'名刺管理（Eight）'!F172)","v":""},{"$f":"IF('名刺管理（Eight）'!G172=\"\",\"\",IF(LEFT('名刺管理（Eight）'!G172,3)=\"神奈川\",LEFT('名刺管理（Eight）'!G172,4),IF(LEFT('名刺管理（Eight）'!G172,3)=\"和歌山\",LEFT('名刺管理（Eight）'!G172,4),IF(LEFT('名刺管理（Eight）'!G172,3)=\"鹿児島\",LEFT('名刺管理（Eight）'!G172,4),LEFT('名刺管理（Eight）'!G172,3)))))","v":""},{"$f":"IF(K174=\"\",\"\",IF(LEN(K174)=3,MID('名刺管理（Eight）'!G172,4,50),MID('名刺管理（Eight）'!G172,5,50)))","v":""},{"$f":"IF('名刺管理（Eight）'!H172=\"\",\"\",'名刺管理（Eight）'!H172)","v":""},{"$f":"IF('名刺管理（Eight）'!K172=\"\",\"\",'名刺管理（Eight）'!K172)","v":""},{"$f":"IF('名刺管理（Eight）'!L172=\"\",\"\",'名刺管理（Eight）'!L172)","v":""},{"$f":"IF('名刺管理（Eight）'!M172=\"\",\"\",'名刺管理（Eight）'!M172)","v":""},{"$f":"IF('名刺管理（Eight）'!N172=\"\",\"\",TEXT('名刺管理（Eight）'!N172,\"yyyy/m/d\"))","v":""}]
[{"$f":"LEFT('名刺管理（Eight）'!D173,D175)","v":""},{"$f":"RIGHT('名刺管理（Eight）'!D173,E175)","v":""},{"$f":"IF('名刺管理（Eight）'!D173=\"\",\"\",IF(LEN('名刺管理（Eight）'!D173)=D175+E175,\"\",\"不一致\"))","v":""},null,null,{"$f":"IF('名刺管理（Eight）'!A173=\"\",\"\",'名刺管理（Eight）'!A173)","v":""},{"$f":"IF('名刺管理（Eight）'!B173=\"\",\"\",'名刺管理（Eight）'!B173)","v":""},{"$f":"IF('名刺管理（Eight）'!C173=\"\",\"\",'名刺管理（Eight）'!C173)","v":""},{"$f":"IF('名刺管理（Eight）'!E173=\"\",\"\",'名刺管理（Eight）'!E173)","v":""},{"$f":"IF('名刺管理（Eight）'!F173=\"\",\"\",'名刺管理（Eight）'!F173)","v":""},{"$f":"IF('名刺管理（Eight）'!G173=\"\",\"\",IF(LEFT('名刺管理（Eight）'!G173,3)=\"神奈川\",LEFT('名刺管理（Eight）'!G173,4),IF(LEFT('名刺管理（Eight）'!G173,3)=\"和歌山\",LEFT('名刺管理（Eight）'!G173,4),IF(LEFT('名刺管理（Eight）'!G173,3)=\"鹿児島\",LEFT('名刺管理（Eight）'!G173,4),LEFT('名刺管理（Eight）'!G173,3)))))","v":""},{"$f":"IF(K175=\"\",\"\",IF(LEN(K175)=3,MID('名刺管理（Eight）'!G173,4,50),MID('名刺管理（Eight）'!G173,5,50)))","v":""},{"$f":"IF('名刺管理（Eight）'!H173=\"\",\"\",'名刺管理（Eight）'!H173)","v":""},{"$f":"IF('名刺管理（Eight）'!K173=\"\",\"\",'名刺管理（Eight）'!K173)","v":""},{"$f":"IF('名刺管理（Eight）'!L173=\"\",\"\",'名刺管理（Eight）'!L173)","v":""},{"$f":"IF('名刺管理（Eight）'!M173=\"\",\"\",'名刺管理（Eight）'!M173)","v":""},{"$f":"IF('名刺管理（Eight）'!N173=\"\",\"\",TEXT('名刺管理（Eight）'!N173,\"yyyy/m/d\"))","v":""}]
[{"$f":"LEFT('名刺管理（Eight）'!D174,D176)","v":""},{"$f":"RIGHT('名刺管理（Eight）'!D174,E176)","v":""},{"$f":"IF('名刺管理（Eight）'!D174=\"\",\"\",IF(LEN('名刺管理（Eight）'!D174)=D176+E176,\"\",\"不一致\"))","v":""},null,null,{"$f":"IF('名刺管理（Eight）'!A174=\"\",\"\",'名刺管理（Eight）'!A174)","v":""},{"$f":"IF('名刺管理（Eight）'!B174=\"\",\"\",'名刺管理（Eight）'!B174)","v":""},{"$f":"IF('名刺管理（Eight）'!C174=\"\",\"\",'名刺管理（Eight）'!C174)","v":""},{"$f":"IF('名刺管理（Eight）'!E174=\"\",\"\",'名刺管理（Eight）'!E174)","v":""},{"$f":"IF('名刺管理（Eight）'!F174=\"\",\"\",'名刺管理（Eight）'!F174)","v":""},{"$f":"IF('名刺管理（Eight）'!G174=\"\",\"\",IF(LEFT('名刺管理（Eight）'!G174,3)=\"神奈川\",LEFT('名刺管理（Eight）'!G174,4),IF(LEFT('名刺管理（Eight）'!G174,3)=\"和歌山\",LEFT('名刺管理（Eight）'!G174,4),IF(LEFT('名刺管理（Eight）'!G174,3)=\"鹿児島\",LEFT('名刺管理（Eight）'!G174,4),LEFT('名刺管理（Eight）'!G174,3)))))","v":""},{"$f":"IF(K176=\"\",\"\",IF(LEN(K176)=3,MID('名刺管理（Eight）'!G174,4,50),MID('名刺管理（Eight）'!G174,5,50)))","v":""},{"$f":"IF('名刺管理（Eight）'!H174=\"\",\"\",'名刺管理（Eight）'!H174)","v":""},{"$f":"IF('名刺管理（Eight）'!K174=\"\",\"\",'名刺管理（Eight）'!K174)","v":""},{"$f":"IF('名刺管理（Eight）'!L174=\"\",\"\",'名刺管理（Eight）'!L174)","v":""},{"$f":"IF('名刺管理（Eight）'!M174=\"\",\"\",'名刺管理（Eight）'!M174)","v":""},{"$f":"IF('名刺管理（Eight）'!N174=\"\",\"\",TEXT('名刺管理（Eight）'!N174,\"yyyy/m/d\"))","v":""}]
[{"$f":"LEFT('名刺管理（Eight）'!D175,D177)","v":""},{"$f":"RIGHT('名刺管理（Eight）'!D175,E177)","v":""},{"$f":"IF('名刺管理（Eight）'!D175=\"\",\"\",IF(LEN('名刺管理（Eight）'!D175)=D177+E177,\"\",\"不一致\"))","v":""},null,null,{"$f":"IF('名刺管理（Eight）'!A175=\"\",\"\",'名刺管理（Eight）'!A175)","v":""},{"$f":"IF('名刺管理（Eight）'!B175=\"\",\"\",'名刺管理（Eight）'!B175)","v":""},{"$f":"IF('名刺管理（Eight）'!C175=\"\",\"\",'名刺管理（Eight）'!C175)","v":""},{"$f":"IF('名刺管理（Eight）'!E175=\"\",\"\",'名刺管理（Eight）'!E175)","v":""},{"$f":"IF('名刺管理（Eight）'!F175=\"\",\"\",'名刺管理（Eight）'!F175)","v":""},{"$f":"IF('名刺管理（Eight）'!G175=\"\",\"\",IF(LEFT('名刺管理（Eight）'!G175,3)=\"神奈川\",LEFT('名刺管理（Eight）'!G175,4),IF(LEFT('名刺管理（Eight）'!G175,3)=\"和歌山\",LEFT('名刺管理（Eight）'!G175,4),IF(LEFT('名刺管理（Eight）'!G175,3)=\"鹿児島\",LEFT('名刺管理（Eight）'!G175,4),LEFT('名刺管理（Eight）'!G175,3)))))","v":""},{"$f":"IF(K177=\"\",\"\",IF(LEN(K177)=3,MID('名刺管理（Eight）'!G175,4,50),MID('名刺管理（Eight）'!G175,5,50)))","v":""},{"$f":"IF('名刺管理（Eight）'!H175=\"\",\"\",'名刺管理（Eight）'!H175)","v":""},{"$f":"IF('名刺管理（Eight）'!K175=\"\",\"\",'名刺管理（Eight）'!K175)","v":""},{"$f":"IF('名刺管理（Eight）'!L175=\"\",\"\",'名刺管理（Eight）'!L175)","v":""},{"$f":"IF('名刺管理（Eight）'!M175=\"\",\"\",'名刺管理（Eight）'!M175)","v":""},{"$f":"IF('名刺管理（Eight）'!N175=\"\",\"\",TEXT('名刺管理（Eight）'!N175,\"yyyy/m/d\"))","v":""}]
[{"$f":"LEFT('名刺管理（Eight）'!D176,D178)","v":""},{"$f":"RIGHT('名刺管理（Eight）'!D176,E178)","v":""},{"$f":"IF('名刺管理（Eight）'!D176=\"\",\"\",IF(LEN('名刺管理（Eight）'!D176)=D178+E178,\"\",\"不一致\"))","v":""},null,null,{"$f":"IF('名刺管理（Eight）'!A176=\"\",\"\",'名刺管理（Eight）'!A176)","v":""},{"$f":"IF('名刺管理（Eight）'!B176=\"\",\"\",'名刺管理（Eight）'!B176)","v":""},{"$f":"IF('名刺管理（Eight）'!C176=\"\",\"\",'名刺管理（Eight）'!C176)","v":""},{"$f":"IF('名刺管理（Eight）'!E176=\"\",\"\",'名刺管理（Eight）'!E176)","v":""},{"$f":"IF('名刺管理（Eight）'!F176=\"\",\"\",'名刺管理（Eight）'!F176)","v":""},{"$f":"IF('名刺管理（Eight）'!G176=\"\",\"\",IF(LEFT('名刺管理（Eight）'!G176,3)=\"神奈川\",LEFT('名刺管理（Eight）'!G176,4),IF(LEFT('名刺管理（Eight）'!G176,3)=\"和歌山\",LEFT('名刺管理（Eight）'!G176,4),IF(LEFT('名刺管理（Eight）'!G176,3)=\"鹿児島\",LEFT('名刺管理（Eight）'!G176,4),LEFT('名刺管理（Eight）'!G176,3)))))","v":""},{"$f":"IF(K178=\"\",\"\",IF(LEN(K178)=3,MID('名刺管理（Eight）'!G176,4,50),MID('名刺管理（Eight）'!G176,5,50)))","v":""},{"$f":"IF('名刺管理（Eight）'!H176=\"\",\"\",'名刺管理（Eight）'!H176)","v":""},{"$f":"IF('名刺管理（Eight）'!K176=\"\",\"\",'名刺管理（Eight）'!K176)","v":""},{"$f":"IF('名刺管理（Eight）'!L176=\"\",\"\",'名刺管理（Eight）'!L176)","v":""},{"$f":"IF('名刺管理（Eight）'!M176=\"\",\"\",'名刺管理（Eight）'!M176)","v":""},{"$f":"IF('名刺管理（Eight）'!N176=\"\",\"\",TEXT('名刺管理（Eight）'!N176,\"yyyy/m/d\"))","v":""}]
[{"$f":"LEFT('名刺管理（Eight）'!D177,D179)","v":""},{"$f":"RIGHT('名刺管理（Eight）'!D177,E179)","v":""},{"$f":"IF('名刺管理（Eight）'!D177=\"\",\"\",IF(LEN('名刺管理（Eight）'!D177)=D179+E179,\"\",\"不一致\"))","v":""},null,null,{"$f":"IF('名刺管理（Eight）'!A177=\"\",\"\",'名刺管理（Eight）'!A177)","v":""},{"$f":"IF('名刺管理（Eight）'!B177=\"\",\"\",'名刺管理（Eight）'!B177)","v":""},{"$f":"IF('名刺管理（Eight）'!C177=\"\",\"\",'名刺管理（Eight）'!C177)","v":""},{"$f":"IF('名刺管理（Eight）'!E177=\"\",\"\",'名刺管理（Eight）'!E177)","v":""},{"$f":"IF('名刺管理（Eight）'!F177=\"\",\"\",'名刺管理（Eight）'!F177)","v":""},{"$f":"IF('名刺管理（Eight）'!G177=\"\",\"\",IF(LEFT('名刺管理（Eight）'!G177,3)=\"神奈川\",LEFT('名刺管理（Eight）'!G177,4),IF(LEFT('名刺管理（Eight）'!G177,3)=\"和歌山\",LEFT('名刺管理（Eight）'!G177,4),IF(LEFT('名刺管理（Eight）'!G177,3)=\"鹿児島\",LEFT('名刺管理（Eight）'!G177,4),LEFT('名刺管理（Eight）'!G177,3)))))","v":""},{"$f":"IF(K179=\"\",\"\",IF(LEN(K179)=3,MID('名刺管理（Eight）'!G177,4,50),MID('名刺管理（Eight）'!G177,5,50)))","v":""},{"$f":"IF('名刺管理（Eight）'!H177=\"\",\"\",'名刺管理（Eight）'!H177)","v":""},{"$f":"IF('名刺管理（Eight）'!K177=\"\",\"\",'名刺管理（Eight）'!K177)","v":""},{"$f":"IF('名刺管理（Eight）'!L177=\"\",\"\",'名刺管理（Eight）'!L177)","v":""},{"$f":"IF('名刺管理（Eight）'!M177=\"\",\"\",'名刺管理（Eight）'!M177)","v":""},{"$f":"IF('名刺管理（Eight）'!N177=\"\",\"\",TEXT('名刺管理（Eight）'!N177,\"yyyy/m/d\"))","v":""}]
[{"$f":"LEFT('名刺管理（Eight）'!D178,D180)","v":""},{"$f":"RIGHT('名刺管理（Eight）'!D178,E180)","v":""},{"$f":"IF('名刺管理（Eight）'!D178=\"\",\"\",IF(LEN('名刺管理（Eight）'!D178)=D180+E180,\"\",\"不一致\"))","v":""},null,null,{"$f":"IF('名刺管理（Eight）'!A178=\"\",\"\",'名刺管理（Eight）'!A178)","v":""},{"$f":"IF('名刺管理（Eight）'!B178=\"\",\"\",'名刺管理（Eight）'!B178)","v":""},{"$f":"IF('名刺管理（Eight）'!C178=\"\",\"\",'名刺管理（Eight）'!C178)","v":""},{"$f":"IF('名刺管理（Eight）'!E178=\"\",\"\",'名刺管理（Eight）'!E178)","v":""},{"$f":"IF('名刺管理（Eight）'!F178=\"\",\"\",'名刺管理（Eight）'!F178)","v":""},{"$f":"IF('名刺管理（Eight）'!G178=\"\",\"\",IF(LEFT('名刺管理（Eight）'!G178,3)=\"神奈川\",LEFT('名刺管理（Eight）'!G178,4),IF(LEFT('名刺管理（Eight）'!G178,3)=\"和歌山\",LEFT('名刺管理（Eight）'!G178,4),IF(LEFT('名刺管理（Eight）'!G178,3)=\"鹿児島\",LEFT('名刺管理（Eight）'!G178,4),LEFT('名刺管理（Eight）'!G178,3)))))","v":""},{"$f":"IF(K180=\"\",\"\",IF(LEN(K180)=3,MID('名刺管理（Eight）'!G178,4,50),MID('名刺管理（Eight）'!G178,5,50)))","v":""},{"$f":"IF('名刺管理（Eight）'!H178=\"\",\"\",'名刺管理（Eight）'!H178)","v":""},{"$f":"IF('名刺管理（Eight）'!K178=\"\",\"\",'名刺管理（Eight）'!K178)","v":""},{"$f":"IF('名刺管理（Eight）'!L178=\"\",\"\",'名刺管理（Eight）'!L178)","v":""},{"$f":"IF('名刺管理（Eight）'!M178=\"\",\"\",'名刺管理（Eight）'!M178)","v":""},{"$f":"IF('名刺管理（Eight）'!N178=\"\",\"\",TEXT('名刺管理（Eight）'!N178,\"yyyy/m/d\"))","v":""}]
[{"$f":"LEFT('名刺管理（Eight）'!D179,D181)","v":""},{"$f":"RIGHT('名刺管理（Eight）'!D179,E181)","v":""},{"$f":"IF('名刺管理（Eight）'!D179=\"\",\"\",IF(LEN('名刺管理（Eight）'!D179)=D181+E181,\"\",\"不一致\"))","v":""},null,null,{"$f":"IF('名刺管理（Eight）'!A179=\"\",\"\",'名刺管理（Eight）'!A179)","v":""},{"$f":"IF('名刺管理（Eight）'!B179=\"\",\"\",'名刺管理（Eight）'!B179)","v":""},{"$f":"IF('名刺管理（Eight）'!C179=\"\",\"\",'名刺管理（Eight）'!C179)","v":""},{"$f":"IF('名刺管理（Eight）'!E179=\"\",\"\",'名刺管理（Eight）'!E179)","v":""},{"$f":"IF('名刺管理（Eight）'!F179=\"\",\"\",'名刺管理（Eight）'!F179)","v":""},{"$f":"IF('名刺管理（Eight）'!G179=\"\",\"\",IF(LEFT('名刺管理（Eight）'!G179,3)=\"神奈川\",LEFT('名刺管理（Eight）'!G179,4),IF(LEFT('名刺管理（Eight）'!G179,3)=\"和歌山\",LEFT('名刺管理（Eight）'!G179,4),IF(LEFT('名刺管理（Eight）'!G179,3)=\"鹿児島\",LEFT('名刺管理（Eight）'!G179,4),LEFT('名刺管理（Eight）'!G179,3)))))","v":""},{"$f":"IF(K181=\"\",\"\",IF(LEN(K181)=3,MID('名刺管理（Eight）'!G179,4,50),MID('名刺管理（Eight）'!G179,5,50)))","v":""},{"$f":"IF('名刺管理（Eight）'!H179=\"\",\"\",'名刺管理（Eight）'!H179)","v":""},{"$f":"IF('名刺管理（Eight）'!K179=\"\",\"\",'名刺管理（Eight）'!K179)","v":""},{"$f":"IF('名刺管理（Eight）'!L179=\"\",\"\",'名刺管理（Eight）'!L179)","v":""},{"$f":"IF('名刺管理（Eight）'!M179=\"\",\"\",'名刺管理（Eight）'!M179)","v":""},{"$f":"IF('名刺管理（Eight）'!N179=\"\",\"\",TEXT('名刺管理（Eight）'!N179,\"yyyy/m/d\"))","v":""}]
[{"$f":"LEFT('名刺管理（Eight）'!D180,D182)","v":""},{"$f":"RIGHT('名刺管理（Eight）'!D180,E182)","v":""},{"$f":"IF('名刺管理（Eight）'!D180=\"\",\"\",IF(LEN('名刺管理（Eight）'!D180)=D182+E182,\"\",\"不一致\"))","v":""},null,null,{"$f":"IF('名刺管理（Eight）'!A180=\"\",\"\",'名刺管理（Eight）'!A180)","v":""},{"$f":"IF('名刺管理（Eight）'!B180=\"\",\"\",'名刺管理（Eight）'!B180)","v":""},{"$f":"IF('名刺管理（Eight）'!C180=\"\",\"\",'名刺管理（Eight）'!C180)","v":""},{"$f":"IF('名刺管理（Eight）'!E180=\"\",\"\",'名刺管理（Eight）'!E180)","v":""},{"$f":"IF('名刺管理（Eight）'!F180=\"\",\"\",'名刺管理（Eight）'!F180)","v":""},{"$f":"IF('名刺管理（Eight）'!G180=\"\",\"\",IF(LEFT('名刺管理（Eight）'!G180,3)=\"神奈川\",LEFT('名刺管理（Eight）'!G180,4),IF(LEFT('名刺管理（Eight）'!G180,3)=\"和歌山\",LEFT('名刺管理（Eight）'!G180,4),IF(LEFT('名刺管理（Eight）'!G180,3)=\"鹿児島\",LEFT('名刺管理（Eight）'!G180,4),LEFT('名刺管理（Eight）'!G180,3)))))","v":""},{"$f":"IF(K182=\"\",\"\",IF(LEN(K182)=3,MID('名刺管理（Eight）'!G180,4,50),MID('名刺管理（Eight）'!G180,5,50)))","v":""},{"$f":"IF('名刺管理（Eight）'!H180=\"\",\"\",'名刺管理（Eight）'!H180)","v":""},{"$f":"IF('名刺管理（Eight）'!K180=\"\",\"\",'名刺管理（Eight）'!K180)","v":""},{"$f":"IF('名刺管理（Eight）'!L180=\"\",\"\",'名刺管理（Eight）'!L180)","v":""},{"$f":"IF('名刺管理（Eight）'!M180=\"\",\"\",'名刺管理（Eight）'!M180)","v":""},{"$f":"IF('名刺管理（Eight）'!N180=\"\",\"\",TEXT('名刺管理（Eight）'!N180,\"yyyy/m/d\"))","v":""}]
[{"$f":"LEFT('名刺管理（Eight）'!D181,D183)","v":""},{"$f":"RIGHT('名刺管理（Eight）'!D181,E183)","v":""},{"$f":"IF('名刺管理（Eight）'!D181=\"\",\"\",IF(LEN('名刺管理（Eight）'!D181)=D183+E183,\"\",\"不一致\"))","v":""},null,null,{"$f":"IF('名刺管理（Eight）'!A181=\"\",\"\",'名刺管理（Eight）'!A181)","v":""},{"$f":"IF('名刺管理（Eight）'!B181=\"\",\"\",'名刺管理（Eight）'!B181)","v":""},{"$f":"IF('名刺管理（Eight）'!C181=\"\",\"\",'名刺管理（Eight）'!C181)","v":""},{"$f":"IF('名刺管理（Eight）'!E181=\"\",\"\",'名刺管理（Eight）'!E181)","v":""},{"$f":"IF('名刺管理（Eight）'!F181=\"\",\"\",'名刺管理（Eight）'!F181)","v":""},{"$f":"IF('名刺管理（Eight）'!G181=\"\",\"\",IF(LEFT('名刺管理（Eight）'!G181,3)=\"神奈川\",LEFT('名刺管理（Eight）'!G181,4),IF(LEFT('名刺管理（Eight）'!G181,3)=\"和歌山\",LEFT('名刺管理（Eight）'!G181,4),IF(LEFT('名刺管理（Eight）'!G181,3)=\"鹿児島\",LEFT('名刺管理（Eight）'!G181,4),LEFT('名刺管理（Eight）'!G181,3)))))","v":""},{"$f":"IF(K183=\"\",\"\",IF(LEN(K183)=3,MID('名刺管理（Eight）'!G181,4,50),MID('名刺管理（Eight）'!G181,5,50)))","v":""},{"$f":"IF('名刺管理（Eight）'!H181=\"\",\"\",'名刺管理（Eight）'!H181)","v":""},{"$f":"IF('名刺管理（Eight）'!K181=\"\",\"\",'名刺管理（Eight）'!K181)","v":""},{"$f":"IF('名刺管理（Eight）'!L181=\"\",\"\",'名刺管理（Eight）'!L181)","v":""},{"$f":"IF('名刺管理（Eight）'!M181=\"\",\"\",'名刺管理（Eight）'!M181)","v":""},{"$f":"IF('名刺管理（Eight）'!N181=\"\",\"\",TEXT('名刺管理（Eight）'!N181,\"yyyy/m/d\"))","v":""}]
[{"$f":"LEFT('名刺管理（Eight）'!D182,D184)","v":""},{"$f":"RIGHT('名刺管理（Eight）'!D182,E184)","v":""},{"$f":"IF('名刺管理（Eight）'!D182=\"\",\"\",IF(LEN('名刺管理（Eight）'!D182)=D184+E184,\"\",\"不一致\"))","v":""},null,null,{"$f":"IF('名刺管理（Eight）'!A182=\"\",\"\",'名刺管理（Eight）'!A182)","v":""},{"$f":"IF('名刺管理（Eight）'!B182=\"\",\"\",'名刺管理（Eight）'!B182)","v":""},{"$f":"IF('名刺管理（Eight）'!C182=\"\",\"\",'名刺管理（Eight）'!C182)","v":""},{"$f":"IF('名刺管理（Eight）'!E182=\"\",\"\",'名刺管理（Eight）'!E182)","v":""},{"$f":"IF('名刺管理（Eight）'!F182=\"\",\"\",'名刺管理（Eight）'!F182)","v":""},{"$f":"IF('名刺管理（Eight）'!G182=\"\",\"\",IF(LEFT('名刺管理（Eight）'!G182,3)=\"神奈川\",LEFT('名刺管理（Eight）'!G182,4),IF(LEFT('名刺管理（Eight）'!G182,3)=\"和歌山\",LEFT('名刺管理（Eight）'!G182,4),IF(LEFT('名刺管理（Eight）'!G182,3)=\"鹿児島\",LEFT('名刺管理（Eight）'!G182,4),LEFT('名刺管理（Eight）'!G182,3)))))","v":""},{"$f":"IF(K184=\"\",\"\",IF(LEN(K184)=3,MID('名刺管理（Eight）'!G182,4,50),MID('名刺管理（Eight）'!G182,5,50)))","v":""},{"$f":"IF('名刺管理（Eight）'!H182=\"\",\"\",'名刺管理（Eight）'!H182)","v":""},{"$f":"IF('名刺管理（Eight）'!K182=\"\",\"\",'名刺管理（Eight）'!K182)","v":""},{"$f":"IF('名刺管理（Eight）'!L182=\"\",\"\",'名刺管理（Eight）'!L182)","v":""},{"$f":"IF('名刺管理（Eight）'!M182=\"\",\"\",'名刺管理（Eight）'!M182)","v":""},{"$f":"IF('名刺管理（Eight）'!N182=\"\",\"\",TEXT('名刺管理（Eight）'!N182,\"yyyy/m/d\"))","v":""}]
[{"$f":"LEFT('名刺管理（Eight）'!D183,D185)","v":""},{"$f":"RIGHT('名刺管理（Eight）'!D183,E185)","v":""},{"$f":"IF('名刺管理（Eight）'!D183=\"\",\"\",IF(LEN('名刺管理（Eight）'!D183)=D185+E185,\"\",\"不一致\"))","v":""},null,null,{"$f":"IF('名刺管理（Eight）'!A183=\"\",\"\",'名刺管理（Eight）'!A183)","v":""},{"$f":"IF('名刺管理（Eight）'!B183=\"\",\"\",'名刺管理（Eight）'!B183)","v":""},{"$f":"IF('名刺管理（Eight）'!C183=\"\",\"\",'名刺管理（Eight）'!C183)","v":""},{"$f":"IF('名刺管理（Eight）'!E183=\"\",\"\",'名刺管理（Eight）'!E183)","v":""},{"$f":"IF('名刺管理（Eight）'!F183=\"\",\"\",'名刺管理（Eight）'!F183)","v":""},{"$f":"IF('名刺管理（Eight）'!G183=\"\",\"\",IF(LEFT('名刺管理（Eight）'!G183,3)=\"神奈川\",LEFT('名刺管理（Eight）'!G183,4),IF(LEFT('名刺管理（Eight）'!G183,3)=\"和歌山\",LEFT('名刺管理（Eight）'!G183,4),IF(LEFT('名刺管理（Eight）'!G183,3)=\"鹿児島\",LEFT('名刺管理（Eight）'!G183,4),LEFT('名刺管理（Eight）'!G183,3)))))","v":""},{"$f":"IF(K185=\"\",\"\",IF(LEN(K185)=3,MID('名刺管理（Eight）'!G183,4,50),MID('名刺管理（Eight）'!G183,5,50)))","v":""},{"$f":"IF('名刺管理（Eight）'!H183=\"\",\"\",'名刺管理（Eight）'!H183)","v":""},{"$f":"IF('名刺管理（Eight）'!K183=\"\",\"\",'名刺管理（Eight）'!K183)","v":""},{"$f":"IF('名刺管理（Eight）'!L183=\"\",\"\",'名刺管理（Eight）'!L183)","v":""},{"$f":"IF('名刺管理（Eight）'!M183=\"\",\"\",'名刺管理（Eight）'!M183)","v":""},{"$f":"IF('名刺管理（Eight）'!N183=\"\",\"\",TEXT('名刺管理（Eight）'!N183,\"yyyy/m/d\"))","v":""}]
[{"$f":"LEFT('名刺管理（Eight）'!D184,D186)","v":""},{"$f":"RIGHT('名刺管理（Eight）'!D184,E186)","v":""},{"$f":"IF('名刺管理（Eight）'!D184=\"\",\"\",IF(LEN('名刺管理（Eight）'!D184)=D186+E186,\"\",\"不一致\"))","v":""},null,null,{"$f":"IF('名刺管理（Eight）'!A184=\"\",\"\",'名刺管理（Eight）'!A184)","v":""},{"$f":"IF('名刺管理（Eight）'!B184=\"\",\"\",'名刺管理（Eight）'!B184)","v":""},{"$f":"IF('名刺管理（Eight）'!C184=\"\",\"\",'名刺管理（Eight）'!C184)","v":""},{"$f":"IF('名刺管理（Eight）'!E184=\"\",\"\",'名刺管理（Eight）'!E184)","v":""},{"$f":"IF('名刺管理（Eight）'!F184=\"\",\"\",'名刺管理（Eight）'!F184)","v":""},{"$f":"IF('名刺管理（Eight）'!G184=\"\",\"\",IF(LEFT('名刺管理（Eight）'!G184,3)=\"神奈川\",LEFT('名刺管理（Eight）'!G184,4),IF(LEFT('名刺管理（Eight）'!G184,3)=\"和歌山\",LEFT('名刺管理（Eight）'!G184,4),IF(LEFT('名刺管理（Eight）'!G184,3)=\"鹿児島\",LEFT('名刺管理（Eight）'!G184,4),LEFT('名刺管理（Eight）'!G184,3)))))","v":""},{"$f":"IF(K186=\"\",\"\",IF(LEN(K186)=3,MID('名刺管理（Eight）'!G184,4,50),MID('名刺管理（Eight）'!G184,5,50)))","v":""},{"$f":"IF('名刺管理（Eight）'!H184=\"\",\"\",'名刺管理（Eight）'!H184)","v":""},{"$f":"IF('名刺管理（Eight）'!K184=\"\",\"\",'名刺管理（Eight）'!K184)","v":""},{"$f":"IF('名刺管理（Eight）'!L184=\"\",\"\",'名刺管理（Eight）'!L184)","v":""},{"$f":"IF('名刺管理（Eight）'!M184=\"\",\"\",'名刺管理（Eight）'!M184)","v":""},{"$f":"IF('名刺管理（Eight）'!N184=\"\",\"\",TEXT('名刺管理（Eight）'!N184,\"yyyy/m/d\"))","v":""}]
[{"$f":"LEFT('名刺管理（Eight）'!D185,D187)","v":""},{"$f":"RIGHT('名刺管理（Eight）'!D185,E187)","v":""},{"$f":"IF('名刺管理（Eight）'!D185=\"\",\"\",IF(LEN('名刺管理（Eight）'!D185)=D187+E187,\"\",\"不一致\"))","v":""},null,null,{"$f":"IF('名刺管理（Eight）'!A185=\"\",\"\",'名刺管理（Eight）'!A185)","v":""},{"$f":"IF('名刺管理（Eight）'!B185=\"\",\"\",'名刺管理（Eight）'!B185)","v":""},{"$f":"IF('名刺管理（Eight）'!C185=\"\",\"\",'名刺管理（Eight）'!C185)","v":""},{"$f":"IF('名刺管理（Eight）'!E185=\"\",\"\",'名刺管理（Eight）'!E185)","v":""},{"$f":"IF('名刺管理（Eight）'!F185=\"\",\"\",'名刺管理（Eight）'!F185)","v":""},{"$f":"IF('名刺管理（Eight）'!G185=\"\",\"\",IF(LEFT('名刺管理（Eight）'!G185,3)=\"神奈川\",LEFT('名刺管理（Eight）'!G185,4),IF(LEFT('名刺管理（Eight）'!G185,3)=\"和歌山\",LEFT('名刺管理（Eight）'!G185,4),IF(LEFT('名刺管理（Eight）'!G185,3)=\"鹿児島\",LEFT('名刺管理（Eight）'!G185,4),LEFT('名刺管理（Eight）'!G185,3)))))","v":""},{"$f":"IF(K187=\"\",\"\",IF(LEN(K187)=3,MID('名刺管理（Eight）'!G185,4,50),MID('名刺管理（Eight）'!G185,5,50)))","v":""},{"$f":"IF('名刺管理（Eight）'!H185=\"\",\"\",'名刺管理（Eight）'!H185)","v":""},{"$f":"IF('名刺管理（Eight）'!K185=\"\",\"\",'名刺管理（Eight）'!K185)","v":""},{"$f":"IF('名刺管理（Eight）'!L185=\"\",\"\",'名刺管理（Eight）'!L185)","v":""},{"$f":"IF('名刺管理（Eight）'!M185=\"\",\"\",'名刺管理（Eight）'!M185)","v":""},{"$f":"IF('名刺管理（Eight）'!N185=\"\",\"\",TEXT('名刺管理（Eight）'!N185,\"yyyy/m/d\"))","v":""}]
[{"$f":"LEFT('名刺管理（Eight）'!D186,D188)","v":""},{"$f":"RIGHT('名刺管理（Eight）'!D186,E188)","v":""},{"$f":"IF('名刺管理（Eight）'!D186=\"\",\"\",IF(LEN('名刺管理（Eight）'!D186)=D188+E188,\"\",\"不一致\"))","v":""},null,null,{"$f":"IF('名刺管理（Eight）'!A186=\"\",\"\",'名刺管理（Eight）'!A186)","v":""},{"$f":"IF('名刺管理（Eight）'!B186=\"\",\"\",'名刺管理（Eight）'!B186)","v":""},{"$f":"IF('名刺管理（Eight）'!C186=\"\",\"\",'名刺管理（Eight）'!C186)","v":""},{"$f":"IF('名刺管理（Eight）'!E186=\"\",\"\",'名刺管理（Eight）'!E186)","v":""},{"$f":"IF('名刺管理（Eight）'!F186=\"\",\"\",'名刺管理（Eight）'!F186)","v":""},{"$f":"IF('名刺管理（Eight）'!G186=\"\",\"\",IF(LEFT('名刺管理（Eight）'!G186,3)=\"神奈川\",LEFT('名刺管理（Eight）'!G186,4),IF(LEFT('名刺管理（Eight）'!G186,3)=\"和歌山\",LEFT('名刺管理（Eight）'!G186,4),IF(LEFT('名刺管理（Eight）'!G186,3)=\"鹿児島\",LEFT('名刺管理（Eight）'!G186,4),LEFT('名刺管理（Eight）'!G186,3)))))","v":""},{"$f":"IF(K188=\"\",\"\",IF(LEN(K188)=3,MID('名刺管理（Eight）'!G186,4,50),MID('名刺管理（Eight）'!G186,5,50)))","v":""},{"$f":"IF('名刺管理（Eight）'!H186=\"\",\"\",'名刺管理（Eight）'!H186)","v":""},{"$f":"IF('名刺管理（Eight）'!K186=\"\",\"\",'名刺管理（Eight）'!K186)","v":""},{"$f":"IF('名刺管理（Eight）'!L186=\"\",\"\",'名刺管理（Eight）'!L186)","v":""},{"$f":"IF('名刺管理（Eight）'!M186=\"\",\"\",'名刺管理（Eight）'!M186)","v":""},{"$f":"IF('名刺管理（Eight）'!N186=\"\",\"\",TEXT('名刺管理（Eight）'!N186,\"yyyy/m/d\"))","v":""}]
[{"$f":"LEFT('名刺管理（Eight）'!D187,D189)","v":""},{"$f":"RIGHT('名刺管理（Eight）'!D187,E189)","v":""},{"$f":"IF('名刺管理（Eight）'!D187=\"\",\"\",IF(LEN('名刺管理（Eight）'!D187)=D189+E189,\"\",\"不一致\"))","v":""},null,null,{"$f":"IF('名刺管理（Eight）'!A187=\"\",\"\",'名刺管理（Eight）'!A187)","v":""},{"$f":"IF('名刺管理（Eight）'!B187=\"\",\"\",'名刺管理（Eight）'!B187)","v":""},{"$f":"IF('名刺管理（Eight）'!C187=\"\",\"\",'名刺管理（Eight）'!C187)","v":""},{"$f":"IF('名刺管理（Eight）'!E187=\"\",\"\",'名刺管理（Eight）'!E187)","v":""},{"$f":"IF('名刺管理（Eight）'!F187=\"\",\"\",'名刺管理（Eight）'!F187)","v":""},{"$f":"IF('名刺管理（Eight）'!G187=\"\",\"\",IF(LEFT('名刺管理（Eight）'!G187,3)=\"神奈川\",LEFT('名刺管理（Eight）'!G187,4),IF(LEFT('名刺管理（Eight）'!G187,3)=\"和歌山\",LEFT('名刺管理（Eight）'!G187,4),IF(LEFT('名刺管理（Eight）'!G187,3)=\"鹿児島\",LEFT('名刺管理（Eight）'!G187,4),LEFT('名刺管理（Eight）'!G187,3)))))","v":""},{"$f":"IF(K189=\"\",\"\",IF(LEN(K189)=3,MID('名刺管理（Eight）'!G187,4,50),MID('名刺管理（Eight）'!G187,5,50)))","v":""},{"$f":"IF('名刺管理（Eight）'!H187=\"\",\"\",'名刺管理（Eight）'!H187)","v":""},{"$f":"IF('名刺管理（Eight）'!K187=\"\",\"\",'名刺管理（Eight）'!K187)","v":""},{"$f":"IF('名刺管理（Eight）'!L187=\"\",\"\",'名刺管理（Eight）'!L187)","v":""},{"$f":"IF('名刺管理（Eight）'!M187=\"\",\"\",'名刺管理（Eight）'!M187)","v":""},{"$f":"IF('名刺管理（Eight）'!N187=\"\",\"\",TEXT('名刺管理（Eight）'!N187,\"yyyy/m/d\"))","v":""}]
[{"$f":"LEFT('名刺管理（Eight）'!D188,D190)","v":""},{"$f":"RIGHT('名刺管理（Eight）'!D188,E190)","v":""},{"$f":"IF('名刺管理（Eight）'!D188=\"\",\"\",IF(LEN('名刺管理（Eight）'!D188)=D190+E190,\"\",\"不一致\"))","v":""},null,null,{"$f":"IF('名刺管理（Eight）'!A188=\"\",\"\",'名刺管理（Eight）'!A188)","v":""},{"$f":"IF('名刺管理（Eight）'!B188=\"\",\"\",'名刺管理（Eight）'!B188)","v":""},{"$f":"IF('名刺管理（Eight）'!C188=\"\",\"\",'名刺管理（Eight）'!C188)","v":""},{"$f":"IF('名刺管理（Eight）'!E188=\"\",\"\",'名刺管理（Eight）'!E188)","v":""},{"$f":"IF('名刺管理（Eight）'!F188=\"\",\"\",'名刺管理（Eight）'!F188)","v":""},{"$f":"IF('名刺管理（Eight）'!G188=\"\",\"\",IF(LEFT('名刺管理（Eight）'!G188,3)=\"神奈川\",LEFT('名刺管理（Eight）'!G188,4),IF(LEFT('名刺管理（Eight）'!G188,3)=\"和歌山\",LEFT('名刺管理（Eight）'!G188,4),IF(LEFT('名刺管理（Eight）'!G188,3)=\"鹿児島\",LEFT('名刺管理（Eight）'!G188,4),LEFT('名刺管理（Eight）'!G188,3)))))","v":""},{"$f":"IF(K190=\"\",\"\",IF(LEN(K190)=3,MID('名刺管理（Eight）'!G188,4,50),MID('名刺管理（Eight）'!G188,5,50)))","v":""},{"$f":"IF('名刺管理（Eight）'!H188=\"\",\"\",'名刺管理（Eight）'!H188)","v":""},{"$f":"IF('名刺管理（Eight）'!K188=\"\",\"\",'名刺管理（Eight）'!K188)","v":""},{"$f":"IF('名刺管理（Eight）'!L188=\"\",\"\",'名刺管理（Eight）'!L188)","v":""},{"$f":"IF('名刺管理（Eight）'!M188=\"\",\"\",'名刺管理（Eight）'!M188)","v":""},{"$f":"IF('名刺管理（Eight）'!N188=\"\",\"\",TEXT('名刺管理（Eight）'!N188,\"yyyy/m/d\"))","v":""}]
[{"$f":"LEFT('名刺管理（Eight）'!D189,D191)","v":""},{"$f":"RIGHT('名刺管理（Eight）'!D189,E191)","v":""},{"$f":"IF('名刺管理（Eight）'!D189=\"\",\"\",IF(LEN('名刺管理（Eight）'!D189)=D191+E191,\"\",\"不一致\"))","v":""},null,null,{"$f":"IF('名刺管理（Eight）'!A189=\"\",\"\",'名刺管理（Eight）'!A189)","v":""},{"$f":"IF('名刺管理（Eight）'!B189=\"\",\"\",'名刺管理（Eight）'!B189)","v":""},{"$f":"IF('名刺管理（Eight）'!C189=\"\",\"\",'名刺管理（Eight）'!C189)","v":""},{"$f":"IF('名刺管理（Eight）'!E189=\"\",\"\",'名刺管理（Eight）'!E189)","v":""},{"$f":"IF('名刺管理（Eight）'!F189=\"\",\"\",'名刺管理（Eight）'!F189)","v":""},{"$f":"IF('名刺管理（Eight）'!G189=\"\",\"\",IF(LEFT('名刺管理（Eight）'!G189,3)=\"神奈川\",LEFT('名刺管理（Eight）'!G189,4),IF(LEFT('名刺管理（Eight）'!G189,3)=\"和歌山\",LEFT('名刺管理（Eight）'!G189,4),IF(LEFT('名刺管理（Eight）'!G189,3)=\"鹿児島\",LEFT('名刺管理（Eight）'!G189,4),LEFT('名刺管理（Eight）'!G189,3)))))","v":""},{"$f":"IF(K191=\"\",\"\",IF(LEN(K191)=3,MID('名刺管理（Eight）'!G189,4,50),MID('名刺管理（Eight）'!G189,5,50)))","v":""},{"$f":"IF('名刺管理（Eight）'!H189=\"\",\"\",'名刺管理（Eight）'!H189)","v":""},{"$f":"IF('名刺管理（Eight）'!K189=\"\",\"\",'名刺管理（Eight）'!K189)","v":""},{"$f":"IF('名刺管理（Eight）'!L189=\"\",\"\",'名刺管理（Eight）'!L189)","v":""},{"$f":"IF('名刺管理（Eight）'!M189=\"\",\"\",'名刺管理（Eight）'!M189)","v":""},{"$f":"IF('名刺管理（Eight）'!N189=\"\",\"\",TEXT('名刺管理（Eight）'!N189,\"yyyy/m/d\"))","v":""}]
[{"$f":"LEFT('名刺管理（Eight）'!D190,D192)","v":""},{"$f":"RIGHT('名刺管理（Eight）'!D190,E192)","v":""},{"$f":"IF('名刺管理（Eight）'!D190=\"\",\"\",IF(LEN('名刺管理（Eight）'!D190)=D192+E192,\"\",\"不一致\"))","v":""},null,null,{"$f":"IF('名刺管理（Eight）'!A190=\"\",\"\",'名刺管理（Eight）'!A190)","v":""},{"$f":"IF('名刺管理（Eight）'!B190=\"\",\"\",'名刺管理（Eight）'!B190)","v":""},{"$f":"IF('名刺管理（Eight）'!C190=\"\",\"\",'名刺管理（Eight）'!C190)","v":""},{"$f":"IF('名刺管理（Eight）'!E190=\"\",\"\",'名刺管理（Eight）'!E190)","v":""},{"$f":"IF('名刺管理（Eight）'!F190=\"\",\"\",'名刺管理（Eight）'!F190)","v":""},{"$f":"IF('名刺管理（Eight）'!G190=\"\",\"\",IF(LEFT('名刺管理（Eight）'!G190,3)=\"神奈川\",LEFT('名刺管理（Eight）'!G190,4),IF(LEFT('名刺管理（Eight）'!G190,3)=\"和歌山\",LEFT('名刺管理（Eight）'!G190,4),IF(LEFT('名刺管理（Eight）'!G190,3)=\"鹿児島\",LEFT('名刺管理（Eight）'!G190,4),LEFT('名刺管理（Eight）'!G190,3)))))","v":""},{"$f":"IF(K192=\"\",\"\",IF(LEN(K192)=3,MID('名刺管理（Eight）'!G190,4,50),MID('名刺管理（Eight）'!G190,5,50)))","v":""},{"$f":"IF('名刺管理（Eight）'!H190=\"\",\"\",'名刺管理（Eight）'!H190)","v":""},{"$f":"IF('名刺管理（Eight）'!K190=\"\",\"\",'名刺管理（Eight）'!K190)","v":""},{"$f":"IF('名刺管理（Eight）'!L190=\"\",\"\",'名刺管理（Eight）'!L190)","v":""},{"$f":"IF('名刺管理（Eight）'!M190=\"\",\"\",'名刺管理（Eight）'!M190)","v":""},{"$f":"IF('名刺管理（Eight）'!N190=\"\",\"\",TEXT('名刺管理（Eight）'!N190,\"yyyy/m/d\"))","v":""}]
[{"$f":"LEFT('名刺管理（Eight）'!D191,D193)","v":""},{"$f":"RIGHT('名刺管理（Eight）'!D191,E193)","v":""},{"$f":"IF('名刺管理（Eight）'!D191=\"\",\"\",IF(LEN('名刺管理（Eight）'!D191)=D193+E193,\"\",\"不一致\"))","v":""},null,null,{"$f":"IF('名刺管理（Eight）'!A191=\"\",\"\",'名刺管理（Eight）'!A191)","v":""},{"$f":"IF('名刺管理（Eight）'!B191=\"\",\"\",'名刺管理（Eight）'!B191)","v":""},{"$f":"IF('名刺管理（Eight）'!C191=\"\",\"\",'名刺管理（Eight）'!C191)","v":""},{"$f":"IF('名刺管理（Eight）'!E191=\"\",\"\",'名刺管理（Eight）'!E191)","v":""},{"$f":"IF('名刺管理（Eight）'!F191=\"\",\"\",'名刺管理（Eight）'!F191)","v":""},{"$f":"IF('名刺管理（Eight）'!G191=\"\",\"\",IF(LEFT('名刺管理（Eight）'!G191,3)=\"神奈川\",LEFT('名刺管理（Eight）'!G191,4),IF(LEFT('名刺管理（Eight）'!G191,3)=\"和歌山\",LEFT('名刺管理（Eight）'!G191,4),IF(LEFT('名刺管理（Eight）'!G191,3)=\"鹿児島\",LEFT('名刺管理（Eight）'!G191,4),LEFT('名刺管理（Eight）'!G191,3)))))","v":""},{"$f":"IF(K193=\"\",\"\",IF(LEN(K193)=3,MID('名刺管理（Eight）'!G191,4,50),MID('名刺管理（Eight）'!G191,5,50)))","v":""},{"$f":"IF('名刺管理（Eight）'!H191=\"\",\"\",'名刺管理（Eight）'!H191)","v":""},{"$f":"IF('名刺管理（Eight）'!K191=\"\",\"\",'名刺管理（Eight）'!K191)","v":""},{"$f":"IF('名刺管理（Eight）'!L191=\"\",\"\",'名刺管理（Eight）'!L191)","v":""},{"$f":"IF('名刺管理（Eight）'!M191=\"\",\"\",'名刺管理（Eight）'!M191)","v":""},{"$f":"IF('名刺管理（Eight）'!N191=\"\",\"\",TEXT('名刺管理（Eight）'!N191,\"yyyy/m/d\"))","v":""}]
[{"$f":"LEFT('名刺管理（Eight）'!D192,D194)","v":""},{"$f":"RIGHT('名刺管理（Eight）'!D192,E194)","v":""},{"$f":"IF('名刺管理（Eight）'!D192=\"\",\"\",IF(LEN('名刺管理（Eight）'!D192)=D194+E194,\"\",\"不一致\"))","v":""},null,null,{"$f":"IF('名刺管理（Eight）'!A192=\"\",\"\",'名刺管理（Eight）'!A192)","v":""},{"$f":"IF('名刺管理（Eight）'!B192=\"\",\"\",'名刺管理（Eight）'!B192)","v":""},{"$f":"IF('名刺管理（Eight）'!C192=\"\",\"\",'名刺管理（Eight）'!C192)","v":""},{"$f":"IF('名刺管理（Eight）'!E192=\"\",\"\",'名刺管理（Eight）'!E192)","v":""},{"$f":"IF('名刺管理（Eight）'!F192=\"\",\"\",'名刺管理（Eight）'!F192)","v":""},{"$f":"IF('名刺管理（Eight）'!G192=\"\",\"\",IF(LEFT('名刺管理（Eight）'!G192,3)=\"神奈川\",LEFT('名刺管理（Eight）'!G192,4),IF(LEFT('名刺管理（Eight）'!G192,3)=\"和歌山\",LEFT('名刺管理（Eight）'!G192,4),IF(LEFT('名刺管理（Eight）'!G192,3)=\"鹿児島\",LEFT('名刺管理（Eight）'!G192,4),LEFT('名刺管理（Eight）'!G192,3)))))","v":""},{"$f":"IF(K194=\"\",\"\",IF(LEN(K194)=3,MID('名刺管理（Eight）'!G192,4,50),MID('名刺管理（Eight）'!G192,5,50)))","v":""},{"$f":"IF('名刺管理（Eight）'!H192=\"\",\"\",'名刺管理（Eight）'!H192)","v":""},{"$f":"IF('名刺管理（Eight）'!K192=\"\",\"\",'名刺管理（Eight）'!K192)","v":""},{"$f":"IF('名刺管理（Eight）'!L192=\"\",\"\",'名刺管理（Eight）'!L192)","v":""},{"$f":"IF('名刺管理（Eight）'!M192=\"\",\"\",'名刺管理（Eight）'!M192)","v":""},{"$f":"IF('名刺管理（Eight）'!N192=\"\",\"\",TEXT('名刺管理（Eight）'!N192,\"yyyy/m/d\"))","v":""}]
[{"$f":"LEFT('名刺管理（Eight）'!D193,D195)","v":""},{"$f":"RIGHT('名刺管理（Eight）'!D193,E195)","v":""},{"$f":"IF('名刺管理（Eight）'!D193=\"\",\"\",IF(LEN('名刺管理（Eight）'!D193)=D195+E195,\"\",\"不一致\"))","v":""},null,null,{"$f":"IF('名刺管理（Eight）'!A193=\"\",\"\",'名刺管理（Eight）'!A193)","v":""},{"$f":"IF('名刺管理（Eight）'!B193=\"\",\"\",'名刺管理（Eight）'!B193)","v":""},{"$f":"IF('名刺管理（Eight）'!C193=\"\",\"\",'名刺管理（Eight）'!C193)","v":""},{"$f":"IF('名刺管理（Eight）'!E193=\"\",\"\",'名刺管理（Eight）'!E193)","v":""},{"$f":"IF('名刺管理（Eight）'!F193=\"\",\"\",'名刺管理（Eight）'!F193)","v":""},{"$f":"IF('名刺管理（Eight）'!G193=\"\",\"\",IF(LEFT('名刺管理（Eight）'!G193,3)=\"神奈川\",LEFT('名刺管理（Eight）'!G193,4),IF(LEFT('名刺管理（Eight）'!G193,3)=\"和歌山\",LEFT('名刺管理（Eight）'!G193,4),IF(LEFT('名刺管理（Eight）'!G193,3)=\"鹿児島\",LEFT('名刺管理（Eight）'!G193,4),LEFT('名刺管理（Eight）'!G193,3)))))","v":""},{"$f":"IF(K195=\"\",\"\",IF(LEN(K195)=3,MID('名刺管理（Eight）'!G193,4,50),MID('名刺管理（Eight）'!G193,5,50)))","v":""},{"$f":"IF('名刺管理（Eight）'!H193=\"\",\"\",'名刺管理（Eight）'!H193)","v":""},{"$f":"IF('名刺管理（Eight）'!K193=\"\",\"\",'名刺管理（Eight）'!K193)","v":""},{"$f":"IF('名刺管理（Eight）'!L193=\"\",\"\",'名刺管理（Eight）'!L193)","v":""},{"$f":"IF('名刺管理（Eight）'!M193=\"\",\"\",'名刺管理（Eight）'!M193)","v":""},{"$f":"IF('名刺管理（Eight）'!N193=\"\",\"\",TEXT('名刺管理（Eight）'!N193,\"yyyy/m/d\"))","v":""}]
[{"$f":"LEFT('名刺管理（Eight）'!D194,D196)","v":""},{"$f":"RIGHT('名刺管理（Eight）'!D194,E196)","v":""},{"$f":"IF('名刺管理（Eight）'!D194=\"\",\"\",IF(LEN('名刺管理（Eight）'!D194)=D196+E196,\"\",\"不一致\"))","v":""},null,null,{"$f":"IF('名刺管理（Eight）'!A194=\"\",\"\",'名刺管理（Eight）'!A194)","v":""},{"$f":"IF('名刺管理（Eight）'!B194=\"\",\"\",'名刺管理（Eight）'!B194)","v":""},{"$f":"IF('名刺管理（Eight）'!C194=\"\",\"\",'名刺管理（Eight）'!C194)","v":""},{"$f":"IF('名刺管理（Eight）'!E194=\"\",\"\",'名刺管理（Eight）'!E194)","v":""},{"$f":"IF('名刺管理（Eight）'!F194=\"\",\"\",'名刺管理（Eight）'!F194)","v":""},{"$f":"IF('名刺管理（Eight）'!G194=\"\",\"\",IF(LEFT('名刺管理（Eight）'!G194,3)=\"神奈川\",LEFT('名刺管理（Eight）'!G194,4),IF(LEFT('名刺管理（Eight）'!G194,3)=\"和歌山\",LEFT('名刺管理（Eight）'!G194,4),IF(LEFT('名刺管理（Eight）'!G194,3)=\"鹿児島\",LEFT('名刺管理（Eight）'!G194,4),LEFT('名刺管理（Eight）'!G194,3)))))","v":""},{"$f":"IF(K196=\"\",\"\",IF(LEN(K196)=3,MID('名刺管理（Eight）'!G194,4,50),MID('名刺管理（Eight）'!G194,5,50)))","v":""},{"$f":"IF('名刺管理（Eight）'!H194=\"\",\"\",'名刺管理（Eight）'!H194)","v":""},{"$f":"IF('名刺管理（Eight）'!K194=\"\",\"\",'名刺管理（Eight）'!K194)","v":""},{"$f":"IF('名刺管理（Eight）'!L194=\"\",\"\",'名刺管理（Eight）'!L194)","v":""},{"$f":"IF('名刺管理（Eight）'!M194=\"\",\"\",'名刺管理（Eight）'!M194)","v":""},{"$f":"IF('名刺管理（Eight）'!N194=\"\",\"\",TEXT('名刺管理（Eight）'!N194,\"yyyy/m/d\"))","v":""}]
[{"$f":"LEFT('名刺管理（Eight）'!D195,D197)","v":""},{"$f":"RIGHT('名刺管理（Eight）'!D195,E197)","v":""},{"$f":"IF('名刺管理（Eight）'!D195=\"\",\"\",IF(LEN('名刺管理（Eight）'!D195)=D197+E197,\"\",\"不一致\"))","v":""},null,null,{"$f":"IF('名刺管理（Eight）'!A195=\"\",\"\",'名刺管理（Eight）'!A195)","v":""},{"$f":"IF('名刺管理（Eight）'!B195=\"\",\"\",'名刺管理（Eight）'!B195)","v":""},{"$f":"IF('名刺管理（Eight）'!C195=\"\",\"\",'名刺管理（Eight）'!C195)","v":""},{"$f":"IF('名刺管理（Eight）'!E195=\"\",\"\",'名刺管理（Eight）'!E195)","v":""},{"$f":"IF('名刺管理（Eight）'!F195=\"\",\"\",'名刺管理（Eight）'!F195)","v":""},{"$f":"IF('名刺管理（Eight）'!G195=\"\",\"\",IF(LEFT('名刺管理（Eight）'!G195,3)=\"神奈川\",LEFT('名刺管理（Eight）'!G195,4),IF(LEFT('名刺管理（Eight）'!G195,3)=\"和歌山\",LEFT('名刺管理（Eight）'!G195,4),IF(LEFT('名刺管理（Eight）'!G195,3)=\"鹿児島\",LEFT('名刺管理（Eight）'!G195,4),LEFT('名刺管理（Eight）'!G195,3)))))","v":""},{"$f":"IF(K197=\"\",\"\",IF(LEN(K197)=3,MID('名刺管理（Eight）'!G195,4,50),MID('名刺管理（Eight）'!G195,5,50)))","v":""},{"$f":"IF('名刺管理（Eight）'!H195=\"\",\"\",'名刺管理（Eight）'!H195)","v":""},{"$f":"IF('名刺管理（Eight）'!K195=\"\",\"\",'名刺管理（Eight）'!K195)","v":""},{"$f":"IF('名刺管理（Eight）'!L195=\"\",\"\",'名刺管理（Eight）'!L195)","v":""},{"$f":"IF('名刺管理（Eight）'!M195=\"\",\"\",'名刺管理（Eight）'!M195)","v":""},{"$f":"IF('名刺管理（Eight）'!N195=\"\",\"\",TEXT('名刺管理（Eight）'!N195,\"yyyy/m/d\"))","v":""}]
[{"$f":"LEFT('名刺管理（Eight）'!D196,D198)","v":""},{"$f":"RIGHT('名刺管理（Eight）'!D196,E198)","v":""},{"$f":"IF('名刺管理（Eight）'!D196=\"\",\"\",IF(LEN('名刺管理（Eight）'!D196)=D198+E198,\"\",\"不一致\"))","v":""},null,null,{"$f":"IF('名刺管理（Eight）'!A196=\"\",\"\",'名刺管理（Eight）'!A196)","v":""},{"$f":"IF('名刺管理（Eight）'!B196=\"\",\"\",'名刺管理（Eight）'!B196)","v":""},{"$f":"IF('名刺管理（Eight）'!C196=\"\",\"\",'名刺管理（Eight）'!C196)","v":""},{"$f":"IF('名刺管理（Eight）'!E196=\"\",\"\",'名刺管理（Eight）'!E196)","v":""},{"$f":"IF('名刺管理（Eight）'!F196=\"\",\"\",'名刺管理（Eight）'!F196)","v":""},{"$f":"IF('名刺管理（Eight）'!G196=\"\",\"\",IF(LEFT('名刺管理（Eight）'!G196,3)=\"神奈川\",LEFT('名刺管理（Eight）'!G196,4),IF(LEFT('名刺管理（Eight）'!G196,3)=\"和歌山\",LEFT('名刺管理（Eight）'!G196,4),IF(LEFT('名刺管理（Eight）'!G196,3)=\"鹿児島\",LEFT('名刺管理（Eight）'!G196,4),LEFT('名刺管理（Eight）'!G196,3)))))","v":""},{"$f":"IF(K198=\"\",\"\",IF(LEN(K198)=3,MID('名刺管理（Eight）'!G196,4,50),MID('名刺管理（Eight）'!G196,5,50)))","v":""},{"$f":"IF('名刺管理（Eight）'!H196=\"\",\"\",'名刺管理（Eight）'!H196)","v":""},{"$f":"IF('名刺管理（Eight）'!K196=\"\",\"\",'名刺管理（Eight）'!K196)","v":""},{"$f":"IF('名刺管理（Eight）'!L196=\"\",\"\",'名刺管理（Eight）'!L196)","v":""},{"$f":"IF('名刺管理（Eight）'!M196=\"\",\"\",'名刺管理（Eight）'!M196)","v":""},{"$f":"IF('名刺管理（Eight）'!N196=\"\",\"\",TEXT('名刺管理（Eight）'!N196,\"yyyy/m/d\"))","v":""}]
[{"$f":"LEFT('名刺管理（Eight）'!D197,D199)","v":""},{"$f":"RIGHT('名刺管理（Eight）'!D197,E199)","v":""},{"$f":"IF('名刺管理（Eight）'!D197=\"\",\"\",IF(LEN('名刺管理（Eight）'!D197)=D199+E199,\"\",\"不一致\"))","v":""},null,null,{"$f":"IF('名刺管理（Eight）'!A197=\"\",\"\",'名刺管理（Eight）'!A197)","v":""},{"$f":"IF('名刺管理（Eight）'!B197=\"\",\"\",'名刺管理（Eight）'!B197)","v":""},{"$f":"IF('名刺管理（Eight）'!C197=\"\",\"\",'名刺管理（Eight）'!C197)","v":""},{"$f":"IF('名刺管理（Eight）'!E197=\"\",\"\",'名刺管理（Eight）'!E197)","v":""},{"$f":"IF('名刺管理（Eight）'!F197=\"\",\"\",'名刺管理（Eight）'!F197)","v":""},{"$f":"IF('名刺管理（Eight）'!G197=\"\",\"\",IF(LEFT('名刺管理（Eight）'!G197,3)=\"神奈川\",LEFT('名刺管理（Eight）'!G197,4),IF(LEFT('名刺管理（Eight）'!G197,3)=\"和歌山\",LEFT('名刺管理（Eight）'!G197,4),IF(LEFT('名刺管理（Eight）'!G197,3)=\"鹿児島\",LEFT('名刺管理（Eight）'!G197,4),LEFT('名刺管理（Eight）'!G197,3)))))","v":""},{"$f":"IF(K199=\"\",\"\",IF(LEN(K199)=3,MID('名刺管理（Eight）'!G197,4,50),MID('名刺管理（Eight）'!G197,5,50)))","v":""},{"$f":"IF('名刺管理（Eight）'!H197=\"\",\"\",'名刺管理（Eight）'!H197)","v":""},{"$f":"IF('名刺管理（Eight）'!K197=\"\",\"\",'名刺管理（Eight）'!K197)","v":""},{"$f":"IF('名刺管理（Eight）'!L197=\"\",\"\",'名刺管理（Eight）'!L197)","v":""},{"$f":"IF('名刺管理（Eight）'!M197=\"\",\"\",'名刺管理（Eight）'!M197)","v":""},{"$f":"IF('名刺管理（Eight）'!N197=\"\",\"\",TEXT('名刺管理（Eight）'!N197,\"yyyy/m/d\"))","v":""}]
[{"$f":"LEFT('名刺管理（Eight）'!D198,D200)","v":""},{"$f":"RIGHT('名刺管理（Eight）'!D198,E200)","v":""},{"$f":"IF('名刺管理（Eight）'!D198=\"\",\"\",IF(LEN('名刺管理（Eight）'!D198)=D200+E200,\"\",\"不一致\"))","v":""},null,null,{"$f":"IF('名刺管理（Eight）'!A198=\"\",\"\",'名刺管理（Eight）'!A198)","v":""},{"$f":"IF('名刺管理（Eight）'!B198=\"\",\"\",'名刺管理（Eight）'!B198)","v":""},{"$f":"IF('名刺管理（Eight）'!C198=\"\",\"\",'名刺管理（Eight）'!C198)","v":""},{"$f":"IF('名刺管理（Eight）'!E198=\"\",\"\",'名刺管理（Eight）'!E198)","v":""},{"$f":"IF('名刺管理（Eight）'!F198=\"\",\"\",'名刺管理（Eight）'!F198)","v":""},{"$f":"IF('名刺管理（Eight）'!G198=\"\",\"\",IF(LEFT('名刺管理（Eight）'!G198,3)=\"神奈川\",LEFT('名刺管理（Eight）'!G198,4),IF(LEFT('名刺管理（Eight）'!G198,3)=\"和歌山\",LEFT('名刺管理（Eight）'!G198,4),IF(LEFT('名刺管理（Eight）'!G198,3)=\"鹿児島\",LEFT('名刺管理（Eight）'!G198,4),LEFT('名刺管理（Eight）'!G198,3)))))","v":""},{"$f":"IF(K200=\"\",\"\",IF(LEN(K200)=3,MID('名刺管理（Eight）'!G198,4,50),MID('名刺管理（Eight）'!G198,5,50)))","v":""},{"$f":"IF('名刺管理（Eight）'!H198=\"\",\"\",'名刺管理（Eight）'!H198)","v":""},{"$f":"IF('名刺管理（Eight）'!K198=\"\",\"\",'名刺管理（Eight）'!K198)","v":""},{"$f":"IF('名刺管理（Eight）'!L198=\"\",\"\",'名刺管理（Eight）'!L198)","v":""},{"$f":"IF('名刺管理（Eight）'!M198=\"\",\"\",'名刺管理（Eight）'!M198)","v":""},{"$f":"IF('名刺管理（Eight）'!N198=\"\",\"\",TEXT('名刺管理（Eight）'!N198,\"yyyy/m/d\"))","v":""}]
[{"$f":"LEFT('名刺管理（Eight）'!D199,D201)","v":""},{"$f":"RIGHT('名刺管理（Eight）'!D199,E201)","v":""},{"$f":"IF('名刺管理（Eight）'!D199=\"\",\"\",IF(LEN('名刺管理（Eight）'!D199)=D201+E201,\"\",\"不一致\"))","v":""},null,null,{"$f":"IF('名刺管理（Eight）'!A199=\"\",\"\",'名刺管理（Eight）'!A199)","v":""},{"$f":"IF('名刺管理（Eight）'!B199=\"\",\"\",'名刺管理（Eight）'!B199)","v":""},{"$f":"IF('名刺管理（Eight）'!C199=\"\",\"\",'名刺管理（Eight）'!C199)","v":""},{"$f":"IF('名刺管理（Eight）'!E199=\"\",\"\",'名刺管理（Eight）'!E199)","v":""},{"$f":"IF('名刺管理（Eight）'!F199=\"\",\"\",'名刺管理（Eight）'!F199)","v":""},{"$f":"IF('名刺管理（Eight）'!G199=\"\",\"\",IF(LEFT('名刺管理（Eight）'!G199,3)=\"神奈川\",LEFT('名刺管理（Eight）'!G199,4),IF(LEFT('名刺管理（Eight）'!G199,3)=\"和歌山\",LEFT('名刺管理（Eight）'!G199,4),IF(LEFT('名刺管理（Eight）'!G199,3)=\"鹿児島\",LEFT('名刺管理（Eight）'!G199,4),LEFT('名刺管理（Eight）'!G199,3)))))","v":""},{"$f":"IF(K201=\"\",\"\",IF(LEN(K201)=3,MID('名刺管理（Eight）'!G199,4,50),MID('名刺管理（Eight）'!G199,5,50)))","v":""},{"$f":"IF('名刺管理（Eight）'!H199=\"\",\"\",'名刺管理（Eight）'!H199)","v":""},{"$f":"IF('名刺管理（Eight）'!K199=\"\",\"\",'名刺管理（Eight）'!K199)","v":""},{"$f":"IF('名刺管理（Eight）'!L199=\"\",\"\",'名刺管理（Eight）'!L199)","v":""},{"$f":"IF('名刺管理（Eight）'!M199=\"\",\"\",'名刺管理（Eight）'!M199)","v":""},{"$f":"IF('名刺管理（Eight）'!N199=\"\",\"\",TEXT('名刺管理（Eight）'!N199,\"yyyy/m/d\"))","v":""}]
[{"$f":"LEFT('名刺管理（Eight）'!D200,D202)","v":""},{"$f":"RIGHT('名刺管理（Eight）'!D200,E202)","v":""},{"$f":"IF('名刺管理（Eight）'!D200=\"\",\"\",IF(LEN('名刺管理（Eight）'!D200)=D202+E202,\"\",\"不一致\"))","v":""},null,null,{"$f":"IF('名刺管理（Eight）'!A200=\"\",\"\",'名刺管理（Eight）'!A200)","v":""},{"$f":"IF('名刺管理（Eight）'!B200=\"\",\"\",'名刺管理（Eight）'!B200)","v":""},{"$f":"IF('名刺管理（Eight）'!C200=\"\",\"\",'名刺管理（Eight）'!C200)","v":""},{"$f":"IF('名刺管理（Eight）'!E200=\"\",\"\",'名刺管理（Eight）'!E200)","v":""},{"$f":"IF('名刺管理（Eight）'!F200=\"\",\"\",'名刺管理（Eight）'!F200)","v":""},{"$f":"IF('名刺管理（Eight）'!G200=\"\",\"\",IF(LEFT('名刺管理（Eight）'!G200,3)=\"神奈川\",LEFT('名刺管理（Eight）'!G200,4),IF(LEFT('名刺管理（Eight）'!G200,3)=\"和歌山\",LEFT('名刺管理（Eight）'!G200,4),IF(LEFT('名刺管理（Eight）'!G200,3)=\"鹿児島\",LEFT('名刺管理（Eight）'!G200,4),LEFT('名刺管理（Eight）'!G200,3)))))","v":""},{"$f":"IF(K202=\"\",\"\",IF(LEN(K202)=3,MID('名刺管理（Eight）'!G200,4,50),MID('名刺管理（Eight）'!G200,5,50)))","v":""},{"$f":"IF('名刺管理（Eight）'!H200=\"\",\"\",'名刺管理（Eight）'!H200)","v":""},{"$f":"IF('名刺管理（Eight）'!K200=\"\",\"\",'名刺管理（Eight）'!K200)","v":""},{"$f":"IF('名刺管理（Eight）'!L200=\"\",\"\",'名刺管理（Eight）'!L200)","v":""},{"$f":"IF('名刺管理（Eight）'!M200=\"\",\"\",'名刺管理（Eight）'!M200)","v":""},{"$f":"IF('名刺管理（Eight）'!N200=\"\",\"\",TEXT('名刺管理（Eight）'!N200,\"yyyy/m/d\"))","v":""}]
[{"$f":"LEFT('名刺管理（Eight）'!D201,D203)","v":""},{"$f":"RIGHT('名刺管理（Eight）'!D201,E203)","v":""},{"$f":"IF('名刺管理（Eight）'!D201=\"\",\"\",IF(LEN('名刺管理（Eight）'!D201)=D203+E203,\"\",\"不一致\"))","v":""},null,null,{"$f":"IF('名刺管理（Eight）'!A201=\"\",\"\",'名刺管理（Eight）'!A201)","v":""},{"$f":"IF('名刺管理（Eight）'!B201=\"\",\"\",'名刺管理（Eight）'!B201)","v":""},{"$f":"IF('名刺管理（Eight）'!C201=\"\",\"\",'名刺管理（Eight）'!C201)","v":""},{"$f":"IF('名刺管理（Eight）'!E201=\"\",\"\",'名刺管理（Eight）'!E201)","v":""},{"$f":"IF('名刺管理（Eight）'!F201=\"\",\"\",'名刺管理（Eight）'!F201)","v":""},{"$f":"IF('名刺管理（Eight）'!G201=\"\",\"\",IF(LEFT('名刺管理（Eight）'!G201,3)=\"神奈川\",LEFT('名刺管理（Eight）'!G201,4),IF(LEFT('名刺管理（Eight）'!G201,3)=\"和歌山\",LEFT('名刺管理（Eight）'!G201,4),IF(LEFT('名刺管理（Eight）'!G201,3)=\"鹿児島\",LEFT('名刺管理（Eight）'!G201,4),LEFT('名刺管理（Eight）'!G201,3)))))","v":""},{"$f":"IF(K203=\"\",\"\",IF(LEN(K203)=3,MID('名刺管理（Eight）'!G201,4,50),MID('名刺管理（Eight）'!G201,5,50)))","v":""},{"$f":"IF('名刺管理（Eight）'!H201=\"\",\"\",'名刺管理（Eight）'!H201)","v":""},{"$f":"IF('名刺管理（Eight）'!K201=\"\",\"\",'名刺管理（Eight）'!K201)","v":""},{"$f":"IF('名刺管理（Eight）'!L201=\"\",\"\",'名刺管理（Eight）'!L201)","v":""},{"$f":"IF('名刺管理（Eight）'!M201=\"\",\"\",'名刺管理（Eight）'!M201)","v":""},{"$f":"IF('名刺管理（Eight）'!N201=\"\",\"\",TEXT('名刺管理（Eight）'!N201,\"yyyy/m/d\"))","v":""}]
[{"$f":"LEFT('名刺管理（Eight）'!D202,D204)","v":""},{"$f":"RIGHT('名刺管理（Eight）'!D202,E204)","v":""},{"$f":"IF('名刺管理（Eight）'!D202=\"\",\"\",IF(LEN('名刺管理（Eight）'!D202)=D204+E204,\"\",\"不一致\"))","v":""},null,null,{"$f":"IF('名刺管理（Eight）'!A202=\"\",\"\",'名刺管理（Eight）'!A202)","v":""},{"$f":"IF('名刺管理（Eight）'!B202=\"\",\"\",'名刺管理（Eight）'!B202)","v":""},{"$f":"IF('名刺管理（Eight）'!C202=\"\",\"\",'名刺管理（Eight）'!C202)","v":""},{"$f":"IF('名刺管理（Eight）'!E202=\"\",\"\",'名刺管理（Eight）'!E202)","v":""},{"$f":"IF('名刺管理（Eight）'!F202=\"\",\"\",'名刺管理（Eight）'!F202)","v":""},{"$f":"IF('名刺管理（Eight）'!G202=\"\",\"\",IF(LEFT('名刺管理（Eight）'!G202,3)=\"神奈川\",LEFT('名刺管理（Eight）'!G202,4),IF(LEFT('名刺管理（Eight）'!G202,3)=\"和歌山\",LEFT('名刺管理（Eight）'!G202,4),IF(LEFT('名刺管理（Eight）'!G202,3)=\"鹿児島\",LEFT('名刺管理（Eight）'!G202,4),LEFT('名刺管理（Eight）'!G202,3)))))","v":""},{"$f":"IF(K204=\"\",\"\",IF(LEN(K204)=3,MID('名刺管理（Eight）'!G202,4,50),MID('名刺管理（Eight）'!G202,5,50)))","v":""},{"$f":"IF('名刺管理（Eight）'!H202=\"\",\"\",'名刺管理（Eight）'!H202)","v":""},{"$f":"IF('名刺管理（Eight）'!K202=\"\",\"\",'名刺管理（Eight）'!K202)","v":""},{"$f":"IF('名刺管理（Eight）'!L202=\"\",\"\",'名刺管理（Eight）'!L202)","v":""},{"$f":"IF('名刺管理（Eight）'!M202=\"\",\"\",'名刺管理（Eight）'!M202)","v":""},{"$f":"IF('名刺管理（Eight）'!N202=\"\",\"\",TEXT('名刺管理（Eight）'!N202,\"yyyy/m/d\"))","v":""}]
[{"$f":"LEFT('名刺管理（Eight）'!D203,D205)","v":""},{"$f":"RIGHT('名刺管理（Eight）'!D203,E205)","v":""},{"$f":"IF('名刺管理（Eight）'!D203=\"\",\"\",IF(LEN('名刺管理（Eight）'!D203)=D205+E205,\"\",\"不一致\"))","v":""},null,null,{"$f":"IF('名刺管理（Eight）'!A203=\"\",\"\",'名刺管理（Eight）'!A203)","v":""},{"$f":"IF('名刺管理（Eight）'!B203=\"\",\"\",'名刺管理（Eight）'!B203)","v":""},{"$f":"IF('名刺管理（Eight）'!C203=\"\",\"\",'名刺管理（Eight）'!C203)","v":""},{"$f":"IF('名刺管理（Eight）'!E203=\"\",\"\",'名刺管理（Eight）'!E203)","v":""},{"$f":"IF('名刺管理（Eight）'!F203=\"\",\"\",'名刺管理（Eight）'!F203)","v":""},{"$f":"IF('名刺管理（Eight）'!G203=\"\",\"\",IF(LEFT('名刺管理（Eight）'!G203,3)=\"神奈川\",LEFT('名刺管理（Eight）'!G203,4),IF(LEFT('名刺管理（Eight）'!G203,3)=\"和歌山\",LEFT('名刺管理（Eight）'!G203,4),IF(LEFT('名刺管理（Eight）'!G203,3)=\"鹿児島\",LEFT('名刺管理（Eight）'!G203,4),LEFT('名刺管理（Eight）'!G203,3)))))","v":""},{"$f":"IF(K205=\"\",\"\",IF(LEN(K205)=3,MID('名刺管理（Eight）'!G203,4,50),MID('名刺管理（Eight）'!G203,5,50)))","v":""},{"$f":"IF('名刺管理（Eight）'!H203=\"\",\"\",'名刺管理（Eight）'!H203)","v":""},{"$f":"IF('名刺管理（Eight）'!K203=\"\",\"\",'名刺管理（Eight）'!K203)","v":""},{"$f":"IF('名刺管理（Eight）'!L203=\"\",\"\",'名刺管理（Eight）'!L203)","v":""},{"$f":"IF('名刺管理（Eight）'!M203=\"\",\"\",'名刺管理（Eight）'!M203)","v":""},{"$f":"IF('名刺管理（Eight）'!N203=\"\",\"\",TEXT('名刺管理（Eight）'!N203,\"yyyy/m/d\"))","v":""}]
[{"$f":"LEFT('名刺管理（Eight）'!D204,D206)","v":""},{"$f":"RIGHT('名刺管理（Eight）'!D204,E206)","v":""},{"$f":"IF('名刺管理（Eight）'!D204=\"\",\"\",IF(LEN('名刺管理（Eight）'!D204)=D206+E206,\"\",\"不一致\"))","v":""},null,null,{"$f":"IF('名刺管理（Eight）'!A204=\"\",\"\",'名刺管理（Eight）'!A204)","v":""},{"$f":"IF('名刺管理（Eight）'!B204=\"\",\"\",'名刺管理（Eight）'!B204)","v":""},{"$f":"IF('名刺管理（Eight）'!C204=\"\",\"\",'名刺管理（Eight）'!C204)","v":""},{"$f":"IF('名刺管理（Eight）'!E204=\"\",\"\",'名刺管理（Eight）'!E204)","v":""},{"$f":"IF('名刺管理（Eight）'!F204=\"\",\"\",'名刺管理（Eight）'!F204)","v":""},{"$f":"IF('名刺管理（Eight）'!G204=\"\",\"\",IF(LEFT('名刺管理（Eight）'!G204,3)=\"神奈川\",LEFT('名刺管理（Eight）'!G204,4),IF(LEFT('名刺管理（Eight）'!G204,3)=\"和歌山\",LEFT('名刺管理（Eight）'!G204,4),IF(LEFT('名刺管理（Eight）'!G204,3)=\"鹿児島\",LEFT('名刺管理（Eight）'!G204,4),LEFT('名刺管理（Eight）'!G204,3)))))","v":""},{"$f":"IF(K206=\"\",\"\",IF(LEN(K206)=3,MID('名刺管理（Eight）'!G204,4,50),MID('名刺管理（Eight）'!G204,5,50)))","v":""},{"$f":"IF('名刺管理（Eight）'!H204=\"\",\"\",'名刺管理（Eight）'!H204)","v":""},{"$f":"IF('名刺管理（Eight）'!K204=\"\",\"\",'名刺管理（Eight）'!K204)","v":""},{"$f":"IF('名刺管理（Eight）'!L204=\"\",\"\",'名刺管理（Eight）'!L204)","v":""},{"$f":"IF('名刺管理（Eight）'!M204=\"\",\"\",'名刺管理（Eight）'!M204)","v":""},{"$f":"IF('名刺管理（Eight）'!N204=\"\",\"\",TEXT('名刺管理（Eight）'!N204,\"yyyy/m/d\"))","v":""}]
[{"$f":"LEFT('名刺管理（Eight）'!D205,D207)","v":""},{"$f":"RIGHT('名刺管理（Eight）'!D205,E207)","v":""},{"$f":"IF('名刺管理（Eight）'!D205=\"\",\"\",IF(LEN('名刺管理（Eight）'!D205)=D207+E207,\"\",\"不一致\"))","v":""},null,null,{"$f":"IF('名刺管理（Eight）'!A205=\"\",\"\",'名刺管理（Eight）'!A205)","v":""},{"$f":"IF('名刺管理（Eight）'!B205=\"\",\"\",'名刺管理（Eight）'!B205)","v":""},{"$f":"IF('名刺管理（Eight）'!C205=\"\",\"\",'名刺管理（Eight）'!C205)","v":""},{"$f":"IF('名刺管理（Eight）'!E205=\"\",\"\",'名刺管理（Eight）'!E205)","v":""},{"$f":"IF('名刺管理（Eight）'!F205=\"\",\"\",'名刺管理（Eight）'!F205)","v":""},{"$f":"IF('名刺管理（Eight）'!G205=\"\",\"\",IF(LEFT('名刺管理（Eight）'!G205,3)=\"神奈川\",LEFT('名刺管理（Eight）'!G205,4),IF(LEFT('名刺管理（Eight）'!G205,3)=\"和歌山\",LEFT('名刺管理（Eight）'!G205,4),IF(LEFT('名刺管理（Eight）'!G205,3)=\"鹿児島\",LEFT('名刺管理（Eight）'!G205,4),LEFT('名刺管理（Eight）'!G205,3)))))","v":""},{"$f":"IF(K207=\"\",\"\",IF(LEN(K207)=3,MID('名刺管理（Eight）'!G205,4,50),MID('名刺管理（Eight）'!G205,5,50)))","v":""},{"$f":"IF('名刺管理（Eight）'!H205=\"\",\"\",'名刺管理（Eight）'!H205)","v":""},{"$f":"IF('名刺管理（Eight）'!K205=\"\",\"\",'名刺管理（Eight）'!K205)","v":""},{"$f":"IF('名刺管理（Eight）'!L205=\"\",\"\",'名刺管理（Eight）'!L205)","v":""},{"$f":"IF('名刺管理（Eight）'!M205=\"\",\"\",'名刺管理（Eight）'!M205)","v":""},{"$f":"IF('名刺管理（Eight）'!N205=\"\",\"\",TEXT('名刺管理（Eight）'!N205,\"yyyy/m/d\"))","v":""}]
[{"$f":"LEFT('名刺管理（Eight）'!D206,D208)","v":""},{"$f":"RIGHT('名刺管理（Eight）'!D206,E208)","v":""},{"$f":"IF('名刺管理（Eight）'!D206=\"\",\"\",IF(LEN('名刺管理（Eight）'!D206)=D208+E208,\"\",\"不一致\"))","v":""},null,null,{"$f":"IF('名刺管理（Eight）'!A206=\"\",\"\",'名刺管理（Eight）'!A206)","v":""},{"$f":"IF('名刺管理（Eight）'!B206=\"\",\"\",'名刺管理（Eight）'!B206)","v":""},{"$f":"IF('名刺管理（Eight）'!C206=\"\",\"\",'名刺管理（Eight）'!C206)","v":""},{"$f":"IF('名刺管理（Eight）'!E206=\"\",\"\",'名刺管理（Eight）'!E206)","v":""},{"$f":"IF('名刺管理（Eight）'!F206=\"\",\"\",'名刺管理（Eight）'!F206)","v":""},{"$f":"IF('名刺管理（Eight）'!G206=\"\",\"\",IF(LEFT('名刺管理（Eight）'!G206,3)=\"神奈川\",LEFT('名刺管理（Eight）'!G206,4),IF(LEFT('名刺管理（Eight）'!G206,3)=\"和歌山\",LEFT('名刺管理（Eight）'!G206,4),IF(LEFT('名刺管理（Eight）'!G206,3)=\"鹿児島\",LEFT('名刺管理（Eight）'!G206,4),LEFT('名刺管理（Eight）'!G206,3)))))","v":""},{"$f":"IF(K208=\"\",\"\",IF(LEN(K208)=3,MID('名刺管理（Eight）'!G206,4,50),MID('名刺管理（Eight）'!G206,5,50)))","v":""},{"$f":"IF('名刺管理（Eight）'!H206=\"\",\"\",'名刺管理（Eight）'!H206)","v":""},{"$f":"IF('名刺管理（Eight）'!K206=\"\",\"\",'名刺管理（Eight）'!K206)","v":""},{"$f":"IF('名刺管理（Eight）'!L206=\"\",\"\",'名刺管理（Eight）'!L206)","v":""},{"$f":"IF('名刺管理（Eight）'!M206=\"\",\"\",'名刺管理（Eight）'!M206)","v":""},{"$f":"IF('名刺管理（Eight）'!N206=\"\",\"\",TEXT('名刺管理（Eight）'!N206,\"yyyy/m/d\"))","v":""}]
[{"$f":"LEFT('名刺管理（Eight）'!D207,D209)","v":""},{"$f":"RIGHT('名刺管理（Eight）'!D207,E209)","v":""},{"$f":"IF('名刺管理（Eight）'!D207=\"\",\"\",IF(LEN('名刺管理（Eight）'!D207)=D209+E209,\"\",\"不一致\"))","v":""},null,null,{"$f":"IF('名刺管理（Eight）'!A207=\"\",\"\",'名刺管理（Eight）'!A207)","v":""},{"$f":"IF('名刺管理（Eight）'!B207=\"\",\"\",'名刺管理（Eight）'!B207)","v":""},{"$f":"IF('名刺管理（Eight）'!C207=\"\",\"\",'名刺管理（Eight）'!C207)","v":""},{"$f":"IF('名刺管理（Eight）'!E207=\"\",\"\",'名刺管理（Eight）'!E207)","v":""},{"$f":"IF('名刺管理（Eight）'!F207=\"\",\"\",'名刺管理（Eight）'!F207)","v":""},{"$f":"IF('名刺管理（Eight）'!G207=\"\",\"\",IF(LEFT('名刺管理（Eight）'!G207,3)=\"神奈川\",LEFT('名刺管理（Eight）'!G207,4),IF(LEFT('名刺管理（Eight）'!G207,3)=\"和歌山\",LEFT('名刺管理（Eight）'!G207,4),IF(LEFT('名刺管理（Eight）'!G207,3)=\"鹿児島\",LEFT('名刺管理（Eight）'!G207,4),LEFT('名刺管理（Eight）'!G207,3)))))","v":""},{"$f":"IF(K209=\"\",\"\",IF(LEN(K209)=3,MID('名刺管理（Eight）'!G207,4,50),MID('名刺管理（Eight）'!G207,5,50)))","v":""},{"$f":"IF('名刺管理（Eight）'!H207=\"\",\"\",'名刺管理（Eight）'!H207)","v":""},{"$f":"IF('名刺管理（Eight）'!K207=\"\",\"\",'名刺管理（Eight）'!K207)","v":""},{"$f":"IF('名刺管理（Eight）'!L207=\"\",\"\",'名刺管理（Eight）'!L207)","v":""},{"$f":"IF('名刺管理（Eight）'!M207=\"\",\"\",'名刺管理（Eight）'!M207)","v":""},{"$f":"IF('名刺管理（Eight）'!N207=\"\",\"\",TEXT('名刺管理（Eight）'!N207,\"yyyy/m/d\"))","v":""}]
[{"$f":"LEFT('名刺管理（Eight）'!D208,D210)","v":""},{"$f":"RIGHT('名刺管理（Eight）'!D208,E210)","v":""},{"$f":"IF('名刺管理（Eight）'!D208=\"\",\"\",IF(LEN('名刺管理（Eight）'!D208)=D210+E210,\"\",\"不一致\"))","v":""},null,null,{"$f":"IF('名刺管理（Eight）'!A208=\"\",\"\",'名刺管理（Eight）'!A208)","v":""},{"$f":"IF('名刺管理（Eight）'!B208=\"\",\"\",'名刺管理（Eight）'!B208)","v":""},{"$f":"IF('名刺管理（Eight）'!C208=\"\",\"\",'名刺管理（Eight）'!C208)","v":""},{"$f":"IF('名刺管理（Eight）'!E208=\"\",\"\",'名刺管理（Eight）'!E208)","v":""},{"$f":"IF('名刺管理（Eight）'!F208=\"\",\"\",'名刺管理（Eight）'!F208)","v":""},{"$f":"IF('名刺管理（Eight）'!G208=\"\",\"\",IF(LEFT('名刺管理（Eight）'!G208,3)=\"神奈川\",LEFT('名刺管理（Eight）'!G208,4),IF(LEFT('名刺管理（Eight）'!G208,3)=\"和歌山\",LEFT('名刺管理（Eight）'!G208,4),IF(LEFT('名刺管理（Eight）'!G208,3)=\"鹿児島\",LEFT('名刺管理（Eight）'!G208,4),LEFT('名刺管理（Eight）'!G208,3)))))","v":""},{"$f":"IF(K210=\"\",\"\",IF(LEN(K210)=3,MID('名刺管理（Eight）'!G208,4,50),MID('名刺管理（Eight）'!G208,5,50)))","v":""},{"$f":"IF('名刺管理（Eight）'!H208=\"\",\"\",'名刺管理（Eight）'!H208)","v":""},{"$f":"IF('名刺管理（Eight）'!K208=\"\",\"\",'名刺管理（Eight）'!K208)","v":""},{"$f":"IF('名刺管理（Eight）'!L208=\"\",\"\",'名刺管理（Eight）'!L208)","v":""},{"$f":"IF('名刺管理（Eight）'!M208=\"\",\"\",'名刺管理（Eight）'!M208)","v":""},{"$f":"IF('名刺管理（Eight）'!N208=\"\",\"\",TEXT('名刺管理（Eight）'!N208,\"yyyy/m/d\"))","v":""}]
[{"$f":"LEFT('名刺管理（Eight）'!D209,D211)","v":""},{"$f":"RIGHT('名刺管理（Eight）'!D209,E211)","v":""},{"$f":"IF('名刺管理（Eight）'!D209=\"\",\"\",IF(LEN('名刺管理（Eight）'!D209)=D211+E211,\"\",\"不一致\"))","v":""},null,null,{"$f":"IF('名刺管理（Eight）'!A209=\"\",\"\",'名刺管理（Eight）'!A209)","v":""},{"$f":"IF('名刺管理（Eight）'!B209=\"\",\"\",'名刺管理（Eight）'!B209)","v":""},{"$f":"IF('名刺管理（Eight）'!C209=\"\",\"\",'名刺管理（Eight）'!C209)","v":""},{"$f":"IF('名刺管理（Eight）'!E209=\"\",\"\",'名刺管理（Eight）'!E209)","v":""},{"$f":"IF('名刺管理（Eight）'!F209=\"\",\"\",'名刺管理（Eight）'!F209)","v":""},{"$f":"IF('名刺管理（Eight）'!G209=\"\",\"\",IF(LEFT('名刺管理（Eight）'!G209,3)=\"神奈川\",LEFT('名刺管理（Eight）'!G209,4),IF(LEFT('名刺管理（Eight）'!G209,3)=\"和歌山\",LEFT('名刺管理（Eight）'!G209,4),IF(LEFT('名刺管理（Eight）'!G209,3)=\"鹿児島\",LEFT('名刺管理（Eight）'!G209,4),LEFT('名刺管理（Eight）'!G209,3)))))","v":""},{"$f":"IF(K211=\"\",\"\",IF(LEN(K211)=3,MID('名刺管理（Eight）'!G209,4,50),MID('名刺管理（Eight）'!G209,5,50)))","v":""},{"$f":"IF('名刺管理（Eight）'!H209=\"\",\"\",'名刺管理（Eight）'!H209)","v":""},{"$f":"IF('名刺管理（Eight）'!K209=\"\",\"\",'名刺管理（Eight）'!K209)","v":""},{"$f":"IF('名刺管理（Eight）'!L209=\"\",\"\",'名刺管理（Eight）'!L209)","v":""},{"$f":"IF('名刺管理（Eight）'!M209=\"\",\"\",'名刺管理（Eight）'!M209)","v":""},{"$f":"IF('名刺管理（Eight）'!N209=\"\",\"\",TEXT('名刺管理（Eight）'!N209,\"yyyy/m/d\"))","v":""}]
[{"$f":"LEFT('名刺管理（Eight）'!D210,D212)","v":""},{"$f":"RIGHT('名刺管理（Eight）'!D210,E212)","v":""},{"$f":"IF('名刺管理（Eight）'!D210=\"\",\"\",IF(LEN('名刺管理（Eight）'!D210)=D212+E212,\"\",\"不一致\"))","v":""},null,null,{"$f":"IF('名刺管理（Eight）'!A210=\"\",\"\",'名刺管理（Eight）'!A210)","v":""},{"$f":"IF('名刺管理（Eight）'!B210=\"\",\"\",'名刺管理（Eight）'!B210)","v":""},{"$f":"IF('名刺管理（Eight）'!C210=\"\",\"\",'名刺管理（Eight）'!C210)","v":""},{"$f":"IF('名刺管理（Eight）'!E210=\"\",\"\",'名刺管理（Eight）'!E210)","v":""},{"$f":"IF('名刺管理（Eight）'!F210=\"\",\"\",'名刺管理（Eight）'!F210)","v":""},{"$f":"IF('名刺管理（Eight）'!G210=\"\",\"\",IF(LEFT('名刺管理（Eight）'!G210,3)=\"神奈川\",LEFT('名刺管理（Eight）'!G210,4),IF(LEFT('名刺管理（Eight）'!G210,3)=\"和歌山\",LEFT('名刺管理（Eight）'!G210,4),IF(LEFT('名刺管理（Eight）'!G210,3)=\"鹿児島\",LEFT('名刺管理（Eight）'!G210,4),LEFT('名刺管理（Eight）'!G210,3)))))","v":""},{"$f":"IF(K212=\"\",\"\",IF(LEN(K212)=3,MID('名刺管理（Eight）'!G210,4,50),MID('名刺管理（Eight）'!G210,5,50)))","v":""},{"$f":"IF('名刺管理（Eight）'!H210=\"\",\"\",'名刺管理（Eight）'!H210)","v":""},{"$f":"IF('名刺管理（Eight）'!K210=\"\",\"\",'名刺管理（Eight）'!K210)","v":""},{"$f":"IF('名刺管理（Eight）'!L210=\"\",\"\",'名刺管理（Eight）'!L210)","v":""},{"$f":"IF('名刺管理（Eight）'!M210=\"\",\"\",'名刺管理（Eight）'!M210)","v":""},{"$f":"IF('名刺管理（Eight）'!N210=\"\",\"\",TEXT('名刺管理（Eight）'!N210,\"yyyy/m/d\"))","v":""}]
[{"$f":"LEFT('名刺管理（Eight）'!D211,D213)","v":""},{"$f":"RIGHT('名刺管理（Eight）'!D211,E213)","v":""},{"$f":"IF('名刺管理（Eight）'!D211=\"\",\"\",IF(LEN('名刺管理（Eight）'!D211)=D213+E213,\"\",\"不一致\"))","v":""},null,null,{"$f":"IF('名刺管理（Eight）'!A211=\"\",\"\",'名刺管理（Eight）'!A211)","v":""},{"$f":"IF('名刺管理（Eight）'!B211=\"\",\"\",'名刺管理（Eight）'!B211)","v":""},{"$f":"IF('名刺管理（Eight）'!C211=\"\",\"\",'名刺管理（Eight）'!C211)","v":""},{"$f":"IF('名刺管理（Eight）'!E211=\"\",\"\",'名刺管理（Eight）'!E211)","v":""},{"$f":"IF('名刺管理（Eight）'!F211=\"\",\"\",'名刺管理（Eight）'!F211)","v":""},{"$f":"IF('名刺管理（Eight）'!G211=\"\",\"\",IF(LEFT('名刺管理（Eight）'!G211,3)=\"神奈川\",LEFT('名刺管理（Eight）'!G211,4),IF(LEFT('名刺管理（Eight）'!G211,3)=\"和歌山\",LEFT('名刺管理（Eight）'!G211,4),IF(LEFT('名刺管理（Eight）'!G211,3)=\"鹿児島\",LEFT('名刺管理（Eight）'!G211,4),LEFT('名刺管理（Eight）'!G211,3)))))","v":""},{"$f":"IF(K213=\"\",\"\",IF(LEN(K213)=3,MID('名刺管理（Eight）'!G211,4,50),MID('名刺管理（Eight）'!G211,5,50)))","v":""},{"$f":"IF('名刺管理（Eight）'!H211=\"\",\"\",'名刺管理（Eight）'!H211)","v":""},{"$f":"IF('名刺管理（Eight）'!K211=\"\",\"\",'名刺管理（Eight）'!K211)","v":""},{"$f":"IF('名刺管理（Eight）'!L211=\"\",\"\",'名刺管理（Eight）'!L211)","v":""},{"$f":"IF('名刺管理（Eight）'!M211=\"\",\"\",'名刺管理（Eight）'!M211)","v":""},{"$f":"IF('名刺管理（Eight）'!N211=\"\",\"\",TEXT('名刺管理（Eight）'!N211,\"yyyy/m/d\"))","v":""}]
[{"$f":"LEFT('名刺管理（Eight）'!D212,D214)","v":""},{"$f":"RIGHT('名刺管理（Eight）'!D212,E214)","v":""},{"$f":"IF('名刺管理（Eight）'!D212=\"\",\"\",IF(LEN('名刺管理（Eight）'!D212)=D214+E214,\"\",\"不一致\"))","v":""},null,null,{"$f":"IF('名刺管理（Eight）'!A212=\"\",\"\",'名刺管理（Eight）'!A212)","v":""},{"$f":"IF('名刺管理（Eight）'!B212=\"\",\"\",'名刺管理（Eight）'!B212)","v":""},{"$f":"IF('名刺管理（Eight）'!C212=\"\",\"\",'名刺管理（Eight）'!C212)","v":""},{"$f":"IF('名刺管理（Eight）'!E212=\"\",\"\",'名刺管理（Eight）'!E212)","v":""},{"$f":"IF('名刺管理（Eight）'!F212=\"\",\"\",'名刺管理（Eight）'!F212)","v":""},{"$f":"IF('名刺管理（Eight）'!G212=\"\",\"\",IF(LEFT('名刺管理（Eight）'!G212,3)=\"神奈川\",LEFT('名刺管理（Eight）'!G212,4),IF(LEFT('名刺管理（Eight）'!G212,3)=\"和歌山\",LEFT('名刺管理（Eight）'!G212,4),IF(LEFT('名刺管理（Eight）'!G212,3)=\"鹿児島\",LEFT('名刺管理（Eight）'!G212,4),LEFT('名刺管理（Eight）'!G212,3)))))","v":""},{"$f":"IF(K214=\"\",\"\",IF(LEN(K214)=3,MID('名刺管理（Eight）'!G212,4,50),MID('名刺管理（Eight）'!G212,5,50)))","v":""},{"$f":"IF('名刺管理（Eight）'!H212=\"\",\"\",'名刺管理（Eight）'!H212)","v":""},{"$f":"IF('名刺管理（Eight）'!K212=\"\",\"\",'名刺管理（Eight）'!K212)","v":""},{"$f":"IF('名刺管理（Eight）'!L212=\"\",\"\",'名刺管理（Eight）'!L212)","v":""},{"$f":"IF('名刺管理（Eight）'!M212=\"\",\"\",'名刺管理（Eight）'!M212)","v":""},{"$f":"IF('名刺管理（Eight）'!N212=\"\",\"\",TEXT('名刺管理（Eight）'!N212,\"yyyy/m/d\"))","v":""}]
[{"$f":"LEFT('名刺管理（Eight）'!D213,D215)","v":""},{"$f":"RIGHT('名刺管理（Eight）'!D213,E215)","v":""},{"$f":"IF('名刺管理（Eight）'!D213=\"\",\"\",IF(LEN('名刺管理（Eight）'!D213)=D215+E215,\"\",\"不一致\"))","v":""},null,null,{"$f":"IF('名刺管理（Eight）'!A213=\"\",\"\",'名刺管理（Eight）'!A213)","v":""},{"$f":"IF('名刺管理（Eight）'!B213=\"\",\"\",'名刺管理（Eight）'!B213)","v":""},{"$f":"IF('名刺管理（Eight）'!C213=\"\",\"\",'名刺管理（Eight）'!C213)","v":""},{"$f":"IF('名刺管理（Eight）'!E213=\"\",\"\",'名刺管理（Eight）'!E213)","v":""},{"$f":"IF('名刺管理（Eight）'!F213=\"\",\"\",'名刺管理（Eight）'!F213)","v":""},{"$f":"IF('名刺管理（Eight）'!G213=\"\",\"\",IF(LEFT('名刺管理（Eight）'!G213,3)=\"神奈川\",LEFT('名刺管理（Eight）'!G213,4),IF(LEFT('名刺管理（Eight）'!G213,3)=\"和歌山\",LEFT('名刺管理（Eight）'!G213,4),IF(LEFT('名刺管理（Eight）'!G213,3)=\"鹿児島\",LEFT('名刺管理（Eight）'!G213,4),LEFT('名刺管理（Eight）'!G213,3)))))","v":""},{"$f":"IF(K215=\"\",\"\",IF(LEN(K215)=3,MID('名刺管理（Eight）'!G213,4,50),MID('名刺管理（Eight）'!G213,5,50)))","v":""},{"$f":"IF('名刺管理（Eight）'!H213=\"\",\"\",'名刺管理（Eight）'!H213)","v":""},{"$f":"IF('名刺管理（Eight）'!K213=\"\",\"\",'名刺管理（Eight）'!K213)","v":""},{"$f":"IF('名刺管理（Eight）'!L213=\"\",\"\",'名刺管理（Eight）'!L213)","v":""},{"$f":"IF('名刺管理（Eight）'!M213=\"\",\"\",'名刺管理（Eight）'!M213)","v":""},{"$f":"IF('名刺管理（Eight）'!N213=\"\",\"\",TEXT('名刺管理（Eight）'!N213,\"yyyy/m/d\"))","v":""}]
[{"$f":"LEFT('名刺管理（Eight）'!D214,D216)","v":""},{"$f":"RIGHT('名刺管理（Eight）'!D214,E216)","v":""},{"$f":"IF('名刺管理（Eight）'!D214=\"\",\"\",IF(LEN('名刺管理（Eight）'!D214)=D216+E216,\"\",\"不一致\"))","v":""},null,null,{"$f":"IF('名刺管理（Eight）'!A214=\"\",\"\",'名刺管理（Eight）'!A214)","v":""},{"$f":"IF('名刺管理（Eight）'!B214=\"\",\"\",'名刺管理（Eight）'!B214)","v":""},{"$f":"IF('名刺管理（Eight）'!C214=\"\",\"\",'名刺管理（Eight）'!C214)","v":""},{"$f":"IF('名刺管理（Eight）'!E214=\"\",\"\",'名刺管理（Eight）'!E214)","v":""},{"$f":"IF('名刺管理（Eight）'!F214=\"\",\"\",'名刺管理（Eight）'!F214)","v":""},{"$f":"IF('名刺管理（Eight）'!G214=\"\",\"\",IF(LEFT('名刺管理（Eight）'!G214,3)=\"神奈川\",LEFT('名刺管理（Eight）'!G214,4),IF(LEFT('名刺管理（Eight）'!G214,3)=\"和歌山\",LEFT('名刺管理（Eight）'!G214,4),IF(LEFT('名刺管理（Eight）'!G214,3)=\"鹿児島\",LEFT('名刺管理（Eight）'!G214,4),LEFT('名刺管理（Eight）'!G214,3)))))","v":""},{"$f":"IF(K216=\"\",\"\",IF(LEN(K216)=3,MID('名刺管理（Eight）'!G214,4,50),MID('名刺管理（Eight）'!G214,5,50)))","v":""},{"$f":"IF('名刺管理（Eight）'!H214=\"\",\"\",'名刺管理（Eight）'!H214)","v":""},{"$f":"IF('名刺管理（Eight）'!K214=\"\",\"\",'名刺管理（Eight）'!K214)","v":""},{"$f":"IF('名刺管理（Eight）'!L214=\"\",\"\",'名刺管理（Eight）'!L214)","v":""},{"$f":"IF('名刺管理（Eight）'!M214=\"\",\"\",'名刺管理（Eight）'!M214)","v":""},{"$f":"IF('名刺管理（Eight）'!N214=\"\",\"\",TEXT('名刺管理（Eight）'!N214,\"yyyy/m/d\"))","v":""}]
[{"$f":"LEFT('名刺管理（Eight）'!D215,D217)","v":""},{"$f":"RIGHT('名刺管理（Eight）'!D215,E217)","v":""},{"$f":"IF('名刺管理（Eight）'!D215=\"\",\"\",IF(LEN('名刺管理（Eight）'!D215)=D217+E217,\"\",\"不一致\"))","v":""},null,null,{"$f":"IF('名刺管理（Eight）'!A215=\"\",\"\",'名刺管理（Eight）'!A215)","v":""},{"$f":"IF('名刺管理（Eight）'!B215=\"\",\"\",'名刺管理（Eight）'!B215)","v":""},{"$f":"IF('名刺管理（Eight）'!C215=\"\",\"\",'名刺管理（Eight）'!C215)","v":""},{"$f":"IF('名刺管理（Eight）'!E215=\"\",\"\",'名刺管理（Eight）'!E215)","v":""},{"$f":"IF('名刺管理（Eight）'!F215=\"\",\"\",'名刺管理（Eight）'!F215)","v":""},{"$f":"IF('名刺管理（Eight）'!G215=\"\",\"\",IF(LEFT('名刺管理（Eight）'!G215,3)=\"神奈川\",LEFT('名刺管理（Eight）'!G215,4),IF(LEFT('名刺管理（Eight）'!G215,3)=\"和歌山\",LEFT('名刺管理（Eight）'!G215,4),IF(LEFT('名刺管理（Eight）'!G215,3)=\"鹿児島\",LEFT('名刺管理（Eight）'!G215,4),LEFT('名刺管理（Eight）'!G215,3)))))","v":""},{"$f":"IF(K217=\"\",\"\",IF(LEN(K217)=3,MID('名刺管理（Eight）'!G215,4,50),MID('名刺管理（Eight）'!G215,5,50)))","v":""},{"$f":"IF('名刺管理（Eight）'!H215=\"\",\"\",'名刺管理（Eight）'!H215)","v":""},{"$f":"IF('名刺管理（Eight）'!K215=\"\",\"\",'名刺管理（Eight）'!K215)","v":""},{"$f":"IF('名刺管理（Eight）'!L215=\"\",\"\",'名刺管理（Eight）'!L215)","v":""},{"$f":"IF('名刺管理（Eight）'!M215=\"\",\"\",'名刺管理（Eight）'!M215)","v":""},{"$f":"IF('名刺管理（Eight）'!N215=\"\",\"\",TEXT('名刺管理（Eight）'!N215,\"yyyy/m/d\"))","v":""}]
[{"$f":"LEFT('名刺管理（Eight）'!D216,D218)","v":""},{"$f":"RIGHT('名刺管理（Eight）'!D216,E218)","v":""},{"$f":"IF('名刺管理（Eight）'!D216=\"\",\"\",IF(LEN('名刺管理（Eight）'!D216)=D218+E218,\"\",\"不一致\"))","v":""},null,null,{"$f":"IF('名刺管理（Eight）'!A216=\"\",\"\",'名刺管理（Eight）'!A216)","v":""},{"$f":"IF('名刺管理（Eight）'!B216=\"\",\"\",'名刺管理（Eight）'!B216)","v":""},{"$f":"IF('名刺管理（Eight）'!C216=\"\",\"\",'名刺管理（Eight）'!C216)","v":""},{"$f":"IF('名刺管理（Eight）'!E216=\"\",\"\",'名刺管理（Eight）'!E216)","v":""},{"$f":"IF('名刺管理（Eight）'!F216=\"\",\"\",'名刺管理（Eight）'!F216)","v":""},{"$f":"IF('名刺管理（Eight）'!G216=\"\",\"\",IF(LEFT('名刺管理（Eight）'!G216,3)=\"神奈川\",LEFT('名刺管理（Eight）'!G216,4),IF(LEFT('名刺管理（Eight）'!G216,3)=\"和歌山\",LEFT('名刺管理（Eight）'!G216,4),IF(LEFT('名刺管理（Eight）'!G216,3)=\"鹿児島\",LEFT('名刺管理（Eight）'!G216,4),LEFT('名刺管理（Eight）'!G216,3)))))","v":""},{"$f":"IF(K218=\"\",\"\",IF(LEN(K218)=3,MID('名刺管理（Eight）'!G216,4,50),MID('名刺管理（Eight）'!G216,5,50)))","v":""},{"$f":"IF('名刺管理（Eight）'!H216=\"\",\"\",'名刺管理（Eight）'!H216)","v":""},{"$f":"IF('名刺管理（Eight）'!K216=\"\",\"\",'名刺管理（Eight）'!K216)","v":""},{"$f":"IF('名刺管理（Eight）'!L216=\"\",\"\",'名刺管理（Eight）'!L216)","v":""},{"$f":"IF('名刺管理（Eight）'!M216=\"\",\"\",'名刺管理（Eight）'!M216)","v":""},{"$f":"IF('名刺管理（Eight）'!N216=\"\",\"\",TEXT('名刺管理（Eight）'!N216,\"yyyy/m/d\"))","v":""}]
[{"$f":"LEFT('名刺管理（Eight）'!D217,D219)","v":""},{"$f":"RIGHT('名刺管理（Eight）'!D217,E219)","v":""},{"$f":"IF('名刺管理（Eight）'!D217=\"\",\"\",IF(LEN('名刺管理（Eight）'!D217)=D219+E219,\"\",\"不一致\"))","v":""},null,null,{"$f":"IF('名刺管理（Eight）'!A217=\"\",\"\",'名刺管理（Eight）'!A217)","v":""},{"$f":"IF('名刺管理（Eight）'!B217=\"\",\"\",'名刺管理（Eight）'!B217)","v":""},{"$f":"IF('名刺管理（Eight）'!C217=\"\",\"\",'名刺管理（Eight）'!C217)","v":""},{"$f":"IF('名刺管理（Eight）'!E217=\"\",\"\",'名刺管理（Eight）'!E217)","v":""},{"$f":"IF('名刺管理（Eight）'!F217=\"\",\"\",'名刺管理（Eight）'!F217)","v":""},{"$f":"IF('名刺管理（Eight）'!G217=\"\",\"\",IF(LEFT('名刺管理（Eight）'!G217,3)=\"神奈川\",LEFT('名刺管理（Eight）'!G217,4),IF(LEFT('名刺管理（Eight）'!G217,3)=\"和歌山\",LEFT('名刺管理（Eight）'!G217,4),IF(LEFT('名刺管理（Eight）'!G217,3)=\"鹿児島\",LEFT('名刺管理（Eight）'!G217,4),LEFT('名刺管理（Eight）'!G217,3)))))","v":""},{"$f":"IF(K219=\"\",\"\",IF(LEN(K219)=3,MID('名刺管理（Eight）'!G217,4,50),MID('名刺管理（Eight）'!G217,5,50)))","v":""},{"$f":"IF('名刺管理（Eight）'!H217=\"\",\"\",'名刺管理（Eight）'!H217)","v":""},{"$f":"IF('名刺管理（Eight）'!K217=\"\",\"\",'名刺管理（Eight）'!K217)","v":""},{"$f":"IF('名刺管理（Eight）'!L217=\"\",\"\",'名刺管理（Eight）'!L217)","v":""},{"$f":"IF('名刺管理（Eight）'!M217=\"\",\"\",'名刺管理（Eight）'!M217)","v":""},{"$f":"IF('名刺管理（Eight）'!N217=\"\",\"\",TEXT('名刺管理（Eight）'!N217,\"yyyy/m/d\"))","v":""}]
[{"$f":"LEFT('名刺管理（Eight）'!D218,D220)","v":""},{"$f":"RIGHT('名刺管理（Eight）'!D218,E220)","v":""},{"$f":"IF('名刺管理（Eight）'!D218=\"\",\"\",IF(LEN('名刺管理（Eight）'!D218)=D220+E220,\"\",\"不一致\"))","v":""},null,null,{"$f":"IF('名刺管理（Eight）'!A218=\"\",\"\",'名刺管理（Eight）'!A218)","v":""},{"$f":"IF('名刺管理（Eight）'!B218=\"\",\"\",'名刺管理（Eight）'!B218)","v":""},{"$f":"IF('名刺管理（Eight）'!C218=\"\",\"\",'名刺管理（Eight）'!C218)","v":""},{"$f":"IF('名刺管理（Eight）'!E218=\"\",\"\",'名刺管理（Eight）'!E218)","v":""},{"$f":"IF('名刺管理（Eight）'!F218=\"\",\"\",'名刺管理（Eight）'!F218)","v":""},{"$f":"IF('名刺管理（Eight）'!G218=\"\",\"\",IF(LEFT('名刺管理（Eight）'!G218,3)=\"神奈川\",LEFT('名刺管理（Eight）'!G218,4),IF(LEFT('名刺管理（Eight）'!G218,3)=\"和歌山\",LEFT('名刺管理（Eight）'!G218,4),IF(LEFT('名刺管理（Eight）'!G218,3)=\"鹿児島\",LEFT('名刺管理（Eight）'!G218,4),LEFT('名刺管理（Eight）'!G218,3)))))","v":""},{"$f":"IF(K220=\"\",\"\",IF(LEN(K220)=3,MID('名刺管理（Eight）'!G218,4,50),MID('名刺管理（Eight）'!G218,5,50)))","v":""},{"$f":"IF('名刺管理（Eight）'!H218=\"\",\"\",'名刺管理（Eight）'!H218)","v":""},{"$f":"IF('名刺管理（Eight）'!K218=\"\",\"\",'名刺管理（Eight）'!K218)","v":""},{"$f":"IF('名刺管理（Eight）'!L218=\"\",\"\",'名刺管理（Eight）'!L218)","v":""},{"$f":"IF('名刺管理（Eight）'!M218=\"\",\"\",'名刺管理（Eight）'!M218)","v":""},{"$f":"IF('名刺管理（Eight）'!N218=\"\",\"\",TEXT('名刺管理（Eight）'!N218,\"yyyy/m/d\"))","v":""}]
[{"$f":"LEFT('名刺管理（Eight）'!D219,D221)","v":""},{"$f":"RIGHT('名刺管理（Eight）'!D219,E221)","v":""},{"$f":"IF('名刺管理（Eight）'!D219=\"\",\"\",IF(LEN('名刺管理（Eight）'!D219)=D221+E221,\"\",\"不一致\"))","v":""},null,null,{"$f":"IF('名刺管理（Eight）'!A219=\"\",\"\",'名刺管理（Eight）'!A219)","v":""},{"$f":"IF('名刺管理（Eight）'!B219=\"\",\"\",'名刺管理（Eight）'!B219)","v":""},{"$f":"IF('名刺管理（Eight）'!C219=\"\",\"\",'名刺管理（Eight）'!C219)","v":""},{"$f":"IF('名刺管理（Eight）'!E219=\"\",\"\",'名刺管理（Eight）'!E219)","v":""},{"$f":"IF('名刺管理（Eight）'!F219=\"\",\"\",'名刺管理（Eight）'!F219)","v":""},{"$f":"IF('名刺管理（Eight）'!G219=\"\",\"\",IF(LEFT('名刺管理（Eight）'!G219,3)=\"神奈川\",LEFT('名刺管理（Eight）'!G219,4),IF(LEFT('名刺管理（Eight）'!G219,3)=\"和歌山\",LEFT('名刺管理（Eight）'!G219,4),IF(LEFT('名刺管理（Eight）'!G219,3)=\"鹿児島\",LEFT('名刺管理（Eight）'!G219,4),LEFT('名刺管理（Eight）'!G219,3)))))","v":""},{"$f":"IF(K221=\"\",\"\",IF(LEN(K221)=3,MID('名刺管理（Eight）'!G219,4,50),MID('名刺管理（Eight）'!G219,5,50)))","v":""},{"$f":"IF('名刺管理（Eight）'!H219=\"\",\"\",'名刺管理（Eight）'!H219)","v":""},{"$f":"IF('名刺管理（Eight）'!K219=\"\",\"\",'名刺管理（Eight）'!K219)","v":""},{"$f":"IF('名刺管理（Eight）'!L219=\"\",\"\",'名刺管理（Eight）'!L219)","v":""},{"$f":"IF('名刺管理（Eight）'!M219=\"\",\"\",'名刺管理（Eight）'!M219)","v":""},{"$f":"IF('名刺管理（Eight）'!N219=\"\",\"\",TEXT('名刺管理（Eight）'!N219,\"yyyy/m/d\"))","v":""}]
[{"$f":"LEFT('名刺管理（Eight）'!D220,D222)","v":""},{"$f":"RIGHT('名刺管理（Eight）'!D220,E222)","v":""},{"$f":"IF('名刺管理（Eight）'!D220=\"\",\"\",IF(LEN('名刺管理（Eight）'!D220)=D222+E222,\"\",\"不一致\"))","v":""},null,null,{"$f":"IF('名刺管理（Eight）'!A220=\"\",\"\",'名刺管理（Eight）'!A220)","v":""},{"$f":"IF('名刺管理（Eight）'!B220=\"\",\"\",'名刺管理（Eight）'!B220)","v":""},{"$f":"IF('名刺管理（Eight）'!C220=\"\",\"\",'名刺管理（Eight）'!C220)","v":""},{"$f":"IF('名刺管理（Eight）'!E220=\"\",\"\",'名刺管理（Eight）'!E220)","v":""},{"$f":"IF('名刺管理（Eight）'!F220=\"\",\"\",'名刺管理（Eight）'!F220)","v":""},{"$f":"IF('名刺管理（Eight）'!G220=\"\",\"\",IF(LEFT('名刺管理（Eight）'!G220,3)=\"神奈川\",LEFT('名刺管理（Eight）'!G220,4),IF(LEFT('名刺管理（Eight）'!G220,3)=\"和歌山\",LEFT('名刺管理（Eight）'!G220,4),IF(LEFT('名刺管理（Eight）'!G220,3)=\"鹿児島\",LEFT('名刺管理（Eight）'!G220,4),LEFT('名刺管理（Eight）'!G220,3)))))","v":""},{"$f":"IF(K222=\"\",\"\",IF(LEN(K222)=3,MID('名刺管理（Eight）'!G220,4,50),MID('名刺管理（Eight）'!G220,5,50)))","v":""},{"$f":"IF('名刺管理（Eight）'!H220=\"\",\"\",'名刺管理（Eight）'!H220)","v":""},{"$f":"IF('名刺管理（Eight）'!K220=\"\",\"\",'名刺管理（Eight）'!K220)","v":""},{"$f":"IF('名刺管理（Eight）'!L220=\"\",\"\",'名刺管理（Eight）'!L220)","v":""},{"$f":"IF('名刺管理（Eight）'!M220=\"\",\"\",'名刺管理（Eight）'!M220)","v":""},{"$f":"IF('名刺管理（Eight）'!N220=\"\",\"\",TEXT('名刺管理（Eight）'!N220,\"yyyy/m/d\"))","v":""}]
[{"$f":"LEFT('名刺管理（Eight）'!D221,D223)","v":""},{"$f":"RIGHT('名刺管理（Eight）'!D221,E223)","v":""},{"$f":"IF('名刺管理（Eight）'!D221=\"\",\"\",IF(LEN('名刺管理（Eight）'!D221)=D223+E223,\"\",\"不一致\"))","v":""},null,null,{"$f":"IF('名刺管理（Eight）'!A221=\"\",\"\",'名刺管理（Eight）'!A221)","v":""},{"$f":"IF('名刺管理（Eight）'!B221=\"\",\"\",'名刺管理（Eight）'!B221)","v":""},{"$f":"IF('名刺管理（Eight）'!C221=\"\",\"\",'名刺管理（Eight）'!C221)","v":""},{"$f":"IF('名刺管理（Eight）'!E221=\"\",\"\",'名刺管理（Eight）'!E221)","v":""},{"$f":"IF('名刺管理（Eight）'!F221=\"\",\"\",'名刺管理（Eight）'!F221)","v":""},{"$f":"IF('名刺管理（Eight）'!G221=\"\",\"\",IF(LEFT('名刺管理（Eight）'!G221,3)=\"神奈川\",LEFT('名刺管理（Eight）'!G221,4),IF(LEFT('名刺管理（Eight）'!G221,3)=\"和歌山\",LEFT('名刺管理（Eight）'!G221,4),IF(LEFT('名刺管理（Eight）'!G221,3)=\"鹿児島\",LEFT('名刺管理（Eight）'!G221,4),LEFT('名刺管理（Eight）'!G221,3)))))","v":""},{"$f":"IF(K223=\"\",\"\",IF(LEN(K223)=3,MID('名刺管理（Eight）'!G221,4,50),MID('名刺管理（Eight）'!G221,5,50)))","v":""},{"$f":"IF('名刺管理（Eight）'!H221=\"\",\"\",'名刺管理（Eight）'!H221)","v":""},{"$f":"IF('名刺管理（Eight）'!K221=\"\",\"\",'名刺管理（Eight）'!K221)","v":""},{"$f":"IF('名刺管理（Eight）'!L221=\"\",\"\",'名刺管理（Eight）'!L221)","v":""},{"$f":"IF('名刺管理（Eight）'!M221=\"\",\"\",'名刺管理（Eight）'!M221)","v":""},{"$f":"IF('名刺管理（Eight）'!N221=\"\",\"\",TEXT('名刺管理（Eight）'!N221,\"yyyy/m/d\"))","v":""}]
[{"$f":"LEFT('名刺管理（Eight）'!D222,D224)","v":""},{"$f":"RIGHT('名刺管理（Eight）'!D222,E224)","v":""},{"$f":"IF('名刺管理（Eight）'!D222=\"\",\"\",IF(LEN('名刺管理（Eight）'!D222)=D224+E224,\"\",\"不一致\"))","v":""},null,null,{"$f":"IF('名刺管理（Eight）'!A222=\"\",\"\",'名刺管理（Eight）'!A222)","v":""},{"$f":"IF('名刺管理（Eight）'!B222=\"\",\"\",'名刺管理（Eight）'!B222)","v":""},{"$f":"IF('名刺管理（Eight）'!C222=\"\",\"\",'名刺管理（Eight）'!C222)","v":""},{"$f":"IF('名刺管理（Eight）'!E222=\"\",\"\",'名刺管理（Eight）'!E222)","v":""},{"$f":"IF('名刺管理（Eight）'!F222=\"\",\"\",'名刺管理（Eight）'!F222)","v":""},{"$f":"IF('名刺管理（Eight）'!G222=\"\",\"\",IF(LEFT('名刺管理（Eight）'!G222,3)=\"神奈川\",LEFT('名刺管理（Eight）'!G222,4),IF(LEFT('名刺管理（Eight）'!G222,3)=\"和歌山\",LEFT('名刺管理（Eight）'!G222,4),IF(LEFT('名刺管理（Eight）'!G222,3)=\"鹿児島\",LEFT('名刺管理（Eight）'!G222,4),LEFT('名刺管理（Eight）'!G222,3)))))","v":""},{"$f":"IF(K224=\"\",\"\",IF(LEN(K224)=3,MID('名刺管理（Eight）'!G222,4,50),MID('名刺管理（Eight）'!G222,5,50)))","v":""},{"$f":"IF('名刺管理（Eight）'!H222=\"\",\"\",'名刺管理（Eight）'!H222)","v":""},{"$f":"IF('名刺管理（Eight）'!K222=\"\",\"\",'名刺管理（Eight）'!K222)","v":""},{"$f":"IF('名刺管理（Eight）'!L222=\"\",\"\",'名刺管理（Eight）'!L222)","v":""},{"$f":"IF('名刺管理（Eight）'!M222=\"\",\"\",'名刺管理（Eight）'!M222)","v":""},{"$f":"IF('名刺管理（Eight）'!N222=\"\",\"\",TEXT('名刺管理（Eight）'!N222,\"yyyy/m/d\"))","v":""}]
[{"$f":"LEFT('名刺管理（Eight）'!D223,D225)","v":""},{"$f":"RIGHT('名刺管理（Eight）'!D223,E225)","v":""},{"$f":"IF('名刺管理（Eight）'!D223=\"\",\"\",IF(LEN('名刺管理（Eight）'!D223)=D225+E225,\"\",\"不一致\"))","v":""},null,null,{"$f":"IF('名刺管理（Eight）'!A223=\"\",\"\",'名刺管理（Eight）'!A223)","v":""},{"$f":"IF('名刺管理（Eight）'!B223=\"\",\"\",'名刺管理（Eight）'!B223)","v":""},{"$f":"IF('名刺管理（Eight）'!C223=\"\",\"\",'名刺管理（Eight）'!C223)","v":""},{"$f":"IF('名刺管理（Eight）'!E223=\"\",\"\",'名刺管理（Eight）'!E223)","v":""},{"$f":"IF('名刺管理（Eight）'!F223=\"\",\"\",'名刺管理（Eight）'!F223)","v":""},{"$f":"IF('名刺管理（Eight）'!G223=\"\",\"\",IF(LEFT('名刺管理（Eight）'!G223,3)=\"神奈川\",LEFT('名刺管理（Eight）'!G223,4),IF(LEFT('名刺管理（Eight）'!G223,3)=\"和歌山\",LEFT('名刺管理（Eight）'!G223,4),IF(LEFT('名刺管理（Eight）'!G223,3)=\"鹿児島\",LEFT('名刺管理（Eight）'!G223,4),LEFT('名刺管理（Eight）'!G223,3)))))","v":""},{"$f":"IF(K225=\"\",\"\",IF(LEN(K225)=3,MID('名刺管理（Eight）'!G223,4,50),MID('名刺管理（Eight）'!G223,5,50)))","v":""},{"$f":"IF('名刺管理（Eight）'!H223=\"\",\"\",'名刺管理（Eight）'!H223)","v":""},{"$f":"IF('名刺管理（Eight）'!K223=\"\",\"\",'名刺管理（Eight）'!K223)","v":""},{"$f":"IF('名刺管理（Eight）'!L223=\"\",\"\",'名刺管理（Eight）'!L223)","v":""},{"$f":"IF('名刺管理（Eight）'!M223=\"\",\"\",'名刺管理（Eight）'!M223)","v":""},{"$f":"IF('名刺管理（Eight）'!N223=\"\",\"\",TEXT('名刺管理（Eight）'!N223,\"yyyy/m/d\"))","v":""}]
[{"$f":"LEFT('名刺管理（Eight）'!D224,D226)","v":""},{"$f":"RIGHT('名刺管理（Eight）'!D224,E226)","v":""},{"$f":"IF('名刺管理（Eight）'!D224=\"\",\"\",IF(LEN('名刺管理（Eight）'!D224)=D226+E226,\"\",\"不一致\"))","v":""},null,null,{"$f":"IF('名刺管理（Eight）'!A224=\"\",\"\",'名刺管理（Eight）'!A224)","v":""},{"$f":"IF('名刺管理（Eight）'!B224=\"\",\"\",'名刺管理（Eight）'!B224)","v":""},{"$f":"IF('名刺管理（Eight）'!C224=\"\",\"\",'名刺管理（Eight）'!C224)","v":""},{"$f":"IF('名刺管理（Eight）'!E224=\"\",\"\",'名刺管理（Eight）'!E224)","v":""},{"$f":"IF('名刺管理（Eight）'!F224=\"\",\"\",'名刺管理（Eight）'!F224)","v":""},{"$f":"IF('名刺管理（Eight）'!G224=\"\",\"\",IF(LEFT('名刺管理（Eight）'!G224,3)=\"神奈川\",LEFT('名刺管理（Eight）'!G224,4),IF(LEFT('名刺管理（Eight）'!G224,3)=\"和歌山\",LEFT('名刺管理（Eight）'!G224,4),IF(LEFT('名刺管理（Eight）'!G224,3)=\"鹿児島\",LEFT('名刺管理（Eight）'!G224,4),LEFT('名刺管理（Eight）'!G224,3)))))","v":""},{"$f":"IF(K226=\"\",\"\",IF(LEN(K226)=3,MID('名刺管理（Eight）'!G224,4,50),MID('名刺管理（Eight）'!G224,5,50)))","v":""},{"$f":"IF('名刺管理（Eight）'!H224=\"\",\"\",'名刺管理（Eight）'!H224)","v":""},{"$f":"IF('名刺管理（Eight）'!K224=\"\",\"\",'名刺管理（Eight）'!K224)","v":""},{"$f":"IF('名刺管理（Eight）'!L224=\"\",\"\",'名刺管理（Eight）'!L224)","v":""},{"$f":"IF('名刺管理（Eight）'!M224=\"\",\"\",'名刺管理（Eight）'!M224)","v":""},{"$f":"IF('名刺管理（Eight）'!N224=\"\",\"\",TEXT('名刺管理（Eight）'!N224,\"yyyy/m/d\"))","v":""}]
[{"$f":"LEFT('名刺管理（Eight）'!D225,D227)","v":""},{"$f":"RIGHT('名刺管理（Eight）'!D225,E227)","v":""},{"$f":"IF('名刺管理（Eight）'!D225=\"\",\"\",IF(LEN('名刺管理（Eight）'!D225)=D227+E227,\"\",\"不一致\"))","v":""},null,null,{"$f":"IF('名刺管理（Eight）'!A225=\"\",\"\",'名刺管理（Eight）'!A225)","v":""},{"$f":"IF('名刺管理（Eight）'!B225=\"\",\"\",'名刺管理（Eight）'!B225)","v":""},{"$f":"IF('名刺管理（Eight）'!C225=\"\",\"\",'名刺管理（Eight）'!C225)","v":""},{"$f":"IF('名刺管理（Eight）'!E225=\"\",\"\",'名刺管理（Eight）'!E225)","v":""},{"$f":"IF('名刺管理（Eight）'!F225=\"\",\"\",'名刺管理（Eight）'!F225)","v":""},{"$f":"IF('名刺管理（Eight）'!G225=\"\",\"\",IF(LEFT('名刺管理（Eight）'!G225,3)=\"神奈川\",LEFT('名刺管理（Eight）'!G225,4),IF(LEFT('名刺管理（Eight）'!G225,3)=\"和歌山\",LEFT('名刺管理（Eight）'!G225,4),IF(LEFT('名刺管理（Eight）'!G225,3)=\"鹿児島\",LEFT('名刺管理（Eight）'!G225,4),LEFT('名刺管理（Eight）'!G225,3)))))","v":""},{"$f":"IF(K227=\"\",\"\",IF(LEN(K227)=3,MID('名刺管理（Eight）'!G225,4,50),MID('名刺管理（Eight）'!G225,5,50)))","v":""},{"$f":"IF('名刺管理（Eight）'!H225=\"\",\"\",'名刺管理（Eight）'!H225)","v":""},{"$f":"IF('名刺管理（Eight）'!K225=\"\",\"\",'名刺管理（Eight）'!K225)","v":""},{"$f":"IF('名刺管理（Eight）'!L225=\"\",\"\",'名刺管理（Eight）'!L225)","v":""},{"$f":"IF('名刺管理（Eight）'!M225=\"\",\"\",'名刺管理（Eight）'!M225)","v":""},{"$f":"IF('名刺管理（Eight）'!N225=\"\",\"\",TEXT('名刺管理（Eight）'!N225,\"yyyy/m/d\"))","v":""}]
[{"$f":"LEFT('名刺管理（Eight）'!D226,D228)","v":""},{"$f":"RIGHT('名刺管理（Eight）'!D226,E228)","v":""},{"$f":"IF('名刺管理（Eight）'!D226=\"\",\"\",IF(LEN('名刺管理（Eight）'!D226)=D228+E228,\"\",\"不一致\"))","v":""},null,null,{"$f":"IF('名刺管理（Eight）'!A226=\"\",\"\",'名刺管理（Eight）'!A226)","v":""},{"$f":"IF('名刺管理（Eight）'!B226=\"\",\"\",'名刺管理（Eight）'!B226)","v":""},{"$f":"IF('名刺管理（Eight）'!C226=\"\",\"\",'名刺管理（Eight）'!C226)","v":""},{"$f":"IF('名刺管理（Eight）'!E226=\"\",\"\",'名刺管理（Eight）'!E226)","v":""},{"$f":"IF('名刺管理（Eight）'!F226=\"\",\"\",'名刺管理（Eight）'!F226)","v":""},{"$f":"IF('名刺管理（Eight）'!G226=\"\",\"\",IF(LEFT('名刺管理（Eight）'!G226,3)=\"神奈川\",LEFT('名刺管理（Eight）'!G226,4),IF(LEFT('名刺管理（Eight）'!G226,3)=\"和歌山\",LEFT('名刺管理（Eight）'!G226,4),IF(LEFT('名刺管理（Eight）'!G226,3)=\"鹿児島\",LEFT('名刺管理（Eight）'!G226,4),LEFT('名刺管理（Eight）'!G226,3)))))","v":""},{"$f":"IF(K228=\"\",\"\",IF(LEN(K228)=3,MID('名刺管理（Eight）'!G226,4,50),MID('名刺管理（Eight）'!G226,5,50)))","v":""},{"$f":"IF('名刺管理（Eight）'!H226=\"\",\"\",'名刺管理（Eight）'!H226)","v":""},{"$f":"IF('名刺管理（Eight）'!K226=\"\",\"\",'名刺管理（Eight）'!K226)","v":""},{"$f":"IF('名刺管理（Eight）'!L226=\"\",\"\",'名刺管理（Eight）'!L226)","v":""},{"$f":"IF('名刺管理（Eight）'!M226=\"\",\"\",'名刺管理（Eight）'!M226)","v":""},{"$f":"IF('名刺管理（Eight）'!N226=\"\",\"\",TEXT('名刺管理（Eight）'!N226,\"yyyy/m/d\"))","v":""}]
[{"$f":"LEFT('名刺管理（Eight）'!D227,D229)","v":""},{"$f":"RIGHT('名刺管理（Eight）'!D227,E229)","v":""},{"$f":"IF('名刺管理（Eight）'!D227=\"\",\"\",IF(LEN('名刺管理（Eight）'!D227)=D229+E229,\"\",\"不一致\"))","v":""},null,null,{"$f":"IF('名刺管理（Eight）'!A227=\"\",\"\",'名刺管理（Eight）'!A227)","v":""},{"$f":"IF('名刺管理（Eight）'!B227=\"\",\"\",'名刺管理（Eight）'!B227)","v":""},{"$f":"IF('名刺管理（Eight）'!C227=\"\",\"\",'名刺管理（Eight）'!C227)","v":""},{"$f":"IF('名刺管理（Eight）'!E227=\"\",\"\",'名刺管理（Eight）'!E227)","v":""},{"$f":"IF('名刺管理（Eight）'!F227=\"\",\"\",'名刺管理（Eight）'!F227)","v":""},{"$f":"IF('名刺管理（Eight）'!G227=\"\",\"\",IF(LEFT('名刺管理（Eight）'!G227,3)=\"神奈川\",LEFT('名刺管理（Eight）'!G227,4),IF(LEFT('名刺管理（Eight）'!G227,3)=\"和歌山\",LEFT('名刺管理（Eight）'!G227,4),IF(LEFT('名刺管理（Eight）'!G227,3)=\"鹿児島\",LEFT('名刺管理（Eight）'!G227,4),LEFT('名刺管理（Eight）'!G227,3)))))","v":""},{"$f":"IF(K229=\"\",\"\",IF(LEN(K229)=3,MID('名刺管理（Eight）'!G227,4,50),MID('名刺管理（Eight）'!G227,5,50)))","v":""},{"$f":"IF('名刺管理（Eight）'!H227=\"\",\"\",'名刺管理（Eight）'!H227)","v":""},{"$f":"IF('名刺管理（Eight）'!K227=\"\",\"\",'名刺管理（Eight）'!K227)","v":""},{"$f":"IF('名刺管理（Eight）'!L227=\"\",\"\",'名刺管理（Eight）'!L227)","v":""},{"$f":"IF('名刺管理（Eight）'!M227=\"\",\"\",'名刺管理（Eight）'!M227)","v":""},{"$f":"IF('名刺管理（Eight）'!N227=\"\",\"\",TEXT('名刺管理（Eight）'!N227,\"yyyy/m/d\"))","v":""}]
[{"$f":"LEFT('名刺管理（Eight）'!D228,D230)","v":""},{"$f":"RIGHT('名刺管理（Eight）'!D228,E230)","v":""},{"$f":"IF('名刺管理（Eight）'!D228=\"\",\"\",IF(LEN('名刺管理（Eight）'!D228)=D230+E230,\"\",\"不一致\"))","v":""},null,null,{"$f":"IF('名刺管理（Eight）'!A228=\"\",\"\",'名刺管理（Eight）'!A228)","v":""},{"$f":"IF('名刺管理（Eight）'!B228=\"\",\"\",'名刺管理（Eight）'!B228)","v":""},{"$f":"IF('名刺管理（Eight）'!C228=\"\",\"\",'名刺管理（Eight）'!C228)","v":""},{"$f":"IF('名刺管理（Eight）'!E228=\"\",\"\",'名刺管理（Eight）'!E228)","v":""},{"$f":"IF('名刺管理（Eight）'!F228=\"\",\"\",'名刺管理（Eight）'!F228)","v":""},{"$f":"IF('名刺管理（Eight）'!G228=\"\",\"\",IF(LEFT('名刺管理（Eight）'!G228,3)=\"神奈川\",LEFT('名刺管理（Eight）'!G228,4),IF(LEFT('名刺管理（Eight）'!G228,3)=\"和歌山\",LEFT('名刺管理（Eight）'!G228,4),IF(LEFT('名刺管理（Eight）'!G228,3)=\"鹿児島\",LEFT('名刺管理（Eight）'!G228,4),LEFT('名刺管理（Eight）'!G228,3)))))","v":""},{"$f":"IF(K230=\"\",\"\",IF(LEN(K230)=3,MID('名刺管理（Eight）'!G228,4,50),MID('名刺管理（Eight）'!G228,5,50)))","v":""},{"$f":"IF('名刺管理（Eight）'!H228=\"\",\"\",'名刺管理（Eight）'!H228)","v":""},{"$f":"IF('名刺管理（Eight）'!K228=\"\",\"\",'名刺管理（Eight）'!K228)","v":""},{"$f":"IF('名刺管理（Eight）'!L228=\"\",\"\",'名刺管理（Eight）'!L228)","v":""},{"$f":"IF('名刺管理（Eight）'!M228=\"\",\"\",'名刺管理（Eight）'!M228)","v":""},{"$f":"IF('名刺管理（Eight）'!N228=\"\",\"\",TEXT('名刺管理（Eight）'!N228,\"yyyy/m/d\"))","v":""}]
[{"$f":"LEFT('名刺管理（Eight）'!D229,D231)","v":""},{"$f":"RIGHT('名刺管理（Eight）'!D229,E231)","v":""},{"$f":"IF('名刺管理（Eight）'!D229=\"\",\"\",IF(LEN('名刺管理（Eight）'!D229)=D231+E231,\"\",\"不一致\"))","v":""},null,null,{"$f":"IF('名刺管理（Eight）'!A229=\"\",\"\",'名刺管理（Eight）'!A229)","v":""},{"$f":"IF('名刺管理（Eight）'!B229=\"\",\"\",'名刺管理（Eight）'!B229)","v":""},{"$f":"IF('名刺管理（Eight）'!C229=\"\",\"\",'名刺管理（Eight）'!C229)","v":""},{"$f":"IF('名刺管理（Eight）'!E229=\"\",\"\",'名刺管理（Eight）'!E229)","v":""},{"$f":"IF('名刺管理（Eight）'!F229=\"\",\"\",'名刺管理（Eight）'!F229)","v":""},{"$f":"IF('名刺管理（Eight）'!G229=\"\",\"\",IF(LEFT('名刺管理（Eight）'!G229,3)=\"神奈川\",LEFT('名刺管理（Eight）'!G229,4),IF(LEFT('名刺管理（Eight）'!G229,3)=\"和歌山\",LEFT('名刺管理（Eight）'!G229,4),IF(LEFT('名刺管理（Eight）'!G229,3)=\"鹿児島\",LEFT('名刺管理（Eight）'!G229,4),LEFT('名刺管理（Eight）'!G229,3)))))","v":""},{"$f":"IF(K231=\"\",\"\",IF(LEN(K231)=3,MID('名刺管理（Eight）'!G229,4,50),MID('名刺管理（Eight）'!G229,5,50)))","v":""},{"$f":"IF('名刺管理（Eight）'!H229=\"\",\"\",'名刺管理（Eight）'!H229)","v":""},{"$f":"IF('名刺管理（Eight）'!K229=\"\",\"\",'名刺管理（Eight）'!K229)","v":""},{"$f":"IF('名刺管理（Eight）'!L229=\"\",\"\",'名刺管理（Eight）'!L229)","v":""},{"$f":"IF('名刺管理（Eight）'!M229=\"\",\"\",'名刺管理（Eight）'!M229)","v":""},{"$f":"IF('名刺管理（Eight）'!N229=\"\",\"\",TEXT('名刺管理（Eight）'!N229,\"yyyy/m/d\"))","v":""}]
[{"$f":"LEFT('名刺管理（Eight）'!D230,D232)","v":""},{"$f":"RIGHT('名刺管理（Eight）'!D230,E232)","v":""},{"$f":"IF('名刺管理（Eight）'!D230=\"\",\"\",IF(LEN('名刺管理（Eight）'!D230)=D232+E232,\"\",\"不一致\"))","v":""},null,null,{"$f":"IF('名刺管理（Eight）'!A230=\"\",\"\",'名刺管理（Eight）'!A230)","v":""},{"$f":"IF('名刺管理（Eight）'!B230=\"\",\"\",'名刺管理（Eight）'!B230)","v":""},{"$f":"IF('名刺管理（Eight）'!C230=\"\",\"\",'名刺管理（Eight）'!C230)","v":""},{"$f":"IF('名刺管理（Eight）'!E230=\"\",\"\",'名刺管理（Eight）'!E230)","v":""},{"$f":"IF('名刺管理（Eight）'!F230=\"\",\"\",'名刺管理（Eight）'!F230)","v":""},{"$f":"IF('名刺管理（Eight）'!G230=\"\",\"\",IF(LEFT('名刺管理（Eight）'!G230,3)=\"神奈川\",LEFT('名刺管理（Eight）'!G230,4),IF(LEFT('名刺管理（Eight）'!G230,3)=\"和歌山\",LEFT('名刺管理（Eight）'!G230,4),IF(LEFT('名刺管理（Eight）'!G230,3)=\"鹿児島\",LEFT('名刺管理（Eight）'!G230,4),LEFT('名刺管理（Eight）'!G230,3)))))","v":""},{"$f":"IF(K232=\"\",\"\",IF(LEN(K232)=3,MID('名刺管理（Eight）'!G230,4,50),MID('名刺管理（Eight）'!G230,5,50)))","v":""},{"$f":"IF('名刺管理（Eight）'!H230=\"\",\"\",'名刺管理（Eight）'!H230)","v":""},{"$f":"IF('名刺管理（Eight）'!K230=\"\",\"\",'名刺管理（Eight）'!K230)","v":""},{"$f":"IF('名刺管理（Eight）'!L230=\"\",\"\",'名刺管理（Eight）'!L230)","v":""},{"$f":"IF('名刺管理（Eight）'!M230=\"\",\"\",'名刺管理（Eight）'!M230)","v":""},{"$f":"IF('名刺管理（Eight）'!N230=\"\",\"\",TEXT('名刺管理（Eight）'!N230,\"yyyy/m/d\"))","v":""}]
[{"$f":"LEFT('名刺管理（Eight）'!D231,D233)","v":""},{"$f":"RIGHT('名刺管理（Eight）'!D231,E233)","v":""},{"$f":"IF('名刺管理（Eight）'!D231=\"\",\"\",IF(LEN('名刺管理（Eight）'!D231)=D233+E233,\"\",\"不一致\"))","v":""},null,null,{"$f":"IF('名刺管理（Eight）'!A231=\"\",\"\",'名刺管理（Eight）'!A231)","v":""},{"$f":"IF('名刺管理（Eight）'!B231=\"\",\"\",'名刺管理（Eight）'!B231)","v":""},{"$f":"IF('名刺管理（Eight）'!C231=\"\",\"\",'名刺管理（Eight）'!C231)","v":""},{"$f":"IF('名刺管理（Eight）'!E231=\"\",\"\",'名刺管理（Eight）'!E231)","v":""},{"$f":"IF('名刺管理（Eight）'!F231=\"\",\"\",'名刺管理（Eight）'!F231)","v":""},{"$f":"IF('名刺管理（Eight）'!G231=\"\",\"\",IF(LEFT('名刺管理（Eight）'!G231,3)=\"神奈川\",LEFT('名刺管理（Eight）'!G231,4),IF(LEFT('名刺管理（Eight）'!G231,3)=\"和歌山\",LEFT('名刺管理（Eight）'!G231,4),IF(LEFT('名刺管理（Eight）'!G231,3)=\"鹿児島\",LEFT('名刺管理（Eight）'!G231,4),LEFT('名刺管理（Eight）'!G231,3)))))","v":""},{"$f":"IF(K233=\"\",\"\",IF(LEN(K233)=3,MID('名刺管理（Eight）'!G231,4,50),MID('名刺管理（Eight）'!G231,5,50)))","v":""},{"$f":"IF('名刺管理（Eight）'!H231=\"\",\"\",'名刺管理（Eight）'!H231)","v":""},{"$f":"IF('名刺管理（Eight）'!K231=\"\",\"\",'名刺管理（Eight）'!K231)","v":""},{"$f":"IF('名刺管理（Eight）'!L231=\"\",\"\",'名刺管理（Eight）'!L231)","v":""},{"$f":"IF('名刺管理（Eight）'!M231=\"\",\"\",'名刺管理（Eight）'!M231)","v":""},{"$f":"IF('名刺管理（Eight）'!N231=\"\",\"\",TEXT('名刺管理（Eight）'!N231,\"yyyy/m/d\"))","v":""}]
[{"$f":"LEFT('名刺管理（Eight）'!D232,D234)","v":""},{"$f":"RIGHT('名刺管理（Eight）'!D232,E234)","v":""},{"$f":"IF('名刺管理（Eight）'!D232=\"\",\"\",IF(LEN('名刺管理（Eight）'!D232)=D234+E234,\"\",\"不一致\"))","v":""},null,null,{"$f":"IF('名刺管理（Eight）'!A232=\"\",\"\",'名刺管理（Eight）'!A232)","v":""},{"$f":"IF('名刺管理（Eight）'!B232=\"\",\"\",'名刺管理（Eight）'!B232)","v":""},{"$f":"IF('名刺管理（Eight）'!C232=\"\",\"\",'名刺管理（Eight）'!C232)","v":""},{"$f":"IF('名刺管理（Eight）'!E232=\"\",\"\",'名刺管理（Eight）'!E232)","v":""},{"$f":"IF('名刺管理（Eight）'!F232=\"\",\"\",'名刺管理（Eight）'!F232)","v":""},{"$f":"IF('名刺管理（Eight）'!G232=\"\",\"\",IF(LEFT('名刺管理（Eight）'!G232,3)=\"神奈川\",LEFT('名刺管理（Eight）'!G232,4),IF(LEFT('名刺管理（Eight）'!G232,3)=\"和歌山\",LEFT('名刺管理（Eight）'!G232,4),IF(LEFT('名刺管理（Eight）'!G232,3)=\"鹿児島\",LEFT('名刺管理（Eight）'!G232,4),LEFT('名刺管理（Eight）'!G232,3)))))","v":""},{"$f":"IF(K234=\"\",\"\",IF(LEN(K234)=3,MID('名刺管理（Eight）'!G232,4,50),MID('名刺管理（Eight）'!G232,5,50)))","v":""},{"$f":"IF('名刺管理（Eight）'!H232=\"\",\"\",'名刺管理（Eight）'!H232)","v":""},{"$f":"IF('名刺管理（Eight）'!K232=\"\",\"\",'名刺管理（Eight）'!K232)","v":""},{"$f":"IF('名刺管理（Eight）'!L232=\"\",\"\",'名刺管理（Eight）'!L232)","v":""},{"$f":"IF('名刺管理（Eight）'!M232=\"\",\"\",'名刺管理（Eight）'!M232)","v":""},{"$f":"IF('名刺管理（Eight）'!N232=\"\",\"\",TEXT('名刺管理（Eight）'!N232,\"yyyy/m/d\"))","v":""}]
[{"$f":"LEFT('名刺管理（Eight）'!D233,D235)","v":""},{"$f":"RIGHT('名刺管理（Eight）'!D233,E235)","v":""},{"$f":"IF('名刺管理（Eight）'!D233=\"\",\"\",IF(LEN('名刺管理（Eight）'!D233)=D235+E235,\"\",\"不一致\"))","v":""},null,null,{"$f":"IF('名刺管理（Eight）'!A233=\"\",\"\",'名刺管理（Eight）'!A233)","v":""},{"$f":"IF('名刺管理（Eight）'!B233=\"\",\"\",'名刺管理（Eight）'!B233)","v":""},{"$f":"IF('名刺管理（Eight）'!C233=\"\",\"\",'名刺管理（Eight）'!C233)","v":""},{"$f":"IF('名刺管理（Eight）'!E233=\"\",\"\",'名刺管理（Eight）'!E233)","v":""},{"$f":"IF('名刺管理（Eight）'!F233=\"\",\"\",'名刺管理（Eight）'!F233)","v":""},{"$f":"IF('名刺管理（Eight）'!G233=\"\",\"\",IF(LEFT('名刺管理（Eight）'!G233,3)=\"神奈川\",LEFT('名刺管理（Eight）'!G233,4),IF(LEFT('名刺管理（Eight）'!G233,3)=\"和歌山\",LEFT('名刺管理（Eight）'!G233,4),IF(LEFT('名刺管理（Eight）'!G233,3)=\"鹿児島\",LEFT('名刺管理（Eight）'!G233,4),LEFT('名刺管理（Eight）'!G233,3)))))","v":""},{"$f":"IF(K235=\"\",\"\",IF(LEN(K235)=3,MID('名刺管理（Eight）'!G233,4,50),MID('名刺管理（Eight）'!G233,5,50)))","v":""},{"$f":"IF('名刺管理（Eight）'!H233=\"\",\"\",'名刺管理（Eight）'!H233)","v":""},{"$f":"IF('名刺管理（Eight）'!K233=\"\",\"\",'名刺管理（Eight）'!K233)","v":""},{"$f":"IF('名刺管理（Eight）'!L233=\"\",\"\",'名刺管理（Eight）'!L233)","v":""},{"$f":"IF('名刺管理（Eight）'!M233=\"\",\"\",'名刺管理（Eight）'!M233)","v":""},{"$f":"IF('名刺管理（Eight）'!N233=\"\",\"\",TEXT('名刺管理（Eight）'!N233,\"yyyy/m/d\"))","v":""}]
[{"$f":"LEFT('名刺管理（Eight）'!D234,D236)","v":""},{"$f":"RIGHT('名刺管理（Eight）'!D234,E236)","v":""},{"$f":"IF('名刺管理（Eight）'!D234=\"\",\"\",IF(LEN('名刺管理（Eight）'!D234)=D236+E236,\"\",\"不一致\"))","v":""},null,null,{"$f":"IF('名刺管理（Eight）'!A234=\"\",\"\",'名刺管理（Eight）'!A234)","v":""},{"$f":"IF('名刺管理（Eight）'!B234=\"\",\"\",'名刺管理（Eight）'!B234)","v":""},{"$f":"IF('名刺管理（Eight）'!C234=\"\",\"\",'名刺管理（Eight）'!C234)","v":""},{"$f":"IF('名刺管理（Eight）'!E234=\"\",\"\",'名刺管理（Eight）'!E234)","v":""},{"$f":"IF('名刺管理（Eight）'!F234=\"\",\"\",'名刺管理（Eight）'!F234)","v":""},{"$f":"IF('名刺管理（Eight）'!G234=\"\",\"\",IF(LEFT('名刺管理（Eight）'!G234,3)=\"神奈川\",LEFT('名刺管理（Eight）'!G234,4),IF(LEFT('名刺管理（Eight）'!G234,3)=\"和歌山\",LEFT('名刺管理（Eight）'!G234,4),IF(LEFT('名刺管理（Eight）'!G234,3)=\"鹿児島\",LEFT('名刺管理（Eight）'!G234,4),LEFT('名刺管理（Eight）'!G234,3)))))","v":""},{"$f":"IF(K236=\"\",\"\",IF(LEN(K236)=3,MID('名刺管理（Eight）'!G234,4,50),MID('名刺管理（Eight）'!G234,5,50)))","v":""},{"$f":"IF('名刺管理（Eight）'!H234=\"\",\"\",'名刺管理（Eight）'!H234)","v":""},{"$f":"IF('名刺管理（Eight）'!K234=\"\",\"\",'名刺管理（Eight）'!K234)","v":""},{"$f":"IF('名刺管理（Eight）'!L234=\"\",\"\",'名刺管理（Eight）'!L234)","v":""},{"$f":"IF('名刺管理（Eight）'!M234=\"\",\"\",'名刺管理（Eight）'!M234)","v":""},{"$f":"IF('名刺管理（Eight）'!N234=\"\",\"\",TEXT('名刺管理（Eight）'!N234,\"yyyy/m/d\"))","v":""}]
[{"$f":"LEFT('名刺管理（Eight）'!D235,D237)","v":""},{"$f":"RIGHT('名刺管理（Eight）'!D235,E237)","v":""},{"$f":"IF('名刺管理（Eight）'!D235=\"\",\"\",IF(LEN('名刺管理（Eight）'!D235)=D237+E237,\"\",\"不一致\"))","v":""},null,null,{"$f":"IF('名刺管理（Eight）'!A235=\"\",\"\",'名刺管理（Eight）'!A235)","v":""},{"$f":"IF('名刺管理（Eight）'!B235=\"\",\"\",'名刺管理（Eight）'!B235)","v":""},{"$f":"IF('名刺管理（Eight）'!C235=\"\",\"\",'名刺管理（Eight）'!C235)","v":""},{"$f":"IF('名刺管理（Eight）'!E235=\"\",\"\",'名刺管理（Eight）'!E235)","v":""},{"$f":"IF('名刺管理（Eight）'!F235=\"\",\"\",'名刺管理（Eight）'!F235)","v":""},{"$f":"IF('名刺管理（Eight）'!G235=\"\",\"\",IF(LEFT('名刺管理（Eight）'!G235,3)=\"神奈川\",LEFT('名刺管理（Eight）'!G235,4),IF(LEFT('名刺管理（Eight）'!G235,3)=\"和歌山\",LEFT('名刺管理（Eight）'!G235,4),IF(LEFT('名刺管理（Eight）'!G235,3)=\"鹿児島\",LEFT('名刺管理（Eight）'!G235,4),LEFT('名刺管理（Eight）'!G235,3)))))","v":""},{"$f":"IF(K237=\"\",\"\",IF(LEN(K237)=3,MID('名刺管理（Eight）'!G235,4,50),MID('名刺管理（Eight）'!G235,5,50)))","v":""},{"$f":"IF('名刺管理（Eight）'!H235=\"\",\"\",'名刺管理（Eight）'!H235)","v":""},{"$f":"IF('名刺管理（Eight）'!K235=\"\",\"\",'名刺管理（Eight）'!K235)","v":""},{"$f":"IF('名刺管理（Eight）'!L235=\"\",\"\",'名刺管理（Eight）'!L235)","v":""},{"$f":"IF('名刺管理（Eight）'!M235=\"\",\"\",'名刺管理（Eight）'!M235)","v":""},{"$f":"IF('名刺管理（Eight）'!N235=\"\",\"\",TEXT('名刺管理（Eight）'!N235,\"yyyy/m/d\"))","v":""}]
[{"$f":"LEFT('名刺管理（Eight）'!D236,D238)","v":""},{"$f":"RIGHT('名刺管理（Eight）'!D236,E238)","v":""},{"$f":"IF('名刺管理（Eight）'!D236=\"\",\"\",IF(LEN('名刺管理（Eight）'!D236)=D238+E238,\"\",\"不一致\"))","v":""},null,null,{"$f":"IF('名刺管理（Eight）'!A236=\"\",\"\",'名刺管理（Eight）'!A236)","v":""},{"$f":"IF('名刺管理（Eight）'!B236=\"\",\"\",'名刺管理（Eight）'!B236)","v":""},{"$f":"IF('名刺管理（Eight）'!C236=\"\",\"\",'名刺管理（Eight）'!C236)","v":""},{"$f":"IF('名刺管理（Eight）'!E236=\"\",\"\",'名刺管理（Eight）'!E236)","v":""},{"$f":"IF('名刺管理（Eight）'!F236=\"\",\"\",'名刺管理（Eight）'!F236)","v":""},{"$f":"IF('名刺管理（Eight）'!G236=\"\",\"\",IF(LEFT('名刺管理（Eight）'!G236,3)=\"神奈川\",LEFT('名刺管理（Eight）'!G236,4),IF(LEFT('名刺管理（Eight）'!G236,3)=\"和歌山\",LEFT('名刺管理（Eight）'!G236,4),IF(LEFT('名刺管理（Eight）'!G236,3)=\"鹿児島\",LEFT('名刺管理（Eight）'!G236,4),LEFT('名刺管理（Eight）'!G236,3)))))","v":""},{"$f":"IF(K238=\"\",\"\",IF(LEN(K238)=3,MID('名刺管理（Eight）'!G236,4,50),MID('名刺管理（Eight）'!G236,5,50)))","v":""},{"$f":"IF('名刺管理（Eight）'!H236=\"\",\"\",'名刺管理（Eight）'!H236)","v":""},{"$f":"IF('名刺管理（Eight）'!K236=\"\",\"\",'名刺管理（Eight）'!K236)","v":""},{"$f":"IF('名刺管理（Eight）'!L236=\"\",\"\",'名刺管理（Eight）'!L236)","v":""},{"$f":"IF('名刺管理（Eight）'!M236=\"\",\"\",'名刺管理（Eight）'!M236)","v":""},{"$f":"IF('名刺管理（Eight）'!N236=\"\",\"\",TEXT('名刺管理（Eight）'!N236,\"yyyy/m/d\"))","v":""}]
[{"$f":"LEFT('名刺管理（Eight）'!D237,D239)","v":""},{"$f":"RIGHT('名刺管理（Eight）'!D237,E239)","v":""},{"$f":"IF('名刺管理（Eight）'!D237=\"\",\"\",IF(LEN('名刺管理（Eight）'!D237)=D239+E239,\"\",\"不一致\"))","v":""},null,null,{"$f":"IF('名刺管理（Eight）'!A237=\"\",\"\",'名刺管理（Eight）'!A237)","v":""},{"$f":"IF('名刺管理（Eight）'!B237=\"\",\"\",'名刺管理（Eight）'!B237)","v":""},{"$f":"IF('名刺管理（Eight）'!C237=\"\",\"\",'名刺管理（Eight）'!C237)","v":""},{"$f":"IF('名刺管理（Eight）'!E237=\"\",\"\",'名刺管理（Eight）'!E237)","v":""},{"$f":"IF('名刺管理（Eight）'!F237=\"\",\"\",'名刺管理（Eight）'!F237)","v":""},{"$f":"IF('名刺管理（Eight）'!G237=\"\",\"\",IF(LEFT('名刺管理（Eight）'!G237,3)=\"神奈川\",LEFT('名刺管理（Eight）'!G237,4),IF(LEFT('名刺管理（Eight）'!G237,3)=\"和歌山\",LEFT('名刺管理（Eight）'!G237,4),IF(LEFT('名刺管理（Eight）'!G237,3)=\"鹿児島\",LEFT('名刺管理（Eight）'!G237,4),LEFT('名刺管理（Eight）'!G237,3)))))","v":""},{"$f":"IF(K239=\"\",\"\",IF(LEN(K239)=3,MID('名刺管理（Eight）'!G237,4,50),MID('名刺管理（Eight）'!G237,5,50)))","v":""},{"$f":"IF('名刺管理（Eight）'!H237=\"\",\"\",'名刺管理（Eight）'!H237)","v":""},{"$f":"IF('名刺管理（Eight）'!K237=\"\",\"\",'名刺管理（Eight）'!K237)","v":""},{"$f":"IF('名刺管理（Eight）'!L237=\"\",\"\",'名刺管理（Eight）'!L237)","v":""},{"$f":"IF('名刺管理（Eight）'!M237=\"\",\"\",'名刺管理（Eight）'!M237)","v":""},{"$f":"IF('名刺管理（Eight）'!N237=\"\",\"\",TEXT('名刺管理（Eight）'!N237,\"yyyy/m/d\"))","v":""}]
[{"$f":"LEFT('名刺管理（Eight）'!D238,D240)","v":""},{"$f":"RIGHT('名刺管理（Eight）'!D238,E240)","v":""},{"$f":"IF('名刺管理（Eight）'!D238=\"\",\"\",IF(LEN('名刺管理（Eight）'!D238)=D240+E240,\"\",\"不一致\"))","v":""},null,null,{"$f":"IF('名刺管理（Eight）'!A238=\"\",\"\",'名刺管理（Eight）'!A238)","v":""},{"$f":"IF('名刺管理（Eight）'!B238=\"\",\"\",'名刺管理（Eight）'!B238)","v":""},{"$f":"IF('名刺管理（Eight）'!C238=\"\",\"\",'名刺管理（Eight）'!C238)","v":""},{"$f":"IF('名刺管理（Eight）'!E238=\"\",\"\",'名刺管理（Eight）'!E238)","v":""},{"$f":"IF('名刺管理（Eight）'!F238=\"\",\"\",'名刺管理（Eight）'!F238)","v":""},{"$f":"IF('名刺管理（Eight）'!G238=\"\",\"\",IF(LEFT('名刺管理（Eight）'!G238,3)=\"神奈川\",LEFT('名刺管理（Eight）'!G238,4),IF(LEFT('名刺管理（Eight）'!G238,3)=\"和歌山\",LEFT('名刺管理（Eight）'!G238,4),IF(LEFT('名刺管理（Eight）'!G238,3)=\"鹿児島\",LEFT('名刺管理（Eight）'!G238,4),LEFT('名刺管理（Eight）'!G238,3)))))","v":""},{"$f":"IF(K240=\"\",\"\",IF(LEN(K240)=3,MID('名刺管理（Eight）'!G238,4,50),MID('名刺管理（Eight）'!G238,5,50)))","v":""},{"$f":"IF('名刺管理（Eight）'!H238=\"\",\"\",'名刺管理（Eight）'!H238)","v":""},{"$f":"IF('名刺管理（Eight）'!K238=\"\",\"\",'名刺管理（Eight）'!K238)","v":""},{"$f":"IF('名刺管理（Eight）'!L238=\"\",\"\",'名刺管理（Eight）'!L238)","v":""},{"$f":"IF('名刺管理（Eight）'!M238=\"\",\"\",'名刺管理（Eight）'!M238)","v":""},{"$f":"IF('名刺管理（Eight）'!N238=\"\",\"\",TEXT('名刺管理（Eight）'!N238,\"yyyy/m/d\"))","v":""}]
[{"$f":"LEFT('名刺管理（Eight）'!D239,D241)","v":""},{"$f":"RIGHT('名刺管理（Eight）'!D239,E241)","v":""},{"$f":"IF('名刺管理（Eight）'!D239=\"\",\"\",IF(LEN('名刺管理（Eight）'!D239)=D241+E241,\"\",\"不一致\"))","v":""},null,null,{"$f":"IF('名刺管理（Eight）'!A239=\"\",\"\",'名刺管理（Eight）'!A239)","v":""},{"$f":"IF('名刺管理（Eight）'!B239=\"\",\"\",'名刺管理（Eight）'!B239)","v":""},{"$f":"IF('名刺管理（Eight）'!C239=\"\",\"\",'名刺管理（Eight）'!C239)","v":""},{"$f":"IF('名刺管理（Eight）'!E239=\"\",\"\",'名刺管理（Eight）'!E239)","v":""},{"$f":"IF('名刺管理（Eight）'!F239=\"\",\"\",'名刺管理（Eight）'!F239)","v":""},{"$f":"IF('名刺管理（Eight）'!G239=\"\",\"\",IF(LEFT('名刺管理（Eight）'!G239,3)=\"神奈川\",LEFT('名刺管理（Eight）'!G239,4),IF(LEFT('名刺管理（Eight）'!G239,3)=\"和歌山\",LEFT('名刺管理（Eight）'!G239,4),IF(LEFT('名刺管理（Eight）'!G239,3)=\"鹿児島\",LEFT('名刺管理（Eight）'!G239,4),LEFT('名刺管理（Eight）'!G239,3)))))","v":""},{"$f":"IF(K241=\"\",\"\",IF(LEN(K241)=3,MID('名刺管理（Eight）'!G239,4,50),MID('名刺管理（Eight）'!G239,5,50)))","v":""},{"$f":"IF('名刺管理（Eight）'!H239=\"\",\"\",'名刺管理（Eight）'!H239)","v":""},{"$f":"IF('名刺管理（Eight）'!K239=\"\",\"\",'名刺管理（Eight）'!K239)","v":""},{"$f":"IF('名刺管理（Eight）'!L239=\"\",\"\",'名刺管理（Eight）'!L239)","v":""},{"$f":"IF('名刺管理（Eight）'!M239=\"\",\"\",'名刺管理（Eight）'!M239)","v":""},{"$f":"IF('名刺管理（Eight）'!N239=\"\",\"\",TEXT('名刺管理（Eight）'!N239,\"yyyy/m/d\"))","v":""}]
[{"$f":"LEFT('名刺管理（Eight）'!D240,D242)","v":""},{"$f":"RIGHT('名刺管理（Eight）'!D240,E242)","v":""},{"$f":"IF('名刺管理（Eight）'!D240=\"\",\"\",IF(LEN('名刺管理（Eight）'!D240)=D242+E242,\"\",\"不一致\"))","v":""},null,null,{"$f":"IF('名刺管理（Eight）'!A240=\"\",\"\",'名刺管理（Eight）'!A240)","v":""},{"$f":"IF('名刺管理（Eight）'!B240=\"\",\"\",'名刺管理（Eight）'!B240)","v":""},{"$f":"IF('名刺管理（Eight）'!C240=\"\",\"\",'名刺管理（Eight）'!C240)","v":""},{"$f":"IF('名刺管理（Eight）'!E240=\"\",\"\",'名刺管理（Eight）'!E240)","v":""},{"$f":"IF('名刺管理（Eight）'!F240=\"\",\"\",'名刺管理（Eight）'!F240)","v":""},{"$f":"IF('名刺管理（Eight）'!G240=\"\",\"\",IF(LEFT('名刺管理（Eight）'!G240,3)=\"神奈川\",LEFT('名刺管理（Eight）'!G240,4),IF(LEFT('名刺管理（Eight）'!G240,3)=\"和歌山\",LEFT('名刺管理（Eight）'!G240,4),IF(LEFT('名刺管理（Eight）'!G240,3)=\"鹿児島\",LEFT('名刺管理（Eight）'!G240,4),LEFT('名刺管理（Eight）'!G240,3)))))","v":""},{"$f":"IF(K242=\"\",\"\",IF(LEN(K242)=3,MID('名刺管理（Eight）'!G240,4,50),MID('名刺管理（Eight）'!G240,5,50)))","v":""},{"$f":"IF('名刺管理（Eight）'!H240=\"\",\"\",'名刺管理（Eight）'!H240)","v":""},{"$f":"IF('名刺管理（Eight）'!K240=\"\",\"\",'名刺管理（Eight）'!K240)","v":""},{"$f":"IF('名刺管理（Eight）'!L240=\"\",\"\",'名刺管理（Eight）'!L240)","v":""},{"$f":"IF('名刺管理（Eight）'!M240=\"\",\"\",'名刺管理（Eight）'!M240)","v":""},{"$f":"IF('名刺管理（Eight）'!N240=\"\",\"\",TEXT('名刺管理（Eight）'!N240,\"yyyy/m/d\"))","v":""}]
[{"$f":"LEFT('名刺管理（Eight）'!D241,D243)","v":""},{"$f":"RIGHT('名刺管理（Eight）'!D241,E243)","v":""},{"$f":"IF('名刺管理（Eight）'!D241=\"\",\"\",IF(LEN('名刺管理（Eight）'!D241)=D243+E243,\"\",\"不一致\"))","v":""},null,null,{"$f":"IF('名刺管理（Eight）'!A241=\"\",\"\",'名刺管理（Eight）'!A241)","v":""},{"$f":"IF('名刺管理（Eight）'!B241=\"\",\"\",'名刺管理（Eight）'!B241)","v":""},{"$f":"IF('名刺管理（Eight）'!C241=\"\",\"\",'名刺管理（Eight）'!C241)","v":""},{"$f":"IF('名刺管理（Eight）'!E241=\"\",\"\",'名刺管理（Eight）'!E241)","v":""},{"$f":"IF('名刺管理（Eight）'!F241=\"\",\"\",'名刺管理（Eight）'!F241)","v":""},{"$f":"IF('名刺管理（Eight）'!G241=\"\",\"\",IF(LEFT('名刺管理（Eight）'!G241,3)=\"神奈川\",LEFT('名刺管理（Eight）'!G241,4),IF(LEFT('名刺管理（Eight）'!G241,3)=\"和歌山\",LEFT('名刺管理（Eight）'!G241,4),IF(LEFT('名刺管理（Eight）'!G241,3)=\"鹿児島\",LEFT('名刺管理（Eight）'!G241,4),LEFT('名刺管理（Eight）'!G241,3)))))","v":""},{"$f":"IF(K243=\"\",\"\",IF(LEN(K243)=3,MID('名刺管理（Eight）'!G241,4,50),MID('名刺管理（Eight）'!G241,5,50)))","v":""},{"$f":"IF('名刺管理（Eight）'!H241=\"\",\"\",'名刺管理（Eight）'!H241)","v":""},{"$f":"IF('名刺管理（Eight）'!K241=\"\",\"\",'名刺管理（Eight）'!K241)","v":""},{"$f":"IF('名刺管理（Eight）'!L241=\"\",\"\",'名刺管理（Eight）'!L241)","v":""},{"$f":"IF('名刺管理（Eight）'!M241=\"\",\"\",'名刺管理（Eight）'!M241)","v":""},{"$f":"IF('名刺管理（Eight）'!N241=\"\",\"\",TEXT('名刺管理（Eight）'!N241,\"yyyy/m/d\"))","v":""}]
[{"$f":"LEFT('名刺管理（Eight）'!D242,D244)","v":""},{"$f":"RIGHT('名刺管理（Eight）'!D242,E244)","v":""},{"$f":"IF('名刺管理（Eight）'!D242=\"\",\"\",IF(LEN('名刺管理（Eight）'!D242)=D244+E244,\"\",\"不一致\"))","v":""},null,null,{"$f":"IF('名刺管理（Eight）'!A242=\"\",\"\",'名刺管理（Eight）'!A242)","v":""},{"$f":"IF('名刺管理（Eight）'!B242=\"\",\"\",'名刺管理（Eight）'!B242)","v":""},{"$f":"IF('名刺管理（Eight）'!C242=\"\",\"\",'名刺管理（Eight）'!C242)","v":""},{"$f":"IF('名刺管理（Eight）'!E242=\"\",\"\",'名刺管理（Eight）'!E242)","v":""},{"$f":"IF('名刺管理（Eight）'!F242=\"\",\"\",'名刺管理（Eight）'!F242)","v":""},{"$f":"IF('名刺管理（Eight）'!G242=\"\",\"\",IF(LEFT('名刺管理（Eight）'!G242,3)=\"神奈川\",LEFT('名刺管理（Eight）'!G242,4),IF(LEFT('名刺管理（Eight）'!G242,3)=\"和歌山\",LEFT('名刺管理（Eight）'!G242,4),IF(LEFT('名刺管理（Eight）'!G242,3)=\"鹿児島\",LEFT('名刺管理（Eight）'!G242,4),LEFT('名刺管理（Eight）'!G242,3)))))","v":""},{"$f":"IF(K244=\"\",\"\",IF(LEN(K244)=3,MID('名刺管理（Eight）'!G242,4,50),MID('名刺管理（Eight）'!G242,5,50)))","v":""},{"$f":"IF('名刺管理（Eight）'!H242=\"\",\"\",'名刺管理（Eight）'!H242)","v":""},{"$f":"IF('名刺管理（Eight）'!K242=\"\",\"\",'名刺管理（Eight）'!K242)","v":""},{"$f":"IF('名刺管理（Eight）'!L242=\"\",\"\",'名刺管理（Eight）'!L242)","v":""},{"$f":"IF('名刺管理（Eight）'!M242=\"\",\"\",'名刺管理（Eight）'!M242)","v":""},{"$f":"IF('名刺管理（Eight）'!N242=\"\",\"\",TEXT('名刺管理（Eight）'!N242,\"yyyy/m/d\"))","v":""}]
[{"$f":"LEFT('名刺管理（Eight）'!D243,D245)","v":""},{"$f":"RIGHT('名刺管理（Eight）'!D243,E245)","v":""},{"$f":"IF('名刺管理（Eight）'!D243=\"\",\"\",IF(LEN('名刺管理（Eight）'!D243)=D245+E245,\"\",\"不一致\"))","v":""},null,null,{"$f":"IF('名刺管理（Eight）'!A243=\"\",\"\",'名刺管理（Eight）'!A243)","v":""},{"$f":"IF('名刺管理（Eight）'!B243=\"\",\"\",'名刺管理（Eight）'!B243)","v":""},{"$f":"IF('名刺管理（Eight）'!C243=\"\",\"\",'名刺管理（Eight）'!C243)","v":""},{"$f":"IF('名刺管理（Eight）'!E243=\"\",\"\",'名刺管理（Eight）'!E243)","v":""},{"$f":"IF('名刺管理（Eight）'!F243=\"\",\"\",'名刺管理（Eight）'!F243)","v":""},{"$f":"IF('名刺管理（Eight）'!G243=\"\",\"\",IF(LEFT('名刺管理（Eight）'!G243,3)=\"神奈川\",LEFT('名刺管理（Eight）'!G243,4),IF(LEFT('名刺管理（Eight）'!G243,3)=\"和歌山\",LEFT('名刺管理（Eight）'!G243,4),IF(LEFT('名刺管理（Eight）'!G243,3)=\"鹿児島\",LEFT('名刺管理（Eight）'!G243,4),LEFT('名刺管理（Eight）'!G243,3)))))","v":""},{"$f":"IF(K245=\"\",\"\",IF(LEN(K245)=3,MID('名刺管理（Eight）'!G243,4,50),MID('名刺管理（Eight）'!G243,5,50)))","v":""},{"$f":"IF('名刺管理（Eight）'!H243=\"\",\"\",'名刺管理（Eight）'!H243)","v":""},{"$f":"IF('名刺管理（Eight）'!K243=\"\",\"\",'名刺管理（Eight）'!K243)","v":""},{"$f":"IF('名刺管理（Eight）'!L243=\"\",\"\",'名刺管理（Eight）'!L243)","v":""},{"$f":"IF('名刺管理（Eight）'!M243=\"\",\"\",'名刺管理（Eight）'!M243)","v":""},{"$f":"IF('名刺管理（Eight）'!N243=\"\",\"\",TEXT('名刺管理（Eight）'!N243,\"yyyy/m/d\"))","v":""}]
[{"$f":"LEFT('名刺管理（Eight）'!D244,D246)","v":""},{"$f":"RIGHT('名刺管理（Eight）'!D244,E246)","v":""},{"$f":"IF('名刺管理（Eight）'!D244=\"\",\"\",IF(LEN('名刺管理（Eight）'!D244)=D246+E246,\"\",\"不一致\"))","v":""},null,null,{"$f":"IF('名刺管理（Eight）'!A244=\"\",\"\",'名刺管理（Eight）'!A244)","v":""},{"$f":"IF('名刺管理（Eight）'!B244=\"\",\"\",'名刺管理（Eight）'!B244)","v":""},{"$f":"IF('名刺管理（Eight）'!C244=\"\",\"\",'名刺管理（Eight）'!C244)","v":""},{"$f":"IF('名刺管理（Eight）'!E244=\"\",\"\",'名刺管理（Eight）'!E244)","v":""},{"$f":"IF('名刺管理（Eight）'!F244=\"\",\"\",'名刺管理（Eight）'!F244)","v":""},{"$f":"IF('名刺管理（Eight）'!G244=\"\",\"\",IF(LEFT('名刺管理（Eight）'!G244,3)=\"神奈川\",LEFT('名刺管理（Eight）'!G244,4),IF(LEFT('名刺管理（Eight）'!G244,3)=\"和歌山\",LEFT('名刺管理（Eight）'!G244,4),IF(LEFT('名刺管理（Eight）'!G244,3)=\"鹿児島\",LEFT('名刺管理（Eight）'!G244,4),LEFT('名刺管理（Eight）'!G244,3)))))","v":""},{"$f":"IF(K246=\"\",\"\",IF(LEN(K246)=3,MID('名刺管理（Eight）'!G244,4,50),MID('名刺管理（Eight）'!G244,5,50)))","v":""},{"$f":"IF('名刺管理（Eight）'!H244=\"\",\"\",'名刺管理（Eight）'!H244)","v":""},{"$f":"IF('名刺管理（Eight）'!K244=\"\",\"\",'名刺管理（Eight）'!K244)","v":""},{"$f":"IF('名刺管理（Eight）'!L244=\"\",\"\",'名刺管理（Eight）'!L244)","v":""},{"$f":"IF('名刺管理（Eight）'!M244=\"\",\"\",'名刺管理（Eight）'!M244)","v":""},{"$f":"IF('名刺管理（Eight）'!N244=\"\",\"\",TEXT('名刺管理（Eight）'!N244,\"yyyy/m/d\"))","v":""}]
[{"$f":"LEFT('名刺管理（Eight）'!D245,D247)","v":""},{"$f":"RIGHT('名刺管理（Eight）'!D245,E247)","v":""},{"$f":"IF('名刺管理（Eight）'!D245=\"\",\"\",IF(LEN('名刺管理（Eight）'!D245)=D247+E247,\"\",\"不一致\"))","v":""},null,null,{"$f":"IF('名刺管理（Eight）'!A245=\"\",\"\",'名刺管理（Eight）'!A245)","v":""},{"$f":"IF('名刺管理（Eight）'!B245=\"\",\"\",'名刺管理（Eight）'!B245)","v":""},{"$f":"IF('名刺管理（Eight）'!C245=\"\",\"\",'名刺管理（Eight）'!C245)","v":""},{"$f":"IF('名刺管理（Eight）'!E245=\"\",\"\",'名刺管理（Eight）'!E245)","v":""},{"$f":"IF('名刺管理（Eight）'!F245=\"\",\"\",'名刺管理（Eight）'!F245)","v":""},{"$f":"IF('名刺管理（Eight）'!G245=\"\",\"\",IF(LEFT('名刺管理（Eight）'!G245,3)=\"神奈川\",LEFT('名刺管理（Eight）'!G245,4),IF(LEFT('名刺管理（Eight）'!G245,3)=\"和歌山\",LEFT('名刺管理（Eight）'!G245,4),IF(LEFT('名刺管理（Eight）'!G245,3)=\"鹿児島\",LEFT('名刺管理（Eight）'!G245,4),LEFT('名刺管理（Eight）'!G245,3)))))","v":""},{"$f":"IF(K247=\"\",\"\",IF(LEN(K247)=3,MID('名刺管理（Eight）'!G245,4,50),MID('名刺管理（Eight）'!G245,5,50)))","v":""},{"$f":"IF('名刺管理（Eight）'!H245=\"\",\"\",'名刺管理（Eight）'!H245)","v":""},{"$f":"IF('名刺管理（Eight）'!K245=\"\",\"\",'名刺管理（Eight）'!K245)","v":""},{"$f":"IF('名刺管理（Eight）'!L245=\"\",\"\",'名刺管理（Eight）'!L245)","v":""},{"$f":"IF('名刺管理（Eight）'!M245=\"\",\"\",'名刺管理（Eight）'!M245)","v":""},{"$f":"IF('名刺管理（Eight）'!N245=\"\",\"\",TEXT('名刺管理（Eight）'!N245,\"yyyy/m/d\"))","v":""}]
[{"$f":"LEFT('名刺管理（Eight）'!D246,D248)","v":""},{"$f":"RIGHT('名刺管理（Eight）'!D246,E248)","v":""},{"$f":"IF('名刺管理（Eight）'!D246=\"\",\"\",IF(LEN('名刺管理（Eight）'!D246)=D248+E248,\"\",\"不一致\"))","v":""},null,null,{"$f":"IF('名刺管理（Eight）'!A246=\"\",\"\",'名刺管理（Eight）'!A246)","v":""},{"$f":"IF('名刺管理（Eight）'!B246=\"\",\"\",'名刺管理（Eight）'!B246)","v":""},{"$f":"IF('名刺管理（Eight）'!C246=\"\",\"\",'名刺管理（Eight）'!C246)","v":""},{"$f":"IF('名刺管理（Eight）'!E246=\"\",\"\",'名刺管理（Eight）'!E246)","v":""},{"$f":"IF('名刺管理（Eight）'!F246=\"\",\"\",'名刺管理（Eight）'!F246)","v":""},{"$f":"IF('名刺管理（Eight）'!G246=\"\",\"\",IF(LEFT('名刺管理（Eight）'!G246,3)=\"神奈川\",LEFT('名刺管理（Eight）'!G246,4),IF(LEFT('名刺管理（Eight）'!G246,3)=\"和歌山\",LEFT('名刺管理（Eight）'!G246,4),IF(LEFT('名刺管理（Eight）'!G246,3)=\"鹿児島\",LEFT('名刺管理（Eight）'!G246,4),LEFT('名刺管理（Eight）'!G246,3)))))","v":""},{"$f":"IF(K248=\"\",\"\",IF(LEN(K248)=3,MID('名刺管理（Eight）'!G246,4,50),MID('名刺管理（Eight）'!G246,5,50)))","v":""},{"$f":"IF('名刺管理（Eight）'!H246=\"\",\"\",'名刺管理（Eight）'!H246)","v":""},{"$f":"IF('名刺管理（Eight）'!K246=\"\",\"\",'名刺管理（Eight）'!K246)","v":""},{"$f":"IF('名刺管理（Eight）'!L246=\"\",\"\",'名刺管理（Eight）'!L246)","v":""},{"$f":"IF('名刺管理（Eight）'!M246=\"\",\"\",'名刺管理（Eight）'!M246)","v":""},{"$f":"IF('名刺管理（Eight）'!N246=\"\",\"\",TEXT('名刺管理（Eight）'!N246,\"yyyy/m/d\"))","v":""}]
[{"$f":"LEFT('名刺管理（Eight）'!D247,D249)","v":""},{"$f":"RIGHT('名刺管理（Eight）'!D247,E249)","v":""},{"$f":"IF('名刺管理（Eight）'!D247=\"\",\"\",IF(LEN('名刺管理（Eight）'!D247)=D249+E249,\"\",\"不一致\"))","v":""},null,null,{"$f":"IF('名刺管理（Eight）'!A247=\"\",\"\",'名刺管理（Eight）'!A247)","v":""},{"$f":"IF('名刺管理（Eight）'!B247=\"\",\"\",'名刺管理（Eight）'!B247)","v":""},{"$f":"IF('名刺管理（Eight）'!C247=\"\",\"\",'名刺管理（Eight）'!C247)","v":""},{"$f":"IF('名刺管理（Eight）'!E247=\"\",\"\",'名刺管理（Eight）'!E247)","v":""},{"$f":"IF('名刺管理（Eight）'!F247=\"\",\"\",'名刺管理（Eight）'!F247)","v":""},{"$f":"IF('名刺管理（Eight）'!G247=\"\",\"\",IF(LEFT('名刺管理（Eight）'!G247,3)=\"神奈川\",LEFT('名刺管理（Eight）'!G247,4),IF(LEFT('名刺管理（Eight）'!G247,3)=\"和歌山\",LEFT('名刺管理（Eight）'!G247,4),IF(LEFT('名刺管理（Eight）'!G247,3)=\"鹿児島\",LEFT('名刺管理（Eight）'!G247,4),LEFT('名刺管理（Eight）'!G247,3)))))","v":""},{"$f":"IF(K249=\"\",\"\",IF(LEN(K249)=3,MID('名刺管理（Eight）'!G247,4,50),MID('名刺管理（Eight）'!G247,5,50)))","v":""},{"$f":"IF('名刺管理（Eight）'!H247=\"\",\"\",'名刺管理（Eight）'!H247)","v":""},{"$f":"IF('名刺管理（Eight）'!K247=\"\",\"\",'名刺管理（Eight）'!K247)","v":""},{"$f":"IF('名刺管理（Eight）'!L247=\"\",\"\",'名刺管理（Eight）'!L247)","v":""},{"$f":"IF('名刺管理（Eight）'!M247=\"\",\"\",'名刺管理（Eight）'!M247)","v":""},{"$f":"IF('名刺管理（Eight）'!N247=\"\",\"\",TEXT('名刺管理（Eight）'!N247,\"yyyy/m/d\"))","v":""}]
[{"$f":"LEFT('名刺管理（Eight）'!D248,D250)","v":""},{"$f":"RIGHT('名刺管理（Eight）'!D248,E250)","v":""},{"$f":"IF('名刺管理（Eight）'!D248=\"\",\"\",IF(LEN('名刺管理（Eight）'!D248)=D250+E250,\"\",\"不一致\"))","v":""},null,null,{"$f":"IF('名刺管理（Eight）'!A248=\"\",\"\",'名刺管理（Eight）'!A248)","v":""},{"$f":"IF('名刺管理（Eight）'!B248=\"\",\"\",'名刺管理（Eight）'!B248)","v":""},{"$f":"IF('名刺管理（Eight）'!C248=\"\",\"\",'名刺管理（Eight）'!C248)","v":""},{"$f":"IF('名刺管理（Eight）'!E248=\"\",\"\",'名刺管理（Eight）'!E248)","v":""},{"$f":"IF('名刺管理（Eight）'!F248=\"\",\"\",'名刺管理（Eight）'!F248)","v":""},{"$f":"IF('名刺管理（Eight）'!G248=\"\",\"\",IF(LEFT('名刺管理（Eight）'!G248,3)=\"神奈川\",LEFT('名刺管理（Eight）'!G248,4),IF(LEFT('名刺管理（Eight）'!G248,3)=\"和歌山\",LEFT('名刺管理（Eight）'!G248,4),IF(LEFT('名刺管理（Eight）'!G248,3)=\"鹿児島\",LEFT('名刺管理（Eight）'!G248,4),LEFT('名刺管理（Eight）'!G248,3)))))","v":""},{"$f":"IF(K250=\"\",\"\",IF(LEN(K250)=3,MID('名刺管理（Eight）'!G248,4,50),MID('名刺管理（Eight）'!G248,5,50)))","v":""},{"$f":"IF('名刺管理（Eight）'!H248=\"\",\"\",'名刺管理（Eight）'!H248)","v":""},{"$f":"IF('名刺管理（Eight）'!K248=\"\",\"\",'名刺管理（Eight）'!K248)","v":""},{"$f":"IF('名刺管理（Eight）'!L248=\"\",\"\",'名刺管理（Eight）'!L248)","v":""},{"$f":"IF('名刺管理（Eight）'!M248=\"\",\"\",'名刺管理（Eight）'!M248)","v":""},{"$f":"IF('名刺管理（Eight）'!N248=\"\",\"\",TEXT('名刺管理（Eight）'!N248,\"yyyy/m/d\"))","v":""}]
[{"$f":"LEFT('名刺管理（Eight）'!D249,D251)","v":""},{"$f":"RIGHT('名刺管理（Eight）'!D249,E251)","v":""},{"$f":"IF('名刺管理（Eight）'!D249=\"\",\"\",IF(LEN('名刺管理（Eight）'!D249)=D251+E251,\"\",\"不一致\"))","v":""},null,null,{"$f":"IF('名刺管理（Eight）'!A249=\"\",\"\",'名刺管理（Eight）'!A249)","v":""},{"$f":"IF('名刺管理（Eight）'!B249=\"\",\"\",'名刺管理（Eight）'!B249)","v":""},{"$f":"IF('名刺管理（Eight）'!C249=\"\",\"\",'名刺管理（Eight）'!C249)","v":""},{"$f":"IF('名刺管理（Eight）'!E249=\"\",\"\",'名刺管理（Eight）'!E249)","v":""},{"$f":"IF('名刺管理（Eight）'!F249=\"\",\"\",'名刺管理（Eight）'!F249)","v":""},{"$f":"IF('名刺管理（Eight）'!G249=\"\",\"\",IF(LEFT('名刺管理（Eight）'!G249,3)=\"神奈川\",LEFT('名刺管理（Eight）'!G249,4),IF(LEFT('名刺管理（Eight）'!G249,3)=\"和歌山\",LEFT('名刺管理（Eight）'!G249,4),IF(LEFT('名刺管理（Eight）'!G249,3)=\"鹿児島\",LEFT('名刺管理（Eight）'!G249,4),LEFT('名刺管理（Eight）'!G249,3)))))","v":""},{"$f":"IF(K251=\"\",\"\",IF(LEN(K251)=3,MID('名刺管理（Eight）'!G249,4,50),MID('名刺管理（Eight）'!G249,5,50)))","v":""},{"$f":"IF('名刺管理（Eight）'!H249=\"\",\"\",'名刺管理（Eight）'!H249)","v":""},{"$f":"IF('名刺管理（Eight）'!K249=\"\",\"\",'名刺管理（Eight）'!K249)","v":""},{"$f":"IF('名刺管理（Eight）'!L249=\"\",\"\",'名刺管理（Eight）'!L249)","v":""},{"$f":"IF('名刺管理（Eight）'!M249=\"\",\"\",'名刺管理（Eight）'!M249)","v":""},{"$f":"IF('名刺管理（Eight）'!N249=\"\",\"\",TEXT('名刺管理（Eight）'!N249,\"yyyy/m/d\"))","v":""}]
[{"$f":"LEFT('名刺管理（Eight）'!D250,D252)","v":""},{"$f":"RIGHT('名刺管理（Eight）'!D250,E252)","v":""},{"$f":"IF('名刺管理（Eight）'!D250=\"\",\"\",IF(LEN('名刺管理（Eight）'!D250)=D252+E252,\"\",\"不一致\"))","v":""},null,null,{"$f":"IF('名刺管理（Eight）'!A250=\"\",\"\",'名刺管理（Eight）'!A250)","v":""},{"$f":"IF('名刺管理（Eight）'!B250=\"\",\"\",'名刺管理（Eight）'!B250)","v":""},{"$f":"IF('名刺管理（Eight）'!C250=\"\",\"\",'名刺管理（Eight）'!C250)","v":""},{"$f":"IF('名刺管理（Eight）'!E250=\"\",\"\",'名刺管理（Eight）'!E250)","v":""},{"$f":"IF('名刺管理（Eight）'!F250=\"\",\"\",'名刺管理（Eight）'!F250)","v":""},{"$f":"IF('名刺管理（Eight）'!G250=\"\",\"\",IF(LEFT('名刺管理（Eight）'!G250,3)=\"神奈川\",LEFT('名刺管理（Eight）'!G250,4),IF(LEFT('名刺管理（Eight）'!G250,3)=\"和歌山\",LEFT('名刺管理（Eight）'!G250,4),IF(LEFT('名刺管理（Eight）'!G250,3)=\"鹿児島\",LEFT('名刺管理（Eight）'!G250,4),LEFT('名刺管理（Eight）'!G250,3)))))","v":""},{"$f":"IF(K252=\"\",\"\",IF(LEN(K252)=3,MID('名刺管理（Eight）'!G250,4,50),MID('名刺管理（Eight）'!G250,5,50)))","v":""},{"$f":"IF('名刺管理（Eight）'!H250=\"\",\"\",'名刺管理（Eight）'!H250)","v":""},{"$f":"IF('名刺管理（Eight）'!K250=\"\",\"\",'名刺管理（Eight）'!K250)","v":""},{"$f":"IF('名刺管理（Eight）'!L250=\"\",\"\",'名刺管理（Eight）'!L250)","v":""},{"$f":"IF('名刺管理（Eight）'!M250=\"\",\"\",'名刺管理（Eight）'!M250)","v":""},{"$f":"IF('名刺管理（Eight）'!N250=\"\",\"\",TEXT('名刺管理（Eight）'!N250,\"yyyy/m/d\"))","v":""}]
[{"$f":"LEFT('名刺管理（Eight）'!D251,D253)","v":""},{"$f":"RIGHT('名刺管理（Eight）'!D251,E253)","v":""},{"$f":"IF('名刺管理（Eight）'!D251=\"\",\"\",IF(LEN('名刺管理（Eight）'!D251)=D253+E253,\"\",\"不一致\"))","v":""},null,null,{"$f":"IF('名刺管理（Eight）'!A251=\"\",\"\",'名刺管理（Eight）'!A251)","v":""},{"$f":"IF('名刺管理（Eight）'!B251=\"\",\"\",'名刺管理（Eight）'!B251)","v":""},{"$f":"IF('名刺管理（Eight）'!C251=\"\",\"\",'名刺管理（Eight）'!C251)","v":""},{"$f":"IF('名刺管理（Eight）'!E251=\"\",\"\",'名刺管理（Eight）'!E251)","v":""},{"$f":"IF('名刺管理（Eight）'!F251=\"\",\"\",'名刺管理（Eight）'!F251)","v":""},{"$f":"IF('名刺管理（Eight）'!G251=\"\",\"\",IF(LEFT('名刺管理（Eight）'!G251,3)=\"神奈川\",LEFT('名刺管理（Eight）'!G251,4),IF(LEFT('名刺管理（Eight）'!G251,3)=\"和歌山\",LEFT('名刺管理（Eight）'!G251,4),IF(LEFT('名刺管理（Eight）'!G251,3)=\"鹿児島\",LEFT('名刺管理（Eight）'!G251,4),LEFT('名刺管理（Eight）'!G251,3)))))","v":""},{"$f":"IF(K253=\"\",\"\",IF(LEN(K253)=3,MID('名刺管理（Eight）'!G251,4,50),MID('名刺管理（Eight）'!G251,5,50)))","v":""},{"$f":"IF('名刺管理（Eight）'!H251=\"\",\"\",'名刺管理（Eight）'!H251)","v":""},{"$f":"IF('名刺管理（Eight）'!K251=\"\",\"\",'名刺管理（Eight）'!K251)","v":""},{"$f":"IF('名刺管理（Eight）'!L251=\"\",\"\",'名刺管理（Eight）'!L251)","v":""},{"$f":"IF('名刺管理（Eight）'!M251=\"\",\"\",'名刺管理（Eight）'!M251)","v":""},{"$f":"IF('名刺管理（Eight）'!N251=\"\",\"\",TEXT('名刺管理（Eight）'!N251,\"yyyy/m/d\"))","v":""}]
[{"$f":"LEFT('名刺管理（Eight）'!D252,D254)","v":""},{"$f":"RIGHT('名刺管理（Eight）'!D252,E254)","v":""},{"$f":"IF('名刺管理（Eight）'!D252=\"\",\"\",IF(LEN('名刺管理（Eight）'!D252)=D254+E254,\"\",\"不一致\"))","v":""},null,null,{"$f":"IF('名刺管理（Eight）'!A252=\"\",\"\",'名刺管理（Eight）'!A252)","v":""},{"$f":"IF('名刺管理（Eight）'!B252=\"\",\"\",'名刺管理（Eight）'!B252)","v":""},{"$f":"IF('名刺管理（Eight）'!C252=\"\",\"\",'名刺管理（Eight）'!C252)","v":""},{"$f":"IF('名刺管理（Eight）'!E252=\"\",\"\",'名刺管理（Eight）'!E252)","v":""},{"$f":"IF('名刺管理（Eight）'!F252=\"\",\"\",'名刺管理（Eight）'!F252)","v":""},{"$f":"IF('名刺管理（Eight）'!G252=\"\",\"\",IF(LEFT('名刺管理（Eight）'!G252,3)=\"神奈川\",LEFT('名刺管理（Eight）'!G252,4),IF(LEFT('名刺管理（Eight）'!G252,3)=\"和歌山\",LEFT('名刺管理（Eight）'!G252,4),IF(LEFT('名刺管理（Eight）'!G252,3)=\"鹿児島\",LEFT('名刺管理（Eight）'!G252,4),LEFT('名刺管理（Eight）'!G252,3)))))","v":""},{"$f":"IF(K254=\"\",\"\",IF(LEN(K254)=3,MID('名刺管理（Eight）'!G252,4,50),MID('名刺管理（Eight）'!G252,5,50)))","v":""},{"$f":"IF('名刺管理（Eight）'!H252=\"\",\"\",'名刺管理（Eight）'!H252)","v":""},{"$f":"IF('名刺管理（Eight）'!K252=\"\",\"\",'名刺管理（Eight）'!K252)","v":""},{"$f":"IF('名刺管理（Eight）'!L252=\"\",\"\",'名刺管理（Eight）'!L252)","v":""},{"$f":"IF('名刺管理（Eight）'!M252=\"\",\"\",'名刺管理（Eight）'!M252)","v":""},{"$f":"IF('名刺管理（Eight）'!N252=\"\",\"\",TEXT('名刺管理（Eight）'!N252,\"yyyy/m/d\"))","v":""}]
[{"$f":"LEFT('名刺管理（Eight）'!D253,D255)","v":""},{"$f":"RIGHT('名刺管理（Eight）'!D253,E255)","v":""},{"$f":"IF('名刺管理（Eight）'!D253=\"\",\"\",IF(LEN('名刺管理（Eight）'!D253)=D255+E255,\"\",\"不一致\"))","v":""},null,null,{"$f":"IF('名刺管理（Eight）'!A253=\"\",\"\",'名刺管理（Eight）'!A253)","v":""},{"$f":"IF('名刺管理（Eight）'!B253=\"\",\"\",'名刺管理（Eight）'!B253)","v":""},{"$f":"IF('名刺管理（Eight）'!C253=\"\",\"\",'名刺管理（Eight）'!C253)","v":""},{"$f":"IF('名刺管理（Eight）'!E253=\"\",\"\",'名刺管理（Eight）'!E253)","v":""},{"$f":"IF('名刺管理（Eight）'!F253=\"\",\"\",'名刺管理（Eight）'!F253)","v":""},{"$f":"IF('名刺管理（Eight）'!G253=\"\",\"\",IF(LEFT('名刺管理（Eight）'!G253,3)=\"神奈川\",LEFT('名刺管理（Eight）'!G253,4),IF(LEFT('名刺管理（Eight）'!G253,3)=\"和歌山\",LEFT('名刺管理（Eight）'!G253,4),IF(LEFT('名刺管理（Eight）'!G253,3)=\"鹿児島\",LEFT('名刺管理（Eight）'!G253,4),LEFT('名刺管理（Eight）'!G253,3)))))","v":""},{"$f":"IF(K255=\"\",\"\",IF(LEN(K255)=3,MID('名刺管理（Eight）'!G253,4,50),MID('名刺管理（Eight）'!G253,5,50)))","v":""},{"$f":"IF('名刺管理（Eight）'!H253=\"\",\"\",'名刺管理（Eight）'!H253)","v":""},{"$f":"IF('名刺管理（Eight）'!K253=\"\",\"\",'名刺管理（Eight）'!K253)","v":""},{"$f":"IF('名刺管理（Eight）'!L253=\"\",\"\",'名刺管理（Eight）'!L253)","v":""},{"$f":"IF('名刺管理（Eight）'!M253=\"\",\"\",'名刺管理（Eight）'!M253)","v":""},{"$f":"IF('名刺管理（Eight）'!N253=\"\",\"\",TEXT('名刺管理（Eight）'!N253,\"yyyy/m/d\"))","v":""}]
[{"$f":"LEFT('名刺管理（Eight）'!D254,D256)","v":""},{"$f":"RIGHT('名刺管理（Eight）'!D254,E256)","v":""},{"$f":"IF('名刺管理（Eight）'!D254=\"\",\"\",IF(LEN('名刺管理（Eight）'!D254)=D256+E256,\"\",\"不一致\"))","v":""},null,null,{"$f":"IF('名刺管理（Eight）'!A254=\"\",\"\",'名刺管理（Eight）'!A254)","v":""},{"$f":"IF('名刺管理（Eight）'!B254=\"\",\"\",'名刺管理（Eight）'!B254)","v":""},{"$f":"IF('名刺管理（Eight）'!C254=\"\",\"\",'名刺管理（Eight）'!C254)","v":""},{"$f":"IF('名刺管理（Eight）'!E254=\"\",\"\",'名刺管理（Eight）'!E254)","v":""},{"$f":"IF('名刺管理（Eight）'!F254=\"\",\"\",'名刺管理（Eight）'!F254)","v":""},{"$f":"IF('名刺管理（Eight）'!G254=\"\",\"\",IF(LEFT('名刺管理（Eight）'!G254,3)=\"神奈川\",LEFT('名刺管理（Eight）'!G254,4),IF(LEFT('名刺管理（Eight）'!G254,3)=\"和歌山\",LEFT('名刺管理（Eight）'!G254,4),IF(LEFT('名刺管理（Eight）'!G254,3)=\"鹿児島\",LEFT('名刺管理（Eight）'!G254,4),LEFT('名刺管理（Eight）'!G254,3)))))","v":""},{"$f":"IF(K256=\"\",\"\",IF(LEN(K256)=3,MID('名刺管理（Eight）'!G254,4,50),MID('名刺管理（Eight）'!G254,5,50)))","v":""},{"$f":"IF('名刺管理（Eight）'!H254=\"\",\"\",'名刺管理（Eight）'!H254)","v":""},{"$f":"IF('名刺管理（Eight）'!K254=\"\",\"\",'名刺管理（Eight）'!K254)","v":""},{"$f":"IF('名刺管理（Eight）'!L254=\"\",\"\",'名刺管理（Eight）'!L254)","v":""},{"$f":"IF('名刺管理（Eight）'!M254=\"\",\"\",'名刺管理（Eight）'!M254)","v":""},{"$f":"IF('名刺管理（Eight）'!N254=\"\",\"\",TEXT('名刺管理（Eight）'!N254,\"yyyy/m/d\"))","v":""}]
[{"$f":"LEFT('名刺管理（Eight）'!D255,D257)","v":""},{"$f":"RIGHT('名刺管理（Eight）'!D255,E257)","v":""},{"$f":"IF('名刺管理（Eight）'!D255=\"\",\"\",IF(LEN('名刺管理（Eight）'!D255)=D257+E257,\"\",\"不一致\"))","v":""},null,null,{"$f":"IF('名刺管理（Eight）'!A255=\"\",\"\",'名刺管理（Eight）'!A255)","v":""},{"$f":"IF('名刺管理（Eight）'!B255=\"\",\"\",'名刺管理（Eight）'!B255)","v":""},{"$f":"IF('名刺管理（Eight）'!C255=\"\",\"\",'名刺管理（Eight）'!C255)","v":""},{"$f":"IF('名刺管理（Eight）'!E255=\"\",\"\",'名刺管理（Eight）'!E255)","v":""},{"$f":"IF('名刺管理（Eight）'!F255=\"\",\"\",'名刺管理（Eight）'!F255)","v":""},{"$f":"IF('名刺管理（Eight）'!G255=\"\",\"\",IF(LEFT('名刺管理（Eight）'!G255,3)=\"神奈川\",LEFT('名刺管理（Eight）'!G255,4),IF(LEFT('名刺管理（Eight）'!G255,3)=\"和歌山\",LEFT('名刺管理（Eight）'!G255,4),IF(LEFT('名刺管理（Eight）'!G255,3)=\"鹿児島\",LEFT('名刺管理（Eight）'!G255,4),LEFT('名刺管理（Eight）'!G255,3)))))","v":""},{"$f":"IF(K257=\"\",\"\",IF(LEN(K257)=3,MID('名刺管理（Eight）'!G255,4,50),MID('名刺管理（Eight）'!G255,5,50)))","v":""},{"$f":"IF('名刺管理（Eight）'!H255=\"\",\"\",'名刺管理（Eight）'!H255)","v":""},{"$f":"IF('名刺管理（Eight）'!K255=\"\",\"\",'名刺管理（Eight）'!K255)","v":""},{"$f":"IF('名刺管理（Eight）'!L255=\"\",\"\",'名刺管理（Eight）'!L255)","v":""},{"$f":"IF('名刺管理（Eight）'!M255=\"\",\"\",'名刺管理（Eight）'!M255)","v":""},{"$f":"IF('名刺管理（Eight）'!N255=\"\",\"\",TEXT('名刺管理（Eight）'!N255,\"yyyy/m/d\"))","v":""}]
[{"$f":"LEFT('名刺管理（Eight）'!D256,D258)","v":""},{"$f":"RIGHT('名刺管理（Eight）'!D256,E258)","v":""},{"$f":"IF('名刺管理（Eight）'!D256=\"\",\"\",IF(LEN('名刺管理（Eight）'!D256)=D258+E258,\"\",\"不一致\"))","v":""},null,null,{"$f":"IF('名刺管理（Eight）'!A256=\"\",\"\",'名刺管理（Eight）'!A256)","v":""},{"$f":"IF('名刺管理（Eight）'!B256=\"\",\"\",'名刺管理（Eight）'!B256)","v":""},{"$f":"IF('名刺管理（Eight）'!C256=\"\",\"\",'名刺管理（Eight）'!C256)","v":""},{"$f":"IF('名刺管理（Eight）'!E256=\"\",\"\",'名刺管理（Eight）'!E256)","v":""},{"$f":"IF('名刺管理（Eight）'!F256=\"\",\"\",'名刺管理（Eight）'!F256)","v":""},{"$f":"IF('名刺管理（Eight）'!G256=\"\",\"\",IF(LEFT('名刺管理（Eight）'!G256,3)=\"神奈川\",LEFT('名刺管理（Eight）'!G256,4),IF(LEFT('名刺管理（Eight）'!G256,3)=\"和歌山\",LEFT('名刺管理（Eight）'!G256,4),IF(LEFT('名刺管理（Eight）'!G256,3)=\"鹿児島\",LEFT('名刺管理（Eight）'!G256,4),LEFT('名刺管理（Eight）'!G256,3)))))","v":""},{"$f":"IF(K258=\"\",\"\",IF(LEN(K258)=3,MID('名刺管理（Eight）'!G256,4,50),MID('名刺管理（Eight）'!G256,5,50)))","v":""},{"$f":"IF('名刺管理（Eight）'!H256=\"\",\"\",'名刺管理（Eight）'!H256)","v":""},{"$f":"IF('名刺管理（Eight）'!K256=\"\",\"\",'名刺管理（Eight）'!K256)","v":""},{"$f":"IF('名刺管理（Eight）'!L256=\"\",\"\",'名刺管理（Eight）'!L256)","v":""},{"$f":"IF('名刺管理（Eight）'!M256=\"\",\"\",'名刺管理（Eight）'!M256)","v":""},{"$f":"IF('名刺管理（Eight）'!N256=\"\",\"\",TEXT('名刺管理（Eight）'!N256,\"yyyy/m/d\"))","v":""}]
[{"$f":"LEFT('名刺管理（Eight）'!D257,D259)","v":""},{"$f":"RIGHT('名刺管理（Eight）'!D257,E259)","v":""},{"$f":"IF('名刺管理（Eight）'!D257=\"\",\"\",IF(LEN('名刺管理（Eight）'!D257)=D259+E259,\"\",\"不一致\"))","v":""},null,null,{"$f":"IF('名刺管理（Eight）'!A257=\"\",\"\",'名刺管理（Eight）'!A257)","v":""},{"$f":"IF('名刺管理（Eight）'!B257=\"\",\"\",'名刺管理（Eight）'!B257)","v":""},{"$f":"IF('名刺管理（Eight）'!C257=\"\",\"\",'名刺管理（Eight）'!C257)","v":""},{"$f":"IF('名刺管理（Eight）'!E257=\"\",\"\",'名刺管理（Eight）'!E257)","v":""},{"$f":"IF('名刺管理（Eight）'!F257=\"\",\"\",'名刺管理（Eight）'!F257)","v":""},{"$f":"IF('名刺管理（Eight）'!G257=\"\",\"\",IF(LEFT('名刺管理（Eight）'!G257,3)=\"神奈川\",LEFT('名刺管理（Eight）'!G257,4),IF(LEFT('名刺管理（Eight）'!G257,3)=\"和歌山\",LEFT('名刺管理（Eight）'!G257,4),IF(LEFT('名刺管理（Eight）'!G257,3)=\"鹿児島\",LEFT('名刺管理（Eight）'!G257,4),LEFT('名刺管理（Eight）'!G257,3)))))","v":""},{"$f":"IF(K259=\"\",\"\",IF(LEN(K259)=3,MID('名刺管理（Eight）'!G257,4,50),MID('名刺管理（Eight）'!G257,5,50)))","v":""},{"$f":"IF('名刺管理（Eight）'!H257=\"\",\"\",'名刺管理（Eight）'!H257)","v":""},{"$f":"IF('名刺管理（Eight）'!K257=\"\",\"\",'名刺管理（Eight）'!K257)","v":""},{"$f":"IF('名刺管理（Eight）'!L257=\"\",\"\",'名刺管理（Eight）'!L257)","v":""},{"$f":"IF('名刺管理（Eight）'!M257=\"\",\"\",'名刺管理（Eight）'!M257)","v":""},{"$f":"IF('名刺管理（Eight）'!N257=\"\",\"\",TEXT('名刺管理（Eight）'!N257,\"yyyy/m/d\"))","v":""}]
[{"$f":"LEFT('名刺管理（Eight）'!D258,D260)","v":""},{"$f":"RIGHT('名刺管理（Eight）'!D258,E260)","v":""},{"$f":"IF('名刺管理（Eight）'!D258=\"\",\"\",IF(LEN('名刺管理（Eight）'!D258)=D260+E260,\"\",\"不一致\"))","v":""},null,null,{"$f":"IF('名刺管理（Eight）'!A258=\"\",\"\",'名刺管理（Eight）'!A258)","v":""},{"$f":"IF('名刺管理（Eight）'!B258=\"\",\"\",'名刺管理（Eight）'!B258)","v":""},{"$f":"IF('名刺管理（Eight）'!C258=\"\",\"\",'名刺管理（Eight）'!C258)","v":""},{"$f":"IF('名刺管理（Eight）'!E258=\"\",\"\",'名刺管理（Eight）'!E258)","v":""},{"$f":"IF('名刺管理（Eight）'!F258=\"\",\"\",'名刺管理（Eight）'!F258)","v":""},{"$f":"IF('名刺管理（Eight）'!G258=\"\",\"\",IF(LEFT('名刺管理（Eight）'!G258,3)=\"神奈川\",LEFT('名刺管理（Eight）'!G258,4),IF(LEFT('名刺管理（Eight）'!G258,3)=\"和歌山\",LEFT('名刺管理（Eight）'!G258,4),IF(LEFT('名刺管理（Eight）'!G258,3)=\"鹿児島\",LEFT('名刺管理（Eight）'!G258,4),LEFT('名刺管理（Eight）'!G258,3)))))","v":""},{"$f":"IF(K260=\"\",\"\",IF(LEN(K260)=3,MID('名刺管理（Eight）'!G258,4,50),MID('名刺管理（Eight）'!G258,5,50)))","v":""},{"$f":"IF('名刺管理（Eight）'!H258=\"\",\"\",'名刺管理（Eight）'!H258)","v":""},{"$f":"IF('名刺管理（Eight）'!K258=\"\",\"\",'名刺管理（Eight）'!K258)","v":""},{"$f":"IF('名刺管理（Eight）'!L258=\"\",\"\",'名刺管理（Eight）'!L258)","v":""},{"$f":"IF('名刺管理（Eight）'!M258=\"\",\"\",'名刺管理（Eight）'!M258)","v":""},{"$f":"IF('名刺管理（Eight）'!N258=\"\",\"\",TEXT('名刺管理（Eight）'!N258,\"yyyy/m/d\"))","v":""}]
[{"$f":"LEFT('名刺管理（Eight）'!D259,D261)","v":""},{"$f":"RIGHT('名刺管理（Eight）'!D259,E261)","v":""},{"$f":"IF('名刺管理（Eight）'!D259=\"\",\"\",IF(LEN('名刺管理（Eight）'!D259)=D261+E261,\"\",\"不一致\"))","v":""},null,null,{"$f":"IF('名刺管理（Eight）'!A259=\"\",\"\",'名刺管理（Eight）'!A259)","v":""},{"$f":"IF('名刺管理（Eight）'!B259=\"\",\"\",'名刺管理（Eight）'!B259)","v":""},{"$f":"IF('名刺管理（Eight）'!C259=\"\",\"\",'名刺管理（Eight）'!C259)","v":""},{"$f":"IF('名刺管理（Eight）'!E259=\"\",\"\",'名刺管理（Eight）'!E259)","v":""},{"$f":"IF('名刺管理（Eight）'!F259=\"\",\"\",'名刺管理（Eight）'!F259)","v":""},{"$f":"IF('名刺管理（Eight）'!G259=\"\",\"\",IF(LEFT('名刺管理（Eight）'!G259,3)=\"神奈川\",LEFT('名刺管理（Eight）'!G259,4),IF(LEFT('名刺管理（Eight）'!G259,3)=\"和歌山\",LEFT('名刺管理（Eight）'!G259,4),IF(LEFT('名刺管理（Eight）'!G259,3)=\"鹿児島\",LEFT('名刺管理（Eight）'!G259,4),LEFT('名刺管理（Eight）'!G259,3)))))","v":""},{"$f":"IF(K261=\"\",\"\",IF(LEN(K261)=3,MID('名刺管理（Eight）'!G259,4,50),MID('名刺管理（Eight）'!G259,5,50)))","v":""},{"$f":"IF('名刺管理（Eight）'!H259=\"\",\"\",'名刺管理（Eight）'!H259)","v":""},{"$f":"IF('名刺管理（Eight）'!K259=\"\",\"\",'名刺管理（Eight）'!K259)","v":""},{"$f":"IF('名刺管理（Eight）'!L259=\"\",\"\",'名刺管理（Eight）'!L259)","v":""},{"$f":"IF('名刺管理（Eight）'!M259=\"\",\"\",'名刺管理（Eight）'!M259)","v":""},{"$f":"IF('名刺管理（Eight）'!N259=\"\",\"\",TEXT('名刺管理（Eight）'!N259,\"yyyy/m/d\"))","v":""}]
[{"$f":"LEFT('名刺管理（Eight）'!D260,D262)","v":""},{"$f":"RIGHT('名刺管理（Eight）'!D260,E262)","v":""},{"$f":"IF('名刺管理（Eight）'!D260=\"\",\"\",IF(LEN('名刺管理（Eight）'!D260)=D262+E262,\"\",\"不一致\"))","v":""},null,null,{"$f":"IF('名刺管理（Eight）'!A260=\"\",\"\",'名刺管理（Eight）'!A260)","v":""},{"$f":"IF('名刺管理（Eight）'!B260=\"\",\"\",'名刺管理（Eight）'!B260)","v":""},{"$f":"IF('名刺管理（Eight）'!C260=\"\",\"\",'名刺管理（Eight）'!C260)","v":""},{"$f":"IF('名刺管理（Eight）'!E260=\"\",\"\",'名刺管理（Eight）'!E260)","v":""},{"$f":"IF('名刺管理（Eight）'!F260=\"\",\"\",'名刺管理（Eight）'!F260)","v":""},{"$f":"IF('名刺管理（Eight）'!G260=\"\",\"\",IF(LEFT('名刺管理（Eight）'!G260,3)=\"神奈川\",LEFT('名刺管理（Eight）'!G260,4),IF(LEFT('名刺管理（Eight）'!G260,3)=\"和歌山\",LEFT('名刺管理（Eight）'!G260,4),IF(LEFT('名刺管理（Eight）'!G260,3)=\"鹿児島\",LEFT('名刺管理（Eight）'!G260,4),LEFT('名刺管理（Eight）'!G260,3)))))","v":""},{"$f":"IF(K262=\"\",\"\",IF(LEN(K262)=3,MID('名刺管理（Eight）'!G260,4,50),MID('名刺管理（Eight）'!G260,5,50)))","v":""},{"$f":"IF('名刺管理（Eight）'!H260=\"\",\"\",'名刺管理（Eight）'!H260)","v":""},{"$f":"IF('名刺管理（Eight）'!K260=\"\",\"\",'名刺管理（Eight）'!K260)","v":""},{"$f":"IF('名刺管理（Eight）'!L260=\"\",\"\",'名刺管理（Eight）'!L260)","v":""},{"$f":"IF('名刺管理（Eight）'!M260=\"\",\"\",'名刺管理（Eight）'!M260)","v":""},{"$f":"IF('名刺管理（Eight）'!N260=\"\",\"\",TEXT('名刺管理（Eight）'!N260,\"yyyy/m/d\"))","v":""}]
[{"$f":"LEFT('名刺管理（Eight）'!D261,D263)","v":""},{"$f":"RIGHT('名刺管理（Eight）'!D261,E263)","v":""},{"$f":"IF('名刺管理（Eight）'!D261=\"\",\"\",IF(LEN('名刺管理（Eight）'!D261)=D263+E263,\"\",\"不一致\"))","v":""},null,null,{"$f":"IF('名刺管理（Eight）'!A261=\"\",\"\",'名刺管理（Eight）'!A261)","v":""},{"$f":"IF('名刺管理（Eight）'!B261=\"\",\"\",'名刺管理（Eight）'!B261)","v":""},{"$f":"IF('名刺管理（Eight）'!C261=\"\",\"\",'名刺管理（Eight）'!C261)","v":""},{"$f":"IF('名刺管理（Eight）'!E261=\"\",\"\",'名刺管理（Eight）'!E261)","v":""},{"$f":"IF('名刺管理（Eight）'!F261=\"\",\"\",'名刺管理（Eight）'!F261)","v":""},{"$f":"IF('名刺管理（Eight）'!G261=\"\",\"\",IF(LEFT('名刺管理（Eight）'!G261,3)=\"神奈川\",LEFT('名刺管理（Eight）'!G261,4),IF(LEFT('名刺管理（Eight）'!G261,3)=\"和歌山\",LEFT('名刺管理（Eight）'!G261,4),IF(LEFT('名刺管理（Eight）'!G261,3)=\"鹿児島\",LEFT('名刺管理（Eight）'!G261,4),LEFT('名刺管理（Eight）'!G261,3)))))","v":""},{"$f":"IF(K263=\"\",\"\",IF(LEN(K263)=3,MID('名刺管理（Eight）'!G261,4,50),MID('名刺管理（Eight）'!G261,5,50)))","v":""},{"$f":"IF('名刺管理（Eight）'!H261=\"\",\"\",'名刺管理（Eight）'!H261)","v":""},{"$f":"IF('名刺管理（Eight）'!K261=\"\",\"\",'名刺管理（Eight）'!K261)","v":""},{"$f":"IF('名刺管理（Eight）'!L261=\"\",\"\",'名刺管理（Eight）'!L261)","v":""},{"$f":"IF('名刺管理（Eight）'!M261=\"\",\"\",'名刺管理（Eight）'!M261)","v":""},{"$f":"IF('名刺管理（Eight）'!N261=\"\",\"\",TEXT('名刺管理（Eight）'!N261,\"yyyy/m/d\"))","v":""}]
[{"$f":"LEFT('名刺管理（Eight）'!D262,D264)","v":""},{"$f":"RIGHT('名刺管理（Eight）'!D262,E264)","v":""},{"$f":"IF('名刺管理（Eight）'!D262=\"\",\"\",IF(LEN('名刺管理（Eight）'!D262)=D264+E264,\"\",\"不一致\"))","v":""},null,null,{"$f":"IF('名刺管理（Eight）'!A262=\"\",\"\",'名刺管理（Eight）'!A262)","v":""},{"$f":"IF('名刺管理（Eight）'!B262=\"\",\"\",'名刺管理（Eight）'!B262)","v":""},{"$f":"IF('名刺管理（Eight）'!C262=\"\",\"\",'名刺管理（Eight）'!C262)","v":""},{"$f":"IF('名刺管理（Eight）'!E262=\"\",\"\",'名刺管理（Eight）'!E262)","v":""},{"$f":"IF('名刺管理（Eight）'!F262=\"\",\"\",'名刺管理（Eight）'!F262)","v":""},{"$f":"IF('名刺管理（Eight）'!G262=\"\",\"\",IF(LEFT('名刺管理（Eight）'!G262,3)=\"神奈川\",LEFT('名刺管理（Eight）'!G262,4),IF(LEFT('名刺管理（Eight）'!G262,3)=\"和歌山\",LEFT('名刺管理（Eight）'!G262,4),IF(LEFT('名刺管理（Eight）'!G262,3)=\"鹿児島\",LEFT('名刺管理（Eight）'!G262,4),LEFT('名刺管理（Eight）'!G262,3)))))","v":""},{"$f":"IF(K264=\"\",\"\",IF(LEN(K264)=3,MID('名刺管理（Eight）'!G262,4,50),MID('名刺管理（Eight）'!G262,5,50)))","v":""},{"$f":"IF('名刺管理（Eight）'!H262=\"\",\"\",'名刺管理（Eight）'!H262)","v":""},{"$f":"IF('名刺管理（Eight）'!K262=\"\",\"\",'名刺管理（Eight）'!K262)","v":""},{"$f":"IF('名刺管理（Eight）'!L262=\"\",\"\",'名刺管理（Eight）'!L262)","v":""},{"$f":"IF('名刺管理（Eight）'!M262=\"\",\"\",'名刺管理（Eight）'!M262)","v":""},{"$f":"IF('名刺管理（Eight）'!N262=\"\",\"\",TEXT('名刺管理（Eight）'!N262,\"yyyy/m/d\"))","v":""}]
[{"$f":"LEFT('名刺管理（Eight）'!D263,D265)","v":""},{"$f":"RIGHT('名刺管理（Eight）'!D263,E265)","v":""},{"$f":"IF('名刺管理（Eight）'!D263=\"\",\"\",IF(LEN('名刺管理（Eight）'!D263)=D265+E265,\"\",\"不一致\"))","v":""},null,null,{"$f":"IF('名刺管理（Eight）'!A263=\"\",\"\",'名刺管理（Eight）'!A263)","v":""},{"$f":"IF('名刺管理（Eight）'!B263=\"\",\"\",'名刺管理（Eight）'!B263)","v":""},{"$f":"IF('名刺管理（Eight）'!C263=\"\",\"\",'名刺管理（Eight）'!C263)","v":""},{"$f":"IF('名刺管理（Eight）'!E263=\"\",\"\",'名刺管理（Eight）'!E263)","v":""},{"$f":"IF('名刺管理（Eight）'!F263=\"\",\"\",'名刺管理（Eight）'!F263)","v":""},{"$f":"IF('名刺管理（Eight）'!G263=\"\",\"\",IF(LEFT('名刺管理（Eight）'!G263,3)=\"神奈川\",LEFT('名刺管理（Eight）'!G263,4),IF(LEFT('名刺管理（Eight）'!G263,3)=\"和歌山\",LEFT('名刺管理（Eight）'!G263,4),IF(LEFT('名刺管理（Eight）'!G263,3)=\"鹿児島\",LEFT('名刺管理（Eight）'!G263,4),LEFT('名刺管理（Eight）'!G263,3)))))","v":""},{"$f":"IF(K265=\"\",\"\",IF(LEN(K265)=3,MID('名刺管理（Eight）'!G263,4,50),MID('名刺管理（Eight）'!G263,5,50)))","v":""},{"$f":"IF('名刺管理（Eight）'!H263=\"\",\"\",'名刺管理（Eight）'!H263)","v":""},{"$f":"IF('名刺管理（Eight）'!K263=\"\",\"\",'名刺管理（Eight）'!K263)","v":""},{"$f":"IF('名刺管理（Eight）'!L263=\"\",\"\",'名刺管理（Eight）'!L263)","v":""},{"$f":"IF('名刺管理（Eight）'!M263=\"\",\"\",'名刺管理（Eight）'!M263)","v":""},{"$f":"IF('名刺管理（Eight）'!N263=\"\",\"\",TEXT('名刺管理（Eight）'!N263,\"yyyy/m/d\"))","v":""}]
[{"$f":"LEFT('名刺管理（Eight）'!D264,D266)","v":""},{"$f":"RIGHT('名刺管理（Eight）'!D264,E266)","v":""},{"$f":"IF('名刺管理（Eight）'!D264=\"\",\"\",IF(LEN('名刺管理（Eight）'!D264)=D266+E266,\"\",\"不一致\"))","v":""},null,null,{"$f":"IF('名刺管理（Eight）'!A264=\"\",\"\",'名刺管理（Eight）'!A264)","v":""},{"$f":"IF('名刺管理（Eight）'!B264=\"\",\"\",'名刺管理（Eight）'!B264)","v":""},{"$f":"IF('名刺管理（Eight）'!C264=\"\",\"\",'名刺管理（Eight）'!C264)","v":""},{"$f":"IF('名刺管理（Eight）'!E264=\"\",\"\",'名刺管理（Eight）'!E264)","v":""},{"$f":"IF('名刺管理（Eight）'!F264=\"\",\"\",'名刺管理（Eight）'!F264)","v":""},{"$f":"IF('名刺管理（Eight）'!G264=\"\",\"\",IF(LEFT('名刺管理（Eight）'!G264,3)=\"神奈川\",LEFT('名刺管理（Eight）'!G264,4),IF(LEFT('名刺管理（Eight）'!G264,3)=\"和歌山\",LEFT('名刺管理（Eight）'!G264,4),IF(LEFT('名刺管理（Eight）'!G264,3)=\"鹿児島\",LEFT('名刺管理（Eight）'!G264,4),LEFT('名刺管理（Eight）'!G264,3)))))","v":""},{"$f":"IF(K266=\"\",\"\",IF(LEN(K266)=3,MID('名刺管理（Eight）'!G264,4,50),MID('名刺管理（Eight）'!G264,5,50)))","v":""},{"$f":"IF('名刺管理（Eight）'!H264=\"\",\"\",'名刺管理（Eight）'!H264)","v":""},{"$f":"IF('名刺管理（Eight）'!K264=\"\",\"\",'名刺管理（Eight）'!K264)","v":""},{"$f":"IF('名刺管理（Eight）'!L264=\"\",\"\",'名刺管理（Eight）'!L264)","v":""},{"$f":"IF('名刺管理（Eight）'!M264=\"\",\"\",'名刺管理（Eight）'!M264)","v":""},{"$f":"IF('名刺管理（Eight）'!N264=\"\",\"\",TEXT('名刺管理（Eight）'!N264,\"yyyy/m/d\"))","v":""}]
[{"$f":"LEFT('名刺管理（Eight）'!D265,D267)","v":""},{"$f":"RIGHT('名刺管理（Eight）'!D265,E267)","v":""},{"$f":"IF('名刺管理（Eight）'!D265=\"\",\"\",IF(LEN('名刺管理（Eight）'!D265)=D267+E267,\"\",\"不一致\"))","v":""},null,null,{"$f":"IF('名刺管理（Eight）'!A265=\"\",\"\",'名刺管理（Eight）'!A265)","v":""},{"$f":"IF('名刺管理（Eight）'!B265=\"\",\"\",'名刺管理（Eight）'!B265)","v":""},{"$f":"IF('名刺管理（Eight）'!C265=\"\",\"\",'名刺管理（Eight）'!C265)","v":""},{"$f":"IF('名刺管理（Eight）'!E265=\"\",\"\",'名刺管理（Eight）'!E265)","v":""},{"$f":"IF('名刺管理（Eight）'!F265=\"\",\"\",'名刺管理（Eight）'!F265)","v":""},{"$f":"IF('名刺管理（Eight）'!G265=\"\",\"\",IF(LEFT('名刺管理（Eight）'!G265,3)=\"神奈川\",LEFT('名刺管理（Eight）'!G265,4),IF(LEFT('名刺管理（Eight）'!G265,3)=\"和歌山\",LEFT('名刺管理（Eight）'!G265,4),IF(LEFT('名刺管理（Eight）'!G265,3)=\"鹿児島\",LEFT('名刺管理（Eight）'!G265,4),LEFT('名刺管理（Eight）'!G265,3)))))","v":""},{"$f":"IF(K267=\"\",\"\",IF(LEN(K267)=3,MID('名刺管理（Eight）'!G265,4,50),MID('名刺管理（Eight）'!G265,5,50)))","v":""},{"$f":"IF('名刺管理（Eight）'!H265=\"\",\"\",'名刺管理（Eight）'!H265)","v":""},{"$f":"IF('名刺管理（Eight）'!K265=\"\",\"\",'名刺管理（Eight）'!K265)","v":""},{"$f":"IF('名刺管理（Eight）'!L265=\"\",\"\",'名刺管理（Eight）'!L265)","v":""},{"$f":"IF('名刺管理（Eight）'!M265=\"\",\"\",'名刺管理（Eight）'!M265)","v":""},{"$f":"IF('名刺管理（Eight）'!N265=\"\",\"\",TEXT('名刺管理（Eight）'!N265,\"yyyy/m/d\"))","v":""}]
[{"$f":"LEFT('名刺管理（Eight）'!D266,D268)","v":""},{"$f":"RIGHT('名刺管理（Eight）'!D266,E268)","v":""},{"$f":"IF('名刺管理（Eight）'!D266=\"\",\"\",IF(LEN('名刺管理（Eight）'!D266)=D268+E268,\"\",\"不一致\"))","v":""},null,null,{"$f":"IF('名刺管理（Eight）'!A266=\"\",\"\",'名刺管理（Eight）'!A266)","v":""},{"$f":"IF('名刺管理（Eight）'!B266=\"\",\"\",'名刺管理（Eight）'!B266)","v":""},{"$f":"IF('名刺管理（Eight）'!C266=\"\",\"\",'名刺管理（Eight）'!C266)","v":""},{"$f":"IF('名刺管理（Eight）'!E266=\"\",\"\",'名刺管理（Eight）'!E266)","v":""},{"$f":"IF('名刺管理（Eight）'!F266=\"\",\"\",'名刺管理（Eight）'!F266)","v":""},{"$f":"IF('名刺管理（Eight）'!G266=\"\",\"\",IF(LEFT('名刺管理（Eight）'!G266,3)=\"神奈川\",LEFT('名刺管理（Eight）'!G266,4),IF(LEFT('名刺管理（Eight）'!G266,3)=\"和歌山\",LEFT('名刺管理（Eight）'!G266,4),IF(LEFT('名刺管理（Eight）'!G266,3)=\"鹿児島\",LEFT('名刺管理（Eight）'!G266,4),LEFT('名刺管理（Eight）'!G266,3)))))","v":""},{"$f":"IF(K268=\"\",\"\",IF(LEN(K268)=3,MID('名刺管理（Eight）'!G266,4,50),MID('名刺管理（Eight）'!G266,5,50)))","v":""},{"$f":"IF('名刺管理（Eight）'!H266=\"\",\"\",'名刺管理（Eight）'!H266)","v":""},{"$f":"IF('名刺管理（Eight）'!K266=\"\",\"\",'名刺管理（Eight）'!K266)","v":""},{"$f":"IF('名刺管理（Eight）'!L266=\"\",\"\",'名刺管理（Eight）'!L266)","v":""},{"$f":"IF('名刺管理（Eight）'!M266=\"\",\"\",'名刺管理（Eight）'!M266)","v":""},{"$f":"IF('名刺管理（Eight）'!N266=\"\",\"\",TEXT('名刺管理（Eight）'!N266,\"yyyy/m/d\"))","v":""}]
[{"$f":"LEFT('名刺管理（Eight）'!D267,D269)","v":""},{"$f":"RIGHT('名刺管理（Eight）'!D267,E269)","v":""},{"$f":"IF('名刺管理（Eight）'!D267=\"\",\"\",IF(LEN('名刺管理（Eight）'!D267)=D269+E269,\"\",\"不一致\"))","v":""},null,null,{"$f":"IF('名刺管理（Eight）'!A267=\"\",\"\",'名刺管理（Eight）'!A267)","v":""},{"$f":"IF('名刺管理（Eight）'!B267=\"\",\"\",'名刺管理（Eight）'!B267)","v":""},{"$f":"IF('名刺管理（Eight）'!C267=\"\",\"\",'名刺管理（Eight）'!C267)","v":""},{"$f":"IF('名刺管理（Eight）'!E267=\"\",\"\",'名刺管理（Eight）'!E267)","v":""},{"$f":"IF('名刺管理（Eight）'!F267=\"\",\"\",'名刺管理（Eight）'!F267)","v":""},{"$f":"IF('名刺管理（Eight）'!G267=\"\",\"\",IF(LEFT('名刺管理（Eight）'!G267,3)=\"神奈川\",LEFT('名刺管理（Eight）'!G267,4),IF(LEFT('名刺管理（Eight）'!G267,3)=\"和歌山\",LEFT('名刺管理（Eight）'!G267,4),IF(LEFT('名刺管理（Eight）'!G267,3)=\"鹿児島\",LEFT('名刺管理（Eight）'!G267,4),LEFT('名刺管理（Eight）'!G267,3)))))","v":""},{"$f":"IF(K269=\"\",\"\",IF(LEN(K269)=3,MID('名刺管理（Eight）'!G267,4,50),MID('名刺管理（Eight）'!G267,5,50)))","v":""},{"$f":"IF('名刺管理（Eight）'!H267=\"\",\"\",'名刺管理（Eight）'!H267)","v":""},{"$f":"IF('名刺管理（Eight）'!K267=\"\",\"\",'名刺管理（Eight）'!K267)","v":""},{"$f":"IF('名刺管理（Eight）'!L267=\"\",\"\",'名刺管理（Eight）'!L267)","v":""},{"$f":"IF('名刺管理（Eight）'!M267=\"\",\"\",'名刺管理（Eight）'!M267)","v":""},{"$f":"IF('名刺管理（Eight）'!N267=\"\",\"\",TEXT('名刺管理（Eight）'!N267,\"yyyy/m/d\"))","v":""}]
[{"$f":"LEFT('名刺管理（Eight）'!D268,D270)","v":""},{"$f":"RIGHT('名刺管理（Eight）'!D268,E270)","v":""},{"$f":"IF('名刺管理（Eight）'!D268=\"\",\"\",IF(LEN('名刺管理（Eight）'!D268)=D270+E270,\"\",\"不一致\"))","v":""},null,null,{"$f":"IF('名刺管理（Eight）'!A268=\"\",\"\",'名刺管理（Eight）'!A268)","v":""},{"$f":"IF('名刺管理（Eight）'!B268=\"\",\"\",'名刺管理（Eight）'!B268)","v":""},{"$f":"IF('名刺管理（Eight）'!C268=\"\",\"\",'名刺管理（Eight）'!C268)","v":""},{"$f":"IF('名刺管理（Eight）'!E268=\"\",\"\",'名刺管理（Eight）'!E268)","v":""},{"$f":"IF('名刺管理（Eight）'!F268=\"\",\"\",'名刺管理（Eight）'!F268)","v":""},{"$f":"IF('名刺管理（Eight）'!G268=\"\",\"\",IF(LEFT('名刺管理（Eight）'!G268,3)=\"神奈川\",LEFT('名刺管理（Eight）'!G268,4),IF(LEFT('名刺管理（Eight）'!G268,3)=\"和歌山\",LEFT('名刺管理（Eight）'!G268,4),IF(LEFT('名刺管理（Eight）'!G268,3)=\"鹿児島\",LEFT('名刺管理（Eight）'!G268,4),LEFT('名刺管理（Eight）'!G268,3)))))","v":""},{"$f":"IF(K270=\"\",\"\",IF(LEN(K270)=3,MID('名刺管理（Eight）'!G268,4,50),MID('名刺管理（Eight）'!G268,5,50)))","v":""},{"$f":"IF('名刺管理（Eight）'!H268=\"\",\"\",'名刺管理（Eight）'!H268)","v":""},{"$f":"IF('名刺管理（Eight）'!K268=\"\",\"\",'名刺管理（Eight）'!K268)","v":""},{"$f":"IF('名刺管理（Eight）'!L268=\"\",\"\",'名刺管理（Eight）'!L268)","v":""},{"$f":"IF('名刺管理（Eight）'!M268=\"\",\"\",'名刺管理（Eight）'!M268)","v":""},{"$f":"IF('名刺管理（Eight）'!N268=\"\",\"\",TEXT('名刺管理（Eight）'!N268,\"yyyy/m/d\"))","v":""}]
[{"$f":"LEFT('名刺管理（Eight）'!D269,D271)","v":""},{"$f":"RIGHT('名刺管理（Eight）'!D269,E271)","v":""},{"$f":"IF('名刺管理（Eight）'!D269=\"\",\"\",IF(LEN('名刺管理（Eight）'!D269)=D271+E271,\"\",\"不一致\"))","v":""},null,null,{"$f":"IF('名刺管理（Eight）'!A269=\"\",\"\",'名刺管理（Eight）'!A269)","v":""},{"$f":"IF('名刺管理（Eight）'!B269=\"\",\"\",'名刺管理（Eight）'!B269)","v":""},{"$f":"IF('名刺管理（Eight）'!C269=\"\",\"\",'名刺管理（Eight）'!C269)","v":""},{"$f":"IF('名刺管理（Eight）'!E269=\"\",\"\",'名刺管理（Eight）'!E269)","v":""},{"$f":"IF('名刺管理（Eight）'!F269=\"\",\"\",'名刺管理（Eight）'!F269)","v":""},{"$f":"IF('名刺管理（Eight）'!G269=\"\",\"\",IF(LEFT('名刺管理（Eight）'!G269,3)=\"神奈川\",LEFT('名刺管理（Eight）'!G269,4),IF(LEFT('名刺管理（Eight）'!G269,3)=\"和歌山\",LEFT('名刺管理（Eight）'!G269,4),IF(LEFT('名刺管理（Eight）'!G269,3)=\"鹿児島\",LEFT('名刺管理（Eight）'!G269,4),LEFT('名刺管理（Eight）'!G269,3)))))","v":""},{"$f":"IF(K271=\"\",\"\",IF(LEN(K271)=3,MID('名刺管理（Eight）'!G269,4,50),MID('名刺管理（Eight）'!G269,5,50)))","v":""},{"$f":"IF('名刺管理（Eight）'!H269=\"\",\"\",'名刺管理（Eight）'!H269)","v":""},{"$f":"IF('名刺管理（Eight）'!K269=\"\",\"\",'名刺管理（Eight）'!K269)","v":""},{"$f":"IF('名刺管理（Eight）'!L269=\"\",\"\",'名刺管理（Eight）'!L269)","v":""},{"$f":"IF('名刺管理（Eight）'!M269=\"\",\"\",'名刺管理（Eight）'!M269)","v":""},{"$f":"IF('名刺管理（Eight）'!N269=\"\",\"\",TEXT('名刺管理（Eight）'!N269,\"yyyy/m/d\"))","v":""}]
[{"$f":"LEFT('名刺管理（Eight）'!D270,D272)","v":""},{"$f":"RIGHT('名刺管理（Eight）'!D270,E272)","v":""},{"$f":"IF('名刺管理（Eight）'!D270=\"\",\"\",IF(LEN('名刺管理（Eight）'!D270)=D272+E272,\"\",\"不一致\"))","v":""},null,null,{"$f":"IF('名刺管理（Eight）'!A270=\"\",\"\",'名刺管理（Eight）'!A270)","v":""},{"$f":"IF('名刺管理（Eight）'!B270=\"\",\"\",'名刺管理（Eight）'!B270)","v":""},{"$f":"IF('名刺管理（Eight）'!C270=\"\",\"\",'名刺管理（Eight）'!C270)","v":""},{"$f":"IF('名刺管理（Eight）'!E270=\"\",\"\",'名刺管理（Eight）'!E270)","v":""},{"$f":"IF('名刺管理（Eight）'!F270=\"\",\"\",'名刺管理（Eight）'!F270)","v":""},{"$f":"IF('名刺管理（Eight）'!G270=\"\",\"\",IF(LEFT('名刺管理（Eight）'!G270,3)=\"神奈川\",LEFT('名刺管理（Eight）'!G270,4),IF(LEFT('名刺管理（Eight）'!G270,3)=\"和歌山\",LEFT('名刺管理（Eight）'!G270,4),IF(LEFT('名刺管理（Eight）'!G270,3)=\"鹿児島\",LEFT('名刺管理（Eight）'!G270,4),LEFT('名刺管理（Eight）'!G270,3)))))","v":""},{"$f":"IF(K272=\"\",\"\",IF(LEN(K272)=3,MID('名刺管理（Eight）'!G270,4,50),MID('名刺管理（Eight）'!G270,5,50)))","v":""},{"$f":"IF('名刺管理（Eight）'!H270=\"\",\"\",'名刺管理（Eight）'!H270)","v":""},{"$f":"IF('名刺管理（Eight）'!K270=\"\",\"\",'名刺管理（Eight）'!K270)","v":""},{"$f":"IF('名刺管理（Eight）'!L270=\"\",\"\",'名刺管理（Eight）'!L270)","v":""},{"$f":"IF('名刺管理（Eight）'!M270=\"\",\"\",'名刺管理（Eight）'!M270)","v":""},{"$f":"IF('名刺管理（Eight）'!N270=\"\",\"\",TEXT('名刺管理（Eight）'!N270,\"yyyy/m/d\"))","v":""}]
[{"$f":"LEFT('名刺管理（Eight）'!D271,D273)","v":""},{"$f":"RIGHT('名刺管理（Eight）'!D271,E273)","v":""},{"$f":"IF('名刺管理（Eight）'!D271=\"\",\"\",IF(LEN('名刺管理（Eight）'!D271)=D273+E273,\"\",\"不一致\"))","v":""},null,null,{"$f":"IF('名刺管理（Eight）'!A271=\"\",\"\",'名刺管理（Eight）'!A271)","v":""},{"$f":"IF('名刺管理（Eight）'!B271=\"\",\"\",'名刺管理（Eight）'!B271)","v":""},{"$f":"IF('名刺管理（Eight）'!C271=\"\",\"\",'名刺管理（Eight）'!C271)","v":""},{"$f":"IF('名刺管理（Eight）'!E271=\"\",\"\",'名刺管理（Eight）'!E271)","v":""},{"$f":"IF('名刺管理（Eight）'!F271=\"\",\"\",'名刺管理（Eight）'!F271)","v":""},{"$f":"IF('名刺管理（Eight）'!G271=\"\",\"\",IF(LEFT('名刺管理（Eight）'!G271,3)=\"神奈川\",LEFT('名刺管理（Eight）'!G271,4),IF(LEFT('名刺管理（Eight）'!G271,3)=\"和歌山\",LEFT('名刺管理（Eight）'!G271,4),IF(LEFT('名刺管理（Eight）'!G271,3)=\"鹿児島\",LEFT('名刺管理（Eight）'!G271,4),LEFT('名刺管理（Eight）'!G271,3)))))","v":""},{"$f":"IF(K273=\"\",\"\",IF(LEN(K273)=3,MID('名刺管理（Eight）'!G271,4,50),MID('名刺管理（Eight）'!G271,5,50)))","v":""},{"$f":"IF('名刺管理（Eight）'!H271=\"\",\"\",'名刺管理（Eight）'!H271)","v":""},{"$f":"IF('名刺管理（Eight）'!K271=\"\",\"\",'名刺管理（Eight）'!K271)","v":""},{"$f":"IF('名刺管理（Eight）'!L271=\"\",\"\",'名刺管理（Eight）'!L271)","v":""},{"$f":"IF('名刺管理（Eight）'!M271=\"\",\"\",'名刺管理（Eight）'!M271)","v":""},{"$f":"IF('名刺管理（Eight）'!N271=\"\",\"\",TEXT('名刺管理（Eight）'!N271,\"yyyy/m/d\"))","v":""}]
[{"$f":"LEFT('名刺管理（Eight）'!D272,D274)","v":""},{"$f":"RIGHT('名刺管理（Eight）'!D272,E274)","v":""},{"$f":"IF('名刺管理（Eight）'!D272=\"\",\"\",IF(LEN('名刺管理（Eight）'!D272)=D274+E274,\"\",\"不一致\"))","v":""},null,null,{"$f":"IF('名刺管理（Eight）'!A272=\"\",\"\",'名刺管理（Eight）'!A272)","v":""},{"$f":"IF('名刺管理（Eight）'!B272=\"\",\"\",'名刺管理（Eight）'!B272)","v":""},{"$f":"IF('名刺管理（Eight）'!C272=\"\",\"\",'名刺管理（Eight）'!C272)","v":""},{"$f":"IF('名刺管理（Eight）'!E272=\"\",\"\",'名刺管理（Eight）'!E272)","v":""},{"$f":"IF('名刺管理（Eight）'!F272=\"\",\"\",'名刺管理（Eight）'!F272)","v":""},{"$f":"IF('名刺管理（Eight）'!G272=\"\",\"\",IF(LEFT('名刺管理（Eight）'!G272,3)=\"神奈川\",LEFT('名刺管理（Eight）'!G272,4),IF(LEFT('名刺管理（Eight）'!G272,3)=\"和歌山\",LEFT('名刺管理（Eight）'!G272,4),IF(LEFT('名刺管理（Eight）'!G272,3)=\"鹿児島\",LEFT('名刺管理（Eight）'!G272,4),LEFT('名刺管理（Eight）'!G272,3)))))","v":""},{"$f":"IF(K274=\"\",\"\",IF(LEN(K274)=3,MID('名刺管理（Eight）'!G272,4,50),MID('名刺管理（Eight）'!G272,5,50)))","v":""},{"$f":"IF('名刺管理（Eight）'!H272=\"\",\"\",'名刺管理（Eight）'!H272)","v":""},{"$f":"IF('名刺管理（Eight）'!K272=\"\",\"\",'名刺管理（Eight）'!K272)","v":""},{"$f":"IF('名刺管理（Eight）'!L272=\"\",\"\",'名刺管理（Eight）'!L272)","v":""},{"$f":"IF('名刺管理（Eight）'!M272=\"\",\"\",'名刺管理（Eight）'!M272)","v":""},{"$f":"IF('名刺管理（Eight）'!N272=\"\",\"\",TEXT('名刺管理（Eight）'!N272,\"yyyy/m/d\"))","v":""}]
[{"$f":"LEFT('名刺管理（Eight）'!D273,D275)","v":""},{"$f":"RIGHT('名刺管理（Eight）'!D273,E275)","v":""},{"$f":"IF('名刺管理（Eight）'!D273=\"\",\"\",IF(LEN('名刺管理（Eight）'!D273)=D275+E275,\"\",\"不一致\"))","v":""},null,null,{"$f":"IF('名刺管理（Eight）'!A273=\"\",\"\",'名刺管理（Eight）'!A273)","v":""},{"$f":"IF('名刺管理（Eight）'!B273=\"\",\"\",'名刺管理（Eight）'!B273)","v":""},{"$f":"IF('名刺管理（Eight）'!C273=\"\",\"\",'名刺管理（Eight）'!C273)","v":""},{"$f":"IF('名刺管理（Eight）'!E273=\"\",\"\",'名刺管理（Eight）'!E273)","v":""},{"$f":"IF('名刺管理（Eight）'!F273=\"\",\"\",'名刺管理（Eight）'!F273)","v":""},{"$f":"IF('名刺管理（Eight）'!G273=\"\",\"\",IF(LEFT('名刺管理（Eight）'!G273,3)=\"神奈川\",LEFT('名刺管理（Eight）'!G273,4),IF(LEFT('名刺管理（Eight）'!G273,3)=\"和歌山\",LEFT('名刺管理（Eight）'!G273,4),IF(LEFT('名刺管理（Eight）'!G273,3)=\"鹿児島\",LEFT('名刺管理（Eight）'!G273,4),LEFT('名刺管理（Eight）'!G273,3)))))","v":""},{"$f":"IF(K275=\"\",\"\",IF(LEN(K275)=3,MID('名刺管理（Eight）'!G273,4,50),MID('名刺管理（Eight）'!G273,5,50)))","v":""},{"$f":"IF('名刺管理（Eight）'!H273=\"\",\"\",'名刺管理（Eight）'!H273)","v":""},{"$f":"IF('名刺管理（Eight）'!K273=\"\",\"\",'名刺管理（Eight）'!K273)","v":""},{"$f":"IF('名刺管理（Eight）'!L273=\"\",\"\",'名刺管理（Eight）'!L273)","v":""},{"$f":"IF('名刺管理（Eight）'!M273=\"\",\"\",'名刺管理（Eight）'!M273)","v":""},{"$f":"IF('名刺管理（Eight）'!N273=\"\",\"\",TEXT('名刺管理（Eight）'!N273,\"yyyy/m/d\"))","v":""}]
[{"$f":"LEFT('名刺管理（Eight）'!D274,D276)","v":""},{"$f":"RIGHT('名刺管理（Eight）'!D274,E276)","v":""},{"$f":"IF('名刺管理（Eight）'!D274=\"\",\"\",IF(LEN('名刺管理（Eight）'!D274)=D276+E276,\"\",\"不一致\"))","v":""},null,null,{"$f":"IF('名刺管理（Eight）'!A274=\"\",\"\",'名刺管理（Eight）'!A274)","v":""},{"$f":"IF('名刺管理（Eight）'!B274=\"\",\"\",'名刺管理（Eight）'!B274)","v":""},{"$f":"IF('名刺管理（Eight）'!C274=\"\",\"\",'名刺管理（Eight）'!C274)","v":""},{"$f":"IF('名刺管理（Eight）'!E274=\"\",\"\",'名刺管理（Eight）'!E274)","v":""},{"$f":"IF('名刺管理（Eight）'!F274=\"\",\"\",'名刺管理（Eight）'!F274)","v":""},{"$f":"IF('名刺管理（Eight）'!G274=\"\",\"\",IF(LEFT('名刺管理（Eight）'!G274,3)=\"神奈川\",LEFT('名刺管理（Eight）'!G274,4),IF(LEFT('名刺管理（Eight）'!G274,3)=\"和歌山\",LEFT('名刺管理（Eight）'!G274,4),IF(LEFT('名刺管理（Eight）'!G274,3)=\"鹿児島\",LEFT('名刺管理（Eight）'!G274,4),LEFT('名刺管理（Eight）'!G274,3)))))","v":""},{"$f":"IF(K276=\"\",\"\",IF(LEN(K276)=3,MID('名刺管理（Eight）'!G274,4,50),MID('名刺管理（Eight）'!G274,5,50)))","v":""},{"$f":"IF('名刺管理（Eight）'!H274=\"\",\"\",'名刺管理（Eight）'!H274)","v":""},{"$f":"IF('名刺管理（Eight）'!K274=\"\",\"\",'名刺管理（Eight）'!K274)","v":""},{"$f":"IF('名刺管理（Eight）'!L274=\"\",\"\",'名刺管理（Eight）'!L274)","v":""},{"$f":"IF('名刺管理（Eight）'!M274=\"\",\"\",'名刺管理（Eight）'!M274)","v":""},{"$f":"IF('名刺管理（Eight）'!N274=\"\",\"\",TEXT('名刺管理（Eight）'!N274,\"yyyy/m/d\"))","v":""}]
[{"$f":"LEFT('名刺管理（Eight）'!D275,D277)","v":""},{"$f":"RIGHT('名刺管理（Eight）'!D275,E277)","v":""},{"$f":"IF('名刺管理（Eight）'!D275=\"\",\"\",IF(LEN('名刺管理（Eight）'!D275)=D277+E277,\"\",\"不一致\"))","v":""},null,null,{"$f":"IF('名刺管理（Eight）'!A275=\"\",\"\",'名刺管理（Eight）'!A275)","v":""},{"$f":"IF('名刺管理（Eight）'!B275=\"\",\"\",'名刺管理（Eight）'!B275)","v":""},{"$f":"IF('名刺管理（Eight）'!C275=\"\",\"\",'名刺管理（Eight）'!C275)","v":""},{"$f":"IF('名刺管理（Eight）'!E275=\"\",\"\",'名刺管理（Eight）'!E275)","v":""},{"$f":"IF('名刺管理（Eight）'!F275=\"\",\"\",'名刺管理（Eight）'!F275)","v":""},{"$f":"IF('名刺管理（Eight）'!G275=\"\",\"\",IF(LEFT('名刺管理（Eight）'!G275,3)=\"神奈川\",LEFT('名刺管理（Eight）'!G275,4),IF(LEFT('名刺管理（Eight）'!G275,3)=\"和歌山\",LEFT('名刺管理（Eight）'!G275,4),IF(LEFT('名刺管理（Eight）'!G275,3)=\"鹿児島\",LEFT('名刺管理（Eight）'!G275,4),LEFT('名刺管理（Eight）'!G275,3)))))","v":""},{"$f":"IF(K277=\"\",\"\",IF(LEN(K277)=3,MID('名刺管理（Eight）'!G275,4,50),MID('名刺管理（Eight）'!G275,5,50)))","v":""},{"$f":"IF('名刺管理（Eight）'!H275=\"\",\"\",'名刺管理（Eight）'!H275)","v":""},{"$f":"IF('名刺管理（Eight）'!K275=\"\",\"\",'名刺管理（Eight）'!K275)","v":""},{"$f":"IF('名刺管理（Eight）'!L275=\"\",\"\",'名刺管理（Eight）'!L275)","v":""},{"$f":"IF('名刺管理（Eight）'!M275=\"\",\"\",'名刺管理（Eight）'!M275)","v":""},{"$f":"IF('名刺管理（Eight）'!N275=\"\",\"\",TEXT('名刺管理（Eight）'!N275,\"yyyy/m/d\"))","v":""}]
[{"$f":"LEFT('名刺管理（Eight）'!D276,D278)","v":""},{"$f":"RIGHT('名刺管理（Eight）'!D276,E278)","v":""},{"$f":"IF('名刺管理（Eight）'!D276=\"\",\"\",IF(LEN('名刺管理（Eight）'!D276)=D278+E278,\"\",\"不一致\"))","v":""},null,null,{"$f":"IF('名刺管理（Eight）'!A276=\"\",\"\",'名刺管理（Eight）'!A276)","v":""},{"$f":"IF('名刺管理（Eight）'!B276=\"\",\"\",'名刺管理（Eight）'!B276)","v":""},{"$f":"IF('名刺管理（Eight）'!C276=\"\",\"\",'名刺管理（Eight）'!C276)","v":""},{"$f":"IF('名刺管理（Eight）'!E276=\"\",\"\",'名刺管理（Eight）'!E276)","v":""},{"$f":"IF('名刺管理（Eight）'!F276=\"\",\"\",'名刺管理（Eight）'!F276)","v":""},{"$f":"IF('名刺管理（Eight）'!G276=\"\",\"\",IF(LEFT('名刺管理（Eight）'!G276,3)=\"神奈川\",LEFT('名刺管理（Eight）'!G276,4),IF(LEFT('名刺管理（Eight）'!G276,3)=\"和歌山\",LEFT('名刺管理（Eight）'!G276,4),IF(LEFT('名刺管理（Eight）'!G276,3)=\"鹿児島\",LEFT('名刺管理（Eight）'!G276,4),LEFT('名刺管理（Eight）'!G276,3)))))","v":""},{"$f":"IF(K278=\"\",\"\",IF(LEN(K278)=3,MID('名刺管理（Eight）'!G276,4,50),MID('名刺管理（Eight）'!G276,5,50)))","v":""},{"$f":"IF('名刺管理（Eight）'!H276=\"\",\"\",'名刺管理（Eight）'!H276)","v":""},{"$f":"IF('名刺管理（Eight）'!K276=\"\",\"\",'名刺管理（Eight）'!K276)","v":""},{"$f":"IF('名刺管理（Eight）'!L276=\"\",\"\",'名刺管理（Eight）'!L276)","v":""},{"$f":"IF('名刺管理（Eight）'!M276=\"\",\"\",'名刺管理（Eight）'!M276)","v":""},{"$f":"IF('名刺管理（Eight）'!N276=\"\",\"\",TEXT('名刺管理（Eight）'!N276,\"yyyy/m/d\"))","v":""}]
[{"$f":"LEFT('名刺管理（Eight）'!D277,D279)","v":""},{"$f":"RIGHT('名刺管理（Eight）'!D277,E279)","v":""},{"$f":"IF('名刺管理（Eight）'!D277=\"\",\"\",IF(LEN('名刺管理（Eight）'!D277)=D279+E279,\"\",\"不一致\"))","v":""},null,null,{"$f":"IF('名刺管理（Eight）'!A277=\"\",\"\",'名刺管理（Eight）'!A277)","v":""},{"$f":"IF('名刺管理（Eight）'!B277=\"\",\"\",'名刺管理（Eight）'!B277)","v":""},{"$f":"IF('名刺管理（Eight）'!C277=\"\",\"\",'名刺管理（Eight）'!C277)","v":""},{"$f":"IF('名刺管理（Eight）'!E277=\"\",\"\",'名刺管理（Eight）'!E277)","v":""},{"$f":"IF('名刺管理（Eight）'!F277=\"\",\"\",'名刺管理（Eight）'!F277)","v":""},{"$f":"IF('名刺管理（Eight）'!G277=\"\",\"\",IF(LEFT('名刺管理（Eight）'!G277,3)=\"神奈川\",LEFT('名刺管理（Eight）'!G277,4),IF(LEFT('名刺管理（Eight）'!G277,3)=\"和歌山\",LEFT('名刺管理（Eight）'!G277,4),IF(LEFT('名刺管理（Eight）'!G277,3)=\"鹿児島\",LEFT('名刺管理（Eight）'!G277,4),LEFT('名刺管理（Eight）'!G277,3)))))","v":""},{"$f":"IF(K279=\"\",\"\",IF(LEN(K279)=3,MID('名刺管理（Eight）'!G277,4,50),MID('名刺管理（Eight）'!G277,5,50)))","v":""},{"$f":"IF('名刺管理（Eight）'!H277=\"\",\"\",'名刺管理（Eight）'!H277)","v":""},{"$f":"IF('名刺管理（Eight）'!K277=\"\",\"\",'名刺管理（Eight）'!K277)","v":""},{"$f":"IF('名刺管理（Eight）'!L277=\"\",\"\",'名刺管理（Eight）'!L277)","v":""},{"$f":"IF('名刺管理（Eight）'!M277=\"\",\"\",'名刺管理（Eight）'!M277)","v":""},{"$f":"IF('名刺管理（Eight）'!N277=\"\",\"\",TEXT('名刺管理（Eight）'!N277,\"yyyy/m/d\"))","v":""}]
[{"$f":"LEFT('名刺管理（Eight）'!D278,D280)","v":""},{"$f":"RIGHT('名刺管理（Eight）'!D278,E280)","v":""},{"$f":"IF('名刺管理（Eight）'!D278=\"\",\"\",IF(LEN('名刺管理（Eight）'!D278)=D280+E280,\"\",\"不一致\"))","v":""},null,null,{"$f":"IF('名刺管理（Eight）'!A278=\"\",\"\",'名刺管理（Eight）'!A278)","v":""},{"$f":"IF('名刺管理（Eight）'!B278=\"\",\"\",'名刺管理（Eight）'!B278)","v":""},{"$f":"IF('名刺管理（Eight）'!C278=\"\",\"\",'名刺管理（Eight）'!C278)","v":""},{"$f":"IF('名刺管理（Eight）'!E278=\"\",\"\",'名刺管理（Eight）'!E278)","v":""},{"$f":"IF('名刺管理（Eight）'!F278=\"\",\"\",'名刺管理（Eight）'!F278)","v":""},{"$f":"IF('名刺管理（Eight）'!G278=\"\",\"\",IF(LEFT('名刺管理（Eight）'!G278,3)=\"神奈川\",LEFT('名刺管理（Eight）'!G278,4),IF(LEFT('名刺管理（Eight）'!G278,3)=\"和歌山\",LEFT('名刺管理（Eight）'!G278,4),IF(LEFT('名刺管理（Eight）'!G278,3)=\"鹿児島\",LEFT('名刺管理（Eight）'!G278,4),LEFT('名刺管理（Eight）'!G278,3)))))","v":""},{"$f":"IF(K280=\"\",\"\",IF(LEN(K280)=3,MID('名刺管理（Eight）'!G278,4,50),MID('名刺管理（Eight）'!G278,5,50)))","v":""},{"$f":"IF('名刺管理（Eight）'!H278=\"\",\"\",'名刺管理（Eight）'!H278)","v":""},{"$f":"IF('名刺管理（Eight）'!K278=\"\",\"\",'名刺管理（Eight）'!K278)","v":""},{"$f":"IF('名刺管理（Eight）'!L278=\"\",\"\",'名刺管理（Eight）'!L278)","v":""},{"$f":"IF('名刺管理（Eight）'!M278=\"\",\"\",'名刺管理（Eight）'!M278)","v":""},{"$f":"IF('名刺管理（Eight）'!N278=\"\",\"\",TEXT('名刺管理（Eight）'!N278,\"yyyy/m/d\"))","v":""}]
[{"$f":"LEFT('名刺管理（Eight）'!D279,D281)","v":""},{"$f":"RIGHT('名刺管理（Eight）'!D279,E281)","v":""},{"$f":"IF('名刺管理（Eight）'!D279=\"\",\"\",IF(LEN('名刺管理（Eight）'!D279)=D281+E281,\"\",\"不一致\"))","v":""},null,null,{"$f":"IF('名刺管理（Eight）'!A279=\"\",\"\",'名刺管理（Eight）'!A279)","v":""},{"$f":"IF('名刺管理（Eight）'!B279=\"\",\"\",'名刺管理（Eight）'!B279)","v":""},{"$f":"IF('名刺管理（Eight）'!C279=\"\",\"\",'名刺管理（Eight）'!C279)","v":""},{"$f":"IF('名刺管理（Eight）'!E279=\"\",\"\",'名刺管理（Eight）'!E279)","v":""},{"$f":"IF('名刺管理（Eight）'!F279=\"\",\"\",'名刺管理（Eight）'!F279)","v":""},{"$f":"IF('名刺管理（Eight）'!G279=\"\",\"\",IF(LEFT('名刺管理（Eight）'!G279,3)=\"神奈川\",LEFT('名刺管理（Eight）'!G279,4),IF(LEFT('名刺管理（Eight）'!G279,3)=\"和歌山\",LEFT('名刺管理（Eight）'!G279,4),IF(LEFT('名刺管理（Eight）'!G279,3)=\"鹿児島\",LEFT('名刺管理（Eight）'!G279,4),LEFT('名刺管理（Eight）'!G279,3)))))","v":""},{"$f":"IF(K281=\"\",\"\",IF(LEN(K281)=3,MID('名刺管理（Eight）'!G279,4,50),MID('名刺管理（Eight）'!G279,5,50)))","v":""},{"$f":"IF('名刺管理（Eight）'!H279=\"\",\"\",'名刺管理（Eight）'!H279)","v":""},{"$f":"IF('名刺管理（Eight）'!K279=\"\",\"\",'名刺管理（Eight）'!K279)","v":""},{"$f":"IF('名刺管理（Eight）'!L279=\"\",\"\",'名刺管理（Eight）'!L279)","v":""},{"$f":"IF('名刺管理（Eight）'!M279=\"\",\"\",'名刺管理（Eight）'!M279)","v":""},{"$f":"IF('名刺管理（Eight）'!N279=\"\",\"\",TEXT('名刺管理（Eight）'!N279,\"yyyy/m/d\"))","v":""}]
[{"$f":"LEFT('名刺管理（Eight）'!D280,D282)","v":""},{"$f":"RIGHT('名刺管理（Eight）'!D280,E282)","v":""},{"$f":"IF('名刺管理（Eight）'!D280=\"\",\"\",IF(LEN('名刺管理（Eight）'!D280)=D282+E282,\"\",\"不一致\"))","v":""},null,null,{"$f":"IF('名刺管理（Eight）'!A280=\"\",\"\",'名刺管理（Eight）'!A280)","v":""},{"$f":"IF('名刺管理（Eight）'!B280=\"\",\"\",'名刺管理（Eight）'!B280)","v":""},{"$f":"IF('名刺管理（Eight）'!C280=\"\",\"\",'名刺管理（Eight）'!C280)","v":""},{"$f":"IF('名刺管理（Eight）'!E280=\"\",\"\",'名刺管理（Eight）'!E280)","v":""},{"$f":"IF('名刺管理（Eight）'!F280=\"\",\"\",'名刺管理（Eight）'!F280)","v":""},{"$f":"IF('名刺管理（Eight）'!G280=\"\",\"\",IF(LEFT('名刺管理（Eight）'!G280,3)=\"神奈川\",LEFT('名刺管理（Eight）'!G280,4),IF(LEFT('名刺管理（Eight）'!G280,3)=\"和歌山\",LEFT('名刺管理（Eight）'!G280,4),IF(LEFT('名刺管理（Eight）'!G280,3)=\"鹿児島\",LEFT('名刺管理（Eight）'!G280,4),LEFT('名刺管理（Eight）'!G280,3)))))","v":""},{"$f":"IF(K282=\"\",\"\",IF(LEN(K282)=3,MID('名刺管理（Eight）'!G280,4,50),MID('名刺管理（Eight）'!G280,5,50)))","v":""},{"$f":"IF('名刺管理（Eight）'!H280=\"\",\"\",'名刺管理（Eight）'!H280)","v":""},{"$f":"IF('名刺管理（Eight）'!K280=\"\",\"\",'名刺管理（Eight）'!K280)","v":""},{"$f":"IF('名刺管理（Eight）'!L280=\"\",\"\",'名刺管理（Eight）'!L280)","v":""},{"$f":"IF('名刺管理（Eight）'!M280=\"\",\"\",'名刺管理（Eight）'!M280)","v":""},{"$f":"IF('名刺管理（Eight）'!N280=\"\",\"\",TEXT('名刺管理（Eight）'!N280,\"yyyy/m/d\"))","v":""}]
[{"$f":"LEFT('名刺管理（Eight）'!D281,D283)","v":""},{"$f":"RIGHT('名刺管理（Eight）'!D281,E283)","v":""},{"$f":"IF('名刺管理（Eight）'!D281=\"\",\"\",IF(LEN('名刺管理（Eight）'!D281)=D283+E283,\"\",\"不一致\"))","v":""},null,null,{"$f":"IF('名刺管理（Eight）'!A281=\"\",\"\",'名刺管理（Eight）'!A281)","v":""},{"$f":"IF('名刺管理（Eight）'!B281=\"\",\"\",'名刺管理（Eight）'!B281)","v":""},{"$f":"IF('名刺管理（Eight）'!C281=\"\",\"\",'名刺管理（Eight）'!C281)","v":""},{"$f":"IF('名刺管理（Eight）'!E281=\"\",\"\",'名刺管理（Eight）'!E281)","v":""},{"$f":"IF('名刺管理（Eight）'!F281=\"\",\"\",'名刺管理（Eight）'!F281)","v":""},{"$f":"IF('名刺管理（Eight）'!G281=\"\",\"\",IF(LEFT('名刺管理（Eight）'!G281,3)=\"神奈川\",LEFT('名刺管理（Eight）'!G281,4),IF(LEFT('名刺管理（Eight）'!G281,3)=\"和歌山\",LEFT('名刺管理（Eight）'!G281,4),IF(LEFT('名刺管理（Eight）'!G281,3)=\"鹿児島\",LEFT('名刺管理（Eight）'!G281,4),LEFT('名刺管理（Eight）'!G281,3)))))","v":""},{"$f":"IF(K283=\"\",\"\",IF(LEN(K283)=3,MID('名刺管理（Eight）'!G281,4,50),MID('名刺管理（Eight）'!G281,5,50)))","v":""},{"$f":"IF('名刺管理（Eight）'!H281=\"\",\"\",'名刺管理（Eight）'!H281)","v":""},{"$f":"IF('名刺管理（Eight）'!K281=\"\",\"\",'名刺管理（Eight）'!K281)","v":""},{"$f":"IF('名刺管理（Eight）'!L281=\"\",\"\",'名刺管理（Eight）'!L281)","v":""},{"$f":"IF('名刺管理（Eight）'!M281=\"\",\"\",'名刺管理（Eight）'!M281)","v":""},{"$f":"IF('名刺管理（Eight）'!N281=\"\",\"\",TEXT('名刺管理（Eight）'!N281,\"yyyy/m/d\"))","v":""}]
[{"$f":"LEFT('名刺管理（Eight）'!D282,D284)","v":""},{"$f":"RIGHT('名刺管理（Eight）'!D282,E284)","v":""},{"$f":"IF('名刺管理（Eight）'!D282=\"\",\"\",IF(LEN('名刺管理（Eight）'!D282)=D284+E284,\"\",\"不一致\"))","v":""},null,null,{"$f":"IF('名刺管理（Eight）'!A282=\"\",\"\",'名刺管理（Eight）'!A282)","v":""},{"$f":"IF('名刺管理（Eight）'!B282=\"\",\"\",'名刺管理（Eight）'!B282)","v":""},{"$f":"IF('名刺管理（Eight）'!C282=\"\",\"\",'名刺管理（Eight）'!C282)","v":""},{"$f":"IF('名刺管理（Eight）'!E282=\"\",\"\",'名刺管理（Eight）'!E282)","v":""},{"$f":"IF('名刺管理（Eight）'!F282=\"\",\"\",'名刺管理（Eight）'!F282)","v":""},{"$f":"IF('名刺管理（Eight）'!G282=\"\",\"\",IF(LEFT('名刺管理（Eight）'!G282,3)=\"神奈川\",LEFT('名刺管理（Eight）'!G282,4),IF(LEFT('名刺管理（Eight）'!G282,3)=\"和歌山\",LEFT('名刺管理（Eight）'!G282,4),IF(LEFT('名刺管理（Eight）'!G282,3)=\"鹿児島\",LEFT('名刺管理（Eight）'!G282,4),LEFT('名刺管理（Eight）'!G282,3)))))","v":""},{"$f":"IF(K284=\"\",\"\",IF(LEN(K284)=3,MID('名刺管理（Eight）'!G282,4,50),MID('名刺管理（Eight）'!G282,5,50)))","v":""},{"$f":"IF('名刺管理（Eight）'!H282=\"\",\"\",'名刺管理（Eight）'!H282)","v":""},{"$f":"IF('名刺管理（Eight）'!K282=\"\",\"\",'名刺管理（Eight）'!K282)","v":""},{"$f":"IF('名刺管理（Eight）'!L282=\"\",\"\",'名刺管理（Eight）'!L282)","v":""},{"$f":"IF('名刺管理（Eight）'!M282=\"\",\"\",'名刺管理（Eight）'!M282)","v":""},{"$f":"IF('名刺管理（Eight）'!N282=\"\",\"\",TEXT('名刺管理（Eight）'!N282,\"yyyy/m/d\"))","v":""}]
[{"$f":"LEFT('名刺管理（Eight）'!D283,D285)","v":""},{"$f":"RIGHT('名刺管理（Eight）'!D283,E285)","v":""},{"$f":"IF('名刺管理（Eight）'!D283=\"\",\"\",IF(LEN('名刺管理（Eight）'!D283)=D285+E285,\"\",\"不一致\"))","v":""},null,null,{"$f":"IF('名刺管理（Eight）'!A283=\"\",\"\",'名刺管理（Eight）'!A283)","v":""},{"$f":"IF('名刺管理（Eight）'!B283=\"\",\"\",'名刺管理（Eight）'!B283)","v":""},{"$f":"IF('名刺管理（Eight）'!C283=\"\",\"\",'名刺管理（Eight）'!C283)","v":""},{"$f":"IF('名刺管理（Eight）'!E283=\"\",\"\",'名刺管理（Eight）'!E283)","v":""},{"$f":"IF('名刺管理（Eight）'!F283=\"\",\"\",'名刺管理（Eight）'!F283)","v":""},{"$f":"IF('名刺管理（Eight）'!G283=\"\",\"\",IF(LEFT('名刺管理（Eight）'!G283,3)=\"神奈川\",LEFT('名刺管理（Eight）'!G283,4),IF(LEFT('名刺管理（Eight）'!G283,3)=\"和歌山\",LEFT('名刺管理（Eight）'!G283,4),IF(LEFT('名刺管理（Eight）'!G283,3)=\"鹿児島\",LEFT('名刺管理（Eight）'!G283,4),LEFT('名刺管理（Eight）'!G283,3)))))","v":""},{"$f":"IF(K285=\"\",\"\",IF(LEN(K285)=3,MID('名刺管理（Eight）'!G283,4,50),MID('名刺管理（Eight）'!G283,5,50)))","v":""},{"$f":"IF('名刺管理（Eight）'!H283=\"\",\"\",'名刺管理（Eight）'!H283)","v":""},{"$f":"IF('名刺管理（Eight）'!K283=\"\",\"\",'名刺管理（Eight）'!K283)","v":""},{"$f":"IF('名刺管理（Eight）'!L283=\"\",\"\",'名刺管理（Eight）'!L283)","v":""},{"$f":"IF('名刺管理（Eight）'!M283=\"\",\"\",'名刺管理（Eight）'!M283)","v":""},{"$f":"IF('名刺管理（Eight）'!N283=\"\",\"\",TEXT('名刺管理（Eight）'!N283,\"yyyy/m/d\"))","v":""}]
[{"$f":"LEFT('名刺管理（Eight）'!D284,D286)","v":""},{"$f":"RIGHT('名刺管理（Eight）'!D284,E286)","v":""},{"$f":"IF('名刺管理（Eight）'!D284=\"\",\"\",IF(LEN('名刺管理（Eight）'!D284)=D286+E286,\"\",\"不一致\"))","v":""},null,null,{"$f":"IF('名刺管理（Eight）'!A284=\"\",\"\",'名刺管理（Eight）'!A284)","v":""},{"$f":"IF('名刺管理（Eight）'!B284=\"\",\"\",'名刺管理（Eight）'!B284)","v":""},{"$f":"IF('名刺管理（Eight）'!C284=\"\",\"\",'名刺管理（Eight）'!C284)","v":""},{"$f":"IF('名刺管理（Eight）'!E284=\"\",\"\",'名刺管理（Eight）'!E284)","v":""},{"$f":"IF('名刺管理（Eight）'!F284=\"\",\"\",'名刺管理（Eight）'!F284)","v":""},{"$f":"IF('名刺管理（Eight）'!G284=\"\",\"\",IF(LEFT('名刺管理（Eight）'!G284,3)=\"神奈川\",LEFT('名刺管理（Eight）'!G284,4),IF(LEFT('名刺管理（Eight）'!G284,3)=\"和歌山\",LEFT('名刺管理（Eight）'!G284,4),IF(LEFT('名刺管理（Eight）'!G284,3)=\"鹿児島\",LEFT('名刺管理（Eight）'!G284,4),LEFT('名刺管理（Eight）'!G284,3)))))","v":""},{"$f":"IF(K286=\"\",\"\",IF(LEN(K286)=3,MID('名刺管理（Eight）'!G284,4,50),MID('名刺管理（Eight）'!G284,5,50)))","v":""},{"$f":"IF('名刺管理（Eight）'!H284=\"\",\"\",'名刺管理（Eight）'!H284)","v":""},{"$f":"IF('名刺管理（Eight）'!K284=\"\",\"\",'名刺管理（Eight）'!K284)","v":""},{"$f":"IF('名刺管理（Eight）'!L284=\"\",\"\",'名刺管理（Eight）'!L284)","v":""},{"$f":"IF('名刺管理（Eight）'!M284=\"\",\"\",'名刺管理（Eight）'!M284)","v":""},{"$f":"IF('名刺管理（Eight）'!N284=\"\",\"\",TEXT('名刺管理（Eight）'!N284,\"yyyy/m/d\"))","v":""}]
[{"$f":"LEFT('名刺管理（Eight）'!D285,D287)","v":""},{"$f":"RIGHT('名刺管理（Eight）'!D285,E287)","v":""},{"$f":"IF('名刺管理（Eight）'!D285=\"\",\"\",IF(LEN('名刺管理（Eight）'!D285)=D287+E287,\"\",\"不一致\"))","v":""},null,null,{"$f":"IF('名刺管理（Eight）'!A285=\"\",\"\",'名刺管理（Eight）'!A285)","v":""},{"$f":"IF('名刺管理（Eight）'!B285=\"\",\"\",'名刺管理（Eight）'!B285)","v":""},{"$f":"IF('名刺管理（Eight）'!C285=\"\",\"\",'名刺管理（Eight）'!C285)","v":""},{"$f":"IF('名刺管理（Eight）'!E285=\"\",\"\",'名刺管理（Eight）'!E285)","v":""},{"$f":"IF('名刺管理（Eight）'!F285=\"\",\"\",'名刺管理（Eight）'!F285)","v":""},{"$f":"IF('名刺管理（Eight）'!G285=\"\",\"\",IF(LEFT('名刺管理（Eight）'!G285,3)=\"神奈川\",LEFT('名刺管理（Eight）'!G285,4),IF(LEFT('名刺管理（Eight）'!G285,3)=\"和歌山\",LEFT('名刺管理（Eight）'!G285,4),IF(LEFT('名刺管理（Eight）'!G285,3)=\"鹿児島\",LEFT('名刺管理（Eight）'!G285,4),LEFT('名刺管理（Eight）'!G285,3)))))","v":""},{"$f":"IF(K287=\"\",\"\",IF(LEN(K287)=3,MID('名刺管理（Eight）'!G285,4,50),MID('名刺管理（Eight）'!G285,5,50)))","v":""},{"$f":"IF('名刺管理（Eight）'!H285=\"\",\"\",'名刺管理（Eight）'!H285)","v":""},{"$f":"IF('名刺管理（Eight）'!K285=\"\",\"\",'名刺管理（Eight）'!K285)","v":""},{"$f":"IF('名刺管理（Eight）'!L285=\"\",\"\",'名刺管理（Eight）'!L285)","v":""},{"$f":"IF('名刺管理（Eight）'!M285=\"\",\"\",'名刺管理（Eight）'!M285)","v":""},{"$f":"IF('名刺管理（Eight）'!N285=\"\",\"\",TEXT('名刺管理（Eight）'!N285,\"yyyy/m/d\"))","v":""}]
[{"$f":"LEFT('名刺管理（Eight）'!D286,D288)","v":""},{"$f":"RIGHT('名刺管理（Eight）'!D286,E288)","v":""},{"$f":"IF('名刺管理（Eight）'!D286=\"\",\"\",IF(LEN('名刺管理（Eight）'!D286)=D288+E288,\"\",\"不一致\"))","v":""},null,null,{"$f":"IF('名刺管理（Eight）'!A286=\"\",\"\",'名刺管理（Eight）'!A286)","v":""},{"$f":"IF('名刺管理（Eight）'!B286=\"\",\"\",'名刺管理（Eight）'!B286)","v":""},{"$f":"IF('名刺管理（Eight）'!C286=\"\",\"\",'名刺管理（Eight）'!C286)","v":""},{"$f":"IF('名刺管理（Eight）'!E286=\"\",\"\",'名刺管理（Eight）'!E286)","v":""},{"$f":"IF('名刺管理（Eight）'!F286=\"\",\"\",'名刺管理（Eight）'!F286)","v":""},{"$f":"IF('名刺管理（Eight）'!G286=\"\",\"\",IF(LEFT('名刺管理（Eight）'!G286,3)=\"神奈川\",LEFT('名刺管理（Eight）'!G286,4),IF(LEFT('名刺管理（Eight）'!G286,3)=\"和歌山\",LEFT('名刺管理（Eight）'!G286,4),IF(LEFT('名刺管理（Eight）'!G286,3)=\"鹿児島\",LEFT('名刺管理（Eight）'!G286,4),LEFT('名刺管理（Eight）'!G286,3)))))","v":""},{"$f":"IF(K288=\"\",\"\",IF(LEN(K288)=3,MID('名刺管理（Eight）'!G286,4,50),MID('名刺管理（Eight）'!G286,5,50)))","v":""},{"$f":"IF('名刺管理（Eight）'!H286=\"\",\"\",'名刺管理（Eight）'!H286)","v":""},{"$f":"IF('名刺管理（Eight）'!K286=\"\",\"\",'名刺管理（Eight）'!K286)","v":""},{"$f":"IF('名刺管理（Eight）'!L286=\"\",\"\",'名刺管理（Eight）'!L286)","v":""},{"$f":"IF('名刺管理（Eight）'!M286=\"\",\"\",'名刺管理（Eight）'!M286)","v":""},{"$f":"IF('名刺管理（Eight）'!N286=\"\",\"\",TEXT('名刺管理（Eight）'!N286,\"yyyy/m/d\"))","v":""}]
[{"$f":"LEFT('名刺管理（Eight）'!D287,D289)","v":""},{"$f":"RIGHT('名刺管理（Eight）'!D287,E289)","v":""},{"$f":"IF('名刺管理（Eight）'!D287=\"\",\"\",IF(LEN('名刺管理（Eight）'!D287)=D289+E289,\"\",\"不一致\"))","v":""},null,null,{"$f":"IF('名刺管理（Eight）'!A287=\"\",\"\",'名刺管理（Eight）'!A287)","v":""},{"$f":"IF('名刺管理（Eight）'!B287=\"\",\"\",'名刺管理（Eight）'!B287)","v":""},{"$f":"IF('名刺管理（Eight）'!C287=\"\",\"\",'名刺管理（Eight）'!C287)","v":""},{"$f":"IF('名刺管理（Eight）'!E287=\"\",\"\",'名刺管理（Eight）'!E287)","v":""},{"$f":"IF('名刺管理（Eight）'!F287=\"\",\"\",'名刺管理（Eight）'!F287)","v":""},{"$f":"IF('名刺管理（Eight）'!G287=\"\",\"\",IF(LEFT('名刺管理（Eight）'!G287,3)=\"神奈川\",LEFT('名刺管理（Eight）'!G287,4),IF(LEFT('名刺管理（Eight）'!G287,3)=\"和歌山\",LEFT('名刺管理（Eight）'!G287,4),IF(LEFT('名刺管理（Eight）'!G287,3)=\"鹿児島\",LEFT('名刺管理（Eight）'!G287,4),LEFT('名刺管理（Eight）'!G287,3)))))","v":""},{"$f":"IF(K289=\"\",\"\",IF(LEN(K289)=3,MID('名刺管理（Eight）'!G287,4,50),MID('名刺管理（Eight）'!G287,5,50)))","v":""},{"$f":"IF('名刺管理（Eight）'!H287=\"\",\"\",'名刺管理（Eight）'!H287)","v":""},{"$f":"IF('名刺管理（Eight）'!K287=\"\",\"\",'名刺管理（Eight）'!K287)","v":""},{"$f":"IF('名刺管理（Eight）'!L287=\"\",\"\",'名刺管理（Eight）'!L287)","v":""},{"$f":"IF('名刺管理（Eight）'!M287=\"\",\"\",'名刺管理（Eight）'!M287)","v":""},{"$f":"IF('名刺管理（Eight）'!N287=\"\",\"\",TEXT('名刺管理（Eight）'!N287,\"yyyy/m/d\"))","v":""}]
[{"$f":"LEFT('名刺管理（Eight）'!D288,D290)","v":""},{"$f":"RIGHT('名刺管理（Eight）'!D288,E290)","v":""},{"$f":"IF('名刺管理（Eight）'!D288=\"\",\"\",IF(LEN('名刺管理（Eight）'!D288)=D290+E290,\"\",\"不一致\"))","v":""},null,null,{"$f":"IF('名刺管理（Eight）'!A288=\"\",\"\",'名刺管理（Eight）'!A288)","v":""},{"$f":"IF('名刺管理（Eight）'!B288=\"\",\"\",'名刺管理（Eight）'!B288)","v":""},{"$f":"IF('名刺管理（Eight）'!C288=\"\",\"\",'名刺管理（Eight）'!C288)","v":""},{"$f":"IF('名刺管理（Eight）'!E288=\"\",\"\",'名刺管理（Eight）'!E288)","v":""},{"$f":"IF('名刺管理（Eight）'!F288=\"\",\"\",'名刺管理（Eight）'!F288)","v":""},{"$f":"IF('名刺管理（Eight）'!G288=\"\",\"\",IF(LEFT('名刺管理（Eight）'!G288,3)=\"神奈川\",LEFT('名刺管理（Eight）'!G288,4),IF(LEFT('名刺管理（Eight）'!G288,3)=\"和歌山\",LEFT('名刺管理（Eight）'!G288,4),IF(LEFT('名刺管理（Eight）'!G288,3)=\"鹿児島\",LEFT('名刺管理（Eight）'!G288,4),LEFT('名刺管理（Eight）'!G288,3)))))","v":""},{"$f":"IF(K290=\"\",\"\",IF(LEN(K290)=3,MID('名刺管理（Eight）'!G288,4,50),MID('名刺管理（Eight）'!G288,5,50)))","v":""},{"$f":"IF('名刺管理（Eight）'!H288=\"\",\"\",'名刺管理（Eight）'!H288)","v":""},{"$f":"IF('名刺管理（Eight）'!K288=\"\",\"\",'名刺管理（Eight）'!K288)","v":""},{"$f":"IF('名刺管理（Eight）'!L288=\"\",\"\",'名刺管理（Eight）'!L288)","v":""},{"$f":"IF('名刺管理（Eight）'!M288=\"\",\"\",'名刺管理（Eight）'!M288)","v":""},{"$f":"IF('名刺管理（Eight）'!N288=\"\",\"\",TEXT('名刺管理（Eight）'!N288,\"yyyy/m/d\"))","v":""}]
[{"$f":"LEFT('名刺管理（Eight）'!D289,D291)","v":""},{"$f":"RIGHT('名刺管理（Eight）'!D289,E291)","v":""},{"$f":"IF('名刺管理（Eight）'!D289=\"\",\"\",IF(LEN('名刺管理（Eight）'!D289)=D291+E291,\"\",\"不一致\"))","v":""},null,null,{"$f":"IF('名刺管理（Eight）'!A289=\"\",\"\",'名刺管理（Eight）'!A289)","v":""},{"$f":"IF('名刺管理（Eight）'!B289=\"\",\"\",'名刺管理（Eight）'!B289)","v":""},{"$f":"IF('名刺管理（Eight）'!C289=\"\",\"\",'名刺管理（Eight）'!C289)","v":""},{"$f":"IF('名刺管理（Eight）'!E289=\"\",\"\",'名刺管理（Eight）'!E289)","v":""},{"$f":"IF('名刺管理（Eight）'!F289=\"\",\"\",'名刺管理（Eight）'!F289)","v":""},{"$f":"IF('名刺管理（Eight）'!G289=\"\",\"\",IF(LEFT('名刺管理（Eight）'!G289,3)=\"神奈川\",LEFT('名刺管理（Eight）'!G289,4),IF(LEFT('名刺管理（Eight）'!G289,3)=\"和歌山\",LEFT('名刺管理（Eight）'!G289,4),IF(LEFT('名刺管理（Eight）'!G289,3)=\"鹿児島\",LEFT('名刺管理（Eight）'!G289,4),LEFT('名刺管理（Eight）'!G289,3)))))","v":""},{"$f":"IF(K291=\"\",\"\",IF(LEN(K291)=3,MID('名刺管理（Eight）'!G289,4,50),MID('名刺管理（Eight）'!G289,5,50)))","v":""},{"$f":"IF('名刺管理（Eight）'!H289=\"\",\"\",'名刺管理（Eight）'!H289)","v":""},{"$f":"IF('名刺管理（Eight）'!K289=\"\",\"\",'名刺管理（Eight）'!K289)","v":""},{"$f":"IF('名刺管理（Eight）'!L289=\"\",\"\",'名刺管理（Eight）'!L289)","v":""},{"$f":"IF('名刺管理（Eight）'!M289=\"\",\"\",'名刺管理（Eight）'!M289)","v":""},{"$f":"IF('名刺管理（Eight）'!N289=\"\",\"\",TEXT('名刺管理（Eight）'!N289,\"yyyy/m/d\"))","v":""}]
[{"$f":"LEFT('名刺管理（Eight）'!D290,D292)","v":""},{"$f":"RIGHT('名刺管理（Eight）'!D290,E292)","v":""},{"$f":"IF('名刺管理（Eight）'!D290=\"\",\"\",IF(LEN('名刺管理（Eight）'!D290)=D292+E292,\"\",\"不一致\"))","v":""},null,null,{"$f":"IF('名刺管理（Eight）'!A290=\"\",\"\",'名刺管理（Eight）'!A290)","v":""},{"$f":"IF('名刺管理（Eight）'!B290=\"\",\"\",'名刺管理（Eight）'!B290)","v":""},{"$f":"IF('名刺管理（Eight）'!C290=\"\",\"\",'名刺管理（Eight）'!C290)","v":""},{"$f":"IF('名刺管理（Eight）'!E290=\"\",\"\",'名刺管理（Eight）'!E290)","v":""},{"$f":"IF('名刺管理（Eight）'!F290=\"\",\"\",'名刺管理（Eight）'!F290)","v":""},{"$f":"IF('名刺管理（Eight）'!G290=\"\",\"\",IF(LEFT('名刺管理（Eight）'!G290,3)=\"神奈川\",LEFT('名刺管理（Eight）'!G290,4),IF(LEFT('名刺管理（Eight）'!G290,3)=\"和歌山\",LEFT('名刺管理（Eight）'!G290,4),IF(LEFT('名刺管理（Eight）'!G290,3)=\"鹿児島\",LEFT('名刺管理（Eight）'!G290,4),LEFT('名刺管理（Eight）'!G290,3)))))","v":""},{"$f":"IF(K292=\"\",\"\",IF(LEN(K292)=3,MID('名刺管理（Eight）'!G290,4,50),MID('名刺管理（Eight）'!G290,5,50)))","v":""},{"$f":"IF('名刺管理（Eight）'!H290=\"\",\"\",'名刺管理（Eight）'!H290)","v":""},{"$f":"IF('名刺管理（Eight）'!K290=\"\",\"\",'名刺管理（Eight）'!K290)","v":""},{"$f":"IF('名刺管理（Eight）'!L290=\"\",\"\",'名刺管理（Eight）'!L290)","v":""},{"$f":"IF('名刺管理（Eight）'!M290=\"\",\"\",'名刺管理（Eight）'!M290)","v":""},{"$f":"IF('名刺管理（Eight）'!N290=\"\",\"\",TEXT('名刺管理（Eight）'!N290,\"yyyy/m/d\"))","v":""}]
[{"$f":"LEFT('名刺管理（Eight）'!D291,D293)","v":""},{"$f":"RIGHT('名刺管理（Eight）'!D291,E293)","v":""},{"$f":"IF('名刺管理（Eight）'!D291=\"\",\"\",IF(LEN('名刺管理（Eight）'!D291)=D293+E293,\"\",\"不一致\"))","v":""},null,null,{"$f":"IF('名刺管理（Eight）'!A291=\"\",\"\",'名刺管理（Eight）'!A291)","v":""},{"$f":"IF('名刺管理（Eight）'!B291=\"\",\"\",'名刺管理（Eight）'!B291)","v":""},{"$f":"IF('名刺管理（Eight）'!C291=\"\",\"\",'名刺管理（Eight）'!C291)","v":""},{"$f":"IF('名刺管理（Eight）'!E291=\"\",\"\",'名刺管理（Eight）'!E291)","v":""},{"$f":"IF('名刺管理（Eight）'!F291=\"\",\"\",'名刺管理（Eight）'!F291)","v":""},{"$f":"IF('名刺管理（Eight）'!G291=\"\",\"\",IF(LEFT('名刺管理（Eight）'!G291,3)=\"神奈川\",LEFT('名刺管理（Eight）'!G291,4),IF(LEFT('名刺管理（Eight）'!G291,3)=\"和歌山\",LEFT('名刺管理（Eight）'!G291,4),IF(LEFT('名刺管理（Eight）'!G291,3)=\"鹿児島\",LEFT('名刺管理（Eight）'!G291,4),LEFT('名刺管理（Eight）'!G291,3)))))","v":""},{"$f":"IF(K293=\"\",\"\",IF(LEN(K293)=3,MID('名刺管理（Eight）'!G291,4,50),MID('名刺管理（Eight）'!G291,5,50)))","v":""},{"$f":"IF('名刺管理（Eight）'!H291=\"\",\"\",'名刺管理（Eight）'!H291)","v":""},{"$f":"IF('名刺管理（Eight）'!K291=\"\",\"\",'名刺管理（Eight）'!K291)","v":""},{"$f":"IF('名刺管理（Eight）'!L291=\"\",\"\",'名刺管理（Eight）'!L291)","v":""},{"$f":"IF('名刺管理（Eight）'!M291=\"\",\"\",'名刺管理（Eight）'!M291)","v":""},{"$f":"IF('名刺管理（Eight）'!N291=\"\",\"\",TEXT('名刺管理（Eight）'!N291,\"yyyy/m/d\"))","v":""}]
[{"$f":"LEFT('名刺管理（Eight）'!D292,D294)","v":""},{"$f":"RIGHT('名刺管理（Eight）'!D292,E294)","v":""},{"$f":"IF('名刺管理（Eight）'!D292=\"\",\"\",IF(LEN('名刺管理（Eight）'!D292)=D294+E294,\"\",\"不一致\"))","v":""},null,null,{"$f":"IF('名刺管理（Eight）'!A292=\"\",\"\",'名刺管理（Eight）'!A292)","v":""},{"$f":"IF('名刺管理（Eight）'!B292=\"\",\"\",'名刺管理（Eight）'!B292)","v":""},{"$f":"IF('名刺管理（Eight）'!C292=\"\",\"\",'名刺管理（Eight）'!C292)","v":""},{"$f":"IF('名刺管理（Eight）'!E292=\"\",\"\",'名刺管理（Eight）'!E292)","v":""},{"$f":"IF('名刺管理（Eight）'!F292=\"\",\"\",'名刺管理（Eight）'!F292)","v":""},{"$f":"IF('名刺管理（Eight）'!G292=\"\",\"\",IF(LEFT('名刺管理（Eight）'!G292,3)=\"神奈川\",LEFT('名刺管理（Eight）'!G292,4),IF(LEFT('名刺管理（Eight）'!G292,3)=\"和歌山\",LEFT('名刺管理（Eight）'!G292,4),IF(LEFT('名刺管理（Eight）'!G292,3)=\"鹿児島\",LEFT('名刺管理（Eight）'!G292,4),LEFT('名刺管理（Eight）'!G292,3)))))","v":""},{"$f":"IF(K294=\"\",\"\",IF(LEN(K294)=3,MID('名刺管理（Eight）'!G292,4,50),MID('名刺管理（Eight）'!G292,5,50)))","v":""},{"$f":"IF('名刺管理（Eight）'!H292=\"\",\"\",'名刺管理（Eight）'!H292)","v":""},{"$f":"IF('名刺管理（Eight）'!K292=\"\",\"\",'名刺管理（Eight）'!K292)","v":""},{"$f":"IF('名刺管理（Eight）'!L292=\"\",\"\",'名刺管理（Eight）'!L292)","v":""},{"$f":"IF('名刺管理（Eight）'!M292=\"\",\"\",'名刺管理（Eight）'!M292)","v":""},{"$f":"IF('名刺管理（Eight）'!N292=\"\",\"\",TEXT('名刺管理（Eight）'!N292,\"yyyy/m/d\"))","v":""}]
[{"$f":"LEFT('名刺管理（Eight）'!D293,D295)","v":""},{"$f":"RIGHT('名刺管理（Eight）'!D293,E295)","v":""},{"$f":"IF('名刺管理（Eight）'!D293=\"\",\"\",IF(LEN('名刺管理（Eight）'!D293)=D295+E295,\"\",\"不一致\"))","v":""},null,null,{"$f":"IF('名刺管理（Eight）'!A293=\"\",\"\",'名刺管理（Eight）'!A293)","v":""},{"$f":"IF('名刺管理（Eight）'!B293=\"\",\"\",'名刺管理（Eight）'!B293)","v":""},{"$f":"IF('名刺管理（Eight）'!C293=\"\",\"\",'名刺管理（Eight）'!C293)","v":""},{"$f":"IF('名刺管理（Eight）'!E293=\"\",\"\",'名刺管理（Eight）'!E293)","v":""},{"$f":"IF('名刺管理（Eight）'!F293=\"\",\"\",'名刺管理（Eight）'!F293)","v":""},{"$f":"IF('名刺管理（Eight）'!G293=\"\",\"\",IF(LEFT('名刺管理（Eight）'!G293,3)=\"神奈川\",LEFT('名刺管理（Eight）'!G293,4),IF(LEFT('名刺管理（Eight）'!G293,3)=\"和歌山\",LEFT('名刺管理（Eight）'!G293,4),IF(LEFT('名刺管理（Eight）'!G293,3)=\"鹿児島\",LEFT('名刺管理（Eight）'!G293,4),LEFT('名刺管理（Eight）'!G293,3)))))","v":""},{"$f":"IF(K295=\"\",\"\",IF(LEN(K295)=3,MID('名刺管理（Eight）'!G293,4,50),MID('名刺管理（Eight）'!G293,5,50)))","v":""},{"$f":"IF('名刺管理（Eight）'!H293=\"\",\"\",'名刺管理（Eight）'!H293)","v":""},{"$f":"IF('名刺管理（Eight）'!K293=\"\",\"\",'名刺管理（Eight）'!K293)","v":""},{"$f":"IF('名刺管理（Eight）'!L293=\"\",\"\",'名刺管理（Eight）'!L293)","v":""},{"$f":"IF('名刺管理（Eight）'!M293=\"\",\"\",'名刺管理（Eight）'!M293)","v":""},{"$f":"IF('名刺管理（Eight）'!N293=\"\",\"\",TEXT('名刺管理（Eight）'!N293,\"yyyy/m/d\"))","v":""}]
[{"$f":"LEFT('名刺管理（Eight）'!D294,D296)","v":""},{"$f":"RIGHT('名刺管理（Eight）'!D294,E296)","v":""},{"$f":"IF('名刺管理（Eight）'!D294=\"\",\"\",IF(LEN('名刺管理（Eight）'!D294)=D296+E296,\"\",\"不一致\"))","v":""},null,null,{"$f":"IF('名刺管理（Eight）'!A294=\"\",\"\",'名刺管理（Eight）'!A294)","v":""},{"$f":"IF('名刺管理（Eight）'!B294=\"\",\"\",'名刺管理（Eight）'!B294)","v":""},{"$f":"IF('名刺管理（Eight）'!C294=\"\",\"\",'名刺管理（Eight）'!C294)","v":""},{"$f":"IF('名刺管理（Eight）'!E294=\"\",\"\",'名刺管理（Eight）'!E294)","v":""},{"$f":"IF('名刺管理（Eight）'!F294=\"\",\"\",'名刺管理（Eight）'!F294)","v":""},{"$f":"IF('名刺管理（Eight）'!G294=\"\",\"\",IF(LEFT('名刺管理（Eight）'!G294,3)=\"神奈川\",LEFT('名刺管理（Eight）'!G294,4),IF(LEFT('名刺管理（Eight）'!G294,3)=\"和歌山\",LEFT('名刺管理（Eight）'!G294,4),IF(LEFT('名刺管理（Eight）'!G294,3)=\"鹿児島\",LEFT('名刺管理（Eight）'!G294,4),LEFT('名刺管理（Eight）'!G294,3)))))","v":""},{"$f":"IF(K296=\"\",\"\",IF(LEN(K296)=3,MID('名刺管理（Eight）'!G294,4,50),MID('名刺管理（Eight）'!G294,5,50)))","v":""},{"$f":"IF('名刺管理（Eight）'!H294=\"\",\"\",'名刺管理（Eight）'!H294)","v":""},{"$f":"IF('名刺管理（Eight）'!K294=\"\",\"\",'名刺管理（Eight）'!K294)","v":""},{"$f":"IF('名刺管理（Eight）'!L294=\"\",\"\",'名刺管理（Eight）'!L294)","v":""},{"$f":"IF('名刺管理（Eight）'!M294=\"\",\"\",'名刺管理（Eight）'!M294)","v":""},{"$f":"IF('名刺管理（Eight）'!N294=\"\",\"\",TEXT('名刺管理（Eight）'!N294,\"yyyy/m/d\"))","v":""}]
[{"$f":"LEFT('名刺管理（Eight）'!D295,D297)","v":""},{"$f":"RIGHT('名刺管理（Eight）'!D295,E297)","v":""},{"$f":"IF('名刺管理（Eight）'!D295=\"\",\"\",IF(LEN('名刺管理（Eight）'!D295)=D297+E297,\"\",\"不一致\"))","v":""},null,null,{"$f":"IF('名刺管理（Eight）'!A295=\"\",\"\",'名刺管理（Eight）'!A295)","v":""},{"$f":"IF('名刺管理（Eight）'!B295=\"\",\"\",'名刺管理（Eight）'!B295)","v":""},{"$f":"IF('名刺管理（Eight）'!C295=\"\",\"\",'名刺管理（Eight）'!C295)","v":""},{"$f":"IF('名刺管理（Eight）'!E295=\"\",\"\",'名刺管理（Eight）'!E295)","v":""},{"$f":"IF('名刺管理（Eight）'!F295=\"\",\"\",'名刺管理（Eight）'!F295)","v":""},{"$f":"IF('名刺管理（Eight）'!G295=\"\",\"\",IF(LEFT('名刺管理（Eight）'!G295,3)=\"神奈川\",LEFT('名刺管理（Eight）'!G295,4),IF(LEFT('名刺管理（Eight）'!G295,3)=\"和歌山\",LEFT('名刺管理（Eight）'!G295,4),IF(LEFT('名刺管理（Eight）'!G295,3)=\"鹿児島\",LEFT('名刺管理（Eight）'!G295,4),LEFT('名刺管理（Eight）'!G295,3)))))","v":""},{"$f":"IF(K297=\"\",\"\",IF(LEN(K297)=3,MID('名刺管理（Eight）'!G295,4,50),MID('名刺管理（Eight）'!G295,5,50)))","v":""},{"$f":"IF('名刺管理（Eight）'!H295=\"\",\"\",'名刺管理（Eight）'!H295)","v":""},{"$f":"IF('名刺管理（Eight）'!K295=\"\",\"\",'名刺管理（Eight）'!K295)","v":""},{"$f":"IF('名刺管理（Eight）'!L295=\"\",\"\",'名刺管理（Eight）'!L295)","v":""},{"$f":"IF('名刺管理（Eight）'!M295=\"\",\"\",'名刺管理（Eight）'!M295)","v":""},{"$f":"IF('名刺管理（Eight）'!N295=\"\",\"\",TEXT('名刺管理（Eight）'!N295,\"yyyy/m/d\"))","v":""}]
[{"$f":"LEFT('名刺管理（Eight）'!D296,D298)","v":""},{"$f":"RIGHT('名刺管理（Eight）'!D296,E298)","v":""},{"$f":"IF('名刺管理（Eight）'!D296=\"\",\"\",IF(LEN('名刺管理（Eight）'!D296)=D298+E298,\"\",\"不一致\"))","v":""},null,null,{"$f":"IF('名刺管理（Eight）'!A296=\"\",\"\",'名刺管理（Eight）'!A296)","v":""},{"$f":"IF('名刺管理（Eight）'!B296=\"\",\"\",'名刺管理（Eight）'!B296)","v":""},{"$f":"IF('名刺管理（Eight）'!C296=\"\",\"\",'名刺管理（Eight）'!C296)","v":""},{"$f":"IF('名刺管理（Eight）'!E296=\"\",\"\",'名刺管理（Eight）'!E296)","v":""},{"$f":"IF('名刺管理（Eight）'!F296=\"\",\"\",'名刺管理（Eight）'!F296)","v":""},{"$f":"IF('名刺管理（Eight）'!G296=\"\",\"\",IF(LEFT('名刺管理（Eight）'!G296,3)=\"神奈川\",LEFT('名刺管理（Eight）'!G296,4),IF(LEFT('名刺管理（Eight）'!G296,3)=\"和歌山\",LEFT('名刺管理（Eight）'!G296,4),IF(LEFT('名刺管理（Eight）'!G296,3)=\"鹿児島\",LEFT('名刺管理（Eight）'!G296,4),LEFT('名刺管理（Eight）'!G296,3)))))","v":""},{"$f":"IF(K298=\"\",\"\",IF(LEN(K298)=3,MID('名刺管理（Eight）'!G296,4,50),MID('名刺管理（Eight）'!G296,5,50)))","v":""},{"$f":"IF('名刺管理（Eight）'!H296=\"\",\"\",'名刺管理（Eight）'!H296)","v":""},{"$f":"IF('名刺管理（Eight）'!K296=\"\",\"\",'名刺管理（Eight）'!K296)","v":""},{"$f":"IF('名刺管理（Eight）'!L296=\"\",\"\",'名刺管理（Eight）'!L296)","v":""},{"$f":"IF('名刺管理（Eight）'!M296=\"\",\"\",'名刺管理（Eight）'!M296)","v":""},{"$f":"IF('名刺管理（Eight）'!N296=\"\",\"\",TEXT('名刺管理（Eight）'!N296,\"yyyy/m/d\"))","v":""}]
[{"$f":"LEFT('名刺管理（Eight）'!D297,D299)","v":""},{"$f":"RIGHT('名刺管理（Eight）'!D297,E299)","v":""},{"$f":"IF('名刺管理（Eight）'!D297=\"\",\"\",IF(LEN('名刺管理（Eight）'!D297)=D299+E299,\"\",\"不一致\"))","v":""},null,null,{"$f":"IF('名刺管理（Eight）'!A297=\"\",\"\",'名刺管理（Eight）'!A297)","v":""},{"$f":"IF('名刺管理（Eight）'!B297=\"\",\"\",'名刺管理（Eight）'!B297)","v":""},{"$f":"IF('名刺管理（Eight）'!C297=\"\",\"\",'名刺管理（Eight）'!C297)","v":""},{"$f":"IF('名刺管理（Eight）'!E297=\"\",\"\",'名刺管理（Eight）'!E297)","v":""},{"$f":"IF('名刺管理（Eight）'!F297=\"\",\"\",'名刺管理（Eight）'!F297)","v":""},{"$f":"IF('名刺管理（Eight）'!G297=\"\",\"\",IF(LEFT('名刺管理（Eight）'!G297,3)=\"神奈川\",LEFT('名刺管理（Eight）'!G297,4),IF(LEFT('名刺管理（Eight）'!G297,3)=\"和歌山\",LEFT('名刺管理（Eight）'!G297,4),IF(LEFT('名刺管理（Eight）'!G297,3)=\"鹿児島\",LEFT('名刺管理（Eight）'!G297,4),LEFT('名刺管理（Eight）'!G297,3)))))","v":""},{"$f":"IF(K299=\"\",\"\",IF(LEN(K299)=3,MID('名刺管理（Eight）'!G297,4,50),MID('名刺管理（Eight）'!G297,5,50)))","v":""},{"$f":"IF('名刺管理（Eight）'!H297=\"\",\"\",'名刺管理（Eight）'!H297)","v":""},{"$f":"IF('名刺管理（Eight）'!K297=\"\",\"\",'名刺管理（Eight）'!K297)","v":""},{"$f":"IF('名刺管理（Eight）'!L297=\"\",\"\",'名刺管理（Eight）'!L297)","v":""},{"$f":"IF('名刺管理（Eight）'!M297=\"\",\"\",'名刺管理（Eight）'!M297)","v":""},{"$f":"IF('名刺管理（Eight）'!N297=\"\",\"\",TEXT('名刺管理（Eight）'!N297,\"yyyy/m/d\"))","v":""}]
[{"$f":"LEFT('名刺管理（Eight）'!D298,D300)","v":""},{"$f":"RIGHT('名刺管理（Eight）'!D298,E300)","v":""},{"$f":"IF('名刺管理（Eight）'!D298=\"\",\"\",IF(LEN('名刺管理（Eight）'!D298)=D300+E300,\"\",\"不一致\"))","v":""},null,null,{"$f":"IF('名刺管理（Eight）'!A298=\"\",\"\",'名刺管理（Eight）'!A298)","v":""},{"$f":"IF('名刺管理（Eight）'!B298=\"\",\"\",'名刺管理（Eight）'!B298)","v":""},{"$f":"IF('名刺管理（Eight）'!C298=\"\",\"\",'名刺管理（Eight）'!C298)","v":""},{"$f":"IF('名刺管理（Eight）'!E298=\"\",\"\",'名刺管理（Eight）'!E298)","v":""},{"$f":"IF('名刺管理（Eight）'!F298=\"\",\"\",'名刺管理（Eight）'!F298)","v":""},{"$f":"IF('名刺管理（Eight）'!G298=\"\",\"\",IF(LEFT('名刺管理（Eight）'!G298,3)=\"神奈川\",LEFT('名刺管理（Eight）'!G298,4),IF(LEFT('名刺管理（Eight）'!G298,3)=\"和歌山\",LEFT('名刺管理（Eight）'!G298,4),IF(LEFT('名刺管理（Eight）'!G298,3)=\"鹿児島\",LEFT('名刺管理（Eight）'!G298,4),LEFT('名刺管理（Eight）'!G298,3)))))","v":""},{"$f":"IF(K300=\"\",\"\",IF(LEN(K300)=3,MID('名刺管理（Eight）'!G298,4,50),MID('名刺管理（Eight）'!G298,5,50)))","v":""},{"$f":"IF('名刺管理（Eight）'!H298=\"\",\"\",'名刺管理（Eight）'!H298)","v":""},{"$f":"IF('名刺管理（Eight）'!K298=\"\",\"\",'名刺管理（Eight）'!K298)","v":""},{"$f":"IF('名刺管理（Eight）'!L298=\"\",\"\",'名刺管理（Eight）'!L298)","v":""},{"$f":"IF('名刺管理（Eight）'!M298=\"\",\"\",'名刺管理（Eight）'!M298)","v":""},{"$f":"IF('名刺管理（Eight）'!N298=\"\",\"\",TEXT('名刺管理（Eight）'!N298,\"yyyy/m/d\"))","v":""}]
[{"$f":"LEFT('名刺管理（Eight）'!D299,D301)","v":""},{"$f":"RIGHT('名刺管理（Eight）'!D299,E301)","v":""},{"$f":"IF('名刺管理（Eight）'!D299=\"\",\"\",IF(LEN('名刺管理（Eight）'!D299)=D301+E301,\"\",\"不一致\"))","v":""},null,null,{"$f":"IF('名刺管理（Eight）'!A299=\"\",\"\",'名刺管理（Eight）'!A299)","v":""},{"$f":"IF('名刺管理（Eight）'!B299=\"\",\"\",'名刺管理（Eight）'!B299)","v":""},{"$f":"IF('名刺管理（Eight）'!C299=\"\",\"\",'名刺管理（Eight）'!C299)","v":""},{"$f":"IF('名刺管理（Eight）'!E299=\"\",\"\",'名刺管理（Eight）'!E299)","v":""},{"$f":"IF('名刺管理（Eight）'!F299=\"\",\"\",'名刺管理（Eight）'!F299)","v":""},{"$f":"IF('名刺管理（Eight）'!G299=\"\",\"\",IF(LEFT('名刺管理（Eight）'!G299,3)=\"神奈川\",LEFT('名刺管理（Eight）'!G299,4),IF(LEFT('名刺管理（Eight）'!G299,3)=\"和歌山\",LEFT('名刺管理（Eight）'!G299,4),IF(LEFT('名刺管理（Eight）'!G299,3)=\"鹿児島\",LEFT('名刺管理（Eight）'!G299,4),LEFT('名刺管理（Eight）'!G299,3)))))","v":""},{"$f":"IF(K301=\"\",\"\",IF(LEN(K301)=3,MID('名刺管理（Eight）'!G299,4,50),MID('名刺管理（Eight）'!G299,5,50)))","v":""},{"$f":"IF('名刺管理（Eight）'!H299=\"\",\"\",'名刺管理（Eight）'!H299)","v":""},{"$f":"IF('名刺管理（Eight）'!K299=\"\",\"\",'名刺管理（Eight）'!K299)","v":""},{"$f":"IF('名刺管理（Eight）'!L299=\"\",\"\",'名刺管理（Eight）'!L299)","v":""},{"$f":"IF('名刺管理（Eight）'!M299=\"\",\"\",'名刺管理（Eight）'!M299)","v":""},{"$f":"IF('名刺管理（Eight）'!N299=\"\",\"\",TEXT('名刺管理（Eight）'!N299,\"yyyy/m/d\"))","v":""}]
[{"$f":"LEFT('名刺管理（Eight）'!D300,D302)","v":""},{"$f":"RIGHT('名刺管理（Eight）'!D300,E302)","v":""},{"$f":"IF('名刺管理（Eight）'!D300=\"\",\"\",IF(LEN('名刺管理（Eight）'!D300)=D302+E302,\"\",\"不一致\"))","v":""},null,null,{"$f":"IF('名刺管理（Eight）'!A300=\"\",\"\",'名刺管理（Eight）'!A300)","v":""},{"$f":"IF('名刺管理（Eight）'!B300=\"\",\"\",'名刺管理（Eight）'!B300)","v":""},{"$f":"IF('名刺管理（Eight）'!C300=\"\",\"\",'名刺管理（Eight）'!C300)","v":""},{"$f":"IF('名刺管理（Eight）'!E300=\"\",\"\",'名刺管理（Eight）'!E300)","v":""},{"$f":"IF('名刺管理（Eight）'!F300=\"\",\"\",'名刺管理（Eight）'!F300)","v":""},{"$f":"IF('名刺管理（Eight）'!G300=\"\",\"\",IF(LEFT('名刺管理（Eight）'!G300,3)=\"神奈川\",LEFT('名刺管理（Eight）'!G300,4),IF(LEFT('名刺管理（Eight）'!G300,3)=\"和歌山\",LEFT('名刺管理（Eight）'!G300,4),IF(LEFT('名刺管理（Eight）'!G300,3)=\"鹿児島\",LEFT('名刺管理（Eight）'!G300,4),LEFT('名刺管理（Eight）'!G300,3)))))","v":""},{"$f":"IF(K302=\"\",\"\",IF(LEN(K302)=3,MID('名刺管理（Eight）'!G300,4,50),MID('名刺管理（Eight）'!G300,5,50)))","v":""},{"$f":"IF('名刺管理（Eight）'!H300=\"\",\"\",'名刺管理（Eight）'!H300)","v":""},{"$f":"IF('名刺管理（Eight）'!K300=\"\",\"\",'名刺管理（Eight）'!K300)","v":""},{"$f":"IF('名刺管理（Eight）'!L300=\"\",\"\",'名刺管理（Eight）'!L300)","v":""},{"$f":"IF('名刺管理（Eight）'!M300=\"\",\"\",'名刺管理（Eight）'!M300)","v":""},{"$f":"IF('名刺管理（Eight）'!N300=\"\",\"\",TEXT('名刺管理（Eight）'!N300,\"yyyy/m/d\"))","v":""}]
[{"$f":"LEFT('名刺管理（Eight）'!D301,D303)","v":""},{"$f":"RIGHT('名刺管理（Eight）'!D301,E303)","v":""},{"$f":"IF('名刺管理（Eight）'!D301=\"\",\"\",IF(LEN('名刺管理（Eight）'!D301)=D303+E303,\"\",\"不一致\"))","v":""},null,null,{"$f":"IF('名刺管理（Eight）'!A301=\"\",\"\",'名刺管理（Eight）'!A301)","v":""},{"$f":"IF('名刺管理（Eight）'!B301=\"\",\"\",'名刺管理（Eight）'!B301)","v":""},{"$f":"IF('名刺管理（Eight）'!C301=\"\",\"\",'名刺管理（Eight）'!C301)","v":""},{"$f":"IF('名刺管理（Eight）'!E301=\"\",\"\",'名刺管理（Eight）'!E301)","v":""},{"$f":"IF('名刺管理（Eight）'!F301=\"\",\"\",'名刺管理（Eight）'!F301)","v":""},{"$f":"IF('名刺管理（Eight）'!G301=\"\",\"\",IF(LEFT('名刺管理（Eight）'!G301,3)=\"神奈川\",LEFT('名刺管理（Eight）'!G301,4),IF(LEFT('名刺管理（Eight）'!G301,3)=\"和歌山\",LEFT('名刺管理（Eight）'!G301,4),IF(LEFT('名刺管理（Eight）'!G301,3)=\"鹿児島\",LEFT('名刺管理（Eight）'!G301,4),LEFT('名刺管理（Eight）'!G301,3)))))","v":""},{"$f":"IF(K303=\"\",\"\",IF(LEN(K303)=3,MID('名刺管理（Eight）'!G301,4,50),MID('名刺管理（Eight）'!G301,5,50)))","v":""},{"$f":"IF('名刺管理（Eight）'!H301=\"\",\"\",'名刺管理（Eight）'!H301)","v":""},{"$f":"IF('名刺管理（Eight）'!K301=\"\",\"\",'名刺管理（Eight）'!K301)","v":""},{"$f":"IF('名刺管理（Eight）'!L301=\"\",\"\",'名刺管理（Eight）'!L301)","v":""},{"$f":"IF('名刺管理（Eight）'!M301=\"\",\"\",'名刺管理（Eight）'!M301)","v":""},{"$f":"IF('名刺管理（Eight）'!N301=\"\",\"\",TEXT('名刺管理（Eight）'!N301,\"yyyy/m/d\"))","v":""}]
[{"$f":"LEFT('名刺管理（Eight）'!D302,D304)","v":""},{"$f":"RIGHT('名刺管理（Eight）'!D302,E304)","v":""},{"$f":"IF('名刺管理（Eight）'!D302=\"\",\"\",IF(LEN('名刺管理（Eight）'!D302)=D304+E304,\"\",\"不一致\"))","v":""},null,null,{"$f":"IF('名刺管理（Eight）'!A302=\"\",\"\",'名刺管理（Eight）'!A302)","v":""},{"$f":"IF('名刺管理（Eight）'!B302=\"\",\"\",'名刺管理（Eight）'!B302)","v":""},{"$f":"IF('名刺管理（Eight）'!C302=\"\",\"\",'名刺管理（Eight）'!C302)","v":""},{"$f":"IF('名刺管理（Eight）'!E302=\"\",\"\",'名刺管理（Eight）'!E302)","v":""},{"$f":"IF('名刺管理（Eight）'!F302=\"\",\"\",'名刺管理（Eight）'!F302)","v":""},{"$f":"IF('名刺管理（Eight）'!G302=\"\",\"\",IF(LEFT('名刺管理（Eight）'!G302,3)=\"神奈川\",LEFT('名刺管理（Eight）'!G302,4),IF(LEFT('名刺管理（Eight）'!G302,3)=\"和歌山\",LEFT('名刺管理（Eight）'!G302,4),IF(LEFT('名刺管理（Eight）'!G302,3)=\"鹿児島\",LEFT('名刺管理（Eight）'!G302,4),LEFT('名刺管理（Eight）'!G302,3)))))","v":""},{"$f":"IF(K304=\"\",\"\",IF(LEN(K304)=3,MID('名刺管理（Eight）'!G302,4,50),MID('名刺管理（Eight）'!G302,5,50)))","v":""},{"$f":"IF('名刺管理（Eight）'!H302=\"\",\"\",'名刺管理（Eight）'!H302)","v":""},{"$f":"IF('名刺管理（Eight）'!K302=\"\",\"\",'名刺管理（Eight）'!K302)","v":""},{"$f":"IF('名刺管理（Eight）'!L302=\"\",\"\",'名刺管理（Eight）'!L302)","v":""},{"$f":"IF('名刺管理（Eight）'!M302=\"\",\"\",'名刺管理（Eight）'!M302)","v":""},{"$f":"IF('名刺管理（Eight）'!N302=\"\",\"\",TEXT('名刺管理（Eight）'!N302,\"yyyy/m/d\"))","v":""}]
[{"$f":"LEFT('名刺管理（Eight）'!D303,D305)","v":""},{"$f":"RIGHT('名刺管理（Eight）'!D303,E305)","v":""},{"$f":"IF('名刺管理（Eight）'!D303=\"\",\"\",IF(LEN('名刺管理（Eight）'!D303)=D305+E305,\"\",\"不一致\"))","v":""},null,null,{"$f":"IF('名刺管理（Eight）'!A303=\"\",\"\",'名刺管理（Eight）'!A303)","v":""},{"$f":"IF('名刺管理（Eight）'!B303=\"\",\"\",'名刺管理（Eight）'!B303)","v":""},{"$f":"IF('名刺管理（Eight）'!C303=\"\",\"\",'名刺管理（Eight）'!C303)","v":""},{"$f":"IF('名刺管理（Eight）'!E303=\"\",\"\",'名刺管理（Eight）'!E303)","v":""},{"$f":"IF('名刺管理（Eight）'!F303=\"\",\"\",'名刺管理（Eight）'!F303)","v":""},{"$f":"IF('名刺管理（Eight）'!G303=\"\",\"\",IF(LEFT('名刺管理（Eight）'!G303,3)=\"神奈川\",LEFT('名刺管理（Eight）'!G303,4),IF(LEFT('名刺管理（Eight）'!G303,3)=\"和歌山\",LEFT('名刺管理（Eight）'!G303,4),IF(LEFT('名刺管理（Eight）'!G303,3)=\"鹿児島\",LEFT('名刺管理（Eight）'!G303,4),LEFT('名刺管理（Eight）'!G303,3)))))","v":""},{"$f":"IF(K305=\"\",\"\",IF(LEN(K305)=3,MID('名刺管理（Eight）'!G303,4,50),MID('名刺管理（Eight）'!G303,5,50)))","v":""},{"$f":"IF('名刺管理（Eight）'!H303=\"\",\"\",'名刺管理（Eight）'!H303)","v":""},{"$f":"IF('名刺管理（Eight）'!K303=\"\",\"\",'名刺管理（Eight）'!K303)","v":""},{"$f":"IF('名刺管理（Eight）'!L303=\"\",\"\",'名刺管理（Eight）'!L303)","v":""},{"$f":"IF('名刺管理（Eight）'!M303=\"\",\"\",'名刺管理（Eight）'!M303)","v":""},{"$f":"IF('名刺管理（Eight）'!N303=\"\",\"\",TEXT('名刺管理（Eight）'!N303,\"yyyy/m/d\"))","v":""}]
[{"$f":"LEFT('名刺管理（Eight）'!D304,D306)","v":""},{"$f":"RIGHT('名刺管理（Eight）'!D304,E306)","v":""},{"$f":"IF('名刺管理（Eight）'!D304=\"\",\"\",IF(LEN('名刺管理（Eight）'!D304)=D306+E306,\"\",\"不一致\"))","v":""},null,null,{"$f":"IF('名刺管理（Eight）'!A304=\"\",\"\",'名刺管理（Eight）'!A304)","v":""},{"$f":"IF('名刺管理（Eight）'!B304=\"\",\"\",'名刺管理（Eight）'!B304)","v":""},{"$f":"IF('名刺管理（Eight）'!C304=\"\",\"\",'名刺管理（Eight）'!C304)","v":""},{"$f":"IF('名刺管理（Eight）'!E304=\"\",\"\",'名刺管理（Eight）'!E304)","v":""},{"$f":"IF('名刺管理（Eight）'!F304=\"\",\"\",'名刺管理（Eight）'!F304)","v":""},{"$f":"IF('名刺管理（Eight）'!G304=\"\",\"\",IF(LEFT('名刺管理（Eight）'!G304,3)=\"神奈川\",LEFT('名刺管理（Eight）'!G304,4),IF(LEFT('名刺管理（Eight）'!G304,3)=\"和歌山\",LEFT('名刺管理（Eight）'!G304,4),IF(LEFT('名刺管理（Eight）'!G304,3)=\"鹿児島\",LEFT('名刺管理（Eight）'!G304,4),LEFT('名刺管理（Eight）'!G304,3)))))","v":""},{"$f":"IF(K306=\"\",\"\",IF(LEN(K306)=3,MID('名刺管理（Eight）'!G304,4,50),MID('名刺管理（Eight）'!G304,5,50)))","v":""},{"$f":"IF('名刺管理（Eight）'!H304=\"\",\"\",'名刺管理（Eight）'!H304)","v":""},{"$f":"IF('名刺管理（Eight）'!K304=\"\",\"\",'名刺管理（Eight）'!K304)","v":""},{"$f":"IF('名刺管理（Eight）'!L304=\"\",\"\",'名刺管理（Eight）'!L304)","v":""},{"$f":"IF('名刺管理（Eight）'!M304=\"\",\"\",'名刺管理（Eight）'!M304)","v":""},{"$f":"IF('名刺管理（Eight）'!N304=\"\",\"\",TEXT('名刺管理（Eight）'!N304,\"yyyy/m/d\"))","v":""}]
[{"$f":"LEFT('名刺管理（Eight）'!D305,D307)","v":""},{"$f":"RIGHT('名刺管理（Eight）'!D305,E307)","v":""},{"$f":"IF('名刺管理（Eight）'!D305=\"\",\"\",IF(LEN('名刺管理（Eight）'!D305)=D307+E307,\"\",\"不一致\"))","v":""},null,null,{"$f":"IF('名刺管理（Eight）'!A305=\"\",\"\",'名刺管理（Eight）'!A305)","v":""},{"$f":"IF('名刺管理（Eight）'!B305=\"\",\"\",'名刺管理（Eight）'!B305)","v":""},{"$f":"IF('名刺管理（Eight）'!C305=\"\",\"\",'名刺管理（Eight）'!C305)","v":""},{"$f":"IF('名刺管理（Eight）'!E305=\"\",\"\",'名刺管理（Eight）'!E305)","v":""},{"$f":"IF('名刺管理（Eight）'!F305=\"\",\"\",'名刺管理（Eight）'!F305)","v":""},{"$f":"IF('名刺管理（Eight）'!G305=\"\",\"\",IF(LEFT('名刺管理（Eight）'!G305,3)=\"神奈川\",LEFT('名刺管理（Eight）'!G305,4),IF(LEFT('名刺管理（Eight）'!G305,3)=\"和歌山\",LEFT('名刺管理（Eight）'!G305,4),IF(LEFT('名刺管理（Eight）'!G305,3)=\"鹿児島\",LEFT('名刺管理（Eight）'!G305,4),LEFT('名刺管理（Eight）'!G305,3)))))","v":""},{"$f":"IF(K307=\"\",\"\",IF(LEN(K307)=3,MID('名刺管理（Eight）'!G305,4,50),MID('名刺管理（Eight）'!G305,5,50)))","v":""},{"$f":"IF('名刺管理（Eight）'!H305=\"\",\"\",'名刺管理（Eight）'!H305)","v":""},{"$f":"IF('名刺管理（Eight）'!K305=\"\",\"\",'名刺管理（Eight）'!K305)","v":""},{"$f":"IF('名刺管理（Eight）'!L305=\"\",\"\",'名刺管理（Eight）'!L305)","v":""},{"$f":"IF('名刺管理（Eight）'!M305=\"\",\"\",'名刺管理（Eight）'!M305)","v":""},{"$f":"IF('名刺管理（Eight）'!N305=\"\",\"\",TEXT('名刺管理（Eight）'!N305,\"yyyy/m/d\"))","v":""}]
[{"$f":"LEFT('名刺管理（Eight）'!D306,D308)","v":""},{"$f":"RIGHT('名刺管理（Eight）'!D306,E308)","v":""},{"$f":"IF('名刺管理（Eight）'!D306=\"\",\"\",IF(LEN('名刺管理（Eight）'!D306)=D308+E308,\"\",\"不一致\"))","v":""},null,null,{"$f":"IF('名刺管理（Eight）'!A306=\"\",\"\",'名刺管理（Eight）'!A306)","v":""},{"$f":"IF('名刺管理（Eight）'!B306=\"\",\"\",'名刺管理（Eight）'!B306)","v":""},{"$f":"IF('名刺管理（Eight）'!C306=\"\",\"\",'名刺管理（Eight）'!C306)","v":""},{"$f":"IF('名刺管理（Eight）'!E306=\"\",\"\",'名刺管理（Eight）'!E306)","v":""},{"$f":"IF('名刺管理（Eight）'!F306=\"\",\"\",'名刺管理（Eight）'!F306)","v":""},{"$f":"IF('名刺管理（Eight）'!G306=\"\",\"\",IF(LEFT('名刺管理（Eight）'!G306,3)=\"神奈川\",LEFT('名刺管理（Eight）'!G306,4),IF(LEFT('名刺管理（Eight）'!G306,3)=\"和歌山\",LEFT('名刺管理（Eight）'!G306,4),IF(LEFT('名刺管理（Eight）'!G306,3)=\"鹿児島\",LEFT('名刺管理（Eight）'!G306,4),LEFT('名刺管理（Eight）'!G306,3)))))","v":""},{"$f":"IF(K308=\"\",\"\",IF(LEN(K308)=3,MID('名刺管理（Eight）'!G306,4,50),MID('名刺管理（Eight）'!G306,5,50)))","v":""},{"$f":"IF('名刺管理（Eight）'!H306=\"\",\"\",'名刺管理（Eight）'!H306)","v":""},{"$f":"IF('名刺管理（Eight）'!K306=\"\",\"\",'名刺管理（Eight）'!K306)","v":""},{"$f":"IF('名刺管理（Eight）'!L306=\"\",\"\",'名刺管理（Eight）'!L306)","v":""},{"$f":"IF('名刺管理（Eight）'!M306=\"\",\"\",'名刺管理（Eight）'!M306)","v":""},{"$f":"IF('名刺管理（Eight）'!N306=\"\",\"\",TEXT('名刺管理（Eight）'!N306,\"yyyy/m/d\"))","v":""}]
[{"$f":"LEFT('名刺管理（Eight）'!D307,D309)","v":""},{"$f":"RIGHT('名刺管理（Eight）'!D307,E309)","v":""},{"$f":"IF('名刺管理（Eight）'!D307=\"\",\"\",IF(LEN('名刺管理（Eight）'!D307)=D309+E309,\"\",\"不一致\"))","v":""},null,null,{"$f":"IF('名刺管理（Eight）'!A307=\"\",\"\",'名刺管理（Eight）'!A307)","v":""},{"$f":"IF('名刺管理（Eight）'!B307=\"\",\"\",'名刺管理（Eight）'!B307)","v":""},{"$f":"IF('名刺管理（Eight）'!C307=\"\",\"\",'名刺管理（Eight）'!C307)","v":""},{"$f":"IF('名刺管理（Eight）'!E307=\"\",\"\",'名刺管理（Eight）'!E307)","v":""},{"$f":"IF('名刺管理（Eight）'!F307=\"\",\"\",'名刺管理（Eight）'!F307)","v":""},{"$f":"IF('名刺管理（Eight）'!G307=\"\",\"\",IF(LEFT('名刺管理（Eight）'!G307,3)=\"神奈川\",LEFT('名刺管理（Eight）'!G307,4),IF(LEFT('名刺管理（Eight）'!G307,3)=\"和歌山\",LEFT('名刺管理（Eight）'!G307,4),IF(LEFT('名刺管理（Eight）'!G307,3)=\"鹿児島\",LEFT('名刺管理（Eight）'!G307,4),LEFT('名刺管理（Eight）'!G307,3)))))","v":""},{"$f":"IF(K309=\"\",\"\",IF(LEN(K309)=3,MID('名刺管理（Eight）'!G307,4,50),MID('名刺管理（Eight）'!G307,5,50)))","v":""},{"$f":"IF('名刺管理（Eight）'!H307=\"\",\"\",'名刺管理（Eight）'!H307)","v":""},{"$f":"IF('名刺管理（Eight）'!K307=\"\",\"\",'名刺管理（Eight）'!K307)","v":""},{"$f":"IF('名刺管理（Eight）'!L307=\"\",\"\",'名刺管理（Eight）'!L307)","v":""},{"$f":"IF('名刺管理（Eight）'!M307=\"\",\"\",'名刺管理（Eight）'!M307)","v":""},{"$f":"IF('名刺管理（Eight）'!N307=\"\",\"\",TEXT('名刺管理（Eight）'!N307,\"yyyy/m/d\"))","v":""}]
[{"$f":"LEFT('名刺管理（Eight）'!D308,D310)","v":""},{"$f":"RIGHT('名刺管理（Eight）'!D308,E310)","v":""},{"$f":"IF('名刺管理（Eight）'!D308=\"\",\"\",IF(LEN('名刺管理（Eight）'!D308)=D310+E310,\"\",\"不一致\"))","v":""},null,null,{"$f":"IF('名刺管理（Eight）'!A308=\"\",\"\",'名刺管理（Eight）'!A308)","v":""},{"$f":"IF('名刺管理（Eight）'!B308=\"\",\"\",'名刺管理（Eight）'!B308)","v":""},{"$f":"IF('名刺管理（Eight）'!C308=\"\",\"\",'名刺管理（Eight）'!C308)","v":""},{"$f":"IF('名刺管理（Eight）'!E308=\"\",\"\",'名刺管理（Eight）'!E308)","v":""},{"$f":"IF('名刺管理（Eight）'!F308=\"\",\"\",'名刺管理（Eight）'!F308)","v":""},{"$f":"IF('名刺管理（Eight）'!G308=\"\",\"\",IF(LEFT('名刺管理（Eight）'!G308,3)=\"神奈川\",LEFT('名刺管理（Eight）'!G308,4),IF(LEFT('名刺管理（Eight）'!G308,3)=\"和歌山\",LEFT('名刺管理（Eight）'!G308,4),IF(LEFT('名刺管理（Eight）'!G308,3)=\"鹿児島\",LEFT('名刺管理（Eight）'!G308,4),LEFT('名刺管理（Eight）'!G308,3)))))","v":""},{"$f":"IF(K310=\"\",\"\",IF(LEN(K310)=3,MID('名刺管理（Eight）'!G308,4,50),MID('名刺管理（Eight）'!G308,5,50)))","v":""},{"$f":"IF('名刺管理（Eight）'!H308=\"\",\"\",'名刺管理（Eight）'!H308)","v":""},{"$f":"IF('名刺管理（Eight）'!K308=\"\",\"\",'名刺管理（Eight）'!K308)","v":""},{"$f":"IF('名刺管理（Eight）'!L308=\"\",\"\",'名刺管理（Eight）'!L308)","v":""},{"$f":"IF('名刺管理（Eight）'!M308=\"\",\"\",'名刺管理（Eight）'!M308)","v":""},{"$f":"IF('名刺管理（Eight）'!N308=\"\",\"\",TEXT('名刺管理（Eight）'!N308,\"yyyy/m/d\"))","v":""}]
[{"$f":"LEFT('名刺管理（Eight）'!D309,D311)","v":""},{"$f":"RIGHT('名刺管理（Eight）'!D309,E311)","v":""},{"$f":"IF('名刺管理（Eight）'!D309=\"\",\"\",IF(LEN('名刺管理（Eight）'!D309)=D311+E311,\"\",\"不一致\"))","v":""},null,null,{"$f":"IF('名刺管理（Eight）'!A309=\"\",\"\",'名刺管理（Eight）'!A309)","v":""},{"$f":"IF('名刺管理（Eight）'!B309=\"\",\"\",'名刺管理（Eight）'!B309)","v":""},{"$f":"IF('名刺管理（Eight）'!C309=\"\",\"\",'名刺管理（Eight）'!C309)","v":""},{"$f":"IF('名刺管理（Eight）'!E309=\"\",\"\",'名刺管理（Eight）'!E309)","v":""},{"$f":"IF('名刺管理（Eight）'!F309=\"\",\"\",'名刺管理（Eight）'!F309)","v":""},{"$f":"IF('名刺管理（Eight）'!G309=\"\",\"\",IF(LEFT('名刺管理（Eight）'!G309,3)=\"神奈川\",LEFT('名刺管理（Eight）'!G309,4),IF(LEFT('名刺管理（Eight）'!G309,3)=\"和歌山\",LEFT('名刺管理（Eight）'!G309,4),IF(LEFT('名刺管理（Eight）'!G309,3)=\"鹿児島\",LEFT('名刺管理（Eight）'!G309,4),LEFT('名刺管理（Eight）'!G309,3)))))","v":""},{"$f":"IF(K311=\"\",\"\",IF(LEN(K311)=3,MID('名刺管理（Eight）'!G309,4,50),MID('名刺管理（Eight）'!G309,5,50)))","v":""},{"$f":"IF('名刺管理（Eight）'!H309=\"\",\"\",'名刺管理（Eight）'!H309)","v":""},{"$f":"IF('名刺管理（Eight）'!K309=\"\",\"\",'名刺管理（Eight）'!K309)","v":""},{"$f":"IF('名刺管理（Eight）'!L309=\"\",\"\",'名刺管理（Eight）'!L309)","v":""},{"$f":"IF('名刺管理（Eight）'!M309=\"\",\"\",'名刺管理（Eight）'!M309)","v":""},{"$f":"IF('名刺管理（Eight）'!N309=\"\",\"\",TEXT('名刺管理（Eight）'!N309,\"yyyy/m/d\"))","v":""}]
[{"$f":"LEFT('名刺管理（Eight）'!D310,D312)","v":""},{"$f":"RIGHT('名刺管理（Eight）'!D310,E312)","v":""},{"$f":"IF('名刺管理（Eight）'!D310=\"\",\"\",IF(LEN('名刺管理（Eight）'!D310)=D312+E312,\"\",\"不一致\"))","v":""},null,null,{"$f":"IF('名刺管理（Eight）'!A310=\"\",\"\",'名刺管理（Eight）'!A310)","v":""},{"$f":"IF('名刺管理（Eight）'!B310=\"\",\"\",'名刺管理（Eight）'!B310)","v":""},{"$f":"IF('名刺管理（Eight）'!C310=\"\",\"\",'名刺管理（Eight）'!C310)","v":""},{"$f":"IF('名刺管理（Eight）'!E310=\"\",\"\",'名刺管理（Eight）'!E310)","v":""},{"$f":"IF('名刺管理（Eight）'!F310=\"\",\"\",'名刺管理（Eight）'!F310)","v":""},{"$f":"IF('名刺管理（Eight）'!G310=\"\",\"\",IF(LEFT('名刺管理（Eight）'!G310,3)=\"神奈川\",LEFT('名刺管理（Eight）'!G310,4),IF(LEFT('名刺管理（Eight）'!G310,3)=\"和歌山\",LEFT('名刺管理（Eight）'!G310,4),IF(LEFT('名刺管理（Eight）'!G310,3)=\"鹿児島\",LEFT('名刺管理（Eight）'!G310,4),LEFT('名刺管理（Eight）'!G310,3)))))","v":""},{"$f":"IF(K312=\"\",\"\",IF(LEN(K312)=3,MID('名刺管理（Eight）'!G310,4,50),MID('名刺管理（Eight）'!G310,5,50)))","v":""},{"$f":"IF('名刺管理（Eight）'!H310=\"\",\"\",'名刺管理（Eight）'!H310)","v":""},{"$f":"IF('名刺管理（Eight）'!K310=\"\",\"\",'名刺管理（Eight）'!K310)","v":""},{"$f":"IF('名刺管理（Eight）'!L310=\"\",\"\",'名刺管理（Eight）'!L310)","v":""},{"$f":"IF('名刺管理（Eight）'!M310=\"\",\"\",'名刺管理（Eight）'!M310)","v":""},{"$f":"IF('名刺管理（Eight）'!N310=\"\",\"\",TEXT('名刺管理（Eight）'!N310,\"yyyy/m/d\"))","v":""}]
[{"$f":"LEFT('名刺管理（Eight）'!D311,D313)","v":""},{"$f":"RIGHT('名刺管理（Eight）'!D311,E313)","v":""},{"$f":"IF('名刺管理（Eight）'!D311=\"\",\"\",IF(LEN('名刺管理（Eight）'!D311)=D313+E313,\"\",\"不一致\"))","v":""},null,null,{"$f":"IF('名刺管理（Eight）'!A311=\"\",\"\",'名刺管理（Eight）'!A311)","v":""},{"$f":"IF('名刺管理（Eight）'!B311=\"\",\"\",'名刺管理（Eight）'!B311)","v":""},{"$f":"IF('名刺管理（Eight）'!C311=\"\",\"\",'名刺管理（Eight）'!C311)","v":""},{"$f":"IF('名刺管理（Eight）'!E311=\"\",\"\",'名刺管理（Eight）'!E311)","v":""},{"$f":"IF('名刺管理（Eight）'!F311=\"\",\"\",'名刺管理（Eight）'!F311)","v":""},{"$f":"IF('名刺管理（Eight）'!G311=\"\",\"\",IF(LEFT('名刺管理（Eight）'!G311,3)=\"神奈川\",LEFT('名刺管理（Eight）'!G311,4),IF(LEFT('名刺管理（Eight）'!G311,3)=\"和歌山\",LEFT('名刺管理（Eight）'!G311,4),IF(LEFT('名刺管理（Eight）'!G311,3)=\"鹿児島\",LEFT('名刺管理（Eight）'!G311,4),LEFT('名刺管理（Eight）'!G311,3)))))","v":""},{"$f":"IF(K313=\"\",\"\",IF(LEN(K313)=3,MID('名刺管理（Eight）'!G311,4,50),MID('名刺管理（Eight）'!G311,5,50)))","v":""},{"$f":"IF('名刺管理（Eight）'!H311=\"\",\"\",'名刺管理（Eight）'!H311)","v":""},{"$f":"IF('名刺管理（Eight）'!K311=\"\",\"\",'名刺管理（Eight）'!K311)","v":""},{"$f":"IF('名刺管理（Eight）'!L311=\"\",\"\",'名刺管理（Eight）'!L311)","v":""},{"$f":"IF('名刺管理（Eight）'!M311=\"\",\"\",'名刺管理（Eight）'!M311)","v":""},{"$f":"IF('名刺管理（Eight）'!N311=\"\",\"\",TEXT('名刺管理（Eight）'!N311,\"yyyy/m/d\"))","v":""}]
[{"$f":"LEFT('名刺管理（Eight）'!D312,D314)","v":""},{"$f":"RIGHT('名刺管理（Eight）'!D312,E314)","v":""},{"$f":"IF('名刺管理（Eight）'!D312=\"\",\"\",IF(LEN('名刺管理（Eight）'!D312)=D314+E314,\"\",\"不一致\"))","v":""},null,null,{"$f":"IF('名刺管理（Eight）'!A312=\"\",\"\",'名刺管理（Eight）'!A312)","v":""},{"$f":"IF('名刺管理（Eight）'!B312=\"\",\"\",'名刺管理（Eight）'!B312)","v":""},{"$f":"IF('名刺管理（Eight）'!C312=\"\",\"\",'名刺管理（Eight）'!C312)","v":""},{"$f":"IF('名刺管理（Eight）'!E312=\"\",\"\",'名刺管理（Eight）'!E312)","v":""},{"$f":"IF('名刺管理（Eight）'!F312=\"\",\"\",'名刺管理（Eight）'!F312)","v":""},{"$f":"IF('名刺管理（Eight）'!G312=\"\",\"\",IF(LEFT('名刺管理（Eight）'!G312,3)=\"神奈川\",LEFT('名刺管理（Eight）'!G312,4),IF(LEFT('名刺管理（Eight）'!G312,3)=\"和歌山\",LEFT('名刺管理（Eight）'!G312,4),IF(LEFT('名刺管理（Eight）'!G312,3)=\"鹿児島\",LEFT('名刺管理（Eight）'!G312,4),LEFT('名刺管理（Eight）'!G312,3)))))","v":""},{"$f":"IF(K314=\"\",\"\",IF(LEN(K314)=3,MID('名刺管理（Eight）'!G312,4,50),MID('名刺管理（Eight）'!G312,5,50)))","v":""},{"$f":"IF('名刺管理（Eight）'!H312=\"\",\"\",'名刺管理（Eight）'!H312)","v":""},{"$f":"IF('名刺管理（Eight）'!K312=\"\",\"\",'名刺管理（Eight）'!K312)","v":""},{"$f":"IF('名刺管理（Eight）'!L312=\"\",\"\",'名刺管理（Eight）'!L312)","v":""},{"$f":"IF('名刺管理（Eight）'!M312=\"\",\"\",'名刺管理（Eight）'!M312)","v":""},{"$f":"IF('名刺管理（Eight）'!N312=\"\",\"\",TEXT('名刺管理（Eight）'!N312,\"yyyy/m/d\"))","v":""}]
[{"$f":"LEFT('名刺管理（Eight）'!D313,D315)","v":""},{"$f":"RIGHT('名刺管理（Eight）'!D313,E315)","v":""},{"$f":"IF('名刺管理（Eight）'!D313=\"\",\"\",IF(LEN('名刺管理（Eight）'!D313)=D315+E315,\"\",\"不一致\"))","v":""},null,null,{"$f":"IF('名刺管理（Eight）'!A313=\"\",\"\",'名刺管理（Eight）'!A313)","v":""},{"$f":"IF('名刺管理（Eight）'!B313=\"\",\"\",'名刺管理（Eight）'!B313)","v":""},{"$f":"IF('名刺管理（Eight）'!C313=\"\",\"\",'名刺管理（Eight）'!C313)","v":""},{"$f":"IF('名刺管理（Eight）'!E313=\"\",\"\",'名刺管理（Eight）'!E313)","v":""},{"$f":"IF('名刺管理（Eight）'!F313=\"\",\"\",'名刺管理（Eight）'!F313)","v":""},{"$f":"IF('名刺管理（Eight）'!G313=\"\",\"\",IF(LEFT('名刺管理（Eight）'!G313,3)=\"神奈川\",LEFT('名刺管理（Eight）'!G313,4),IF(LEFT('名刺管理（Eight）'!G313,3)=\"和歌山\",LEFT('名刺管理（Eight）'!G313,4),IF(LEFT('名刺管理（Eight）'!G313,3)=\"鹿児島\",LEFT('名刺管理（Eight）'!G313,4),LEFT('名刺管理（Eight）'!G313,3)))))","v":""},{"$f":"IF(K315=\"\",\"\",IF(LEN(K315)=3,MID('名刺管理（Eight）'!G313,4,50),MID('名刺管理（Eight）'!G313,5,50)))","v":""},{"$f":"IF('名刺管理（Eight）'!H313=\"\",\"\",'名刺管理（Eight）'!H313)","v":""},{"$f":"IF('名刺管理（Eight）'!K313=\"\",\"\",'名刺管理（Eight）'!K313)","v":""},{"$f":"IF('名刺管理（Eight）'!L313=\"\",\"\",'名刺管理（Eight）'!L313)","v":""},{"$f":"IF('名刺管理（Eight）'!M313=\"\",\"\",'名刺管理（Eight）'!M313)","v":""},{"$f":"IF('名刺管理（Eight）'!N313=\"\",\"\",TEXT('名刺管理（Eight）'!N313,\"yyyy/m/d\"))","v":""}]
[{"$f":"LEFT('名刺管理（Eight）'!D314,D316)","v":""},{"$f":"RIGHT('名刺管理（Eight）'!D314,E316)","v":""},{"$f":"IF('名刺管理（Eight）'!D314=\"\",\"\",IF(LEN('名刺管理（Eight）'!D314)=D316+E316,\"\",\"不一致\"))","v":""},null,null,{"$f":"IF('名刺管理（Eight）'!A314=\"\",\"\",'名刺管理（Eight）'!A314)","v":""},{"$f":"IF('名刺管理（Eight）'!B314=\"\",\"\",'名刺管理（Eight）'!B314)","v":""},{"$f":"IF('名刺管理（Eight）'!C314=\"\",\"\",'名刺管理（Eight）'!C314)","v":""},{"$f":"IF('名刺管理（Eight）'!E314=\"\",\"\",'名刺管理（Eight）'!E314)","v":""},{"$f":"IF('名刺管理（Eight）'!F314=\"\",\"\",'名刺管理（Eight）'!F314)","v":""},{"$f":"IF('名刺管理（Eight）'!G314=\"\",\"\",IF(LEFT('名刺管理（Eight）'!G314,3)=\"神奈川\",LEFT('名刺管理（Eight）'!G314,4),IF(LEFT('名刺管理（Eight）'!G314,3)=\"和歌山\",LEFT('名刺管理（Eight）'!G314,4),IF(LEFT('名刺管理（Eight）'!G314,3)=\"鹿児島\",LEFT('名刺管理（Eight）'!G314,4),LEFT('名刺管理（Eight）'!G314,3)))))","v":""},{"$f":"IF(K316=\"\",\"\",IF(LEN(K316)=3,MID('名刺管理（Eight）'!G314,4,50),MID('名刺管理（Eight）'!G314,5,50)))","v":""},{"$f":"IF('名刺管理（Eight）'!H314=\"\",\"\",'名刺管理（Eight）'!H314)","v":""},{"$f":"IF('名刺管理（Eight）'!K314=\"\",\"\",'名刺管理（Eight）'!K314)","v":""},{"$f":"IF('名刺管理（Eight）'!L314=\"\",\"\",'名刺管理（Eight）'!L314)","v":""},{"$f":"IF('名刺管理（Eight）'!M314=\"\",\"\",'名刺管理（Eight）'!M314)","v":""},{"$f":"IF('名刺管理（Eight）'!N314=\"\",\"\",TEXT('名刺管理（Eight）'!N314,\"yyyy/m/d\"))","v":""}]
[{"$f":"LEFT('名刺管理（Eight）'!D315,D317)","v":""},{"$f":"RIGHT('名刺管理（Eight）'!D315,E317)","v":""},{"$f":"IF('名刺管理（Eight）'!D315=\"\",\"\",IF(LEN('名刺管理（Eight）'!D315)=D317+E317,\"\",\"不一致\"))","v":""},null,null,{"$f":"IF('名刺管理（Eight）'!A315=\"\",\"\",'名刺管理（Eight）'!A315)","v":""},{"$f":"IF('名刺管理（Eight）'!B315=\"\",\"\",'名刺管理（Eight）'!B315)","v":""},{"$f":"IF('名刺管理（Eight）'!C315=\"\",\"\",'名刺管理（Eight）'!C315)","v":""},{"$f":"IF('名刺管理（Eight）'!E315=\"\",\"\",'名刺管理（Eight）'!E315)","v":""},{"$f":"IF('名刺管理（Eight）'!F315=\"\",\"\",'名刺管理（Eight）'!F315)","v":""},{"$f":"IF('名刺管理（Eight）'!G315=\"\",\"\",IF(LEFT('名刺管理（Eight）'!G315,3)=\"神奈川\",LEFT('名刺管理（Eight）'!G315,4),IF(LEFT('名刺管理（Eight）'!G315,3)=\"和歌山\",LEFT('名刺管理（Eight）'!G315,4),IF(LEFT('名刺管理（Eight）'!G315,3)=\"鹿児島\",LEFT('名刺管理（Eight）'!G315,4),LEFT('名刺管理（Eight）'!G315,3)))))","v":""},{"$f":"IF(K317=\"\",\"\",IF(LEN(K317)=3,MID('名刺管理（Eight）'!G315,4,50),MID('名刺管理（Eight）'!G315,5,50)))","v":""},{"$f":"IF('名刺管理（Eight）'!H315=\"\",\"\",'名刺管理（Eight）'!H315)","v":""},{"$f":"IF('名刺管理（Eight）'!K315=\"\",\"\",'名刺管理（Eight）'!K315)","v":""},{"$f":"IF('名刺管理（Eight）'!L315=\"\",\"\",'名刺管理（Eight）'!L315)","v":""},{"$f":"IF('名刺管理（Eight）'!M315=\"\",\"\",'名刺管理（Eight）'!M315)","v":""},{"$f":"IF('名刺管理（Eight）'!N315=\"\",\"\",TEXT('名刺管理（Eight）'!N315,\"yyyy/m/d\"))","v":""}]
[{"$f":"LEFT('名刺管理（Eight）'!D316,D318)","v":""},{"$f":"RIGHT('名刺管理（Eight）'!D316,E318)","v":""},{"$f":"IF('名刺管理（Eight）'!D316=\"\",\"\",IF(LEN('名刺管理（Eight）'!D316)=D318+E318,\"\",\"不一致\"))","v":""},null,null,{"$f":"IF('名刺管理（Eight）'!A316=\"\",\"\",'名刺管理（Eight）'!A316)","v":""},{"$f":"IF('名刺管理（Eight）'!B316=\"\",\"\",'名刺管理（Eight）'!B316)","v":""},{"$f":"IF('名刺管理（Eight）'!C316=\"\",\"\",'名刺管理（Eight）'!C316)","v":""},{"$f":"IF('名刺管理（Eight）'!E316=\"\",\"\",'名刺管理（Eight）'!E316)","v":""},{"$f":"IF('名刺管理（Eight）'!F316=\"\",\"\",'名刺管理（Eight）'!F316)","v":""},{"$f":"IF('名刺管理（Eight）'!G316=\"\",\"\",IF(LEFT('名刺管理（Eight）'!G316,3)=\"神奈川\",LEFT('名刺管理（Eight）'!G316,4),IF(LEFT('名刺管理（Eight）'!G316,3)=\"和歌山\",LEFT('名刺管理（Eight）'!G316,4),IF(LEFT('名刺管理（Eight）'!G316,3)=\"鹿児島\",LEFT('名刺管理（Eight）'!G316,4),LEFT('名刺管理（Eight）'!G316,3)))))","v":""},{"$f":"IF(K318=\"\",\"\",IF(LEN(K318)=3,MID('名刺管理（Eight）'!G316,4,50),MID('名刺管理（Eight）'!G316,5,50)))","v":""},{"$f":"IF('名刺管理（Eight）'!H316=\"\",\"\",'名刺管理（Eight）'!H316)","v":""},{"$f":"IF('名刺管理（Eight）'!K316=\"\",\"\",'名刺管理（Eight）'!K316)","v":""},{"$f":"IF('名刺管理（Eight）'!L316=\"\",\"\",'名刺管理（Eight）'!L316)","v":""},{"$f":"IF('名刺管理（Eight）'!M316=\"\",\"\",'名刺管理（Eight）'!M316)","v":""},{"$f":"IF('名刺管理（Eight）'!N316=\"\",\"\",TEXT('名刺管理（Eight）'!N316,\"yyyy/m/d\"))","v":""}]
[{"$f":"LEFT('名刺管理（Eight）'!D317,D319)","v":""},{"$f":"RIGHT('名刺管理（Eight）'!D317,E319)","v":""},{"$f":"IF('名刺管理（Eight）'!D317=\"\",\"\",IF(LEN('名刺管理（Eight）'!D317)=D319+E319,\"\",\"不一致\"))","v":""},null,null,{"$f":"IF('名刺管理（Eight）'!A317=\"\",\"\",'名刺管理（Eight）'!A317)","v":""},{"$f":"IF('名刺管理（Eight）'!B317=\"\",\"\",'名刺管理（Eight）'!B317)","v":""},{"$f":"IF('名刺管理（Eight）'!C317=\"\",\"\",'名刺管理（Eight）'!C317)","v":""},{"$f":"IF('名刺管理（Eight）'!E317=\"\",\"\",'名刺管理（Eight）'!E317)","v":""},{"$f":"IF('名刺管理（Eight）'!F317=\"\",\"\",'名刺管理（Eight）'!F317)","v":""},{"$f":"IF('名刺管理（Eight）'!G317=\"\",\"\",IF(LEFT('名刺管理（Eight）'!G317,3)=\"神奈川\",LEFT('名刺管理（Eight）'!G317,4),IF(LEFT('名刺管理（Eight）'!G317,3)=\"和歌山\",LEFT('名刺管理（Eight）'!G317,4),IF(LEFT('名刺管理（Eight）'!G317,3)=\"鹿児島\",LEFT('名刺管理（Eight）'!G317,4),LEFT('名刺管理（Eight）'!G317,3)))))","v":""},{"$f":"IF(K319=\"\",\"\",IF(LEN(K319)=3,MID('名刺管理（Eight）'!G317,4,50),MID('名刺管理（Eight）'!G317,5,50)))","v":""},{"$f":"IF('名刺管理（Eight）'!H317=\"\",\"\",'名刺管理（Eight）'!H317)","v":""},{"$f":"IF('名刺管理（Eight）'!K317=\"\",\"\",'名刺管理（Eight）'!K317)","v":""},{"$f":"IF('名刺管理（Eight）'!L317=\"\",\"\",'名刺管理（Eight）'!L317)","v":""},{"$f":"IF('名刺管理（Eight）'!M317=\"\",\"\",'名刺管理（Eight）'!M317)","v":""},{"$f":"IF('名刺管理（Eight）'!N317=\"\",\"\",TEXT('名刺管理（Eight）'!N317,\"yyyy/m/d\"))","v":""}]
[{"$f":"LEFT('名刺管理（Eight）'!D318,D320)","v":""},{"$f":"RIGHT('名刺管理（Eight）'!D318,E320)","v":""},{"$f":"IF('名刺管理（Eight）'!D318=\"\",\"\",IF(LEN('名刺管理（Eight）'!D318)=D320+E320,\"\",\"不一致\"))","v":""},null,null,{"$f":"IF('名刺管理（Eight）'!A318=\"\",\"\",'名刺管理（Eight）'!A318)","v":""},{"$f":"IF('名刺管理（Eight）'!B318=\"\",\"\",'名刺管理（Eight）'!B318)","v":""},{"$f":"IF('名刺管理（Eight）'!C318=\"\",\"\",'名刺管理（Eight）'!C318)","v":""},{"$f":"IF('名刺管理（Eight）'!E318=\"\",\"\",'名刺管理（Eight）'!E318)","v":""},{"$f":"IF('名刺管理（Eight）'!F318=\"\",\"\",'名刺管理（Eight）'!F318)","v":""},{"$f":"IF('名刺管理（Eight）'!G318=\"\",\"\",IF(LEFT('名刺管理（Eight）'!G318,3)=\"神奈川\",LEFT('名刺管理（Eight）'!G318,4),IF(LEFT('名刺管理（Eight）'!G318,3)=\"和歌山\",LEFT('名刺管理（Eight）'!G318,4),IF(LEFT('名刺管理（Eight）'!G318,3)=\"鹿児島\",LEFT('名刺管理（Eight）'!G318,4),LEFT('名刺管理（Eight）'!G318,3)))))","v":""},{"$f":"IF(K320=\"\",\"\",IF(LEN(K320)=3,MID('名刺管理（Eight）'!G318,4,50),MID('名刺管理（Eight）'!G318,5,50)))","v":""},{"$f":"IF('名刺管理（Eight）'!H318=\"\",\"\",'名刺管理（Eight）'!H318)","v":""},{"$f":"IF('名刺管理（Eight）'!K318=\"\",\"\",'名刺管理（Eight）'!K318)","v":""},{"$f":"IF('名刺管理（Eight）'!L318=\"\",\"\",'名刺管理（Eight）'!L318)","v":""},{"$f":"IF('名刺管理（Eight）'!M318=\"\",\"\",'名刺管理（Eight）'!M318)","v":""},{"$f":"IF('名刺管理（Eight）'!N318=\"\",\"\",TEXT('名刺管理（Eight）'!N318,\"yyyy/m/d\"))","v":""}]
[{"$f":"LEFT('名刺管理（Eight）'!D319,D321)","v":""},{"$f":"RIGHT('名刺管理（Eight）'!D319,E321)","v":""},{"$f":"IF('名刺管理（Eight）'!D319=\"\",\"\",IF(LEN('名刺管理（Eight）'!D319)=D321+E321,\"\",\"不一致\"))","v":""},null,null,{"$f":"IF('名刺管理（Eight）'!A319=\"\",\"\",'名刺管理（Eight）'!A319)","v":""},{"$f":"IF('名刺管理（Eight）'!B319=\"\",\"\",'名刺管理（Eight）'!B319)","v":""},{"$f":"IF('名刺管理（Eight）'!C319=\"\",\"\",'名刺管理（Eight）'!C319)","v":""},{"$f":"IF('名刺管理（Eight）'!E319=\"\",\"\",'名刺管理（Eight）'!E319)","v":""},{"$f":"IF('名刺管理（Eight）'!F319=\"\",\"\",'名刺管理（Eight）'!F319)","v":""},{"$f":"IF('名刺管理（Eight）'!G319=\"\",\"\",IF(LEFT('名刺管理（Eight）'!G319,3)=\"神奈川\",LEFT('名刺管理（Eight）'!G319,4),IF(LEFT('名刺管理（Eight）'!G319,3)=\"和歌山\",LEFT('名刺管理（Eight）'!G319,4),IF(LEFT('名刺管理（Eight）'!G319,3)=\"鹿児島\",LEFT('名刺管理（Eight）'!G319,4),LEFT('名刺管理（Eight）'!G319,3)))))","v":""},{"$f":"IF(K321=\"\",\"\",IF(LEN(K321)=3,MID('名刺管理（Eight）'!G319,4,50),MID('名刺管理（Eight）'!G319,5,50)))","v":""},{"$f":"IF('名刺管理（Eight）'!H319=\"\",\"\",'名刺管理（Eight）'!H319)","v":""},{"$f":"IF('名刺管理（Eight）'!K319=\"\",\"\",'名刺管理（Eight）'!K319)","v":""},{"$f":"IF('名刺管理（Eight）'!L319=\"\",\"\",'名刺管理（Eight）'!L319)","v":""},{"$f":"IF('名刺管理（Eight）'!M319=\"\",\"\",'名刺管理（Eight）'!M319)","v":""},{"$f":"IF('名刺管理（Eight）'!N319=\"\",\"\",TEXT('名刺管理（Eight）'!N319,\"yyyy/m/d\"))","v":""}]
[{"$f":"LEFT('名刺管理（Eight）'!D320,D322)","v":""},{"$f":"RIGHT('名刺管理（Eight）'!D320,E322)","v":""},{"$f":"IF('名刺管理（Eight）'!D320=\"\",\"\",IF(LEN('名刺管理（Eight）'!D320)=D322+E322,\"\",\"不一致\"))","v":""},null,null,{"$f":"IF('名刺管理（Eight）'!A320=\"\",\"\",'名刺管理（Eight）'!A320)","v":""},{"$f":"IF('名刺管理（Eight）'!B320=\"\",\"\",'名刺管理（Eight）'!B320)","v":""},{"$f":"IF('名刺管理（Eight）'!C320=\"\",\"\",'名刺管理（Eight）'!C320)","v":""},{"$f":"IF('名刺管理（Eight）'!E320=\"\",\"\",'名刺管理（Eight）'!E320)","v":""},{"$f":"IF('名刺管理（Eight）'!F320=\"\",\"\",'名刺管理（Eight）'!F320)","v":""},{"$f":"IF('名刺管理（Eight）'!G320=\"\",\"\",IF(LEFT('名刺管理（Eight）'!G320,3)=\"神奈川\",LEFT('名刺管理（Eight）'!G320,4),IF(LEFT('名刺管理（Eight）'!G320,3)=\"和歌山\",LEFT('名刺管理（Eight）'!G320,4),IF(LEFT('名刺管理（Eight）'!G320,3)=\"鹿児島\",LEFT('名刺管理（Eight）'!G320,4),LEFT('名刺管理（Eight）'!G320,3)))))","v":""},{"$f":"IF(K322=\"\",\"\",IF(LEN(K322)=3,MID('名刺管理（Eight）'!G320,4,50),MID('名刺管理（Eight）'!G320,5,50)))","v":""},{"$f":"IF('名刺管理（Eight）'!H320=\"\",\"\",'名刺管理（Eight）'!H320)","v":""},{"$f":"IF('名刺管理（Eight）'!K320=\"\",\"\",'名刺管理（Eight）'!K320)","v":""},{"$f":"IF('名刺管理（Eight）'!L320=\"\",\"\",'名刺管理（Eight）'!L320)","v":""},{"$f":"IF('名刺管理（Eight）'!M320=\"\",\"\",'名刺管理（Eight）'!M320)","v":""},{"$f":"IF('名刺管理（Eight）'!N320=\"\",\"\",TEXT('名刺管理（Eight）'!N320,\"yyyy/m/d\"))","v":""}]
[{"$f":"LEFT('名刺管理（Eight）'!D321,D323)","v":""},{"$f":"RIGHT('名刺管理（Eight）'!D321,E323)","v":""},{"$f":"IF('名刺管理（Eight）'!D321=\"\",\"\",IF(LEN('名刺管理（Eight）'!D321)=D323+E323,\"\",\"不一致\"))","v":""},null,null,{"$f":"IF('名刺管理（Eight）'!A321=\"\",\"\",'名刺管理（Eight）'!A321)","v":""},{"$f":"IF('名刺管理（Eight）'!B321=\"\",\"\",'名刺管理（Eight）'!B321)","v":""},{"$f":"IF('名刺管理（Eight）'!C321=\"\",\"\",'名刺管理（Eight）'!C321)","v":""},{"$f":"IF('名刺管理（Eight）'!E321=\"\",\"\",'名刺管理（Eight）'!E321)","v":""},{"$f":"IF('名刺管理（Eight）'!F321=\"\",\"\",'名刺管理（Eight）'!F321)","v":""},{"$f":"IF('名刺管理（Eight）'!G321=\"\",\"\",IF(LEFT('名刺管理（Eight）'!G321,3)=\"神奈川\",LEFT('名刺管理（Eight）'!G321,4),IF(LEFT('名刺管理（Eight）'!G321,3)=\"和歌山\",LEFT('名刺管理（Eight）'!G321,4),IF(LEFT('名刺管理（Eight）'!G321,3)=\"鹿児島\",LEFT('名刺管理（Eight）'!G321,4),LEFT('名刺管理（Eight）'!G321,3)))))","v":""},{"$f":"IF(K323=\"\",\"\",IF(LEN(K323)=3,MID('名刺管理（Eight）'!G321,4,50),MID('名刺管理（Eight）'!G321,5,50)))","v":""},{"$f":"IF('名刺管理（Eight）'!H321=\"\",\"\",'名刺管理（Eight）'!H321)","v":""},{"$f":"IF('名刺管理（Eight）'!K321=\"\",\"\",'名刺管理（Eight）'!K321)","v":""},{"$f":"IF('名刺管理（Eight）'!L321=\"\",\"\",'名刺管理（Eight）'!L321)","v":""},{"$f":"IF('名刺管理（Eight）'!M321=\"\",\"\",'名刺管理（Eight）'!M321)","v":""},{"$f":"IF('名刺管理（Eight）'!N321=\"\",\"\",TEXT('名刺管理（Eight）'!N321,\"yyyy/m/d\"))","v":""}]
[{"$f":"LEFT('名刺管理（Eight）'!D322,D324)","v":""},{"$f":"RIGHT('名刺管理（Eight）'!D322,E324)","v":""},{"$f":"IF('名刺管理（Eight）'!D322=\"\",\"\",IF(LEN('名刺管理（Eight）'!D322)=D324+E324,\"\",\"不一致\"))","v":""},null,null,{"$f":"IF('名刺管理（Eight）'!A322=\"\",\"\",'名刺管理（Eight）'!A322)","v":""},{"$f":"IF('名刺管理（Eight）'!B322=\"\",\"\",'名刺管理（Eight）'!B322)","v":""},{"$f":"IF('名刺管理（Eight）'!C322=\"\",\"\",'名刺管理（Eight）'!C322)","v":""},{"$f":"IF('名刺管理（Eight）'!E322=\"\",\"\",'名刺管理（Eight）'!E322)","v":""},{"$f":"IF('名刺管理（Eight）'!F322=\"\",\"\",'名刺管理（Eight）'!F322)","v":""},{"$f":"IF('名刺管理（Eight）'!G322=\"\",\"\",IF(LEFT('名刺管理（Eight）'!G322,3)=\"神奈川\",LEFT('名刺管理（Eight）'!G322,4),IF(LEFT('名刺管理（Eight）'!G322,3)=\"和歌山\",LEFT('名刺管理（Eight）'!G322,4),IF(LEFT('名刺管理（Eight）'!G322,3)=\"鹿児島\",LEFT('名刺管理（Eight）'!G322,4),LEFT('名刺管理（Eight）'!G322,3)))))","v":""},{"$f":"IF(K324=\"\",\"\",IF(LEN(K324)=3,MID('名刺管理（Eight）'!G322,4,50),MID('名刺管理（Eight）'!G322,5,50)))","v":""},{"$f":"IF('名刺管理（Eight）'!H322=\"\",\"\",'名刺管理（Eight）'!H322)","v":""},{"$f":"IF('名刺管理（Eight）'!K322=\"\",\"\",'名刺管理（Eight）'!K322)","v":""},{"$f":"IF('名刺管理（Eight）'!L322=\"\",\"\",'名刺管理（Eight）'!L322)","v":""},{"$f":"IF('名刺管理（Eight）'!M322=\"\",\"\",'名刺管理（Eight）'!M322)","v":""},{"$f":"IF('名刺管理（Eight）'!N322=\"\",\"\",TEXT('名刺管理（Eight）'!N322,\"yyyy/m/d\"))","v":""}]
[{"$f":"LEFT('名刺管理（Eight）'!D323,D325)","v":""},{"$f":"RIGHT('名刺管理（Eight）'!D323,E325)","v":""},{"$f":"IF('名刺管理（Eight）'!D323=\"\",\"\",IF(LEN('名刺管理（Eight）'!D323)=D325+E325,\"\",\"不一致\"))","v":""},null,null,{"$f":"IF('名刺管理（Eight）'!A323=\"\",\"\",'名刺管理（Eight）'!A323)","v":""},{"$f":"IF('名刺管理（Eight）'!B323=\"\",\"\",'名刺管理（Eight）'!B323)","v":""},{"$f":"IF('名刺管理（Eight）'!C323=\"\",\"\",'名刺管理（Eight）'!C323)","v":""},{"$f":"IF('名刺管理（Eight）'!E323=\"\",\"\",'名刺管理（Eight）'!E323)","v":""},{"$f":"IF('名刺管理（Eight）'!F323=\"\",\"\",'名刺管理（Eight）'!F323)","v":""},{"$f":"IF('名刺管理（Eight）'!G323=\"\",\"\",IF(LEFT('名刺管理（Eight）'!G323,3)=\"神奈川\",LEFT('名刺管理（Eight）'!G323,4),IF(LEFT('名刺管理（Eight）'!G323,3)=\"和歌山\",LEFT('名刺管理（Eight）'!G323,4),IF(LEFT('名刺管理（Eight）'!G323,3)=\"鹿児島\",LEFT('名刺管理（Eight）'!G323,4),LEFT('名刺管理（Eight）'!G323,3)))))","v":""},{"$f":"IF(K325=\"\",\"\",IF(LEN(K325)=3,MID('名刺管理（Eight）'!G323,4,50),MID('名刺管理（Eight）'!G323,5,50)))","v":""},{"$f":"IF('名刺管理（Eight）'!H323=\"\",\"\",'名刺管理（Eight）'!H323)","v":""},{"$f":"IF('名刺管理（Eight）'!K323=\"\",\"\",'名刺管理（Eight）'!K323)","v":""},{"$f":"IF('名刺管理（Eight）'!L323=\"\",\"\",'名刺管理（Eight）'!L323)","v":""},{"$f":"IF('名刺管理（Eight）'!M323=\"\",\"\",'名刺管理（Eight）'!M323)","v":""},{"$f":"IF('名刺管理（Eight）'!N323=\"\",\"\",TEXT('名刺管理（Eight）'!N323,\"yyyy/m/d\"))","v":""}]
[{"$f":"LEFT('名刺管理（Eight）'!D324,D326)","v":""},{"$f":"RIGHT('名刺管理（Eight）'!D324,E326)","v":""},{"$f":"IF('名刺管理（Eight）'!D324=\"\",\"\",IF(LEN('名刺管理（Eight）'!D324)=D326+E326,\"\",\"不一致\"))","v":""},null,null,{"$f":"IF('名刺管理（Eight）'!A324=\"\",\"\",'名刺管理（Eight）'!A324)","v":""},{"$f":"IF('名刺管理（Eight）'!B324=\"\",\"\",'名刺管理（Eight）'!B324)","v":""},{"$f":"IF('名刺管理（Eight）'!C324=\"\",\"\",'名刺管理（Eight）'!C324)","v":""},{"$f":"IF('名刺管理（Eight）'!E324=\"\",\"\",'名刺管理（Eight）'!E324)","v":""},{"$f":"IF('名刺管理（Eight）'!F324=\"\",\"\",'名刺管理（Eight）'!F324)","v":""},{"$f":"IF('名刺管理（Eight）'!G324=\"\",\"\",IF(LEFT('名刺管理（Eight）'!G324,3)=\"神奈川\",LEFT('名刺管理（Eight）'!G324,4),IF(LEFT('名刺管理（Eight）'!G324,3)=\"和歌山\",LEFT('名刺管理（Eight）'!G324,4),IF(LEFT('名刺管理（Eight）'!G324,3)=\"鹿児島\",LEFT('名刺管理（Eight）'!G324,4),LEFT('名刺管理（Eight）'!G324,3)))))","v":""},{"$f":"IF(K326=\"\",\"\",IF(LEN(K326)=3,MID('名刺管理（Eight）'!G324,4,50),MID('名刺管理（Eight）'!G324,5,50)))","v":""},{"$f":"IF('名刺管理（Eight）'!H324=\"\",\"\",'名刺管理（Eight）'!H324)","v":""},{"$f":"IF('名刺管理（Eight）'!K324=\"\",\"\",'名刺管理（Eight）'!K324)","v":""},{"$f":"IF('名刺管理（Eight）'!L324=\"\",\"\",'名刺管理（Eight）'!L324)","v":""},{"$f":"IF('名刺管理（Eight）'!M324=\"\",\"\",'名刺管理（Eight）'!M324)","v":""},{"$f":"IF('名刺管理（Eight）'!N324=\"\",\"\",TEXT('名刺管理（Eight）'!N324,\"yyyy/m/d\"))","v":""}]
[{"$f":"LEFT('名刺管理（Eight）'!D325,D327)","v":""},{"$f":"RIGHT('名刺管理（Eight）'!D325,E327)","v":""},{"$f":"IF('名刺管理（Eight）'!D325=\"\",\"\",IF(LEN('名刺管理（Eight）'!D325)=D327+E327,\"\",\"不一致\"))","v":""},null,null,{"$f":"IF('名刺管理（Eight）'!A325=\"\",\"\",'名刺管理（Eight）'!A325)","v":""},{"$f":"IF('名刺管理（Eight）'!B325=\"\",\"\",'名刺管理（Eight）'!B325)","v":""},{"$f":"IF('名刺管理（Eight）'!C325=\"\",\"\",'名刺管理（Eight）'!C325)","v":""},{"$f":"IF('名刺管理（Eight）'!E325=\"\",\"\",'名刺管理（Eight）'!E325)","v":""},{"$f":"IF('名刺管理（Eight）'!F325=\"\",\"\",'名刺管理（Eight）'!F325)","v":""},{"$f":"IF('名刺管理（Eight）'!G325=\"\",\"\",IF(LEFT('名刺管理（Eight）'!G325,3)=\"神奈川\",LEFT('名刺管理（Eight）'!G325,4),IF(LEFT('名刺管理（Eight）'!G325,3)=\"和歌山\",LEFT('名刺管理（Eight）'!G325,4),IF(LEFT('名刺管理（Eight）'!G325,3)=\"鹿児島\",LEFT('名刺管理（Eight）'!G325,4),LEFT('名刺管理（Eight）'!G325,3)))))","v":""},{"$f":"IF(K327=\"\",\"\",IF(LEN(K327)=3,MID('名刺管理（Eight）'!G325,4,50),MID('名刺管理（Eight）'!G325,5,50)))","v":""},{"$f":"IF('名刺管理（Eight）'!H325=\"\",\"\",'名刺管理（Eight）'!H325)","v":""},{"$f":"IF('名刺管理（Eight）'!K325=\"\",\"\",'名刺管理（Eight）'!K325)","v":""},{"$f":"IF('名刺管理（Eight）'!L325=\"\",\"\",'名刺管理（Eight）'!L325)","v":""},{"$f":"IF('名刺管理（Eight）'!M325=\"\",\"\",'名刺管理（Eight）'!M325)","v":""},{"$f":"IF('名刺管理（Eight）'!N325=\"\",\"\",TEXT('名刺管理（Eight）'!N325,\"yyyy/m/d\"))","v":""}]
[{"$f":"LEFT('名刺管理（Eight）'!D326,D328)","v":""},{"$f":"RIGHT('名刺管理（Eight）'!D326,E328)","v":""},{"$f":"IF('名刺管理（Eight）'!D326=\"\",\"\",IF(LEN('名刺管理（Eight）'!D326)=D328+E328,\"\",\"不一致\"))","v":""},null,null,{"$f":"IF('名刺管理（Eight）'!A326=\"\",\"\",'名刺管理（Eight）'!A326)","v":""},{"$f":"IF('名刺管理（Eight）'!B326=\"\",\"\",'名刺管理（Eight）'!B326)","v":""},{"$f":"IF('名刺管理（Eight）'!C326=\"\",\"\",'名刺管理（Eight）'!C326)","v":""},{"$f":"IF('名刺管理（Eight）'!E326=\"\",\"\",'名刺管理（Eight）'!E326)","v":""},{"$f":"IF('名刺管理（Eight）'!F326=\"\",\"\",'名刺管理（Eight）'!F326)","v":""},{"$f":"IF('名刺管理（Eight）'!G326=\"\",\"\",IF(LEFT('名刺管理（Eight）'!G326,3)=\"神奈川\",LEFT('名刺管理（Eight）'!G326,4),IF(LEFT('名刺管理（Eight）'!G326,3)=\"和歌山\",LEFT('名刺管理（Eight）'!G326,4),IF(LEFT('名刺管理（Eight）'!G326,3)=\"鹿児島\",LEFT('名刺管理（Eight）'!G326,4),LEFT('名刺管理（Eight）'!G326,3)))))","v":""},{"$f":"IF(K328=\"\",\"\",IF(LEN(K328)=3,MID('名刺管理（Eight）'!G326,4,50),MID('名刺管理（Eight）'!G326,5,50)))","v":""},{"$f":"IF('名刺管理（Eight）'!H326=\"\",\"\",'名刺管理（Eight）'!H326)","v":""},{"$f":"IF('名刺管理（Eight）'!K326=\"\",\"\",'名刺管理（Eight）'!K326)","v":""},{"$f":"IF('名刺管理（Eight）'!L326=\"\",\"\",'名刺管理（Eight）'!L326)","v":""},{"$f":"IF('名刺管理（Eight）'!M326=\"\",\"\",'名刺管理（Eight）'!M326)","v":""},{"$f":"IF('名刺管理（Eight）'!N326=\"\",\"\",TEXT('名刺管理（Eight）'!N326,\"yyyy/m/d\"))","v":""}]
[{"$f":"LEFT('名刺管理（Eight）'!D327,D329)","v":""},{"$f":"RIGHT('名刺管理（Eight）'!D327,E329)","v":""},{"$f":"IF('名刺管理（Eight）'!D327=\"\",\"\",IF(LEN('名刺管理（Eight）'!D327)=D329+E329,\"\",\"不一致\"))","v":""},null,null,{"$f":"IF('名刺管理（Eight）'!A327=\"\",\"\",'名刺管理（Eight）'!A327)","v":""},{"$f":"IF('名刺管理（Eight）'!B327=\"\",\"\",'名刺管理（Eight）'!B327)","v":""},{"$f":"IF('名刺管理（Eight）'!C327=\"\",\"\",'名刺管理（Eight）'!C327)","v":""},{"$f":"IF('名刺管理（Eight）'!E327=\"\",\"\",'名刺管理（Eight）'!E327)","v":""},{"$f":"IF('名刺管理（Eight）'!F327=\"\",\"\",'名刺管理（Eight）'!F327)","v":""},{"$f":"IF('名刺管理（Eight）'!G327=\"\",\"\",IF(LEFT('名刺管理（Eight）'!G327,3)=\"神奈川\",LEFT('名刺管理（Eight）'!G327,4),IF(LEFT('名刺管理（Eight）'!G327,3)=\"和歌山\",LEFT('名刺管理（Eight）'!G327,4),IF(LEFT('名刺管理（Eight）'!G327,3)=\"鹿児島\",LEFT('名刺管理（Eight）'!G327,4),LEFT('名刺管理（Eight）'!G327,3)))))","v":""},{"$f":"IF(K329=\"\",\"\",IF(LEN(K329)=3,MID('名刺管理（Eight）'!G327,4,50),MID('名刺管理（Eight）'!G327,5,50)))","v":""},{"$f":"IF('名刺管理（Eight）'!H327=\"\",\"\",'名刺管理（Eight）'!H327)","v":""},{"$f":"IF('名刺管理（Eight）'!K327=\"\",\"\",'名刺管理（Eight）'!K327)","v":""},{"$f":"IF('名刺管理（Eight）'!L327=\"\",\"\",'名刺管理（Eight）'!L327)","v":""},{"$f":"IF('名刺管理（Eight）'!M327=\"\",\"\",'名刺管理（Eight）'!M327)","v":""},{"$f":"IF('名刺管理（Eight）'!N327=\"\",\"\",TEXT('名刺管理（Eight）'!N327,\"yyyy/m/d\"))","v":""}]
[{"$f":"LEFT('名刺管理（Eight）'!D328,D330)","v":""},{"$f":"RIGHT('名刺管理（Eight）'!D328,E330)","v":""},{"$f":"IF('名刺管理（Eight）'!D328=\"\",\"\",IF(LEN('名刺管理（Eight）'!D328)=D330+E330,\"\",\"不一致\"))","v":""},null,null,{"$f":"IF('名刺管理（Eight）'!A328=\"\",\"\",'名刺管理（Eight）'!A328)","v":""},{"$f":"IF('名刺管理（Eight）'!B328=\"\",\"\",'名刺管理（Eight）'!B328)","v":""},{"$f":"IF('名刺管理（Eight）'!C328=\"\",\"\",'名刺管理（Eight）'!C328)","v":""},{"$f":"IF('名刺管理（Eight）'!E328=\"\",\"\",'名刺管理（Eight）'!E328)","v":""},{"$f":"IF('名刺管理（Eight）'!F328=\"\",\"\",'名刺管理（Eight）'!F328)","v":""},{"$f":"IF('名刺管理（Eight）'!G328=\"\",\"\",IF(LEFT('名刺管理（Eight）'!G328,3)=\"神奈川\",LEFT('名刺管理（Eight）'!G328,4),IF(LEFT('名刺管理（Eight）'!G328,3)=\"和歌山\",LEFT('名刺管理（Eight）'!G328,4),IF(LEFT('名刺管理（Eight）'!G328,3)=\"鹿児島\",LEFT('名刺管理（Eight）'!G328,4),LEFT('名刺管理（Eight）'!G328,3)))))","v":""},{"$f":"IF(K330=\"\",\"\",IF(LEN(K330)=3,MID('名刺管理（Eight）'!G328,4,50),MID('名刺管理（Eight）'!G328,5,50)))","v":""},{"$f":"IF('名刺管理（Eight）'!H328=\"\",\"\",'名刺管理（Eight）'!H328)","v":""},{"$f":"IF('名刺管理（Eight）'!K328=\"\",\"\",'名刺管理（Eight）'!K328)","v":""},{"$f":"IF('名刺管理（Eight）'!L328=\"\",\"\",'名刺管理（Eight）'!L328)","v":""},{"$f":"IF('名刺管理（Eight）'!M328=\"\",\"\",'名刺管理（Eight）'!M328)","v":""},{"$f":"IF('名刺管理（Eight）'!N328=\"\",\"\",TEXT('名刺管理（Eight）'!N328,\"yyyy/m/d\"))","v":""}]
[{"$f":"LEFT('名刺管理（Eight）'!D329,D331)","v":""},{"$f":"RIGHT('名刺管理（Eight）'!D329,E331)","v":""},{"$f":"IF('名刺管理（Eight）'!D329=\"\",\"\",IF(LEN('名刺管理（Eight）'!D329)=D331+E331,\"\",\"不一致\"))","v":""},null,null,{"$f":"IF('名刺管理（Eight）'!A329=\"\",\"\",'名刺管理（Eight）'!A329)","v":""},{"$f":"IF('名刺管理（Eight）'!B329=\"\",\"\",'名刺管理（Eight）'!B329)","v":""},{"$f":"IF('名刺管理（Eight）'!C329=\"\",\"\",'名刺管理（Eight）'!C329)","v":""},{"$f":"IF('名刺管理（Eight）'!E329=\"\",\"\",'名刺管理（Eight）'!E329)","v":""},{"$f":"IF('名刺管理（Eight）'!F329=\"\",\"\",'名刺管理（Eight）'!F329)","v":""},{"$f":"IF('名刺管理（Eight）'!G329=\"\",\"\",IF(LEFT('名刺管理（Eight）'!G329,3)=\"神奈川\",LEFT('名刺管理（Eight）'!G329,4),IF(LEFT('名刺管理（Eight）'!G329,3)=\"和歌山\",LEFT('名刺管理（Eight）'!G329,4),IF(LEFT('名刺管理（Eight）'!G329,3)=\"鹿児島\",LEFT('名刺管理（Eight）'!G329,4),LEFT('名刺管理（Eight）'!G329,3)))))","v":""},{"$f":"IF(K331=\"\",\"\",IF(LEN(K331)=3,MID('名刺管理（Eight）'!G329,4,50),MID('名刺管理（Eight）'!G329,5,50)))","v":""},{"$f":"IF('名刺管理（Eight）'!H329=\"\",\"\",'名刺管理（Eight）'!H329)","v":""},{"$f":"IF('名刺管理（Eight）'!K329=\"\",\"\",'名刺管理（Eight）'!K329)","v":""},{"$f":"IF('名刺管理（Eight）'!L329=\"\",\"\",'名刺管理（Eight）'!L329)","v":""},{"$f":"IF('名刺管理（Eight）'!M329=\"\",\"\",'名刺管理（Eight）'!M329)","v":""},{"$f":"IF('名刺管理（Eight）'!N329=\"\",\"\",TEXT('名刺管理（Eight）'!N329,\"yyyy/m/d\"))","v":""}]
[{"$f":"LEFT('名刺管理（Eight）'!D330,D332)","v":""},{"$f":"RIGHT('名刺管理（Eight）'!D330,E332)","v":""},{"$f":"IF('名刺管理（Eight）'!D330=\"\",\"\",IF(LEN('名刺管理（Eight）'!D330)=D332+E332,\"\",\"不一致\"))","v":""},null,null,{"$f":"IF('名刺管理（Eight）'!A330=\"\",\"\",'名刺管理（Eight）'!A330)","v":""},{"$f":"IF('名刺管理（Eight）'!B330=\"\",\"\",'名刺管理（Eight）'!B330)","v":""},{"$f":"IF('名刺管理（Eight）'!C330=\"\",\"\",'名刺管理（Eight）'!C330)","v":""},{"$f":"IF('名刺管理（Eight）'!E330=\"\",\"\",'名刺管理（Eight）'!E330)","v":""},{"$f":"IF('名刺管理（Eight）'!F330=\"\",\"\",'名刺管理（Eight）'!F330)","v":""},{"$f":"IF('名刺管理（Eight）'!G330=\"\",\"\",IF(LEFT('名刺管理（Eight）'!G330,3)=\"神奈川\",LEFT('名刺管理（Eight）'!G330,4),IF(LEFT('名刺管理（Eight）'!G330,3)=\"和歌山\",LEFT('名刺管理（Eight）'!G330,4),IF(LEFT('名刺管理（Eight）'!G330,3)=\"鹿児島\",LEFT('名刺管理（Eight）'!G330,4),LEFT('名刺管理（Eight）'!G330,3)))))","v":""},{"$f":"IF(K332=\"\",\"\",IF(LEN(K332)=3,MID('名刺管理（Eight）'!G330,4,50),MID('名刺管理（Eight）'!G330,5,50)))","v":""},{"$f":"IF('名刺管理（Eight）'!H330=\"\",\"\",'名刺管理（Eight）'!H330)","v":""},{"$f":"IF('名刺管理（Eight）'!K330=\"\",\"\",'名刺管理（Eight）'!K330)","v":""},{"$f":"IF('名刺管理（Eight）'!L330=\"\",\"\",'名刺管理（Eight）'!L330)","v":""},{"$f":"IF('名刺管理（Eight）'!M330=\"\",\"\",'名刺管理（Eight）'!M330)","v":""},{"$f":"IF('名刺管理（Eight）'!N330=\"\",\"\",TEXT('名刺管理（Eight）'!N330,\"yyyy/m/d\"))","v":""}]
[{"$f":"LEFT('名刺管理（Eight）'!D331,D333)","v":""},{"$f":"RIGHT('名刺管理（Eight）'!D331,E333)","v":""},{"$f":"IF('名刺管理（Eight）'!D331=\"\",\"\",IF(LEN('名刺管理（Eight）'!D331)=D333+E333,\"\",\"不一致\"))","v":""},null,null,{"$f":"IF('名刺管理（Eight）'!A331=\"\",\"\",'名刺管理（Eight）'!A331)","v":""},{"$f":"IF('名刺管理（Eight）'!B331=\"\",\"\",'名刺管理（Eight）'!B331)","v":""},{"$f":"IF('名刺管理（Eight）'!C331=\"\",\"\",'名刺管理（Eight）'!C331)","v":""},{"$f":"IF('名刺管理（Eight）'!E331=\"\",\"\",'名刺管理（Eight）'!E331)","v":""},{"$f":"IF('名刺管理（Eight）'!F331=\"\",\"\",'名刺管理（Eight）'!F331)","v":""},{"$f":"IF('名刺管理（Eight）'!G331=\"\",\"\",IF(LEFT('名刺管理（Eight）'!G331,3)=\"神奈川\",LEFT('名刺管理（Eight）'!G331,4),IF(LEFT('名刺管理（Eight）'!G331,3)=\"和歌山\",LEFT('名刺管理（Eight）'!G331,4),IF(LEFT('名刺管理（Eight）'!G331,3)=\"鹿児島\",LEFT('名刺管理（Eight）'!G331,4),LEFT('名刺管理（Eight）'!G331,3)))))","v":""},{"$f":"IF(K333=\"\",\"\",IF(LEN(K333)=3,MID('名刺管理（Eight）'!G331,4,50),MID('名刺管理（Eight）'!G331,5,50)))","v":""},{"$f":"IF('名刺管理（Eight）'!H331=\"\",\"\",'名刺管理（Eight）'!H331)","v":""},{"$f":"IF('名刺管理（Eight）'!K331=\"\",\"\",'名刺管理（Eight）'!K331)","v":""},{"$f":"IF('名刺管理（Eight）'!L331=\"\",\"\",'名刺管理（Eight）'!L331)","v":""},{"$f":"IF('名刺管理（Eight）'!M331=\"\",\"\",'名刺管理（Eight）'!M331)","v":""},{"$f":"IF('名刺管理（Eight）'!N331=\"\",\"\",TEXT('名刺管理（Eight）'!N331,\"yyyy/m/d\"))","v":""}]
[{"$f":"LEFT('名刺管理（Eight）'!D332,D334)","v":""},{"$f":"RIGHT('名刺管理（Eight）'!D332,E334)","v":""},{"$f":"IF('名刺管理（Eight）'!D332=\"\",\"\",IF(LEN('名刺管理（Eight）'!D332)=D334+E334,\"\",\"不一致\"))","v":""},null,null,{"$f":"IF('名刺管理（Eight）'!A332=\"\",\"\",'名刺管理（Eight）'!A332)","v":""},{"$f":"IF('名刺管理（Eight）'!B332=\"\",\"\",'名刺管理（Eight）'!B332)","v":""},{"$f":"IF('名刺管理（Eight）'!C332=\"\",\"\",'名刺管理（Eight）'!C332)","v":""},{"$f":"IF('名刺管理（Eight）'!E332=\"\",\"\",'名刺管理（Eight）'!E332)","v":""},{"$f":"IF('名刺管理（Eight）'!F332=\"\",\"\",'名刺管理（Eight）'!F332)","v":""},{"$f":"IF('名刺管理（Eight）'!G332=\"\",\"\",IF(LEFT('名刺管理（Eight）'!G332,3)=\"神奈川\",LEFT('名刺管理（Eight）'!G332,4),IF(LEFT('名刺管理（Eight）'!G332,3)=\"和歌山\",LEFT('名刺管理（Eight）'!G332,4),IF(LEFT('名刺管理（Eight）'!G332,3)=\"鹿児島\",LEFT('名刺管理（Eight）'!G332,4),LEFT('名刺管理（Eight）'!G332,3)))))","v":""},{"$f":"IF(K334=\"\",\"\",IF(LEN(K334)=3,MID('名刺管理（Eight）'!G332,4,50),MID('名刺管理（Eight）'!G332,5,50)))","v":""},{"$f":"IF('名刺管理（Eight）'!H332=\"\",\"\",'名刺管理（Eight）'!H332)","v":""},{"$f":"IF('名刺管理（Eight）'!K332=\"\",\"\",'名刺管理（Eight）'!K332)","v":""},{"$f":"IF('名刺管理（Eight）'!L332=\"\",\"\",'名刺管理（Eight）'!L332)","v":""},{"$f":"IF('名刺管理（Eight）'!M332=\"\",\"\",'名刺管理（Eight）'!M332)","v":""},{"$f":"IF('名刺管理（Eight）'!N332=\"\",\"\",TEXT('名刺管理（Eight）'!N332,\"yyyy/m/d\"))","v":""}]
[{"$f":"LEFT('名刺管理（Eight）'!D333,D335)","v":""},{"$f":"RIGHT('名刺管理（Eight）'!D333,E335)","v":""},{"$f":"IF('名刺管理（Eight）'!D333=\"\",\"\",IF(LEN('名刺管理（Eight）'!D333)=D335+E335,\"\",\"不一致\"))","v":""},null,null,{"$f":"IF('名刺管理（Eight）'!A333=\"\",\"\",'名刺管理（Eight）'!A333)","v":""},{"$f":"IF('名刺管理（Eight）'!B333=\"\",\"\",'名刺管理（Eight）'!B333)","v":""},{"$f":"IF('名刺管理（Eight）'!C333=\"\",\"\",'名刺管理（Eight）'!C333)","v":""},{"$f":"IF('名刺管理（Eight）'!E333=\"\",\"\",'名刺管理（Eight）'!E333)","v":""},{"$f":"IF('名刺管理（Eight）'!F333=\"\",\"\",'名刺管理（Eight）'!F333)","v":""},{"$f":"IF('名刺管理（Eight）'!G333=\"\",\"\",IF(LEFT('名刺管理（Eight）'!G333,3)=\"神奈川\",LEFT('名刺管理（Eight）'!G333,4),IF(LEFT('名刺管理（Eight）'!G333,3)=\"和歌山\",LEFT('名刺管理（Eight）'!G333,4),IF(LEFT('名刺管理（Eight）'!G333,3)=\"鹿児島\",LEFT('名刺管理（Eight）'!G333,4),LEFT('名刺管理（Eight）'!G333,3)))))","v":""},{"$f":"IF(K335=\"\",\"\",IF(LEN(K335)=3,MID('名刺管理（Eight）'!G333,4,50),MID('名刺管理（Eight）'!G333,5,50)))","v":""},{"$f":"IF('名刺管理（Eight）'!H333=\"\",\"\",'名刺管理（Eight）'!H333)","v":""},{"$f":"IF('名刺管理（Eight）'!K333=\"\",\"\",'名刺管理（Eight）'!K333)","v":""},{"$f":"IF('名刺管理（Eight）'!L333=\"\",\"\",'名刺管理（Eight）'!L333)","v":""},{"$f":"IF('名刺管理（Eight）'!M333=\"\",\"\",'名刺管理（Eight）'!M333)","v":""},{"$f":"IF('名刺管理（Eight）'!N333=\"\",\"\",TEXT('名刺管理（Eight）'!N333,\"yyyy/m/d\"))","v":""}]
[{"$f":"LEFT('名刺管理（Eight）'!D334,D336)","v":""},{"$f":"RIGHT('名刺管理（Eight）'!D334,E336)","v":""},{"$f":"IF('名刺管理（Eight）'!D334=\"\",\"\",IF(LEN('名刺管理（Eight）'!D334)=D336+E336,\"\",\"不一致\"))","v":""},null,null,{"$f":"IF('名刺管理（Eight）'!A334=\"\",\"\",'名刺管理（Eight）'!A334)","v":""},{"$f":"IF('名刺管理（Eight）'!B334=\"\",\"\",'名刺管理（Eight）'!B334)","v":""},{"$f":"IF('名刺管理（Eight）'!C334=\"\",\"\",'名刺管理（Eight）'!C334)","v":""},{"$f":"IF('名刺管理（Eight）'!E334=\"\",\"\",'名刺管理（Eight）'!E334)","v":""},{"$f":"IF('名刺管理（Eight）'!F334=\"\",\"\",'名刺管理（Eight）'!F334)","v":""},{"$f":"IF('名刺管理（Eight）'!G334=\"\",\"\",IF(LEFT('名刺管理（Eight）'!G334,3)=\"神奈川\",LEFT('名刺管理（Eight）'!G334,4),IF(LEFT('名刺管理（Eight）'!G334,3)=\"和歌山\",LEFT('名刺管理（Eight）'!G334,4),IF(LEFT('名刺管理（Eight）'!G334,3)=\"鹿児島\",LEFT('名刺管理（Eight）'!G334,4),LEFT('名刺管理（Eight）'!G334,3)))))","v":""},{"$f":"IF(K336=\"\",\"\",IF(LEN(K336)=3,MID('名刺管理（Eight）'!G334,4,50),MID('名刺管理（Eight）'!G334,5,50)))","v":""},{"$f":"IF('名刺管理（Eight）'!H334=\"\",\"\",'名刺管理（Eight）'!H334)","v":""},{"$f":"IF('名刺管理（Eight）'!K334=\"\",\"\",'名刺管理（Eight）'!K334)","v":""},{"$f":"IF('名刺管理（Eight）'!L334=\"\",\"\",'名刺管理（Eight）'!L334)","v":""},{"$f":"IF('名刺管理（Eight）'!M334=\"\",\"\",'名刺管理（Eight）'!M334)","v":""},{"$f":"IF('名刺管理（Eight）'!N334=\"\",\"\",TEXT('名刺管理（Eight）'!N334,\"yyyy/m/d\"))","v":""}]
[{"$f":"LEFT('名刺管理（Eight）'!D335,D337)","v":""},{"$f":"RIGHT('名刺管理（Eight）'!D335,E337)","v":""},{"$f":"IF('名刺管理（Eight）'!D335=\"\",\"\",IF(LEN('名刺管理（Eight）'!D335)=D337+E337,\"\",\"不一致\"))","v":""},null,null,{"$f":"IF('名刺管理（Eight）'!A335=\"\",\"\",'名刺管理（Eight）'!A335)","v":""},{"$f":"IF('名刺管理（Eight）'!B335=\"\",\"\",'名刺管理（Eight）'!B335)","v":""},{"$f":"IF('名刺管理（Eight）'!C335=\"\",\"\",'名刺管理（Eight）'!C335)","v":""},{"$f":"IF('名刺管理（Eight）'!E335=\"\",\"\",'名刺管理（Eight）'!E335)","v":""},{"$f":"IF('名刺管理（Eight）'!F335=\"\",\"\",'名刺管理（Eight）'!F335)","v":""},{"$f":"IF('名刺管理（Eight）'!G335=\"\",\"\",IF(LEFT('名刺管理（Eight）'!G335,3)=\"神奈川\",LEFT('名刺管理（Eight）'!G335,4),IF(LEFT('名刺管理（Eight）'!G335,3)=\"和歌山\",LEFT('名刺管理（Eight）'!G335,4),IF(LEFT('名刺管理（Eight）'!G335,3)=\"鹿児島\",LEFT('名刺管理（Eight）'!G335,4),LEFT('名刺管理（Eight）'!G335,3)))))","v":""},{"$f":"IF(K337=\"\",\"\",IF(LEN(K337)=3,MID('名刺管理（Eight）'!G335,4,50),MID('名刺管理（Eight）'!G335,5,50)))","v":""},{"$f":"IF('名刺管理（Eight）'!H335=\"\",\"\",'名刺管理（Eight）'!H335)","v":""},{"$f":"IF('名刺管理（Eight）'!K335=\"\",\"\",'名刺管理（Eight）'!K335)","v":""},{"$f":"IF('名刺管理（Eight）'!L335=\"\",\"\",'名刺管理（Eight）'!L335)","v":""},{"$f":"IF('名刺管理（Eight）'!M335=\"\",\"\",'名刺管理（Eight）'!M335)","v":""},{"$f":"IF('名刺管理（Eight）'!N335=\"\",\"\",TEXT('名刺管理（Eight）'!N335,\"yyyy/m/d\"))","v":""}]
[{"$f":"LEFT('名刺管理（Eight）'!D336,D338)","v":""},{"$f":"RIGHT('名刺管理（Eight）'!D336,E338)","v":""},{"$f":"IF('名刺管理（Eight）'!D336=\"\",\"\",IF(LEN('名刺管理（Eight）'!D336)=D338+E338,\"\",\"不一致\"))","v":""},null,null,{"$f":"IF('名刺管理（Eight）'!A336=\"\",\"\",'名刺管理（Eight）'!A336)","v":""},{"$f":"IF('名刺管理（Eight）'!B336=\"\",\"\",'名刺管理（Eight）'!B336)","v":""},{"$f":"IF('名刺管理（Eight）'!C336=\"\",\"\",'名刺管理（Eight）'!C336)","v":""},{"$f":"IF('名刺管理（Eight）'!E336=\"\",\"\",'名刺管理（Eight）'!E336)","v":""},{"$f":"IF('名刺管理（Eight）'!F336=\"\",\"\",'名刺管理（Eight）'!F336)","v":""},{"$f":"IF('名刺管理（Eight）'!G336=\"\",\"\",IF(LEFT('名刺管理（Eight）'!G336,3)=\"神奈川\",LEFT('名刺管理（Eight）'!G336,4),IF(LEFT('名刺管理（Eight）'!G336,3)=\"和歌山\",LEFT('名刺管理（Eight）'!G336,4),IF(LEFT('名刺管理（Eight）'!G336,3)=\"鹿児島\",LEFT('名刺管理（Eight）'!G336,4),LEFT('名刺管理（Eight）'!G336,3)))))","v":""},{"$f":"IF(K338=\"\",\"\",IF(LEN(K338)=3,MID('名刺管理（Eight）'!G336,4,50),MID('名刺管理（Eight）'!G336,5,50)))","v":""},{"$f":"IF('名刺管理（Eight）'!H336=\"\",\"\",'名刺管理（Eight）'!H336)","v":""},{"$f":"IF('名刺管理（Eight）'!K336=\"\",\"\",'名刺管理（Eight）'!K336)","v":""},{"$f":"IF('名刺管理（Eight）'!L336=\"\",\"\",'名刺管理（Eight）'!L336)","v":""},{"$f":"IF('名刺管理（Eight）'!M336=\"\",\"\",'名刺管理（Eight）'!M336)","v":""},{"$f":"IF('名刺管理（Eight）'!N336=\"\",\"\",TEXT('名刺管理（Eight）'!N336,\"yyyy/m/d\"))","v":""}]
[{"$f":"LEFT('名刺管理（Eight）'!D337,D339)","v":""},{"$f":"RIGHT('名刺管理（Eight）'!D337,E339)","v":""},{"$f":"IF('名刺管理（Eight）'!D337=\"\",\"\",IF(LEN('名刺管理（Eight）'!D337)=D339+E339,\"\",\"不一致\"))","v":""},null,null,{"$f":"IF('名刺管理（Eight）'!A337=\"\",\"\",'名刺管理（Eight）'!A337)","v":""},{"$f":"IF('名刺管理（Eight）'!B337=\"\",\"\",'名刺管理（Eight）'!B337)","v":""},{"$f":"IF('名刺管理（Eight）'!C337=\"\",\"\",'名刺管理（Eight）'!C337)","v":""},{"$f":"IF('名刺管理（Eight）'!E337=\"\",\"\",'名刺管理（Eight）'!E337)","v":""},{"$f":"IF('名刺管理（Eight）'!F337=\"\",\"\",'名刺管理（Eight）'!F337)","v":""},{"$f":"IF('名刺管理（Eight）'!G337=\"\",\"\",IF(LEFT('名刺管理（Eight）'!G337,3)=\"神奈川\",LEFT('名刺管理（Eight）'!G337,4),IF(LEFT('名刺管理（Eight）'!G337,3)=\"和歌山\",LEFT('名刺管理（Eight）'!G337,4),IF(LEFT('名刺管理（Eight）'!G337,3)=\"鹿児島\",LEFT('名刺管理（Eight）'!G337,4),LEFT('名刺管理（Eight）'!G337,3)))))","v":""},{"$f":"IF(K339=\"\",\"\",IF(LEN(K339)=3,MID('名刺管理（Eight）'!G337,4,50),MID('名刺管理（Eight）'!G337,5,50)))","v":""},{"$f":"IF('名刺管理（Eight）'!H337=\"\",\"\",'名刺管理（Eight）'!H337)","v":""},{"$f":"IF('名刺管理（Eight）'!K337=\"\",\"\",'名刺管理（Eight）'!K337)","v":""},{"$f":"IF('名刺管理（Eight）'!L337=\"\",\"\",'名刺管理（Eight）'!L337)","v":""},{"$f":"IF('名刺管理（Eight）'!M337=\"\",\"\",'名刺管理（Eight）'!M337)","v":""},{"$f":"IF('名刺管理（Eight）'!N337=\"\",\"\",TEXT('名刺管理（Eight）'!N337,\"yyyy/m/d\"))","v":""}]
[{"$f":"LEFT('名刺管理（Eight）'!D338,D340)","v":""},{"$f":"RIGHT('名刺管理（Eight）'!D338,E340)","v":""},{"$f":"IF('名刺管理（Eight）'!D338=\"\",\"\",IF(LEN('名刺管理（Eight）'!D338)=D340+E340,\"\",\"不一致\"))","v":""},null,null,{"$f":"IF('名刺管理（Eight）'!A338=\"\",\"\",'名刺管理（Eight）'!A338)","v":""},{"$f":"IF('名刺管理（Eight）'!B338=\"\",\"\",'名刺管理（Eight）'!B338)","v":""},{"$f":"IF('名刺管理（Eight）'!C338=\"\",\"\",'名刺管理（Eight）'!C338)","v":""},{"$f":"IF('名刺管理（Eight）'!E338=\"\",\"\",'名刺管理（Eight）'!E338)","v":""},{"$f":"IF('名刺管理（Eight）'!F338=\"\",\"\",'名刺管理（Eight）'!F338)","v":""},{"$f":"IF('名刺管理（Eight）'!G338=\"\",\"\",IF(LEFT('名刺管理（Eight）'!G338,3)=\"神奈川\",LEFT('名刺管理（Eight）'!G338,4),IF(LEFT('名刺管理（Eight）'!G338,3)=\"和歌山\",LEFT('名刺管理（Eight）'!G338,4),IF(LEFT('名刺管理（Eight）'!G338,3)=\"鹿児島\",LEFT('名刺管理（Eight）'!G338,4),LEFT('名刺管理（Eight）'!G338,3)))))","v":""},{"$f":"IF(K340=\"\",\"\",IF(LEN(K340)=3,MID('名刺管理（Eight）'!G338,4,50),MID('名刺管理（Eight）'!G338,5,50)))","v":""},{"$f":"IF('名刺管理（Eight）'!H338=\"\",\"\",'名刺管理（Eight）'!H338)","v":""},{"$f":"IF('名刺管理（Eight）'!K338=\"\",\"\",'名刺管理（Eight）'!K338)","v":""},{"$f":"IF('名刺管理（Eight）'!L338=\"\",\"\",'名刺管理（Eight）'!L338)","v":""},{"$f":"IF('名刺管理（Eight）'!M338=\"\",\"\",'名刺管理（Eight）'!M338)","v":""},{"$f":"IF('名刺管理（Eight）'!N338=\"\",\"\",TEXT('名刺管理（Eight）'!N338,\"yyyy/m/d\"))","v":""}]
[{"$f":"LEFT('名刺管理（Eight）'!D339,D341)","v":""},{"$f":"RIGHT('名刺管理（Eight）'!D339,E341)","v":""},{"$f":"IF('名刺管理（Eight）'!D339=\"\",\"\",IF(LEN('名刺管理（Eight）'!D339)=D341+E341,\"\",\"不一致\"))","v":""},null,null,{"$f":"IF('名刺管理（Eight）'!A339=\"\",\"\",'名刺管理（Eight）'!A339)","v":""},{"$f":"IF('名刺管理（Eight）'!B339=\"\",\"\",'名刺管理（Eight）'!B339)","v":""},{"$f":"IF('名刺管理（Eight）'!C339=\"\",\"\",'名刺管理（Eight）'!C339)","v":""},{"$f":"IF('名刺管理（Eight）'!E339=\"\",\"\",'名刺管理（Eight）'!E339)","v":""},{"$f":"IF('名刺管理（Eight）'!F339=\"\",\"\",'名刺管理（Eight）'!F339)","v":""},{"$f":"IF('名刺管理（Eight）'!G339=\"\",\"\",IF(LEFT('名刺管理（Eight）'!G339,3)=\"神奈川\",LEFT('名刺管理（Eight）'!G339,4),IF(LEFT('名刺管理（Eight）'!G339,3)=\"和歌山\",LEFT('名刺管理（Eight）'!G339,4),IF(LEFT('名刺管理（Eight）'!G339,3)=\"鹿児島\",LEFT('名刺管理（Eight）'!G339,4),LEFT('名刺管理（Eight）'!G339,3)))))","v":""},{"$f":"IF(K341=\"\",\"\",IF(LEN(K341)=3,MID('名刺管理（Eight）'!G339,4,50),MID('名刺管理（Eight）'!G339,5,50)))","v":""},{"$f":"IF('名刺管理（Eight）'!H339=\"\",\"\",'名刺管理（Eight）'!H339)","v":""},{"$f":"IF('名刺管理（Eight）'!K339=\"\",\"\",'名刺管理（Eight）'!K339)","v":""},{"$f":"IF('名刺管理（Eight）'!L339=\"\",\"\",'名刺管理（Eight）'!L339)","v":""},{"$f":"IF('名刺管理（Eight）'!M339=\"\",\"\",'名刺管理（Eight）'!M339)","v":""},{"$f":"IF('名刺管理（Eight）'!N339=\"\",\"\",TEXT('名刺管理（Eight）'!N339,\"yyyy/m/d\"))","v":""}]
[{"$f":"LEFT('名刺管理（Eight）'!D340,D342)","v":""},{"$f":"RIGHT('名刺管理（Eight）'!D340,E342)","v":""},{"$f":"IF('名刺管理（Eight）'!D340=\"\",\"\",IF(LEN('名刺管理（Eight）'!D340)=D342+E342,\"\",\"不一致\"))","v":""},null,null,{"$f":"IF('名刺管理（Eight）'!A340=\"\",\"\",'名刺管理（Eight）'!A340)","v":""},{"$f":"IF('名刺管理（Eight）'!B340=\"\",\"\",'名刺管理（Eight）'!B340)","v":""},{"$f":"IF('名刺管理（Eight）'!C340=\"\",\"\",'名刺管理（Eight）'!C340)","v":""},{"$f":"IF('名刺管理（Eight）'!E340=\"\",\"\",'名刺管理（Eight）'!E340)","v":""},{"$f":"IF('名刺管理（Eight）'!F340=\"\",\"\",'名刺管理（Eight）'!F340)","v":""},{"$f":"IF('名刺管理（Eight）'!G340=\"\",\"\",IF(LEFT('名刺管理（Eight）'!G340,3)=\"神奈川\",LEFT('名刺管理（Eight）'!G340,4),IF(LEFT('名刺管理（Eight）'!G340,3)=\"和歌山\",LEFT('名刺管理（Eight）'!G340,4),IF(LEFT('名刺管理（Eight）'!G340,3)=\"鹿児島\",LEFT('名刺管理（Eight）'!G340,4),LEFT('名刺管理（Eight）'!G340,3)))))","v":""},{"$f":"IF(K342=\"\",\"\",IF(LEN(K342)=3,MID('名刺管理（Eight）'!G340,4,50),MID('名刺管理（Eight）'!G340,5,50)))","v":""},{"$f":"IF('名刺管理（Eight）'!H340=\"\",\"\",'名刺管理（Eight）'!H340)","v":""},{"$f":"IF('名刺管理（Eight）'!K340=\"\",\"\",'名刺管理（Eight）'!K340)","v":""},{"$f":"IF('名刺管理（Eight）'!L340=\"\",\"\",'名刺管理（Eight）'!L340)","v":""},{"$f":"IF('名刺管理（Eight）'!M340=\"\",\"\",'名刺管理（Eight）'!M340)","v":""},{"$f":"IF('名刺管理（Eight）'!N340=\"\",\"\",TEXT('名刺管理（Eight）'!N340,\"yyyy/m/d\"))","v":""}]
[{"$f":"LEFT('名刺管理（Eight）'!D341,D343)","v":""},{"$f":"RIGHT('名刺管理（Eight）'!D341,E343)","v":""},{"$f":"IF('名刺管理（Eight）'!D341=\"\",\"\",IF(LEN('名刺管理（Eight）'!D341)=D343+E343,\"\",\"不一致\"))","v":""},null,null,{"$f":"IF('名刺管理（Eight）'!A341=\"\",\"\",'名刺管理（Eight）'!A341)","v":""},{"$f":"IF('名刺管理（Eight）'!B341=\"\",\"\",'名刺管理（Eight）'!B341)","v":""},{"$f":"IF('名刺管理（Eight）'!C341=\"\",\"\",'名刺管理（Eight）'!C341)","v":""},{"$f":"IF('名刺管理（Eight）'!E341=\"\",\"\",'名刺管理（Eight）'!E341)","v":""},{"$f":"IF('名刺管理（Eight）'!F341=\"\",\"\",'名刺管理（Eight）'!F341)","v":""},{"$f":"IF('名刺管理（Eight）'!G341=\"\",\"\",IF(LEFT('名刺管理（Eight）'!G341,3)=\"神奈川\",LEFT('名刺管理（Eight）'!G341,4),IF(LEFT('名刺管理（Eight）'!G341,3)=\"和歌山\",LEFT('名刺管理（Eight）'!G341,4),IF(LEFT('名刺管理（Eight）'!G341,3)=\"鹿児島\",LEFT('名刺管理（Eight）'!G341,4),LEFT('名刺管理（Eight）'!G341,3)))))","v":""},{"$f":"IF(K343=\"\",\"\",IF(LEN(K343)=3,MID('名刺管理（Eight）'!G341,4,50),MID('名刺管理（Eight）'!G341,5,50)))","v":""},{"$f":"IF('名刺管理（Eight）'!H341=\"\",\"\",'名刺管理（Eight）'!H341)","v":""},{"$f":"IF('名刺管理（Eight）'!K341=\"\",\"\",'名刺管理（Eight）'!K341)","v":""},{"$f":"IF('名刺管理（Eight）'!L341=\"\",\"\",'名刺管理（Eight）'!L341)","v":""},{"$f":"IF('名刺管理（Eight）'!M341=\"\",\"\",'名刺管理（Eight）'!M341)","v":""},{"$f":"IF('名刺管理（Eight）'!N341=\"\",\"\",TEXT('名刺管理（Eight）'!N341,\"yyyy/m/d\"))","v":""}]
[{"$f":"LEFT('名刺管理（Eight）'!D342,D344)","v":""},{"$f":"RIGHT('名刺管理（Eight）'!D342,E344)","v":""},{"$f":"IF('名刺管理（Eight）'!D342=\"\",\"\",IF(LEN('名刺管理（Eight）'!D342)=D344+E344,\"\",\"不一致\"))","v":""},null,null,{"$f":"IF('名刺管理（Eight）'!A342=\"\",\"\",'名刺管理（Eight）'!A342)","v":""},{"$f":"IF('名刺管理（Eight）'!B342=\"\",\"\",'名刺管理（Eight）'!B342)","v":""},{"$f":"IF('名刺管理（Eight）'!C342=\"\",\"\",'名刺管理（Eight）'!C342)","v":""},{"$f":"IF('名刺管理（Eight）'!E342=\"\",\"\",'名刺管理（Eight）'!E342)","v":""},{"$f":"IF('名刺管理（Eight）'!F342=\"\",\"\",'名刺管理（Eight）'!F342)","v":""},{"$f":"IF('名刺管理（Eight）'!G342=\"\",\"\",IF(LEFT('名刺管理（Eight）'!G342,3)=\"神奈川\",LEFT('名刺管理（Eight）'!G342,4),IF(LEFT('名刺管理（Eight）'!G342,3)=\"和歌山\",LEFT('名刺管理（Eight）'!G342,4),IF(LEFT('名刺管理（Eight）'!G342,3)=\"鹿児島\",LEFT('名刺管理（Eight）'!G342,4),LEFT('名刺管理（Eight）'!G342,3)))))","v":""},{"$f":"IF(K344=\"\",\"\",IF(LEN(K344)=3,MID('名刺管理（Eight）'!G342,4,50),MID('名刺管理（Eight）'!G342,5,50)))","v":""},{"$f":"IF('名刺管理（Eight）'!H342=\"\",\"\",'名刺管理（Eight）'!H342)","v":""},{"$f":"IF('名刺管理（Eight）'!K342=\"\",\"\",'名刺管理（Eight）'!K342)","v":""},{"$f":"IF('名刺管理（Eight）'!L342=\"\",\"\",'名刺管理（Eight）'!L342)","v":""},{"$f":"IF('名刺管理（Eight）'!M342=\"\",\"\",'名刺管理（Eight）'!M342)","v":""},{"$f":"IF('名刺管理（Eight）'!N342=\"\",\"\",TEXT('名刺管理（Eight）'!N342,\"yyyy/m/d\"))","v":""}]
[{"$f":"LEFT('名刺管理（Eight）'!D343,D345)","v":""},{"$f":"RIGHT('名刺管理（Eight）'!D343,E345)","v":""},{"$f":"IF('名刺管理（Eight）'!D343=\"\",\"\",IF(LEN('名刺管理（Eight）'!D343)=D345+E345,\"\",\"不一致\"))","v":""},null,null,{"$f":"IF('名刺管理（Eight）'!A343=\"\",\"\",'名刺管理（Eight）'!A343)","v":""},{"$f":"IF('名刺管理（Eight）'!B343=\"\",\"\",'名刺管理（Eight）'!B343)","v":""},{"$f":"IF('名刺管理（Eight）'!C343=\"\",\"\",'名刺管理（Eight）'!C343)","v":""},{"$f":"IF('名刺管理（Eight）'!E343=\"\",\"\",'名刺管理（Eight）'!E343)","v":""},{"$f":"IF('名刺管理（Eight）'!F343=\"\",\"\",'名刺管理（Eight）'!F343)","v":""},{"$f":"IF('名刺管理（Eight）'!G343=\"\",\"\",IF(LEFT('名刺管理（Eight）'!G343,3)=\"神奈川\",LEFT('名刺管理（Eight）'!G343,4),IF(LEFT('名刺管理（Eight）'!G343,3)=\"和歌山\",LEFT('名刺管理（Eight）'!G343,4),IF(LEFT('名刺管理（Eight）'!G343,3)=\"鹿児島\",LEFT('名刺管理（Eight）'!G343,4),LEFT('名刺管理（Eight）'!G343,3)))))","v":""},{"$f":"IF(K345=\"\",\"\",IF(LEN(K345)=3,MID('名刺管理（Eight）'!G343,4,50),MID('名刺管理（Eight）'!G343,5,50)))","v":""},{"$f":"IF('名刺管理（Eight）'!H343=\"\",\"\",'名刺管理（Eight）'!H343)","v":""},{"$f":"IF('名刺管理（Eight）'!K343=\"\",\"\",'名刺管理（Eight）'!K343)","v":""},{"$f":"IF('名刺管理（Eight）'!L343=\"\",\"\",'名刺管理（Eight）'!L343)","v":""},{"$f":"IF('名刺管理（Eight）'!M343=\"\",\"\",'名刺管理（Eight）'!M343)","v":""},{"$f":"IF('名刺管理（Eight）'!N343=\"\",\"\",TEXT('名刺管理（Eight）'!N343,\"yyyy/m/d\"))","v":""}]
[{"$f":"LEFT('名刺管理（Eight）'!D344,D346)","v":""},{"$f":"RIGHT('名刺管理（Eight）'!D344,E346)","v":""},{"$f":"IF('名刺管理（Eight）'!D344=\"\",\"\",IF(LEN('名刺管理（Eight）'!D344)=D346+E346,\"\",\"不一致\"))","v":""},null,null,{"$f":"IF('名刺管理（Eight）'!A344=\"\",\"\",'名刺管理（Eight）'!A344)","v":""},{"$f":"IF('名刺管理（Eight）'!B344=\"\",\"\",'名刺管理（Eight）'!B344)","v":""},{"$f":"IF('名刺管理（Eight）'!C344=\"\",\"\",'名刺管理（Eight）'!C344)","v":""},{"$f":"IF('名刺管理（Eight）'!E344=\"\",\"\",'名刺管理（Eight）'!E344)","v":""},{"$f":"IF('名刺管理（Eight）'!F344=\"\",\"\",'名刺管理（Eight）'!F344)","v":""},{"$f":"IF('名刺管理（Eight）'!G344=\"\",\"\",IF(LEFT('名刺管理（Eight）'!G344,3)=\"神奈川\",LEFT('名刺管理（Eight）'!G344,4),IF(LEFT('名刺管理（Eight）'!G344,3)=\"和歌山\",LEFT('名刺管理（Eight）'!G344,4),IF(LEFT('名刺管理（Eight）'!G344,3)=\"鹿児島\",LEFT('名刺管理（Eight）'!G344,4),LEFT('名刺管理（Eight）'!G344,3)))))","v":""},{"$f":"IF(K346=\"\",\"\",IF(LEN(K346)=3,MID('名刺管理（Eight）'!G344,4,50),MID('名刺管理（Eight）'!G344,5,50)))","v":""},{"$f":"IF('名刺管理（Eight）'!H344=\"\",\"\",'名刺管理（Eight）'!H344)","v":""},{"$f":"IF('名刺管理（Eight）'!K344=\"\",\"\",'名刺管理（Eight）'!K344)","v":""},{"$f":"IF('名刺管理（Eight）'!L344=\"\",\"\",'名刺管理（Eight）'!L344)","v":""},{"$f":"IF('名刺管理（Eight）'!M344=\"\",\"\",'名刺管理（Eight）'!M344)","v":""},{"$f":"IF('名刺管理（Eight）'!N344=\"\",\"\",TEXT('名刺管理（Eight）'!N344,\"yyyy/m/d\"))","v":""}]
[{"$f":"LEFT('名刺管理（Eight）'!D345,D347)","v":""},{"$f":"RIGHT('名刺管理（Eight）'!D345,E347)","v":""},{"$f":"IF('名刺管理（Eight）'!D345=\"\",\"\",IF(LEN('名刺管理（Eight）'!D345)=D347+E347,\"\",\"不一致\"))","v":""},null,null,{"$f":"IF('名刺管理（Eight）'!A345=\"\",\"\",'名刺管理（Eight）'!A345)","v":""},{"$f":"IF('名刺管理（Eight）'!B345=\"\",\"\",'名刺管理（Eight）'!B345)","v":""},{"$f":"IF('名刺管理（Eight）'!C345=\"\",\"\",'名刺管理（Eight）'!C345)","v":""},{"$f":"IF('名刺管理（Eight）'!E345=\"\",\"\",'名刺管理（Eight）'!E345)","v":""},{"$f":"IF('名刺管理（Eight）'!F345=\"\",\"\",'名刺管理（Eight）'!F345)","v":""},{"$f":"IF('名刺管理（Eight）'!G345=\"\",\"\",IF(LEFT('名刺管理（Eight）'!G345,3)=\"神奈川\",LEFT('名刺管理（Eight）'!G345,4),IF(LEFT('名刺管理（Eight）'!G345,3)=\"和歌山\",LEFT('名刺管理（Eight）'!G345,4),IF(LEFT('名刺管理（Eight）'!G345,3)=\"鹿児島\",LEFT('名刺管理（Eight）'!G345,4),LEFT('名刺管理（Eight）'!G345,3)))))","v":""},{"$f":"IF(K347=\"\",\"\",IF(LEN(K347)=3,MID('名刺管理（Eight）'!G345,4,50),MID('名刺管理（Eight）'!G345,5,50)))","v":""},{"$f":"IF('名刺管理（Eight）'!H345=\"\",\"\",'名刺管理（Eight）'!H345)","v":""},{"$f":"IF('名刺管理（Eight）'!K345=\"\",\"\",'名刺管理（Eight）'!K345)","v":""},{"$f":"IF('名刺管理（Eight）'!L345=\"\",\"\",'名刺管理（Eight）'!L345)","v":""},{"$f":"IF('名刺管理（Eight）'!M345=\"\",\"\",'名刺管理（Eight）'!M345)","v":""},{"$f":"IF('名刺管理（Eight）'!N345=\"\",\"\",TEXT('名刺管理（Eight）'!N345,\"yyyy/m/d\"))","v":""}]
[{"$f":"LEFT('名刺管理（Eight）'!D346,D348)","v":""},{"$f":"RIGHT('名刺管理（Eight）'!D346,E348)","v":""},{"$f":"IF('名刺管理（Eight）'!D346=\"\",\"\",IF(LEN('名刺管理（Eight）'!D346)=D348+E348,\"\",\"不一致\"))","v":""},null,null,{"$f":"IF('名刺管理（Eight）'!A346=\"\",\"\",'名刺管理（Eight）'!A346)","v":""},{"$f":"IF('名刺管理（Eight）'!B346=\"\",\"\",'名刺管理（Eight）'!B346)","v":""},{"$f":"IF('名刺管理（Eight）'!C346=\"\",\"\",'名刺管理（Eight）'!C346)","v":""},{"$f":"IF('名刺管理（Eight）'!E346=\"\",\"\",'名刺管理（Eight）'!E346)","v":""},{"$f":"IF('名刺管理（Eight）'!F346=\"\",\"\",'名刺管理（Eight）'!F346)","v":""},{"$f":"IF('名刺管理（Eight）'!G346=\"\",\"\",IF(LEFT('名刺管理（Eight）'!G346,3)=\"神奈川\",LEFT('名刺管理（Eight）'!G346,4),IF(LEFT('名刺管理（Eight）'!G346,3)=\"和歌山\",LEFT('名刺管理（Eight）'!G346,4),IF(LEFT('名刺管理（Eight）'!G346,3)=\"鹿児島\",LEFT('名刺管理（Eight）'!G346,4),LEFT('名刺管理（Eight）'!G346,3)))))","v":""},{"$f":"IF(K348=\"\",\"\",IF(LEN(K348)=3,MID('名刺管理（Eight）'!G346,4,50),MID('名刺管理（Eight）'!G346,5,50)))","v":""},{"$f":"IF('名刺管理（Eight）'!H346=\"\",\"\",'名刺管理（Eight）'!H346)","v":""},{"$f":"IF('名刺管理（Eight）'!K346=\"\",\"\",'名刺管理（Eight）'!K346)","v":""},{"$f":"IF('名刺管理（Eight）'!L346=\"\",\"\",'名刺管理（Eight）'!L346)","v":""},{"$f":"IF('名刺管理（Eight）'!M346=\"\",\"\",'名刺管理（Eight）'!M346)","v":""},{"$f":"IF('名刺管理（Eight）'!N346=\"\",\"\",TEXT('名刺管理（Eight）'!N346,\"yyyy/m/d\"))","v":""}]
[{"$f":"LEFT('名刺管理（Eight）'!D347,D349)","v":""},{"$f":"RIGHT('名刺管理（Eight）'!D347,E349)","v":""},{"$f":"IF('名刺管理（Eight）'!D347=\"\",\"\",IF(LEN('名刺管理（Eight）'!D347)=D349+E349,\"\",\"不一致\"))","v":""},null,null,{"$f":"IF('名刺管理（Eight）'!A347=\"\",\"\",'名刺管理（Eight）'!A347)","v":""},{"$f":"IF('名刺管理（Eight）'!B347=\"\",\"\",'名刺管理（Eight）'!B347)","v":""},{"$f":"IF('名刺管理（Eight）'!C347=\"\",\"\",'名刺管理（Eight）'!C347)","v":""},{"$f":"IF('名刺管理（Eight）'!E347=\"\",\"\",'名刺管理（Eight）'!E347)","v":""},{"$f":"IF('名刺管理（Eight）'!F347=\"\",\"\",'名刺管理（Eight）'!F347)","v":""},{"$f":"IF('名刺管理（Eight）'!G347=\"\",\"\",IF(LEFT('名刺管理（Eight）'!G347,3)=\"神奈川\",LEFT('名刺管理（Eight）'!G347,4),IF(LEFT('名刺管理（Eight）'!G347,3)=\"和歌山\",LEFT('名刺管理（Eight）'!G347,4),IF(LEFT('名刺管理（Eight）'!G347,3)=\"鹿児島\",LEFT('名刺管理（Eight）'!G347,4),LEFT('名刺管理（Eight）'!G347,3)))))","v":""},{"$f":"IF(K349=\"\",\"\",IF(LEN(K349)=3,MID('名刺管理（Eight）'!G347,4,50),MID('名刺管理（Eight）'!G347,5,50)))","v":""},{"$f":"IF('名刺管理（Eight）'!H347=\"\",\"\",'名刺管理（Eight）'!H347)","v":""},{"$f":"IF('名刺管理（Eight）'!K347=\"\",\"\",'名刺管理（Eight）'!K347)","v":""},{"$f":"IF('名刺管理（Eight）'!L347=\"\",\"\",'名刺管理（Eight）'!L347)","v":""},{"$f":"IF('名刺管理（Eight）'!M347=\"\",\"\",'名刺管理（Eight）'!M347)","v":""},{"$f":"IF('名刺管理（Eight）'!N347=\"\",\"\",TEXT('名刺管理（Eight）'!N347,\"yyyy/m/d\"))","v":""}]
[{"$f":"LEFT('名刺管理（Eight）'!D348,D350)","v":""},{"$f":"RIGHT('名刺管理（Eight）'!D348,E350)","v":""},{"$f":"IF('名刺管理（Eight）'!D348=\"\",\"\",IF(LEN('名刺管理（Eight）'!D348)=D350+E350,\"\",\"不一致\"))","v":""},null,null,{"$f":"IF('名刺管理（Eight）'!A348=\"\",\"\",'名刺管理（Eight）'!A348)","v":""},{"$f":"IF('名刺管理（Eight）'!B348=\"\",\"\",'名刺管理（Eight）'!B348)","v":""},{"$f":"IF('名刺管理（Eight）'!C348=\"\",\"\",'名刺管理（Eight）'!C348)","v":""},{"$f":"IF('名刺管理（Eight）'!E348=\"\",\"\",'名刺管理（Eight）'!E348)","v":""},{"$f":"IF('名刺管理（Eight）'!F348=\"\",\"\",'名刺管理（Eight）'!F348)","v":""},{"$f":"IF('名刺管理（Eight）'!G348=\"\",\"\",IF(LEFT('名刺管理（Eight）'!G348,3)=\"神奈川\",LEFT('名刺管理（Eight）'!G348,4),IF(LEFT('名刺管理（Eight）'!G348,3)=\"和歌山\",LEFT('名刺管理（Eight）'!G348,4),IF(LEFT('名刺管理（Eight）'!G348,3)=\"鹿児島\",LEFT('名刺管理（Eight）'!G348,4),LEFT('名刺管理（Eight）'!G348,3)))))","v":""},{"$f":"IF(K350=\"\",\"\",IF(LEN(K350)=3,MID('名刺管理（Eight）'!G348,4,50),MID('名刺管理（Eight）'!G348,5,50)))","v":""},{"$f":"IF('名刺管理（Eight）'!H348=\"\",\"\",'名刺管理（Eight）'!H348)","v":""},{"$f":"IF('名刺管理（Eight）'!K348=\"\",\"\",'名刺管理（Eight）'!K348)","v":""},{"$f":"IF('名刺管理（Eight）'!L348=\"\",\"\",'名刺管理（Eight）'!L348)","v":""},{"$f":"IF('名刺管理（Eight）'!M348=\"\",\"\",'名刺管理（Eight）'!M348)","v":""},{"$f":"IF('名刺管理（Eight）'!N348=\"\",\"\",TEXT('名刺管理（Eight）'!N348,\"yyyy/m/d\"))","v":""}]
[{"$f":"LEFT('名刺管理（Eight）'!D349,D351)","v":""},{"$f":"RIGHT('名刺管理（Eight）'!D349,E351)","v":""},{"$f":"IF('名刺管理（Eight）'!D349=\"\",\"\",IF(LEN('名刺管理（Eight）'!D349)=D351+E351,\"\",\"不一致\"))","v":""},null,null,{"$f":"IF('名刺管理（Eight）'!A349=\"\",\"\",'名刺管理（Eight）'!A349)","v":""},{"$f":"IF('名刺管理（Eight）'!B349=\"\",\"\",'名刺管理（Eight）'!B349)","v":""},{"$f":"IF('名刺管理（Eight）'!C349=\"\",\"\",'名刺管理（Eight）'!C349)","v":""},{"$f":"IF('名刺管理（Eight）'!E349=\"\",\"\",'名刺管理（Eight）'!E349)","v":""},{"$f":"IF('名刺管理（Eight）'!F349=\"\",\"\",'名刺管理（Eight）'!F349)","v":""},{"$f":"IF('名刺管理（Eight）'!G349=\"\",\"\",IF(LEFT('名刺管理（Eight）'!G349,3)=\"神奈川\",LEFT('名刺管理（Eight）'!G349,4),IF(LEFT('名刺管理（Eight）'!G349,3)=\"和歌山\",LEFT('名刺管理（Eight）'!G349,4),IF(LEFT('名刺管理（Eight）'!G349,3)=\"鹿児島\",LEFT('名刺管理（Eight）'!G349,4),LEFT('名刺管理（Eight）'!G349,3)))))","v":""},{"$f":"IF(K351=\"\",\"\",IF(LEN(K351)=3,MID('名刺管理（Eight）'!G349,4,50),MID('名刺管理（Eight）'!G349,5,50)))","v":""},{"$f":"IF('名刺管理（Eight）'!H349=\"\",\"\",'名刺管理（Eight）'!H349)","v":""},{"$f":"IF('名刺管理（Eight）'!K349=\"\",\"\",'名刺管理（Eight）'!K349)","v":""},{"$f":"IF('名刺管理（Eight）'!L349=\"\",\"\",'名刺管理（Eight）'!L349)","v":""},{"$f":"IF('名刺管理（Eight）'!M349=\"\",\"\",'名刺管理（Eight）'!M349)","v":""},{"$f":"IF('名刺管理（Eight）'!N349=\"\",\"\",TEXT('名刺管理（Eight）'!N349,\"yyyy/m/d\"))","v":""}]
[{"$f":"LEFT('名刺管理（Eight）'!D350,D352)","v":""},{"$f":"RIGHT('名刺管理（Eight）'!D350,E352)","v":""},{"$f":"IF('名刺管理（Eight）'!D350=\"\",\"\",IF(LEN('名刺管理（Eight）'!D350)=D352+E352,\"\",\"不一致\"))","v":""},null,null,{"$f":"IF('名刺管理（Eight）'!A350=\"\",\"\",'名刺管理（Eight）'!A350)","v":""},{"$f":"IF('名刺管理（Eight）'!B350=\"\",\"\",'名刺管理（Eight）'!B350)","v":""},{"$f":"IF('名刺管理（Eight）'!C350=\"\",\"\",'名刺管理（Eight）'!C350)","v":""},{"$f":"IF('名刺管理（Eight）'!E350=\"\",\"\",'名刺管理（Eight）'!E350)","v":""},{"$f":"IF('名刺管理（Eight）'!F350=\"\",\"\",'名刺管理（Eight）'!F350)","v":""},{"$f":"IF('名刺管理（Eight）'!G350=\"\",\"\",IF(LEFT('名刺管理（Eight）'!G350,3)=\"神奈川\",LEFT('名刺管理（Eight）'!G350,4),IF(LEFT('名刺管理（Eight）'!G350,3)=\"和歌山\",LEFT('名刺管理（Eight）'!G350,4),IF(LEFT('名刺管理（Eight）'!G350,3)=\"鹿児島\",LEFT('名刺管理（Eight）'!G350,4),LEFT('名刺管理（Eight）'!G350,3)))))","v":""},{"$f":"IF(K352=\"\",\"\",IF(LEN(K352)=3,MID('名刺管理（Eight）'!G350,4,50),MID('名刺管理（Eight）'!G350,5,50)))","v":""},{"$f":"IF('名刺管理（Eight）'!H350=\"\",\"\",'名刺管理（Eight）'!H350)","v":""},{"$f":"IF('名刺管理（Eight）'!K350=\"\",\"\",'名刺管理（Eight）'!K350)","v":""},{"$f":"IF('名刺管理（Eight）'!L350=\"\",\"\",'名刺管理（Eight）'!L350)","v":""},{"$f":"IF('名刺管理（Eight）'!M350=\"\",\"\",'名刺管理（Eight）'!M350)","v":""},{"$f":"IF('名刺管理（Eight）'!N350=\"\",\"\",TEXT('名刺管理（Eight）'!N350,\"yyyy/m/d\"))","v":""}]
[{"$f":"LEFT('名刺管理（Eight）'!D351,D353)","v":""},{"$f":"RIGHT('名刺管理（Eight）'!D351,E353)","v":""},{"$f":"IF('名刺管理（Eight）'!D351=\"\",\"\",IF(LEN('名刺管理（Eight）'!D351)=D353+E353,\"\",\"不一致\"))","v":""},null,null,{"$f":"IF('名刺管理（Eight）'!A351=\"\",\"\",'名刺管理（Eight）'!A351)","v":""},{"$f":"IF('名刺管理（Eight）'!B351=\"\",\"\",'名刺管理（Eight）'!B351)","v":""},{"$f":"IF('名刺管理（Eight）'!C351=\"\",\"\",'名刺管理（Eight）'!C351)","v":""},{"$f":"IF('名刺管理（Eight）'!E351=\"\",\"\",'名刺管理（Eight）'!E351)","v":""},{"$f":"IF('名刺管理（Eight）'!F351=\"\",\"\",'名刺管理（Eight）'!F351)","v":""},{"$f":"IF('名刺管理（Eight）'!G351=\"\",\"\",IF(LEFT('名刺管理（Eight）'!G351,3)=\"神奈川\",LEFT('名刺管理（Eight）'!G351,4),IF(LEFT('名刺管理（Eight）'!G351,3)=\"和歌山\",LEFT('名刺管理（Eight）'!G351,4),IF(LEFT('名刺管理（Eight）'!G351,3)=\"鹿児島\",LEFT('名刺管理（Eight）'!G351,4),LEFT('名刺管理（Eight）'!G351,3)))))","v":""},{"$f":"IF(K353=\"\",\"\",IF(LEN(K353)=3,MID('名刺管理（Eight）'!G351,4,50),MID('名刺管理（Eight）'!G351,5,50)))","v":""},{"$f":"IF('名刺管理（Eight）'!H351=\"\",\"\",'名刺管理（Eight）'!H351)","v":""},{"$f":"IF('名刺管理（Eight）'!K351=\"\",\"\",'名刺管理（Eight）'!K351)","v":""},{"$f":"IF('名刺管理（Eight）'!L351=\"\",\"\",'名刺管理（Eight）'!L351)","v":""},{"$f":"IF('名刺管理（Eight）'!M351=\"\",\"\",'名刺管理（Eight）'!M351)","v":""},{"$f":"IF('名刺管理（Eight）'!N351=\"\",\"\",TEXT('名刺管理（Eight）'!N351,\"yyyy/m/d\"))","v":""}]
[{"$f":"LEFT('名刺管理（Eight）'!D352,D354)","v":""},{"$f":"RIGHT('名刺管理（Eight）'!D352,E354)","v":""},{"$f":"IF('名刺管理（Eight）'!D352=\"\",\"\",IF(LEN('名刺管理（Eight）'!D352)=D354+E354,\"\",\"不一致\"))","v":""},null,null,{"$f":"IF('名刺管理（Eight）'!A352=\"\",\"\",'名刺管理（Eight）'!A352)","v":""},{"$f":"IF('名刺管理（Eight）'!B352=\"\",\"\",'名刺管理（Eight）'!B352)","v":""},{"$f":"IF('名刺管理（Eight）'!C352=\"\",\"\",'名刺管理（Eight）'!C352)","v":""},{"$f":"IF('名刺管理（Eight）'!E352=\"\",\"\",'名刺管理（Eight）'!E352)","v":""},{"$f":"IF('名刺管理（Eight）'!F352=\"\",\"\",'名刺管理（Eight）'!F352)","v":""},{"$f":"IF('名刺管理（Eight）'!G352=\"\",\"\",IF(LEFT('名刺管理（Eight）'!G352,3)=\"神奈川\",LEFT('名刺管理（Eight）'!G352,4),IF(LEFT('名刺管理（Eight）'!G352,3)=\"和歌山\",LEFT('名刺管理（Eight）'!G352,4),IF(LEFT('名刺管理（Eight）'!G352,3)=\"鹿児島\",LEFT('名刺管理（Eight）'!G352,4),LEFT('名刺管理（Eight）'!G352,3)))))","v":""},{"$f":"IF(K354=\"\",\"\",IF(LEN(K354)=3,MID('名刺管理（Eight）'!G352,4,50),MID('名刺管理（Eight）'!G352,5,50)))","v":""},{"$f":"IF('名刺管理（Eight）'!H352=\"\",\"\",'名刺管理（Eight）'!H352)","v":""},{"$f":"IF('名刺管理（Eight）'!K352=\"\",\"\",'名刺管理（Eight）'!K352)","v":""},{"$f":"IF('名刺管理（Eight）'!L352=\"\",\"\",'名刺管理（Eight）'!L352)","v":""},{"$f":"IF('名刺管理（Eight）'!M352=\"\",\"\",'名刺管理（Eight）'!M352)","v":""},{"$f":"IF('名刺管理（Eight）'!N352=\"\",\"\",TEXT('名刺管理（Eight）'!N352,\"yyyy/m/d\"))","v":""}]
[{"$f":"LEFT('名刺管理（Eight）'!D353,D355)","v":""},{"$f":"RIGHT('名刺管理（Eight）'!D353,E355)","v":""},{"$f":"IF('名刺管理（Eight）'!D353=\"\",\"\",IF(LEN('名刺管理（Eight）'!D353)=D355+E355,\"\",\"不一致\"))","v":""},null,null,{"$f":"IF('名刺管理（Eight）'!A353=\"\",\"\",'名刺管理（Eight）'!A353)","v":""},{"$f":"IF('名刺管理（Eight）'!B353=\"\",\"\",'名刺管理（Eight）'!B353)","v":""},{"$f":"IF('名刺管理（Eight）'!C353=\"\",\"\",'名刺管理（Eight）'!C353)","v":""},{"$f":"IF('名刺管理（Eight）'!E353=\"\",\"\",'名刺管理（Eight）'!E353)","v":""},{"$f":"IF('名刺管理（Eight）'!F353=\"\",\"\",'名刺管理（Eight）'!F353)","v":""},{"$f":"IF('名刺管理（Eight）'!G353=\"\",\"\",IF(LEFT('名刺管理（Eight）'!G353,3)=\"神奈川\",LEFT('名刺管理（Eight）'!G353,4),IF(LEFT('名刺管理（Eight）'!G353,3)=\"和歌山\",LEFT('名刺管理（Eight）'!G353,4),IF(LEFT('名刺管理（Eight）'!G353,3)=\"鹿児島\",LEFT('名刺管理（Eight）'!G353,4),LEFT('名刺管理（Eight）'!G353,3)))))","v":""},{"$f":"IF(K355=\"\",\"\",IF(LEN(K355)=3,MID('名刺管理（Eight）'!G353,4,50),MID('名刺管理（Eight）'!G353,5,50)))","v":""},{"$f":"IF('名刺管理（Eight）'!H353=\"\",\"\",'名刺管理（Eight）'!H353)","v":""},{"$f":"IF('名刺管理（Eight）'!K353=\"\",\"\",'名刺管理（Eight）'!K353)","v":""},{"$f":"IF('名刺管理（Eight）'!L353=\"\",\"\",'名刺管理（Eight）'!L353)","v":""},{"$f":"IF('名刺管理（Eight）'!M353=\"\",\"\",'名刺管理（Eight）'!M353)","v":""},{"$f":"IF('名刺管理（Eight）'!N353=\"\",\"\",TEXT('名刺管理（Eight）'!N353,\"yyyy/m/d\"))","v":""}]
[{"$f":"LEFT('名刺管理（Eight）'!D354,D356)","v":""},{"$f":"RIGHT('名刺管理（Eight）'!D354,E356)","v":""},{"$f":"IF('名刺管理（Eight）'!D354=\"\",\"\",IF(LEN('名刺管理（Eight）'!D354)=D356+E356,\"\",\"不一致\"))","v":""},null,null,{"$f":"IF('名刺管理（Eight）'!A354=\"\",\"\",'名刺管理（Eight）'!A354)","v":""},{"$f":"IF('名刺管理（Eight）'!B354=\"\",\"\",'名刺管理（Eight）'!B354)","v":""},{"$f":"IF('名刺管理（Eight）'!C354=\"\",\"\",'名刺管理（Eight）'!C354)","v":""},{"$f":"IF('名刺管理（Eight）'!E354=\"\",\"\",'名刺管理（Eight）'!E354)","v":""},{"$f":"IF('名刺管理（Eight）'!F354=\"\",\"\",'名刺管理（Eight）'!F354)","v":""},{"$f":"IF('名刺管理（Eight）'!G354=\"\",\"\",IF(LEFT('名刺管理（Eight）'!G354,3)=\"神奈川\",LEFT('名刺管理（Eight）'!G354,4),IF(LEFT('名刺管理（Eight）'!G354,3)=\"和歌山\",LEFT('名刺管理（Eight）'!G354,4),IF(LEFT('名刺管理（Eight）'!G354,3)=\"鹿児島\",LEFT('名刺管理（Eight）'!G354,4),LEFT('名刺管理（Eight）'!G354,3)))))","v":""},{"$f":"IF(K356=\"\",\"\",IF(LEN(K356)=3,MID('名刺管理（Eight）'!G354,4,50),MID('名刺管理（Eight）'!G354,5,50)))","v":""},{"$f":"IF('名刺管理（Eight）'!H354=\"\",\"\",'名刺管理（Eight）'!H354)","v":""},{"$f":"IF('名刺管理（Eight）'!K354=\"\",\"\",'名刺管理（Eight）'!K354)","v":""},{"$f":"IF('名刺管理（Eight）'!L354=\"\",\"\",'名刺管理（Eight）'!L354)","v":""},{"$f":"IF('名刺管理（Eight）'!M354=\"\",\"\",'名刺管理（Eight）'!M354)","v":""},{"$f":"IF('名刺管理（Eight）'!N354=\"\",\"\",TEXT('名刺管理（Eight）'!N354,\"yyyy/m/d\"))","v":""}]
[{"$f":"LEFT('名刺管理（Eight）'!D355,D357)","v":""},{"$f":"RIGHT('名刺管理（Eight）'!D355,E357)","v":""},{"$f":"IF('名刺管理（Eight）'!D355=\"\",\"\",IF(LEN('名刺管理（Eight）'!D355)=D357+E357,\"\",\"不一致\"))","v":""},null,null,{"$f":"IF('名刺管理（Eight）'!A355=\"\",\"\",'名刺管理（Eight）'!A355)","v":""},{"$f":"IF('名刺管理（Eight）'!B355=\"\",\"\",'名刺管理（Eight）'!B355)","v":""},{"$f":"IF('名刺管理（Eight）'!C355=\"\",\"\",'名刺管理（Eight）'!C355)","v":""},{"$f":"IF('名刺管理（Eight）'!E355=\"\",\"\",'名刺管理（Eight）'!E355)","v":""},{"$f":"IF('名刺管理（Eight）'!F355=\"\",\"\",'名刺管理（Eight）'!F355)","v":""},{"$f":"IF('名刺管理（Eight）'!G355=\"\",\"\",IF(LEFT('名刺管理（Eight）'!G355,3)=\"神奈川\",LEFT('名刺管理（Eight）'!G355,4),IF(LEFT('名刺管理（Eight）'!G355,3)=\"和歌山\",LEFT('名刺管理（Eight）'!G355,4),IF(LEFT('名刺管理（Eight）'!G355,3)=\"鹿児島\",LEFT('名刺管理（Eight）'!G355,4),LEFT('名刺管理（Eight）'!G355,3)))))","v":""},{"$f":"IF(K357=\"\",\"\",IF(LEN(K357)=3,MID('名刺管理（Eight）'!G355,4,50),MID('名刺管理（Eight）'!G355,5,50)))","v":""},{"$f":"IF('名刺管理（Eight）'!H355=\"\",\"\",'名刺管理（Eight）'!H355)","v":""},{"$f":"IF('名刺管理（Eight）'!K355=\"\",\"\",'名刺管理（Eight）'!K355)","v":""},{"$f":"IF('名刺管理（Eight）'!L355=\"\",\"\",'名刺管理（Eight）'!L355)","v":""},{"$f":"IF('名刺管理（Eight）'!M355=\"\",\"\",'名刺管理（Eight）'!M355)","v":""},{"$f":"IF('名刺管理（Eight）'!N355=\"\",\"\",TEXT('名刺管理（Eight）'!N355,\"yyyy/m/d\"))","v":""}]
[{"$f":"LEFT('名刺管理（Eight）'!D356,D358)","v":""},{"$f":"RIGHT('名刺管理（Eight）'!D356,E358)","v":""},{"$f":"IF('名刺管理（Eight）'!D356=\"\",\"\",IF(LEN('名刺管理（Eight）'!D356)=D358+E358,\"\",\"不一致\"))","v":""},null,null,{"$f":"IF('名刺管理（Eight）'!A356=\"\",\"\",'名刺管理（Eight）'!A356)","v":""},{"$f":"IF('名刺管理（Eight）'!B356=\"\",\"\",'名刺管理（Eight）'!B356)","v":""},{"$f":"IF('名刺管理（Eight）'!C356=\"\",\"\",'名刺管理（Eight）'!C356)","v":""},{"$f":"IF('名刺管理（Eight）'!E356=\"\",\"\",'名刺管理（Eight）'!E356)","v":""},{"$f":"IF('名刺管理（Eight）'!F356=\"\",\"\",'名刺管理（Eight）'!F356)","v":""},{"$f":"IF('名刺管理（Eight）'!G356=\"\",\"\",IF(LEFT('名刺管理（Eight）'!G356,3)=\"神奈川\",LEFT('名刺管理（Eight）'!G356,4),IF(LEFT('名刺管理（Eight）'!G356,3)=\"和歌山\",LEFT('名刺管理（Eight）'!G356,4),IF(LEFT('名刺管理（Eight）'!G356,3)=\"鹿児島\",LEFT('名刺管理（Eight）'!G356,4),LEFT('名刺管理（Eight）'!G356,3)))))","v":""},{"$f":"IF(K358=\"\",\"\",IF(LEN(K358)=3,MID('名刺管理（Eight）'!G356,4,50),MID('名刺管理（Eight）'!G356,5,50)))","v":""},{"$f":"IF('名刺管理（Eight）'!H356=\"\",\"\",'名刺管理（Eight）'!H356)","v":""},{"$f":"IF('名刺管理（Eight）'!K356=\"\",\"\",'名刺管理（Eight）'!K356)","v":""},{"$f":"IF('名刺管理（Eight）'!L356=\"\",\"\",'名刺管理（Eight）'!L356)","v":""},{"$f":"IF('名刺管理（Eight）'!M356=\"\",\"\",'名刺管理（Eight）'!M356)","v":""},{"$f":"IF('名刺管理（Eight）'!N356=\"\",\"\",TEXT('名刺管理（Eight）'!N356,\"yyyy/m/d\"))","v":""}]
[{"$f":"LEFT('名刺管理（Eight）'!D357,D359)","v":""},{"$f":"RIGHT('名刺管理（Eight）'!D357,E359)","v":""},{"$f":"IF('名刺管理（Eight）'!D357=\"\",\"\",IF(LEN('名刺管理（Eight）'!D357)=D359+E359,\"\",\"不一致\"))","v":""},null,null,{"$f":"IF('名刺管理（Eight）'!A357=\"\",\"\",'名刺管理（Eight）'!A357)","v":""},{"$f":"IF('名刺管理（Eight）'!B357=\"\",\"\",'名刺管理（Eight）'!B357)","v":""},{"$f":"IF('名刺管理（Eight）'!C357=\"\",\"\",'名刺管理（Eight）'!C357)","v":""},{"$f":"IF('名刺管理（Eight）'!E357=\"\",\"\",'名刺管理（Eight）'!E357)","v":""},{"$f":"IF('名刺管理（Eight）'!F357=\"\",\"\",'名刺管理（Eight）'!F357)","v":""},{"$f":"IF('名刺管理（Eight）'!G357=\"\",\"\",IF(LEFT('名刺管理（Eight）'!G357,3)=\"神奈川\",LEFT('名刺管理（Eight）'!G357,4),IF(LEFT('名刺管理（Eight）'!G357,3)=\"和歌山\",LEFT('名刺管理（Eight）'!G357,4),IF(LEFT('名刺管理（Eight）'!G357,3)=\"鹿児島\",LEFT('名刺管理（Eight）'!G357,4),LEFT('名刺管理（Eight）'!G357,3)))))","v":""},{"$f":"IF(K359=\"\",\"\",IF(LEN(K359)=3,MID('名刺管理（Eight）'!G357,4,50),MID('名刺管理（Eight）'!G357,5,50)))","v":""},{"$f":"IF('名刺管理（Eight）'!H357=\"\",\"\",'名刺管理（Eight）'!H357)","v":""},{"$f":"IF('名刺管理（Eight）'!K357=\"\",\"\",'名刺管理（Eight）'!K357)","v":""},{"$f":"IF('名刺管理（Eight）'!L357=\"\",\"\",'名刺管理（Eight）'!L357)","v":""},{"$f":"IF('名刺管理（Eight）'!M357=\"\",\"\",'名刺管理（Eight）'!M357)","v":""},{"$f":"IF('名刺管理（Eight）'!N357=\"\",\"\",TEXT('名刺管理（Eight）'!N357,\"yyyy/m/d\"))","v":""}]
[{"$f":"LEFT('名刺管理（Eight）'!D358,D360)","v":""},{"$f":"RIGHT('名刺管理（Eight）'!D358,E360)","v":""},{"$f":"IF('名刺管理（Eight）'!D358=\"\",\"\",IF(LEN('名刺管理（Eight）'!D358)=D360+E360,\"\",\"不一致\"))","v":""},null,null,{"$f":"IF('名刺管理（Eight）'!A358=\"\",\"\",'名刺管理（Eight）'!A358)","v":""},{"$f":"IF('名刺管理（Eight）'!B358=\"\",\"\",'名刺管理（Eight）'!B358)","v":""},{"$f":"IF('名刺管理（Eight）'!C358=\"\",\"\",'名刺管理（Eight）'!C358)","v":""},{"$f":"IF('名刺管理（Eight）'!E358=\"\",\"\",'名刺管理（Eight）'!E358)","v":""},{"$f":"IF('名刺管理（Eight）'!F358=\"\",\"\",'名刺管理（Eight）'!F358)","v":""},{"$f":"IF('名刺管理（Eight）'!G358=\"\",\"\",IF(LEFT('名刺管理（Eight）'!G358,3)=\"神奈川\",LEFT('名刺管理（Eight）'!G358,4),IF(LEFT('名刺管理（Eight）'!G358,3)=\"和歌山\",LEFT('名刺管理（Eight）'!G358,4),IF(LEFT('名刺管理（Eight）'!G358,3)=\"鹿児島\",LEFT('名刺管理（Eight）'!G358,4),LEFT('名刺管理（Eight）'!G358,3)))))","v":""},{"$f":"IF(K360=\"\",\"\",IF(LEN(K360)=3,MID('名刺管理（Eight）'!G358,4,50),MID('名刺管理（Eight）'!G358,5,50)))","v":""},{"$f":"IF('名刺管理（Eight）'!H358=\"\",\"\",'名刺管理（Eight）'!H358)","v":""},{"$f":"IF('名刺管理（Eight）'!K358=\"\",\"\",'名刺管理（Eight）'!K358)","v":""},{"$f":"IF('名刺管理（Eight）'!L358=\"\",\"\",'名刺管理（Eight）'!L358)","v":""},{"$f":"IF('名刺管理（Eight）'!M358=\"\",\"\",'名刺管理（Eight）'!M358)","v":""},{"$f":"IF('名刺管理（Eight）'!N358=\"\",\"\",TEXT('名刺管理（Eight）'!N358,\"yyyy/m/d\"))","v":""}]
[{"$f":"LEFT('名刺管理（Eight）'!D359,D361)","v":""},{"$f":"RIGHT('名刺管理（Eight）'!D359,E361)","v":""},{"$f":"IF('名刺管理（Eight）'!D359=\"\",\"\",IF(LEN('名刺管理（Eight）'!D359)=D361+E361,\"\",\"不一致\"))","v":""},null,null,{"$f":"IF('名刺管理（Eight）'!A359=\"\",\"\",'名刺管理（Eight）'!A359)","v":""},{"$f":"IF('名刺管理（Eight）'!B359=\"\",\"\",'名刺管理（Eight）'!B359)","v":""},{"$f":"IF('名刺管理（Eight）'!C359=\"\",\"\",'名刺管理（Eight）'!C359)","v":""},{"$f":"IF('名刺管理（Eight）'!E359=\"\",\"\",'名刺管理（Eight）'!E359)","v":""},{"$f":"IF('名刺管理（Eight）'!F359=\"\",\"\",'名刺管理（Eight）'!F359)","v":""},{"$f":"IF('名刺管理（Eight）'!G359=\"\",\"\",IF(LEFT('名刺管理（Eight）'!G359,3)=\"神奈川\",LEFT('名刺管理（Eight）'!G359,4),IF(LEFT('名刺管理（Eight）'!G359,3)=\"和歌山\",LEFT('名刺管理（Eight）'!G359,4),IF(LEFT('名刺管理（Eight）'!G359,3)=\"鹿児島\",LEFT('名刺管理（Eight）'!G359,4),LEFT('名刺管理（Eight）'!G359,3)))))","v":""},{"$f":"IF(K361=\"\",\"\",IF(LEN(K361)=3,MID('名刺管理（Eight）'!G359,4,50),MID('名刺管理（Eight）'!G359,5,50)))","v":""},{"$f":"IF('名刺管理（Eight）'!H359=\"\",\"\",'名刺管理（Eight）'!H359)","v":""},{"$f":"IF('名刺管理（Eight）'!K359=\"\",\"\",'名刺管理（Eight）'!K359)","v":""},{"$f":"IF('名刺管理（Eight）'!L359=\"\",\"\",'名刺管理（Eight）'!L359)","v":""},{"$f":"IF('名刺管理（Eight）'!M359=\"\",\"\",'名刺管理（Eight）'!M359)","v":""},{"$f":"IF('名刺管理（Eight）'!N359=\"\",\"\",TEXT('名刺管理（Eight）'!N359,\"yyyy/m/d\"))","v":""}]
[{"$f":"LEFT('名刺管理（Eight）'!D360,D362)","v":""},{"$f":"RIGHT('名刺管理（Eight）'!D360,E362)","v":""},{"$f":"IF('名刺管理（Eight）'!D360=\"\",\"\",IF(LEN('名刺管理（Eight）'!D360)=D362+E362,\"\",\"不一致\"))","v":""},null,null,{"$f":"IF('名刺管理（Eight）'!A360=\"\",\"\",'名刺管理（Eight）'!A360)","v":""},{"$f":"IF('名刺管理（Eight）'!B360=\"\",\"\",'名刺管理（Eight）'!B360)","v":""},{"$f":"IF('名刺管理（Eight）'!C360=\"\",\"\",'名刺管理（Eight）'!C360)","v":""},{"$f":"IF('名刺管理（Eight）'!E360=\"\",\"\",'名刺管理（Eight）'!E360)","v":""},{"$f":"IF('名刺管理（Eight）'!F360=\"\",\"\",'名刺管理（Eight）'!F360)","v":""},{"$f":"IF('名刺管理（Eight）'!G360=\"\",\"\",IF(LEFT('名刺管理（Eight）'!G360,3)=\"神奈川\",LEFT('名刺管理（Eight）'!G360,4),IF(LEFT('名刺管理（Eight）'!G360,3)=\"和歌山\",LEFT('名刺管理（Eight）'!G360,4),IF(LEFT('名刺管理（Eight）'!G360,3)=\"鹿児島\",LEFT('名刺管理（Eight）'!G360,4),LEFT('名刺管理（Eight）'!G360,3)))))","v":""},{"$f":"IF(K362=\"\",\"\",IF(LEN(K362)=3,MID('名刺管理（Eight）'!G360,4,50),MID('名刺管理（Eight）'!G360,5,50)))","v":""},{"$f":"IF('名刺管理（Eight）'!H360=\"\",\"\",'名刺管理（Eight）'!H360)","v":""},{"$f":"IF('名刺管理（Eight）'!K360=\"\",\"\",'名刺管理（Eight）'!K360)","v":""},{"$f":"IF('名刺管理（Eight）'!L360=\"\",\"\",'名刺管理（Eight）'!L360)","v":""},{"$f":"IF('名刺管理（Eight）'!M360=\"\",\"\",'名刺管理（Eight）'!M360)","v":""},{"$f":"IF('名刺管理（Eight）'!N360=\"\",\"\",TEXT('名刺管理（Eight）'!N360,\"yyyy/m/d\"))","v":""}]
[{"$f":"LEFT('名刺管理（Eight）'!D361,D363)","v":""},{"$f":"RIGHT('名刺管理（Eight）'!D361,E363)","v":""},{"$f":"IF('名刺管理（Eight）'!D361=\"\",\"\",IF(LEN('名刺管理（Eight）'!D361)=D363+E363,\"\",\"不一致\"))","v":""},null,null,{"$f":"IF('名刺管理（Eight）'!A361=\"\",\"\",'名刺管理（Eight）'!A361)","v":""},{"$f":"IF('名刺管理（Eight）'!B361=\"\",\"\",'名刺管理（Eight）'!B361)","v":""},{"$f":"IF('名刺管理（Eight）'!C361=\"\",\"\",'名刺管理（Eight）'!C361)","v":""},{"$f":"IF('名刺管理（Eight）'!E361=\"\",\"\",'名刺管理（Eight）'!E361)","v":""},{"$f":"IF('名刺管理（Eight）'!F361=\"\",\"\",'名刺管理（Eight）'!F361)","v":""},{"$f":"IF('名刺管理（Eight）'!G361=\"\",\"\",IF(LEFT('名刺管理（Eight）'!G361,3)=\"神奈川\",LEFT('名刺管理（Eight）'!G361,4),IF(LEFT('名刺管理（Eight）'!G361,3)=\"和歌山\",LEFT('名刺管理（Eight）'!G361,4),IF(LEFT('名刺管理（Eight）'!G361,3)=\"鹿児島\",LEFT('名刺管理（Eight）'!G361,4),LEFT('名刺管理（Eight）'!G361,3)))))","v":""},{"$f":"IF(K363=\"\",\"\",IF(LEN(K363)=3,MID('名刺管理（Eight）'!G361,4,50),MID('名刺管理（Eight）'!G361,5,50)))","v":""},{"$f":"IF('名刺管理（Eight）'!H361=\"\",\"\",'名刺管理（Eight）'!H361)","v":""},{"$f":"IF('名刺管理（Eight）'!K361=\"\",\"\",'名刺管理（Eight）'!K361)","v":""},{"$f":"IF('名刺管理（Eight）'!L361=\"\",\"\",'名刺管理（Eight）'!L361)","v":""},{"$f":"IF('名刺管理（Eight）'!M361=\"\",\"\",'名刺管理（Eight）'!M361)","v":""},{"$f":"IF('名刺管理（Eight）'!N361=\"\",\"\",TEXT('名刺管理（Eight）'!N361,\"yyyy/m/d\"))","v":""}]
[{"$f":"LEFT('名刺管理（Eight）'!D362,D364)","v":""},{"$f":"RIGHT('名刺管理（Eight）'!D362,E364)","v":""},{"$f":"IF('名刺管理（Eight）'!D362=\"\",\"\",IF(LEN('名刺管理（Eight）'!D362)=D364+E364,\"\",\"不一致\"))","v":""},null,null,{"$f":"IF('名刺管理（Eight）'!A362=\"\",\"\",'名刺管理（Eight）'!A362)","v":""},{"$f":"IF('名刺管理（Eight）'!B362=\"\",\"\",'名刺管理（Eight）'!B362)","v":""},{"$f":"IF('名刺管理（Eight）'!C362=\"\",\"\",'名刺管理（Eight）'!C362)","v":""},{"$f":"IF('名刺管理（Eight）'!E362=\"\",\"\",'名刺管理（Eight）'!E362)","v":""},{"$f":"IF('名刺管理（Eight）'!F362=\"\",\"\",'名刺管理（Eight）'!F362)","v":""},{"$f":"IF('名刺管理（Eight）'!G362=\"\",\"\",IF(LEFT('名刺管理（Eight）'!G362,3)=\"神奈川\",LEFT('名刺管理（Eight）'!G362,4),IF(LEFT('名刺管理（Eight）'!G362,3)=\"和歌山\",LEFT('名刺管理（Eight）'!G362,4),IF(LEFT('名刺管理（Eight）'!G362,3)=\"鹿児島\",LEFT('名刺管理（Eight）'!G362,4),LEFT('名刺管理（Eight）'!G362,3)))))","v":""},{"$f":"IF(K364=\"\",\"\",IF(LEN(K364)=3,MID('名刺管理（Eight）'!G362,4,50),MID('名刺管理（Eight）'!G362,5,50)))","v":""},{"$f":"IF('名刺管理（Eight）'!H362=\"\",\"\",'名刺管理（Eight）'!H362)","v":""},{"$f":"IF('名刺管理（Eight）'!K362=\"\",\"\",'名刺管理（Eight）'!K362)","v":""},{"$f":"IF('名刺管理（Eight）'!L362=\"\",\"\",'名刺管理（Eight）'!L362)","v":""},{"$f":"IF('名刺管理（Eight）'!M362=\"\",\"\",'名刺管理（Eight）'!M362)","v":""},{"$f":"IF('名刺管理（Eight）'!N362=\"\",\"\",TEXT('名刺管理（Eight）'!N362,\"yyyy/m/d\"))","v":""}]
[{"$f":"LEFT('名刺管理（Eight）'!D363,D365)","v":""},{"$f":"RIGHT('名刺管理（Eight）'!D363,E365)","v":""},{"$f":"IF('名刺管理（Eight）'!D363=\"\",\"\",IF(LEN('名刺管理（Eight）'!D363)=D365+E365,\"\",\"不一致\"))","v":""},null,null,{"$f":"IF('名刺管理（Eight）'!A363=\"\",\"\",'名刺管理（Eight）'!A363)","v":""},{"$f":"IF('名刺管理（Eight）'!B363=\"\",\"\",'名刺管理（Eight）'!B363)","v":""},{"$f":"IF('名刺管理（Eight）'!C363=\"\",\"\",'名刺管理（Eight）'!C363)","v":""},{"$f":"IF('名刺管理（Eight）'!E363=\"\",\"\",'名刺管理（Eight）'!E363)","v":""},{"$f":"IF('名刺管理（Eight）'!F363=\"\",\"\",'名刺管理（Eight）'!F363)","v":""},{"$f":"IF('名刺管理（Eight）'!G363=\"\",\"\",IF(LEFT('名刺管理（Eight）'!G363,3)=\"神奈川\",LEFT('名刺管理（Eight）'!G363,4),IF(LEFT('名刺管理（Eight）'!G363,3)=\"和歌山\",LEFT('名刺管理（Eight）'!G363,4),IF(LEFT('名刺管理（Eight）'!G363,3)=\"鹿児島\",LEFT('名刺管理（Eight）'!G363,4),LEFT('名刺管理（Eight）'!G363,3)))))","v":""},{"$f":"IF(K365=\"\",\"\",IF(LEN(K365)=3,MID('名刺管理（Eight）'!G363,4,50),MID('名刺管理（Eight）'!G363,5,50)))","v":""},{"$f":"IF('名刺管理（Eight）'!H363=\"\",\"\",'名刺管理（Eight）'!H363)","v":""},{"$f":"IF('名刺管理（Eight）'!K363=\"\",\"\",'名刺管理（Eight）'!K363)","v":""},{"$f":"IF('名刺管理（Eight）'!L363=\"\",\"\",'名刺管理（Eight）'!L363)","v":""},{"$f":"IF('名刺管理（Eight）'!M363=\"\",\"\",'名刺管理（Eight）'!M363)","v":""},{"$f":"IF('名刺管理（Eight）'!N363=\"\",\"\",TEXT('名刺管理（Eight）'!N363,\"yyyy/m/d\"))","v":""}]
[{"$f":"LEFT('名刺管理（Eight）'!D364,D366)","v":""},{"$f":"RIGHT('名刺管理（Eight）'!D364,E366)","v":""},{"$f":"IF('名刺管理（Eight）'!D364=\"\",\"\",IF(LEN('名刺管理（Eight）'!D364)=D366+E366,\"\",\"不一致\"))","v":""},null,null,{"$f":"IF('名刺管理（Eight）'!A364=\"\",\"\",'名刺管理（Eight）'!A364)","v":""},{"$f":"IF('名刺管理（Eight）'!B364=\"\",\"\",'名刺管理（Eight）'!B364)","v":""},{"$f":"IF('名刺管理（Eight）'!C364=\"\",\"\",'名刺管理（Eight）'!C364)","v":""},{"$f":"IF('名刺管理（Eight）'!E364=\"\",\"\",'名刺管理（Eight）'!E364)","v":""},{"$f":"IF('名刺管理（Eight）'!F364=\"\",\"\",'名刺管理（Eight）'!F364)","v":""},{"$f":"IF('名刺管理（Eight）'!G364=\"\",\"\",IF(LEFT('名刺管理（Eight）'!G364,3)=\"神奈川\",LEFT('名刺管理（Eight）'!G364,4),IF(LEFT('名刺管理（Eight）'!G364,3)=\"和歌山\",LEFT('名刺管理（Eight）'!G364,4),IF(LEFT('名刺管理（Eight）'!G364,3)=\"鹿児島\",LEFT('名刺管理（Eight）'!G364,4),LEFT('名刺管理（Eight）'!G364,3)))))","v":""},{"$f":"IF(K366=\"\",\"\",IF(LEN(K366)=3,MID('名刺管理（Eight）'!G364,4,50),MID('名刺管理（Eight）'!G364,5,50)))","v":""},{"$f":"IF('名刺管理（Eight）'!H364=\"\",\"\",'名刺管理（Eight）'!H364)","v":""},{"$f":"IF('名刺管理（Eight）'!K364=\"\",\"\",'名刺管理（Eight）'!K364)","v":""},{"$f":"IF('名刺管理（Eight）'!L364=\"\",\"\",'名刺管理（Eight）'!L364)","v":""},{"$f":"IF('名刺管理（Eight）'!M364=\"\",\"\",'名刺管理（Eight）'!M364)","v":""},{"$f":"IF('名刺管理（Eight）'!N364=\"\",\"\",TEXT('名刺管理（Eight）'!N364,\"yyyy/m/d\"))","v":""}]
[{"$f":"LEFT('名刺管理（Eight）'!D365,D367)","v":""},{"$f":"RIGHT('名刺管理（Eight）'!D365,E367)","v":""},{"$f":"IF('名刺管理（Eight）'!D365=\"\",\"\",IF(LEN('名刺管理（Eight）'!D365)=D367+E367,\"\",\"不一致\"))","v":""},null,null,{"$f":"IF('名刺管理（Eight）'!A365=\"\",\"\",'名刺管理（Eight）'!A365)","v":""},{"$f":"IF('名刺管理（Eight）'!B365=\"\",\"\",'名刺管理（Eight）'!B365)","v":""},{"$f":"IF('名刺管理（Eight）'!C365=\"\",\"\",'名刺管理（Eight）'!C365)","v":""},{"$f":"IF('名刺管理（Eight）'!E365=\"\",\"\",'名刺管理（Eight）'!E365)","v":""},{"$f":"IF('名刺管理（Eight）'!F365=\"\",\"\",'名刺管理（Eight）'!F365)","v":""},{"$f":"IF('名刺管理（Eight）'!G365=\"\",\"\",IF(LEFT('名刺管理（Eight）'!G365,3)=\"神奈川\",LEFT('名刺管理（Eight）'!G365,4),IF(LEFT('名刺管理（Eight）'!G365,3)=\"和歌山\",LEFT('名刺管理（Eight）'!G365,4),IF(LEFT('名刺管理（Eight）'!G365,3)=\"鹿児島\",LEFT('名刺管理（Eight）'!G365,4),LEFT('名刺管理（Eight）'!G365,3)))))","v":""},{"$f":"IF(K367=\"\",\"\",IF(LEN(K367)=3,MID('名刺管理（Eight）'!G365,4,50),MID('名刺管理（Eight）'!G365,5,50)))","v":""},{"$f":"IF('名刺管理（Eight）'!H365=\"\",\"\",'名刺管理（Eight）'!H365)","v":""},{"$f":"IF('名刺管理（Eight）'!K365=\"\",\"\",'名刺管理（Eight）'!K365)","v":""},{"$f":"IF('名刺管理（Eight）'!L365=\"\",\"\",'名刺管理（Eight）'!L365)","v":""},{"$f":"IF('名刺管理（Eight）'!M365=\"\",\"\",'名刺管理（Eight）'!M365)","v":""},{"$f":"IF('名刺管理（Eight）'!N365=\"\",\"\",TEXT('名刺管理（Eight）'!N365,\"yyyy/m/d\"))","v":""}]
[{"$f":"LEFT('名刺管理（Eight）'!D366,D368)","v":""},{"$f":"RIGHT('名刺管理（Eight）'!D366,E368)","v":""},{"$f":"IF('名刺管理（Eight）'!D366=\"\",\"\",IF(LEN('名刺管理（Eight）'!D366)=D368+E368,\"\",\"不一致\"))","v":""},null,null,{"$f":"IF('名刺管理（Eight）'!A366=\"\",\"\",'名刺管理（Eight）'!A366)","v":""},{"$f":"IF('名刺管理（Eight）'!B366=\"\",\"\",'名刺管理（Eight）'!B366)","v":""},{"$f":"IF('名刺管理（Eight）'!C366=\"\",\"\",'名刺管理（Eight）'!C366)","v":""},{"$f":"IF('名刺管理（Eight）'!E366=\"\",\"\",'名刺管理（Eight）'!E366)","v":""},{"$f":"IF('名刺管理（Eight）'!F366=\"\",\"\",'名刺管理（Eight）'!F366)","v":""},{"$f":"IF('名刺管理（Eight）'!G366=\"\",\"\",IF(LEFT('名刺管理（Eight）'!G366,3)=\"神奈川\",LEFT('名刺管理（Eight）'!G366,4),IF(LEFT('名刺管理（Eight）'!G366,3)=\"和歌山\",LEFT('名刺管理（Eight）'!G366,4),IF(LEFT('名刺管理（Eight）'!G366,3)=\"鹿児島\",LEFT('名刺管理（Eight）'!G366,4),LEFT('名刺管理（Eight）'!G366,3)))))","v":""},{"$f":"IF(K368=\"\",\"\",IF(LEN(K368)=3,MID('名刺管理（Eight）'!G366,4,50),MID('名刺管理（Eight）'!G366,5,50)))","v":""},{"$f":"IF('名刺管理（Eight）'!H366=\"\",\"\",'名刺管理（Eight）'!H366)","v":""},{"$f":"IF('名刺管理（Eight）'!K366=\"\",\"\",'名刺管理（Eight）'!K366)","v":""},{"$f":"IF('名刺管理（Eight）'!L366=\"\",\"\",'名刺管理（Eight）'!L366)","v":""},{"$f":"IF('名刺管理（Eight）'!M366=\"\",\"\",'名刺管理（Eight）'!M366)","v":""},{"$f":"IF('名刺管理（Eight）'!N366=\"\",\"\",TEXT('名刺管理（Eight）'!N366,\"yyyy/m/d\"))","v":""}]
[{"$f":"LEFT('名刺管理（Eight）'!D367,D369)","v":""},{"$f":"RIGHT('名刺管理（Eight）'!D367,E369)","v":""},{"$f":"IF('名刺管理（Eight）'!D367=\"\",\"\",IF(LEN('名刺管理（Eight）'!D367)=D369+E369,\"\",\"不一致\"))","v":""},null,null,{"$f":"IF('名刺管理（Eight）'!A367=\"\",\"\",'名刺管理（Eight）'!A367)","v":""},{"$f":"IF('名刺管理（Eight）'!B367=\"\",\"\",'名刺管理（Eight）'!B367)","v":""},{"$f":"IF('名刺管理（Eight）'!C367=\"\",\"\",'名刺管理（Eight）'!C367)","v":""},{"$f":"IF('名刺管理（Eight）'!E367=\"\",\"\",'名刺管理（Eight）'!E367)","v":""},{"$f":"IF('名刺管理（Eight）'!F367=\"\",\"\",'名刺管理（Eight）'!F367)","v":""},{"$f":"IF('名刺管理（Eight）'!G367=\"\",\"\",IF(LEFT('名刺管理（Eight）'!G367,3)=\"神奈川\",LEFT('名刺管理（Eight）'!G367,4),IF(LEFT('名刺管理（Eight）'!G367,3)=\"和歌山\",LEFT('名刺管理（Eight）'!G367,4),IF(LEFT('名刺管理（Eight）'!G367,3)=\"鹿児島\",LEFT('名刺管理（Eight）'!G367,4),LEFT('名刺管理（Eight）'!G367,3)))))","v":""},{"$f":"IF(K369=\"\",\"\",IF(LEN(K369)=3,MID('名刺管理（Eight）'!G367,4,50),MID('名刺管理（Eight）'!G367,5,50)))","v":""},{"$f":"IF('名刺管理（Eight）'!H367=\"\",\"\",'名刺管理（Eight）'!H367)","v":""},{"$f":"IF('名刺管理（Eight）'!K367=\"\",\"\",'名刺管理（Eight）'!K367)","v":""},{"$f":"IF('名刺管理（Eight）'!L367=\"\",\"\",'名刺管理（Eight）'!L367)","v":""},{"$f":"IF('名刺管理（Eight）'!M367=\"\",\"\",'名刺管理（Eight）'!M367)","v":""},{"$f":"IF('名刺管理（Eight）'!N367=\"\",\"\",TEXT('名刺管理（Eight）'!N367,\"yyyy/m/d\"))","v":""}]
[{"$f":"LEFT('名刺管理（Eight）'!D368,D370)","v":""},{"$f":"RIGHT('名刺管理（Eight）'!D368,E370)","v":""},{"$f":"IF('名刺管理（Eight）'!D368=\"\",\"\",IF(LEN('名刺管理（Eight）'!D368)=D370+E370,\"\",\"不一致\"))","v":""},null,null,{"$f":"IF('名刺管理（Eight）'!A368=\"\",\"\",'名刺管理（Eight）'!A368)","v":""},{"$f":"IF('名刺管理（Eight）'!B368=\"\",\"\",'名刺管理（Eight）'!B368)","v":""},{"$f":"IF('名刺管理（Eight）'!C368=\"\",\"\",'名刺管理（Eight）'!C368)","v":""},{"$f":"IF('名刺管理（Eight）'!E368=\"\",\"\",'名刺管理（Eight）'!E368)","v":""},{"$f":"IF('名刺管理（Eight）'!F368=\"\",\"\",'名刺管理（Eight）'!F368)","v":""},{"$f":"IF('名刺管理（Eight）'!G368=\"\",\"\",IF(LEFT('名刺管理（Eight）'!G368,3)=\"神奈川\",LEFT('名刺管理（Eight）'!G368,4),IF(LEFT('名刺管理（Eight）'!G368,3)=\"和歌山\",LEFT('名刺管理（Eight）'!G368,4),IF(LEFT('名刺管理（Eight）'!G368,3)=\"鹿児島\",LEFT('名刺管理（Eight）'!G368,4),LEFT('名刺管理（Eight）'!G368,3)))))","v":""},{"$f":"IF(K370=\"\",\"\",IF(LEN(K370)=3,MID('名刺管理（Eight）'!G368,4,50),MID('名刺管理（Eight）'!G368,5,50)))","v":""},{"$f":"IF('名刺管理（Eight）'!H368=\"\",\"\",'名刺管理（Eight）'!H368)","v":""},{"$f":"IF('名刺管理（Eight）'!K368=\"\",\"\",'名刺管理（Eight）'!K368)","v":""},{"$f":"IF('名刺管理（Eight）'!L368=\"\",\"\",'名刺管理（Eight）'!L368)","v":""},{"$f":"IF('名刺管理（Eight）'!M368=\"\",\"\",'名刺管理（Eight）'!M368)","v":""},{"$f":"IF('名刺管理（Eight）'!N368=\"\",\"\",TEXT('名刺管理（Eight）'!N368,\"yyyy/m/d\"))","v":""}]
[{"$f":"LEFT('名刺管理（Eight）'!D369,D371)","v":""},{"$f":"RIGHT('名刺管理（Eight）'!D369,E371)","v":""},{"$f":"IF('名刺管理（Eight）'!D369=\"\",\"\",IF(LEN('名刺管理（Eight）'!D369)=D371+E371,\"\",\"不一致\"))","v":""},null,null,{"$f":"IF('名刺管理（Eight）'!A369=\"\",\"\",'名刺管理（Eight）'!A369)","v":""},{"$f":"IF('名刺管理（Eight）'!B369=\"\",\"\",'名刺管理（Eight）'!B369)","v":""},{"$f":"IF('名刺管理（Eight）'!C369=\"\",\"\",'名刺管理（Eight）'!C369)","v":""},{"$f":"IF('名刺管理（Eight）'!E369=\"\",\"\",'名刺管理（Eight）'!E369)","v":""},{"$f":"IF('名刺管理（Eight）'!F369=\"\",\"\",'名刺管理（Eight）'!F369)","v":""},{"$f":"IF('名刺管理（Eight）'!G369=\"\",\"\",IF(LEFT('名刺管理（Eight）'!G369,3)=\"神奈川\",LEFT('名刺管理（Eight）'!G369,4),IF(LEFT('名刺管理（Eight）'!G369,3)=\"和歌山\",LEFT('名刺管理（Eight）'!G369,4),IF(LEFT('名刺管理（Eight）'!G369,3)=\"鹿児島\",LEFT('名刺管理（Eight）'!G369,4),LEFT('名刺管理（Eight）'!G369,3)))))","v":""},{"$f":"IF(K371=\"\",\"\",IF(LEN(K371)=3,MID('名刺管理（Eight）'!G369,4,50),MID('名刺管理（Eight）'!G369,5,50)))","v":""},{"$f":"IF('名刺管理（Eight）'!H369=\"\",\"\",'名刺管理（Eight）'!H369)","v":""},{"$f":"IF('名刺管理（Eight）'!K369=\"\",\"\",'名刺管理（Eight）'!K369)","v":""},{"$f":"IF('名刺管理（Eight）'!L369=\"\",\"\",'名刺管理（Eight）'!L369)","v":""},{"$f":"IF('名刺管理（Eight）'!M369=\"\",\"\",'名刺管理（Eight）'!M369)","v":""},{"$f":"IF('名刺管理（Eight）'!N369=\"\",\"\",TEXT('名刺管理（Eight）'!N369,\"yyyy/m/d\"))","v":""}]
[{"$f":"LEFT('名刺管理（Eight）'!D370,D372)","v":""},{"$f":"RIGHT('名刺管理（Eight）'!D370,E372)","v":""},{"$f":"IF('名刺管理（Eight）'!D370=\"\",\"\",IF(LEN('名刺管理（Eight）'!D370)=D372+E372,\"\",\"不一致\"))","v":""},null,null,{"$f":"IF('名刺管理（Eight）'!A370=\"\",\"\",'名刺管理（Eight）'!A370)","v":""},{"$f":"IF('名刺管理（Eight）'!B370=\"\",\"\",'名刺管理（Eight）'!B370)","v":""},{"$f":"IF('名刺管理（Eight）'!C370=\"\",\"\",'名刺管理（Eight）'!C370)","v":""},{"$f":"IF('名刺管理（Eight）'!E370=\"\",\"\",'名刺管理（Eight）'!E370)","v":""},{"$f":"IF('名刺管理（Eight）'!F370=\"\",\"\",'名刺管理（Eight）'!F370)","v":""},{"$f":"IF('名刺管理（Eight）'!G370=\"\",\"\",IF(LEFT('名刺管理（Eight）'!G370,3)=\"神奈川\",LEFT('名刺管理（Eight）'!G370,4),IF(LEFT('名刺管理（Eight）'!G370,3)=\"和歌山\",LEFT('名刺管理（Eight）'!G370,4),IF(LEFT('名刺管理（Eight）'!G370,3)=\"鹿児島\",LEFT('名刺管理（Eight）'!G370,4),LEFT('名刺管理（Eight）'!G370,3)))))","v":""},{"$f":"IF(K372=\"\",\"\",IF(LEN(K372)=3,MID('名刺管理（Eight）'!G370,4,50),MID('名刺管理（Eight）'!G370,5,50)))","v":""},{"$f":"IF('名刺管理（Eight）'!H370=\"\",\"\",'名刺管理（Eight）'!H370)","v":""},{"$f":"IF('名刺管理（Eight）'!K370=\"\",\"\",'名刺管理（Eight）'!K370)","v":""},{"$f":"IF('名刺管理（Eight）'!L370=\"\",\"\",'名刺管理（Eight）'!L370)","v":""},{"$f":"IF('名刺管理（Eight）'!M370=\"\",\"\",'名刺管理（Eight）'!M370)","v":""},{"$f":"IF('名刺管理（Eight）'!N370=\"\",\"\",TEXT('名刺管理（Eight）'!N370,\"yyyy/m/d\"))","v":""}]
[{"$f":"LEFT('名刺管理（Eight）'!D371,D373)","v":""},{"$f":"RIGHT('名刺管理（Eight）'!D371,E373)","v":""},{"$f":"IF('名刺管理（Eight）'!D371=\"\",\"\",IF(LEN('名刺管理（Eight）'!D371)=D373+E373,\"\",\"不一致\"))","v":""},null,null,{"$f":"IF('名刺管理（Eight）'!A371=\"\",\"\",'名刺管理（Eight）'!A371)","v":""},{"$f":"IF('名刺管理（Eight）'!B371=\"\",\"\",'名刺管理（Eight）'!B371)","v":""},{"$f":"IF('名刺管理（Eight）'!C371=\"\",\"\",'名刺管理（Eight）'!C371)","v":""},{"$f":"IF('名刺管理（Eight）'!E371=\"\",\"\",'名刺管理（Eight）'!E371)","v":""},{"$f":"IF('名刺管理（Eight）'!F371=\"\",\"\",'名刺管理（Eight）'!F371)","v":""},{"$f":"IF('名刺管理（Eight）'!G371=\"\",\"\",IF(LEFT('名刺管理（Eight）'!G371,3)=\"神奈川\",LEFT('名刺管理（Eight）'!G371,4),IF(LEFT('名刺管理（Eight）'!G371,3)=\"和歌山\",LEFT('名刺管理（Eight）'!G371,4),IF(LEFT('名刺管理（Eight）'!G371,3)=\"鹿児島\",LEFT('名刺管理（Eight）'!G371,4),LEFT('名刺管理（Eight）'!G371,3)))))","v":""},{"$f":"IF(K373=\"\",\"\",IF(LEN(K373)=3,MID('名刺管理（Eight）'!G371,4,50),MID('名刺管理（Eight）'!G371,5,50)))","v":""},{"$f":"IF('名刺管理（Eight）'!H371=\"\",\"\",'名刺管理（Eight）'!H371)","v":""},{"$f":"IF('名刺管理（Eight）'!K371=\"\",\"\",'名刺管理（Eight）'!K371)","v":""},{"$f":"IF('名刺管理（Eight）'!L371=\"\",\"\",'名刺管理（Eight）'!L371)","v":""},{"$f":"IF('名刺管理（Eight）'!M371=\"\",\"\",'名刺管理（Eight）'!M371)","v":""},{"$f":"IF('名刺管理（Eight）'!N371=\"\",\"\",TEXT('名刺管理（Eight）'!N371,\"yyyy/m/d\"))","v":""}]
[{"$f":"LEFT('名刺管理（Eight）'!D372,D374)","v":""},{"$f":"RIGHT('名刺管理（Eight）'!D372,E374)","v":""},{"$f":"IF('名刺管理（Eight）'!D372=\"\",\"\",IF(LEN('名刺管理（Eight）'!D372)=D374+E374,\"\",\"不一致\"))","v":""},null,null,{"$f":"IF('名刺管理（Eight）'!A372=\"\",\"\",'名刺管理（Eight）'!A372)","v":""},{"$f":"IF('名刺管理（Eight）'!B372=\"\",\"\",'名刺管理（Eight）'!B372)","v":""},{"$f":"IF('名刺管理（Eight）'!C372=\"\",\"\",'名刺管理（Eight）'!C372)","v":""},{"$f":"IF('名刺管理（Eight）'!E372=\"\",\"\",'名刺管理（Eight）'!E372)","v":""},{"$f":"IF('名刺管理（Eight）'!F372=\"\",\"\",'名刺管理（Eight）'!F372)","v":""},{"$f":"IF('名刺管理（Eight）'!G372=\"\",\"\",IF(LEFT('名刺管理（Eight）'!G372,3)=\"神奈川\",LEFT('名刺管理（Eight）'!G372,4),IF(LEFT('名刺管理（Eight）'!G372,3)=\"和歌山\",LEFT('名刺管理（Eight）'!G372,4),IF(LEFT('名刺管理（Eight）'!G372,3)=\"鹿児島\",LEFT('名刺管理（Eight）'!G372,4),LEFT('名刺管理（Eight）'!G372,3)))))","v":""},{"$f":"IF(K374=\"\",\"\",IF(LEN(K374)=3,MID('名刺管理（Eight）'!G372,4,50),MID('名刺管理（Eight）'!G372,5,50)))","v":""},{"$f":"IF('名刺管理（Eight）'!H372=\"\",\"\",'名刺管理（Eight）'!H372)","v":""},{"$f":"IF('名刺管理（Eight）'!K372=\"\",\"\",'名刺管理（Eight）'!K372)","v":""},{"$f":"IF('名刺管理（Eight）'!L372=\"\",\"\",'名刺管理（Eight）'!L372)","v":""},{"$f":"IF('名刺管理（Eight）'!M372=\"\",\"\",'名刺管理（Eight）'!M372)","v":""},{"$f":"IF('名刺管理（Eight）'!N372=\"\",\"\",TEXT('名刺管理（Eight）'!N372,\"yyyy/m/d\"))","v":""}]
[{"$f":"LEFT('名刺管理（Eight）'!D373,D375)","v":""},{"$f":"RIGHT('名刺管理（Eight）'!D373,E375)","v":""},{"$f":"IF('名刺管理（Eight）'!D373=\"\",\"\",IF(LEN('名刺管理（Eight）'!D373)=D375+E375,\"\",\"不一致\"))","v":""},null,null,{"$f":"IF('名刺管理（Eight）'!A373=\"\",\"\",'名刺管理（Eight）'!A373)","v":""},{"$f":"IF('名刺管理（Eight）'!B373=\"\",\"\",'名刺管理（Eight）'!B373)","v":""},{"$f":"IF('名刺管理（Eight）'!C373=\"\",\"\",'名刺管理（Eight）'!C373)","v":""},{"$f":"IF('名刺管理（Eight）'!E373=\"\",\"\",'名刺管理（Eight）'!E373)","v":""},{"$f":"IF('名刺管理（Eight）'!F373=\"\",\"\",'名刺管理（Eight）'!F373)","v":""},{"$f":"IF('名刺管理（Eight）'!G373=\"\",\"\",IF(LEFT('名刺管理（Eight）'!G373,3)=\"神奈川\",LEFT('名刺管理（Eight）'!G373,4),IF(LEFT('名刺管理（Eight）'!G373,3)=\"和歌山\",LEFT('名刺管理（Eight）'!G373,4),IF(LEFT('名刺管理（Eight）'!G373,3)=\"鹿児島\",LEFT('名刺管理（Eight）'!G373,4),LEFT('名刺管理（Eight）'!G373,3)))))","v":""},{"$f":"IF(K375=\"\",\"\",IF(LEN(K375)=3,MID('名刺管理（Eight）'!G373,4,50),MID('名刺管理（Eight）'!G373,5,50)))","v":""},{"$f":"IF('名刺管理（Eight）'!H373=\"\",\"\",'名刺管理（Eight）'!H373)","v":""},{"$f":"IF('名刺管理（Eight）'!K373=\"\",\"\",'名刺管理（Eight）'!K373)","v":""},{"$f":"IF('名刺管理（Eight）'!L373=\"\",\"\",'名刺管理（Eight）'!L373)","v":""},{"$f":"IF('名刺管理（Eight）'!M373=\"\",\"\",'名刺管理（Eight）'!M373)","v":""},{"$f":"IF('名刺管理（Eight）'!N373=\"\",\"\",TEXT('名刺管理（Eight）'!N373,\"yyyy/m/d\"))","v":""}]
[{"$f":"LEFT('名刺管理（Eight）'!D374,D376)","v":""},{"$f":"RIGHT('名刺管理（Eight）'!D374,E376)","v":""},{"$f":"IF('名刺管理（Eight）'!D374=\"\",\"\",IF(LEN('名刺管理（Eight）'!D374)=D376+E376,\"\",\"不一致\"))","v":""},null,null,{"$f":"IF('名刺管理（Eight）'!A374=\"\",\"\",'名刺管理（Eight）'!A374)","v":""},{"$f":"IF('名刺管理（Eight）'!B374=\"\",\"\",'名刺管理（Eight）'!B374)","v":""},{"$f":"IF('名刺管理（Eight）'!C374=\"\",\"\",'名刺管理（Eight）'!C374)","v":""},{"$f":"IF('名刺管理（Eight）'!E374=\"\",\"\",'名刺管理（Eight）'!E374)","v":""},{"$f":"IF('名刺管理（Eight）'!F374=\"\",\"\",'名刺管理（Eight）'!F374)","v":""},{"$f":"IF('名刺管理（Eight）'!G374=\"\",\"\",IF(LEFT('名刺管理（Eight）'!G374,3)=\"神奈川\",LEFT('名刺管理（Eight）'!G374,4),IF(LEFT('名刺管理（Eight）'!G374,3)=\"和歌山\",LEFT('名刺管理（Eight）'!G374,4),IF(LEFT('名刺管理（Eight）'!G374,3)=\"鹿児島\",LEFT('名刺管理（Eight）'!G374,4),LEFT('名刺管理（Eight）'!G374,3)))))","v":""},{"$f":"IF(K376=\"\",\"\",IF(LEN(K376)=3,MID('名刺管理（Eight）'!G374,4,50),MID('名刺管理（Eight）'!G374,5,50)))","v":""},{"$f":"IF('名刺管理（Eight）'!H374=\"\",\"\",'名刺管理（Eight）'!H374)","v":""},{"$f":"IF('名刺管理（Eight）'!K374=\"\",\"\",'名刺管理（Eight）'!K374)","v":""},{"$f":"IF('名刺管理（Eight）'!L374=\"\",\"\",'名刺管理（Eight）'!L374)","v":""},{"$f":"IF('名刺管理（Eight）'!M374=\"\",\"\",'名刺管理（Eight）'!M374)","v":""},{"$f":"IF('名刺管理（Eight）'!N374=\"\",\"\",TEXT('名刺管理（Eight）'!N374,\"yyyy/m/d\"))","v":""}]
[{"$f":"LEFT('名刺管理（Eight）'!D375,D377)","v":""},{"$f":"RIGHT('名刺管理（Eight）'!D375,E377)","v":""},{"$f":"IF('名刺管理（Eight）'!D375=\"\",\"\",IF(LEN('名刺管理（Eight）'!D375)=D377+E377,\"\",\"不一致\"))","v":""},null,null,{"$f":"IF('名刺管理（Eight）'!A375=\"\",\"\",'名刺管理（Eight）'!A375)","v":""},{"$f":"IF('名刺管理（Eight）'!B375=\"\",\"\",'名刺管理（Eight）'!B375)","v":""},{"$f":"IF('名刺管理（Eight）'!C375=\"\",\"\",'名刺管理（Eight）'!C375)","v":""},{"$f":"IF('名刺管理（Eight）'!E375=\"\",\"\",'名刺管理（Eight）'!E375)","v":""},{"$f":"IF('名刺管理（Eight）'!F375=\"\",\"\",'名刺管理（Eight）'!F375)","v":""},{"$f":"IF('名刺管理（Eight）'!G375=\"\",\"\",IF(LEFT('名刺管理（Eight）'!G375,3)=\"神奈川\",LEFT('名刺管理（Eight）'!G375,4),IF(LEFT('名刺管理（Eight）'!G375,3)=\"和歌山\",LEFT('名刺管理（Eight）'!G375,4),IF(LEFT('名刺管理（Eight）'!G375,3)=\"鹿児島\",LEFT('名刺管理（Eight）'!G375,4),LEFT('名刺管理（Eight）'!G375,3)))))","v":""},{"$f":"IF(K377=\"\",\"\",IF(LEN(K377)=3,MID('名刺管理（Eight）'!G375,4,50),MID('名刺管理（Eight）'!G375,5,50)))","v":""},{"$f":"IF('名刺管理（Eight）'!H375=\"\",\"\",'名刺管理（Eight）'!H375)","v":""},{"$f":"IF('名刺管理（Eight）'!K375=\"\",\"\",'名刺管理（Eight）'!K375)","v":""},{"$f":"IF('名刺管理（Eight）'!L375=\"\",\"\",'名刺管理（Eight）'!L375)","v":""},{"$f":"IF('名刺管理（Eight）'!M375=\"\",\"\",'名刺管理（Eight）'!M375)","v":""},{"$f":"IF('名刺管理（Eight）'!N375=\"\",\"\",TEXT('名刺管理（Eight）'!N375,\"yyyy/m/d\"))","v":""}]
[{"$f":"LEFT('名刺管理（Eight）'!D376,D378)","v":""},{"$f":"RIGHT('名刺管理（Eight）'!D376,E378)","v":""},{"$f":"IF('名刺管理（Eight）'!D376=\"\",\"\",IF(LEN('名刺管理（Eight）'!D376)=D378+E378,\"\",\"不一致\"))","v":""},null,null,{"$f":"IF('名刺管理（Eight）'!A376=\"\",\"\",'名刺管理（Eight）'!A376)","v":""},{"$f":"IF('名刺管理（Eight）'!B376=\"\",\"\",'名刺管理（Eight）'!B376)","v":""},{"$f":"IF('名刺管理（Eight）'!C376=\"\",\"\",'名刺管理（Eight）'!C376)","v":""},{"$f":"IF('名刺管理（Eight）'!E376=\"\",\"\",'名刺管理（Eight）'!E376)","v":""},{"$f":"IF('名刺管理（Eight）'!F376=\"\",\"\",'名刺管理（Eight）'!F376)","v":""},{"$f":"IF('名刺管理（Eight）'!G376=\"\",\"\",IF(LEFT('名刺管理（Eight）'!G376,3)=\"神奈川\",LEFT('名刺管理（Eight）'!G376,4),IF(LEFT('名刺管理（Eight）'!G376,3)=\"和歌山\",LEFT('名刺管理（Eight）'!G376,4),IF(LEFT('名刺管理（Eight）'!G376,3)=\"鹿児島\",LEFT('名刺管理（Eight）'!G376,4),LEFT('名刺管理（Eight）'!G376,3)))))","v":""},{"$f":"IF(K378=\"\",\"\",IF(LEN(K378)=3,MID('名刺管理（Eight）'!G376,4,50),MID('名刺管理（Eight）'!G376,5,50)))","v":""},{"$f":"IF('名刺管理（Eight）'!H376=\"\",\"\",'名刺管理（Eight）'!H376)","v":""},{"$f":"IF('名刺管理（Eight）'!K376=\"\",\"\",'名刺管理（Eight）'!K376)","v":""},{"$f":"IF('名刺管理（Eight）'!L376=\"\",\"\",'名刺管理（Eight）'!L376)","v":""},{"$f":"IF('名刺管理（Eight）'!M376=\"\",\"\",'名刺管理（Eight）'!M376)","v":""},{"$f":"IF('名刺管理（Eight）'!N376=\"\",\"\",TEXT('名刺管理（Eight）'!N376,\"yyyy/m/d\"))","v":""}]
[{"$f":"LEFT('名刺管理（Eight）'!D377,D379)","v":""},{"$f":"RIGHT('名刺管理（Eight）'!D377,E379)","v":""},{"$f":"IF('名刺管理（Eight）'!D377=\"\",\"\",IF(LEN('名刺管理（Eight）'!D377)=D379+E379,\"\",\"不一致\"))","v":""},null,null,{"$f":"IF('名刺管理（Eight）'!A377=\"\",\"\",'名刺管理（Eight）'!A377)","v":""},{"$f":"IF('名刺管理（Eight）'!B377=\"\",\"\",'名刺管理（Eight）'!B377)","v":""},{"$f":"IF('名刺管理（Eight）'!C377=\"\",\"\",'名刺管理（Eight）'!C377)","v":""},{"$f":"IF('名刺管理（Eight）'!E377=\"\",\"\",'名刺管理（Eight）'!E377)","v":""},{"$f":"IF('名刺管理（Eight）'!F377=\"\",\"\",'名刺管理（Eight）'!F377)","v":""},{"$f":"IF('名刺管理（Eight）'!G377=\"\",\"\",IF(LEFT('名刺管理（Eight）'!G377,3)=\"神奈川\",LEFT('名刺管理（Eight）'!G377,4),IF(LEFT('名刺管理（Eight）'!G377,3)=\"和歌山\",LEFT('名刺管理（Eight）'!G377,4),IF(LEFT('名刺管理（Eight）'!G377,3)=\"鹿児島\",LEFT('名刺管理（Eight）'!G377,4),LEFT('名刺管理（Eight）'!G377,3)))))","v":""},{"$f":"IF(K379=\"\",\"\",IF(LEN(K379)=3,MID('名刺管理（Eight）'!G377,4,50),MID('名刺管理（Eight）'!G377,5,50)))","v":""},{"$f":"IF('名刺管理（Eight）'!H377=\"\",\"\",'名刺管理（Eight）'!H377)","v":""},{"$f":"IF('名刺管理（Eight）'!K377=\"\",\"\",'名刺管理（Eight）'!K377)","v":""},{"$f":"IF('名刺管理（Eight）'!L377=\"\",\"\",'名刺管理（Eight）'!L377)","v":""},{"$f":"IF('名刺管理（Eight）'!M377=\"\",\"\",'名刺管理（Eight）'!M377)","v":""},{"$f":"IF('名刺管理（Eight）'!N377=\"\",\"\",TEXT('名刺管理（Eight）'!N377,\"yyyy/m/d\"))","v":""}]
[{"$f":"LEFT('名刺管理（Eight）'!D378,D380)","v":""},{"$f":"RIGHT('名刺管理（Eight）'!D378,E380)","v":""},{"$f":"IF('名刺管理（Eight）'!D378=\"\",\"\",IF(LEN('名刺管理（Eight）'!D378)=D380+E380,\"\",\"不一致\"))","v":""},null,null,{"$f":"IF('名刺管理（Eight）'!A378=\"\",\"\",'名刺管理（Eight）'!A378)","v":""},{"$f":"IF('名刺管理（Eight）'!B378=\"\",\"\",'名刺管理（Eight）'!B378)","v":""},{"$f":"IF('名刺管理（Eight）'!C378=\"\",\"\",'名刺管理（Eight）'!C378)","v":""},{"$f":"IF('名刺管理（Eight）'!E378=\"\",\"\",'名刺管理（Eight）'!E378)","v":""},{"$f":"IF('名刺管理（Eight）'!F378=\"\",\"\",'名刺管理（Eight）'!F378)","v":""},{"$f":"IF('名刺管理（Eight）'!G378=\"\",\"\",IF(LEFT('名刺管理（Eight）'!G378,3)=\"神奈川\",LEFT('名刺管理（Eight）'!G378,4),IF(LEFT('名刺管理（Eight）'!G378,3)=\"和歌山\",LEFT('名刺管理（Eight）'!G378,4),IF(LEFT('名刺管理（Eight）'!G378,3)=\"鹿児島\",LEFT('名刺管理（Eight）'!G378,4),LEFT('名刺管理（Eight）'!G378,3)))))","v":""},{"$f":"IF(K380=\"\",\"\",IF(LEN(K380)=3,MID('名刺管理（Eight）'!G378,4,50),MID('名刺管理（Eight）'!G378,5,50)))","v":""},{"$f":"IF('名刺管理（Eight）'!H378=\"\",\"\",'名刺管理（Eight）'!H378)","v":""},{"$f":"IF('名刺管理（Eight）'!K378=\"\",\"\",'名刺管理（Eight）'!K378)","v":""},{"$f":"IF('名刺管理（Eight）'!L378=\"\",\"\",'名刺管理（Eight）'!L378)","v":""},{"$f":"IF('名刺管理（Eight）'!M378=\"\",\"\",'名刺管理（Eight）'!M378)","v":""},{"$f":"IF('名刺管理（Eight）'!N378=\"\",\"\",TEXT('名刺管理（Eight）'!N378,\"yyyy/m/d\"))","v":""}]
[{"$f":"LEFT('名刺管理（Eight）'!D379,D381)","v":""},{"$f":"RIGHT('名刺管理（Eight）'!D379,E381)","v":""},{"$f":"IF('名刺管理（Eight）'!D379=\"\",\"\",IF(LEN('名刺管理（Eight）'!D379)=D381+E381,\"\",\"不一致\"))","v":""},null,null,{"$f":"IF('名刺管理（Eight）'!A379=\"\",\"\",'名刺管理（Eight）'!A379)","v":""},{"$f":"IF('名刺管理（Eight）'!B379=\"\",\"\",'名刺管理（Eight）'!B379)","v":""},{"$f":"IF('名刺管理（Eight）'!C379=\"\",\"\",'名刺管理（Eight）'!C379)","v":""},{"$f":"IF('名刺管理（Eight）'!E379=\"\",\"\",'名刺管理（Eight）'!E379)","v":""},{"$f":"IF('名刺管理（Eight）'!F379=\"\",\"\",'名刺管理（Eight）'!F379)","v":""},{"$f":"IF('名刺管理（Eight）'!G379=\"\",\"\",IF(LEFT('名刺管理（Eight）'!G379,3)=\"神奈川\",LEFT('名刺管理（Eight）'!G379,4),IF(LEFT('名刺管理（Eight）'!G379,3)=\"和歌山\",LEFT('名刺管理（Eight）'!G379,4),IF(LEFT('名刺管理（Eight）'!G379,3)=\"鹿児島\",LEFT('名刺管理（Eight）'!G379,4),LEFT('名刺管理（Eight）'!G379,3)))))","v":""},{"$f":"IF(K381=\"\",\"\",IF(LEN(K381)=3,MID('名刺管理（Eight）'!G379,4,50),MID('名刺管理（Eight）'!G379,5,50)))","v":""},{"$f":"IF('名刺管理（Eight）'!H379=\"\",\"\",'名刺管理（Eight）'!H379)","v":""},{"$f":"IF('名刺管理（Eight）'!K379=\"\",\"\",'名刺管理（Eight）'!K379)","v":""},{"$f":"IF('名刺管理（Eight）'!L379=\"\",\"\",'名刺管理（Eight）'!L379)","v":""},{"$f":"IF('名刺管理（Eight）'!M379=\"\",\"\",'名刺管理（Eight）'!M379)","v":""},{"$f":"IF('名刺管理（Eight）'!N379=\"\",\"\",TEXT('名刺管理（Eight）'!N379,\"yyyy/m/d\"))","v":""}]
[{"$f":"LEFT('名刺管理（Eight）'!D380,D382)","v":""},{"$f":"RIGHT('名刺管理（Eight）'!D380,E382)","v":""},{"$f":"IF('名刺管理（Eight）'!D380=\"\",\"\",IF(LEN('名刺管理（Eight）'!D380)=D382+E382,\"\",\"不一致\"))","v":""},null,null,{"$f":"IF('名刺管理（Eight）'!A380=\"\",\"\",'名刺管理（Eight）'!A380)","v":""},{"$f":"IF('名刺管理（Eight）'!B380=\"\",\"\",'名刺管理（Eight）'!B380)","v":""},{"$f":"IF('名刺管理（Eight）'!C380=\"\",\"\",'名刺管理（Eight）'!C380)","v":""},{"$f":"IF('名刺管理（Eight）'!E380=\"\",\"\",'名刺管理（Eight）'!E380)","v":""},{"$f":"IF('名刺管理（Eight）'!F380=\"\",\"\",'名刺管理（Eight）'!F380)","v":""},{"$f":"IF('名刺管理（Eight）'!G380=\"\",\"\",IF(LEFT('名刺管理（Eight）'!G380,3)=\"神奈川\",LEFT('名刺管理（Eight）'!G380,4),IF(LEFT('名刺管理（Eight）'!G380,3)=\"和歌山\",LEFT('名刺管理（Eight）'!G380,4),IF(LEFT('名刺管理（Eight）'!G380,3)=\"鹿児島\",LEFT('名刺管理（Eight）'!G380,4),LEFT('名刺管理（Eight）'!G380,3)))))","v":""},{"$f":"IF(K382=\"\",\"\",IF(LEN(K382)=3,MID('名刺管理（Eight）'!G380,4,50),MID('名刺管理（Eight）'!G380,5,50)))","v":""},{"$f":"IF('名刺管理（Eight）'!H380=\"\",\"\",'名刺管理（Eight）'!H380)","v":""},{"$f":"IF('名刺管理（Eight）'!K380=\"\",\"\",'名刺管理（Eight）'!K380)","v":""},{"$f":"IF('名刺管理（Eight）'!L380=\"\",\"\",'名刺管理（Eight）'!L380)","v":""},{"$f":"IF('名刺管理（Eight）'!M380=\"\",\"\",'名刺管理（Eight）'!M380)","v":""},{"$f":"IF('名刺管理（Eight）'!N380=\"\",\"\",TEXT('名刺管理（Eight）'!N380,\"yyyy/m/d\"))","v":""}]
[{"$f":"LEFT('名刺管理（Eight）'!D381,D383)","v":""},{"$f":"RIGHT('名刺管理（Eight）'!D381,E383)","v":""},{"$f":"IF('名刺管理（Eight）'!D381=\"\",\"\",IF(LEN('名刺管理（Eight）'!D381)=D383+E383,\"\",\"不一致\"))","v":""},null,null,{"$f":"IF('名刺管理（Eight）'!A381=\"\",\"\",'名刺管理（Eight）'!A381)","v":""},{"$f":"IF('名刺管理（Eight）'!B381=\"\",\"\",'名刺管理（Eight）'!B381)","v":""},{"$f":"IF('名刺管理（Eight）'!C381=\"\",\"\",'名刺管理（Eight）'!C381)","v":""},{"$f":"IF('名刺管理（Eight）'!E381=\"\",\"\",'名刺管理（Eight）'!E381)","v":""},{"$f":"IF('名刺管理（Eight）'!F381=\"\",\"\",'名刺管理（Eight）'!F381)","v":""},{"$f":"IF('名刺管理（Eight）'!G381=\"\",\"\",IF(LEFT('名刺管理（Eight）'!G381,3)=\"神奈川\",LEFT('名刺管理（Eight）'!G381,4),IF(LEFT('名刺管理（Eight）'!G381,3)=\"和歌山\",LEFT('名刺管理（Eight）'!G381,4),IF(LEFT('名刺管理（Eight）'!G381,3)=\"鹿児島\",LEFT('名刺管理（Eight）'!G381,4),LEFT('名刺管理（Eight）'!G381,3)))))","v":""},{"$f":"IF(K383=\"\",\"\",IF(LEN(K383)=3,MID('名刺管理（Eight）'!G381,4,50),MID('名刺管理（Eight）'!G381,5,50)))","v":""},{"$f":"IF('名刺管理（Eight）'!H381=\"\",\"\",'名刺管理（Eight）'!H381)","v":""},{"$f":"IF('名刺管理（Eight）'!K381=\"\",\"\",'名刺管理（Eight）'!K381)","v":""},{"$f":"IF('名刺管理（Eight）'!L381=\"\",\"\",'名刺管理（Eight）'!L381)","v":""},{"$f":"IF('名刺管理（Eight）'!M381=\"\",\"\",'名刺管理（Eight）'!M381)","v":""},{"$f":"IF('名刺管理（Eight）'!N381=\"\",\"\",TEXT('名刺管理（Eight）'!N381,\"yyyy/m/d\"))","v":""}]
[{"$f":"LEFT('名刺管理（Eight）'!D382,D384)","v":""},{"$f":"RIGHT('名刺管理（Eight）'!D382,E384)","v":""},{"$f":"IF('名刺管理（Eight）'!D382=\"\",\"\",IF(LEN('名刺管理（Eight）'!D382)=D384+E384,\"\",\"不一致\"))","v":""},null,null,{"$f":"IF('名刺管理（Eight）'!A382=\"\",\"\",'名刺管理（Eight）'!A382)","v":""},{"$f":"IF('名刺管理（Eight）'!B382=\"\",\"\",'名刺管理（Eight）'!B382)","v":""},{"$f":"IF('名刺管理（Eight）'!C382=\"\",\"\",'名刺管理（Eight）'!C382)","v":""},{"$f":"IF('名刺管理（Eight）'!E382=\"\",\"\",'名刺管理（Eight）'!E382)","v":""},{"$f":"IF('名刺管理（Eight）'!F382=\"\",\"\",'名刺管理（Eight）'!F382)","v":""},{"$f":"IF('名刺管理（Eight）'!G382=\"\",\"\",IF(LEFT('名刺管理（Eight）'!G382,3)=\"神奈川\",LEFT('名刺管理（Eight）'!G382,4),IF(LEFT('名刺管理（Eight）'!G382,3)=\"和歌山\",LEFT('名刺管理（Eight）'!G382,4),IF(LEFT('名刺管理（Eight）'!G382,3)=\"鹿児島\",LEFT('名刺管理（Eight）'!G382,4),LEFT('名刺管理（Eight）'!G382,3)))))","v":""},{"$f":"IF(K384=\"\",\"\",IF(LEN(K384)=3,MID('名刺管理（Eight）'!G382,4,50),MID('名刺管理（Eight）'!G382,5,50)))","v":""},{"$f":"IF('名刺管理（Eight）'!H382=\"\",\"\",'名刺管理（Eight）'!H382)","v":""},{"$f":"IF('名刺管理（Eight）'!K382=\"\",\"\",'名刺管理（Eight）'!K382)","v":""},{"$f":"IF('名刺管理（Eight）'!L382=\"\",\"\",'名刺管理（Eight）'!L382)","v":""},{"$f":"IF('名刺管理（Eight）'!M382=\"\",\"\",'名刺管理（Eight）'!M382)","v":""},{"$f":"IF('名刺管理（Eight）'!N382=\"\",\"\",TEXT('名刺管理（Eight）'!N382,\"yyyy/m/d\"))","v":""}]
[{"$f":"LEFT('名刺管理（Eight）'!D383,D385)","v":""},{"$f":"RIGHT('名刺管理（Eight）'!D383,E385)","v":""},{"$f":"IF('名刺管理（Eight）'!D383=\"\",\"\",IF(LEN('名刺管理（Eight）'!D383)=D385+E385,\"\",\"不一致\"))","v":""},null,null,{"$f":"IF('名刺管理（Eight）'!A383=\"\",\"\",'名刺管理（Eight）'!A383)","v":""},{"$f":"IF('名刺管理（Eight）'!B383=\"\",\"\",'名刺管理（Eight）'!B383)","v":""},{"$f":"IF('名刺管理（Eight）'!C383=\"\",\"\",'名刺管理（Eight）'!C383)","v":""},{"$f":"IF('名刺管理（Eight）'!E383=\"\",\"\",'名刺管理（Eight）'!E383)","v":""},{"$f":"IF('名刺管理（Eight）'!F383=\"\",\"\",'名刺管理（Eight）'!F383)","v":""},{"$f":"IF('名刺管理（Eight）'!G383=\"\",\"\",IF(LEFT('名刺管理（Eight）'!G383,3)=\"神奈川\",LEFT('名刺管理（Eight）'!G383,4),IF(LEFT('名刺管理（Eight）'!G383,3)=\"和歌山\",LEFT('名刺管理（Eight）'!G383,4),IF(LEFT('名刺管理（Eight）'!G383,3)=\"鹿児島\",LEFT('名刺管理（Eight）'!G383,4),LEFT('名刺管理（Eight）'!G383,3)))))","v":""},{"$f":"IF(K385=\"\",\"\",IF(LEN(K385)=3,MID('名刺管理（Eight）'!G383,4,50),MID('名刺管理（Eight）'!G383,5,50)))","v":""},{"$f":"IF('名刺管理（Eight）'!H383=\"\",\"\",'名刺管理（Eight）'!H383)","v":""},{"$f":"IF('名刺管理（Eight）'!K383=\"\",\"\",'名刺管理（Eight）'!K383)","v":""},{"$f":"IF('名刺管理（Eight）'!L383=\"\",\"\",'名刺管理（Eight）'!L383)","v":""},{"$f":"IF('名刺管理（Eight）'!M383=\"\",\"\",'名刺管理（Eight）'!M383)","v":""},{"$f":"IF('名刺管理（Eight）'!N383=\"\",\"\",TEXT('名刺管理（Eight）'!N383,\"yyyy/m/d\"))","v":""}]
[{"$f":"LEFT('名刺管理（Eight）'!D384,D386)","v":""},{"$f":"RIGHT('名刺管理（Eight）'!D384,E386)","v":""},{"$f":"IF('名刺管理（Eight）'!D384=\"\",\"\",IF(LEN('名刺管理（Eight）'!D384)=D386+E386,\"\",\"不一致\"))","v":""},null,null,{"$f":"IF('名刺管理（Eight）'!A384=\"\",\"\",'名刺管理（Eight）'!A384)","v":""},{"$f":"IF('名刺管理（Eight）'!B384=\"\",\"\",'名刺管理（Eight）'!B384)","v":""},{"$f":"IF('名刺管理（Eight）'!C384=\"\",\"\",'名刺管理（Eight）'!C384)","v":""},{"$f":"IF('名刺管理（Eight）'!E384=\"\",\"\",'名刺管理（Eight）'!E384)","v":""},{"$f":"IF('名刺管理（Eight）'!F384=\"\",\"\",'名刺管理（Eight）'!F384)","v":""},{"$f":"IF('名刺管理（Eight）'!G384=\"\",\"\",IF(LEFT('名刺管理（Eight）'!G384,3)=\"神奈川\",LEFT('名刺管理（Eight）'!G384,4),IF(LEFT('名刺管理（Eight）'!G384,3)=\"和歌山\",LEFT('名刺管理（Eight）'!G384,4),IF(LEFT('名刺管理（Eight）'!G384,3)=\"鹿児島\",LEFT('名刺管理（Eight）'!G384,4),LEFT('名刺管理（Eight）'!G384,3)))))","v":""},{"$f":"IF(K386=\"\",\"\",IF(LEN(K386)=3,MID('名刺管理（Eight）'!G384,4,50),MID('名刺管理（Eight）'!G384,5,50)))","v":""},{"$f":"IF('名刺管理（Eight）'!H384=\"\",\"\",'名刺管理（Eight）'!H384)","v":""},{"$f":"IF('名刺管理（Eight）'!K384=\"\",\"\",'名刺管理（Eight）'!K384)","v":""},{"$f":"IF('名刺管理（Eight）'!L384=\"\",\"\",'名刺管理（Eight）'!L384)","v":""},{"$f":"IF('名刺管理（Eight）'!M384=\"\",\"\",'名刺管理（Eight）'!M384)","v":""},{"$f":"IF('名刺管理（Eight）'!N384=\"\",\"\",TEXT('名刺管理（Eight）'!N384,\"yyyy/m/d\"))","v":""}]
[{"$f":"LEFT('名刺管理（Eight）'!D385,D387)","v":""},{"$f":"RIGHT('名刺管理（Eight）'!D385,E387)","v":""},{"$f":"IF('名刺管理（Eight）'!D385=\"\",\"\",IF(LEN('名刺管理（Eight）'!D385)=D387+E387,\"\",\"不一致\"))","v":""},null,null,{"$f":"IF('名刺管理（Eight）'!A385=\"\",\"\",'名刺管理（Eight）'!A385)","v":""},{"$f":"IF('名刺管理（Eight）'!B385=\"\",\"\",'名刺管理（Eight）'!B385)","v":""},{"$f":"IF('名刺管理（Eight）'!C385=\"\",\"\",'名刺管理（Eight）'!C385)","v":""},{"$f":"IF('名刺管理（Eight）'!E385=\"\",\"\",'名刺管理（Eight）'!E385)","v":""},{"$f":"IF('名刺管理（Eight）'!F385=\"\",\"\",'名刺管理（Eight）'!F385)","v":""},{"$f":"IF('名刺管理（Eight）'!G385=\"\",\"\",IF(LEFT('名刺管理（Eight）'!G385,3)=\"神奈川\",LEFT('名刺管理（Eight）'!G385,4),IF(LEFT('名刺管理（Eight）'!G385,3)=\"和歌山\",LEFT('名刺管理（Eight）'!G385,4),IF(LEFT('名刺管理（Eight）'!G385,3)=\"鹿児島\",LEFT('名刺管理（Eight）'!G385,4),LEFT('名刺管理（Eight）'!G385,3)))))","v":""},{"$f":"IF(K387=\"\",\"\",IF(LEN(K387)=3,MID('名刺管理（Eight）'!G385,4,50),MID('名刺管理（Eight）'!G385,5,50)))","v":""},{"$f":"IF('名刺管理（Eight）'!H385=\"\",\"\",'名刺管理（Eight）'!H385)","v":""},{"$f":"IF('名刺管理（Eight）'!K385=\"\",\"\",'名刺管理（Eight）'!K385)","v":""},{"$f":"IF('名刺管理（Eight）'!L385=\"\",\"\",'名刺管理（Eight）'!L385)","v":""},{"$f":"IF('名刺管理（Eight）'!M385=\"\",\"\",'名刺管理（Eight）'!M385)","v":""},{"$f":"IF('名刺管理（Eight）'!N385=\"\",\"\",TEXT('名刺管理（Eight）'!N385,\"yyyy/m/d\"))","v":""}]
[{"$f":"LEFT('名刺管理（Eight）'!D386,D388)","v":""},{"$f":"RIGHT('名刺管理（Eight）'!D386,E388)","v":""},{"$f":"IF('名刺管理（Eight）'!D386=\"\",\"\",IF(LEN('名刺管理（Eight）'!D386)=D388+E388,\"\",\"不一致\"))","v":""},null,null,{"$f":"IF('名刺管理（Eight）'!A386=\"\",\"\",'名刺管理（Eight）'!A386)","v":""},{"$f":"IF('名刺管理（Eight）'!B386=\"\",\"\",'名刺管理（Eight）'!B386)","v":""},{"$f":"IF('名刺管理（Eight）'!C386=\"\",\"\",'名刺管理（Eight）'!C386)","v":""},{"$f":"IF('名刺管理（Eight）'!E386=\"\",\"\",'名刺管理（Eight）'!E386)","v":""},{"$f":"IF('名刺管理（Eight）'!F386=\"\",\"\",'名刺管理（Eight）'!F386)","v":""},{"$f":"IF('名刺管理（Eight）'!G386=\"\",\"\",IF(LEFT('名刺管理（Eight）'!G386,3)=\"神奈川\",LEFT('名刺管理（Eight）'!G386,4),IF(LEFT('名刺管理（Eight）'!G386,3)=\"和歌山\",LEFT('名刺管理（Eight）'!G386,4),IF(LEFT('名刺管理（Eight）'!G386,3)=\"鹿児島\",LEFT('名刺管理（Eight）'!G386,4),LEFT('名刺管理（Eight）'!G386,3)))))","v":""},{"$f":"IF(K388=\"\",\"\",IF(LEN(K388)=3,MID('名刺管理（Eight）'!G386,4,50),MID('名刺管理（Eight）'!G386,5,50)))","v":""},{"$f":"IF('名刺管理（Eight）'!H386=\"\",\"\",'名刺管理（Eight）'!H386)","v":""},{"$f":"IF('名刺管理（Eight）'!K386=\"\",\"\",'名刺管理（Eight）'!K386)","v":""},{"$f":"IF('名刺管理（Eight）'!L386=\"\",\"\",'名刺管理（Eight）'!L386)","v":""},{"$f":"IF('名刺管理（Eight）'!M386=\"\",\"\",'名刺管理（Eight）'!M386)","v":""},{"$f":"IF('名刺管理（Eight）'!N386=\"\",\"\",TEXT('名刺管理（Eight）'!N386,\"yyyy/m/d\"))","v":""}]
[{"$f":"LEFT('名刺管理（Eight）'!D387,D389)","v":""},{"$f":"RIGHT('名刺管理（Eight）'!D387,E389)","v":""},{"$f":"IF('名刺管理（Eight）'!D387=\"\",\"\",IF(LEN('名刺管理（Eight）'!D387)=D389+E389,\"\",\"不一致\"))","v":""},null,null,{"$f":"IF('名刺管理（Eight）'!A387=\"\",\"\",'名刺管理（Eight）'!A387)","v":""},{"$f":"IF('名刺管理（Eight）'!B387=\"\",\"\",'名刺管理（Eight）'!B387)","v":""},{"$f":"IF('名刺管理（Eight）'!C387=\"\",\"\",'名刺管理（Eight）'!C387)","v":""},{"$f":"IF('名刺管理（Eight）'!E387=\"\",\"\",'名刺管理（Eight）'!E387)","v":""},{"$f":"IF('名刺管理（Eight）'!F387=\"\",\"\",'名刺管理（Eight）'!F387)","v":""},{"$f":"IF('名刺管理（Eight）'!G387=\"\",\"\",IF(LEFT('名刺管理（Eight）'!G387,3)=\"神奈川\",LEFT('名刺管理（Eight）'!G387,4),IF(LEFT('名刺管理（Eight）'!G387,3)=\"和歌山\",LEFT('名刺管理（Eight）'!G387,4),IF(LEFT('名刺管理（Eight）'!G387,3)=\"鹿児島\",LEFT('名刺管理（Eight）'!G387,4),LEFT('名刺管理（Eight）'!G387,3)))))","v":""},{"$f":"IF(K389=\"\",\"\",IF(LEN(K389)=3,MID('名刺管理（Eight）'!G387,4,50),MID('名刺管理（Eight）'!G387,5,50)))","v":""},{"$f":"IF('名刺管理（Eight）'!H387=\"\",\"\",'名刺管理（Eight）'!H387)","v":""},{"$f":"IF('名刺管理（Eight）'!K387=\"\",\"\",'名刺管理（Eight）'!K387)","v":""},{"$f":"IF('名刺管理（Eight）'!L387=\"\",\"\",'名刺管理（Eight）'!L387)","v":""},{"$f":"IF('名刺管理（Eight）'!M387=\"\",\"\",'名刺管理（Eight）'!M387)","v":""},{"$f":"IF('名刺管理（Eight）'!N387=\"\",\"\",TEXT('名刺管理（Eight）'!N387,\"yyyy/m/d\"))","v":""}]
[{"$f":"LEFT('名刺管理（Eight）'!D388,D390)","v":""},{"$f":"RIGHT('名刺管理（Eight）'!D388,E390)","v":""},{"$f":"IF('名刺管理（Eight）'!D388=\"\",\"\",IF(LEN('名刺管理（Eight）'!D388)=D390+E390,\"\",\"不一致\"))","v":""},null,null,{"$f":"IF('名刺管理（Eight）'!A388=\"\",\"\",'名刺管理（Eight）'!A388)","v":""},{"$f":"IF('名刺管理（Eight）'!B388=\"\",\"\",'名刺管理（Eight）'!B388)","v":""},{"$f":"IF('名刺管理（Eight）'!C388=\"\",\"\",'名刺管理（Eight）'!C388)","v":""},{"$f":"IF('名刺管理（Eight）'!E388=\"\",\"\",'名刺管理（Eight）'!E388)","v":""},{"$f":"IF('名刺管理（Eight）'!F388=\"\",\"\",'名刺管理（Eight）'!F388)","v":""},{"$f":"IF('名刺管理（Eight）'!G388=\"\",\"\",IF(LEFT('名刺管理（Eight）'!G388,3)=\"神奈川\",LEFT('名刺管理（Eight）'!G388,4),IF(LEFT('名刺管理（Eight）'!G388,3)=\"和歌山\",LEFT('名刺管理（Eight）'!G388,4),IF(LEFT('名刺管理（Eight）'!G388,3)=\"鹿児島\",LEFT('名刺管理（Eight）'!G388,4),LEFT('名刺管理（Eight）'!G388,3)))))","v":""},{"$f":"IF(K390=\"\",\"\",IF(LEN(K390)=3,MID('名刺管理（Eight）'!G388,4,50),MID('名刺管理（Eight）'!G388,5,50)))","v":""},{"$f":"IF('名刺管理（Eight）'!H388=\"\",\"\",'名刺管理（Eight）'!H388)","v":""},{"$f":"IF('名刺管理（Eight）'!K388=\"\",\"\",'名刺管理（Eight）'!K388)","v":""},{"$f":"IF('名刺管理（Eight）'!L388=\"\",\"\",'名刺管理（Eight）'!L388)","v":""},{"$f":"IF('名刺管理（Eight）'!M388=\"\",\"\",'名刺管理（Eight）'!M388)","v":""},{"$f":"IF('名刺管理（Eight）'!N388=\"\",\"\",TEXT('名刺管理（Eight）'!N388,\"yyyy/m/d\"))","v":""}]
[{"$f":"LEFT('名刺管理（Eight）'!D389,D391)","v":""},{"$f":"RIGHT('名刺管理（Eight）'!D389,E391)","v":""},{"$f":"IF('名刺管理（Eight）'!D389=\"\",\"\",IF(LEN('名刺管理（Eight）'!D389)=D391+E391,\"\",\"不一致\"))","v":""},null,null,{"$f":"IF('名刺管理（Eight）'!A389=\"\",\"\",'名刺管理（Eight）'!A389)","v":""},{"$f":"IF('名刺管理（Eight）'!B389=\"\",\"\",'名刺管理（Eight）'!B389)","v":""},{"$f":"IF('名刺管理（Eight）'!C389=\"\",\"\",'名刺管理（Eight）'!C389)","v":""},{"$f":"IF('名刺管理（Eight）'!E389=\"\",\"\",'名刺管理（Eight）'!E389)","v":""},{"$f":"IF('名刺管理（Eight）'!F389=\"\",\"\",'名刺管理（Eight）'!F389)","v":""},{"$f":"IF('名刺管理（Eight）'!G389=\"\",\"\",IF(LEFT('名刺管理（Eight）'!G389,3)=\"神奈川\",LEFT('名刺管理（Eight）'!G389,4),IF(LEFT('名刺管理（Eight）'!G389,3)=\"和歌山\",LEFT('名刺管理（Eight）'!G389,4),IF(LEFT('名刺管理（Eight）'!G389,3)=\"鹿児島\",LEFT('名刺管理（Eight）'!G389,4),LEFT('名刺管理（Eight）'!G389,3)))))","v":""},{"$f":"IF(K391=\"\",\"\",IF(LEN(K391)=3,MID('名刺管理（Eight）'!G389,4,50),MID('名刺管理（Eight）'!G389,5,50)))","v":""},{"$f":"IF('名刺管理（Eight）'!H389=\"\",\"\",'名刺管理（Eight）'!H389)","v":""},{"$f":"IF('名刺管理（Eight）'!K389=\"\",\"\",'名刺管理（Eight）'!K389)","v":""},{"$f":"IF('名刺管理（Eight）'!L389=\"\",\"\",'名刺管理（Eight）'!L389)","v":""},{"$f":"IF('名刺管理（Eight）'!M389=\"\",\"\",'名刺管理（Eight）'!M389)","v":""},{"$f":"IF('名刺管理（Eight）'!N389=\"\",\"\",TEXT('名刺管理（Eight）'!N389,\"yyyy/m/d\"))","v":""}]
[{"$f":"LEFT('名刺管理（Eight）'!D390,D392)","v":""},{"$f":"RIGHT('名刺管理（Eight）'!D390,E392)","v":""},{"$f":"IF('名刺管理（Eight）'!D390=\"\",\"\",IF(LEN('名刺管理（Eight）'!D390)=D392+E392,\"\",\"不一致\"))","v":""},null,null,{"$f":"IF('名刺管理（Eight）'!A390=\"\",\"\",'名刺管理（Eight）'!A390)","v":""},{"$f":"IF('名刺管理（Eight）'!B390=\"\",\"\",'名刺管理（Eight）'!B390)","v":""},{"$f":"IF('名刺管理（Eight）'!C390=\"\",\"\",'名刺管理（Eight）'!C390)","v":""},{"$f":"IF('名刺管理（Eight）'!E390=\"\",\"\",'名刺管理（Eight）'!E390)","v":""},{"$f":"IF('名刺管理（Eight）'!F390=\"\",\"\",'名刺管理（Eight）'!F390)","v":""},{"$f":"IF('名刺管理（Eight）'!G390=\"\",\"\",IF(LEFT('名刺管理（Eight）'!G390,3)=\"神奈川\",LEFT('名刺管理（Eight）'!G390,4),IF(LEFT('名刺管理（Eight）'!G390,3)=\"和歌山\",LEFT('名刺管理（Eight）'!G390,4),IF(LEFT('名刺管理（Eight）'!G390,3)=\"鹿児島\",LEFT('名刺管理（Eight）'!G390,4),LEFT('名刺管理（Eight）'!G390,3)))))","v":""},{"$f":"IF(K392=\"\",\"\",IF(LEN(K392)=3,MID('名刺管理（Eight）'!G390,4,50),MID('名刺管理（Eight）'!G390,5,50)))","v":""},{"$f":"IF('名刺管理（Eight）'!H390=\"\",\"\",'名刺管理（Eight）'!H390)","v":""},{"$f":"IF('名刺管理（Eight）'!K390=\"\",\"\",'名刺管理（Eight）'!K390)","v":""},{"$f":"IF('名刺管理（Eight）'!L390=\"\",\"\",'名刺管理（Eight）'!L390)","v":""},{"$f":"IF('名刺管理（Eight）'!M390=\"\",\"\",'名刺管理（Eight）'!M390)","v":""},{"$f":"IF('名刺管理（Eight）'!N390=\"\",\"\",TEXT('名刺管理（Eight）'!N390,\"yyyy/m/d\"))","v":""}]
[{"$f":"LEFT('名刺管理（Eight）'!D391,D393)","v":""},{"$f":"RIGHT('名刺管理（Eight）'!D391,E393)","v":""},{"$f":"IF('名刺管理（Eight）'!D391=\"\",\"\",IF(LEN('名刺管理（Eight）'!D391)=D393+E393,\"\",\"不一致\"))","v":""},null,null,{"$f":"IF('名刺管理（Eight）'!A391=\"\",\"\",'名刺管理（Eight）'!A391)","v":""},{"$f":"IF('名刺管理（Eight）'!B391=\"\",\"\",'名刺管理（Eight）'!B391)","v":""},{"$f":"IF('名刺管理（Eight）'!C391=\"\",\"\",'名刺管理（Eight）'!C391)","v":""},{"$f":"IF('名刺管理（Eight）'!E391=\"\",\"\",'名刺管理（Eight）'!E391)","v":""},{"$f":"IF('名刺管理（Eight）'!F391=\"\",\"\",'名刺管理（Eight）'!F391)","v":""},{"$f":"IF('名刺管理（Eight）'!G391=\"\",\"\",IF(LEFT('名刺管理（Eight）'!G391,3)=\"神奈川\",LEFT('名刺管理（Eight）'!G391,4),IF(LEFT('名刺管理（Eight）'!G391,3)=\"和歌山\",LEFT('名刺管理（Eight）'!G391,4),IF(LEFT('名刺管理（Eight）'!G391,3)=\"鹿児島\",LEFT('名刺管理（Eight）'!G391,4),LEFT('名刺管理（Eight）'!G391,3)))))","v":""},{"$f":"IF(K393=\"\",\"\",IF(LEN(K393)=3,MID('名刺管理（Eight）'!G391,4,50),MID('名刺管理（Eight）'!G391,5,50)))","v":""},{"$f":"IF('名刺管理（Eight）'!H391=\"\",\"\",'名刺管理（Eight）'!H391)","v":""},{"$f":"IF('名刺管理（Eight）'!K391=\"\",\"\",'名刺管理（Eight）'!K391)","v":""},{"$f":"IF('名刺管理（Eight）'!L391=\"\",\"\",'名刺管理（Eight）'!L391)","v":""},{"$f":"IF('名刺管理（Eight）'!M391=\"\",\"\",'名刺管理（Eight）'!M391)","v":""},{"$f":"IF('名刺管理（Eight）'!N391=\"\",\"\",TEXT('名刺管理（Eight）'!N391,\"yyyy/m/d\"))","v":""}]
[{"$f":"LEFT('名刺管理（Eight）'!D392,D394)","v":""},{"$f":"RIGHT('名刺管理（Eight）'!D392,E394)","v":""},{"$f":"IF('名刺管理（Eight）'!D392=\"\",\"\",IF(LEN('名刺管理（Eight）'!D392)=D394+E394,\"\",\"不一致\"))","v":""},null,null,{"$f":"IF('名刺管理（Eight）'!A392=\"\",\"\",'名刺管理（Eight）'!A392)","v":""},{"$f":"IF('名刺管理（Eight）'!B392=\"\",\"\",'名刺管理（Eight）'!B392)","v":""},{"$f":"IF('名刺管理（Eight）'!C392=\"\",\"\",'名刺管理（Eight）'!C392)","v":""},{"$f":"IF('名刺管理（Eight）'!E392=\"\",\"\",'名刺管理（Eight）'!E392)","v":""},{"$f":"IF('名刺管理（Eight）'!F392=\"\",\"\",'名刺管理（Eight）'!F392)","v":""},{"$f":"IF('名刺管理（Eight）'!G392=\"\",\"\",IF(LEFT('名刺管理（Eight）'!G392,3)=\"神奈川\",LEFT('名刺管理（Eight）'!G392,4),IF(LEFT('名刺管理（Eight）'!G392,3)=\"和歌山\",LEFT('名刺管理（Eight）'!G392,4),IF(LEFT('名刺管理（Eight）'!G392,3)=\"鹿児島\",LEFT('名刺管理（Eight）'!G392,4),LEFT('名刺管理（Eight）'!G392,3)))))","v":""},{"$f":"IF(K394=\"\",\"\",IF(LEN(K394)=3,MID('名刺管理（Eight）'!G392,4,50),MID('名刺管理（Eight）'!G392,5,50)))","v":""},{"$f":"IF('名刺管理（Eight）'!H392=\"\",\"\",'名刺管理（Eight）'!H392)","v":""},{"$f":"IF('名刺管理（Eight）'!K392=\"\",\"\",'名刺管理（Eight）'!K392)","v":""},{"$f":"IF('名刺管理（Eight）'!L392=\"\",\"\",'名刺管理（Eight）'!L392)","v":""},{"$f":"IF('名刺管理（Eight）'!M392=\"\",\"\",'名刺管理（Eight）'!M392)","v":""},{"$f":"IF('名刺管理（Eight）'!N392=\"\",\"\",TEXT('名刺管理（Eight）'!N392,\"yyyy/m/d\"))","v":""}]
[{"$f":"LEFT('名刺管理（Eight）'!D393,D395)","v":""},{"$f":"RIGHT('名刺管理（Eight）'!D393,E395)","v":""},{"$f":"IF('名刺管理（Eight）'!D393=\"\",\"\",IF(LEN('名刺管理（Eight）'!D393)=D395+E395,\"\",\"不一致\"))","v":""},null,null,{"$f":"IF('名刺管理（Eight）'!A393=\"\",\"\",'名刺管理（Eight）'!A393)","v":""},{"$f":"IF('名刺管理（Eight）'!B393=\"\",\"\",'名刺管理（Eight）'!B393)","v":""},{"$f":"IF('名刺管理（Eight）'!C393=\"\",\"\",'名刺管理（Eight）'!C393)","v":""},{"$f":"IF('名刺管理（Eight）'!E393=\"\",\"\",'名刺管理（Eight）'!E393)","v":""},{"$f":"IF('名刺管理（Eight）'!F393=\"\",\"\",'名刺管理（Eight）'!F393)","v":""},{"$f":"IF('名刺管理（Eight）'!G393=\"\",\"\",IF(LEFT('名刺管理（Eight）'!G393,3)=\"神奈川\",LEFT('名刺管理（Eight）'!G393,4),IF(LEFT('名刺管理（Eight）'!G393,3)=\"和歌山\",LEFT('名刺管理（Eight）'!G393,4),IF(LEFT('名刺管理（Eight）'!G393,3)=\"鹿児島\",LEFT('名刺管理（Eight）'!G393,4),LEFT('名刺管理（Eight）'!G393,3)))))","v":""},{"$f":"IF(K395=\"\",\"\",IF(LEN(K395)=3,MID('名刺管理（Eight）'!G393,4,50),MID('名刺管理（Eight）'!G393,5,50)))","v":""},{"$f":"IF('名刺管理（Eight）'!H393=\"\",\"\",'名刺管理（Eight）'!H393)","v":""},{"$f":"IF('名刺管理（Eight）'!K393=\"\",\"\",'名刺管理（Eight）'!K393)","v":""},{"$f":"IF('名刺管理（Eight）'!L393=\"\",\"\",'名刺管理（Eight）'!L393)","v":""},{"$f":"IF('名刺管理（Eight）'!M393=\"\",\"\",'名刺管理（Eight）'!M393)","v":""},{"$f":"IF('名刺管理（Eight）'!N393=\"\",\"\",TEXT('名刺管理（Eight）'!N393,\"yyyy/m/d\"))","v":""}]
[{"$f":"LEFT('名刺管理（Eight）'!D394,D396)","v":""},{"$f":"RIGHT('名刺管理（Eight）'!D394,E396)","v":""},{"$f":"IF('名刺管理（Eight）'!D394=\"\",\"\",IF(LEN('名刺管理（Eight）'!D394)=D396+E396,\"\",\"不一致\"))","v":""},null,null,{"$f":"IF('名刺管理（Eight）'!A394=\"\",\"\",'名刺管理（Eight）'!A394)","v":""},{"$f":"IF('名刺管理（Eight）'!B394=\"\",\"\",'名刺管理（Eight）'!B394)","v":""},{"$f":"IF('名刺管理（Eight）'!C394=\"\",\"\",'名刺管理（Eight）'!C394)","v":""},{"$f":"IF('名刺管理（Eight）'!E394=\"\",\"\",'名刺管理（Eight）'!E394)","v":""},{"$f":"IF('名刺管理（Eight）'!F394=\"\",\"\",'名刺管理（Eight）'!F394)","v":""},{"$f":"IF('名刺管理（Eight）'!G394=\"\",\"\",IF(LEFT('名刺管理（Eight）'!G394,3)=\"神奈川\",LEFT('名刺管理（Eight）'!G394,4),IF(LEFT('名刺管理（Eight）'!G394,3)=\"和歌山\",LEFT('名刺管理（Eight）'!G394,4),IF(LEFT('名刺管理（Eight）'!G394,3)=\"鹿児島\",LEFT('名刺管理（Eight）'!G394,4),LEFT('名刺管理（Eight）'!G394,3)))))","v":""},{"$f":"IF(K396=\"\",\"\",IF(LEN(K396)=3,MID('名刺管理（Eight）'!G394,4,50),MID('名刺管理（Eight）'!G394,5,50)))","v":""},{"$f":"IF('名刺管理（Eight）'!H394=\"\",\"\",'名刺管理（Eight）'!H394)","v":""},{"$f":"IF('名刺管理（Eight）'!K394=\"\",\"\",'名刺管理（Eight）'!K394)","v":""},{"$f":"IF('名刺管理（Eight）'!L394=\"\",\"\",'名刺管理（Eight）'!L394)","v":""},{"$f":"IF('名刺管理（Eight）'!M394=\"\",\"\",'名刺管理（Eight）'!M394)","v":""},{"$f":"IF('名刺管理（Eight）'!N394=\"\",\"\",TEXT('名刺管理（Eight）'!N394,\"yyyy/m/d\"))","v":""}]
[{"$f":"LEFT('名刺管理（Eight）'!D395,D397)","v":""},{"$f":"RIGHT('名刺管理（Eight）'!D395,E397)","v":""},{"$f":"IF('名刺管理（Eight）'!D395=\"\",\"\",IF(LEN('名刺管理（Eight）'!D395)=D397+E397,\"\",\"不一致\"))","v":""},null,null,{"$f":"IF('名刺管理（Eight）'!A395=\"\",\"\",'名刺管理（Eight）'!A395)","v":""},{"$f":"IF('名刺管理（Eight）'!B395=\"\",\"\",'名刺管理（Eight）'!B395)","v":""},{"$f":"IF('名刺管理（Eight）'!C395=\"\",\"\",'名刺管理（Eight）'!C395)","v":""},{"$f":"IF('名刺管理（Eight）'!E395=\"\",\"\",'名刺管理（Eight）'!E395)","v":""},{"$f":"IF('名刺管理（Eight）'!F395=\"\",\"\",'名刺管理（Eight）'!F395)","v":""},{"$f":"IF('名刺管理（Eight）'!G395=\"\",\"\",IF(LEFT('名刺管理（Eight）'!G395,3)=\"神奈川\",LEFT('名刺管理（Eight）'!G395,4),IF(LEFT('名刺管理（Eight）'!G395,3)=\"和歌山\",LEFT('名刺管理（Eight）'!G395,4),IF(LEFT('名刺管理（Eight）'!G395,3)=\"鹿児島\",LEFT('名刺管理（Eight）'!G395,4),LEFT('名刺管理（Eight）'!G395,3)))))","v":""},{"$f":"IF(K397=\"\",\"\",IF(LEN(K397)=3,MID('名刺管理（Eight）'!G395,4,50),MID('名刺管理（Eight）'!G395,5,50)))","v":""},{"$f":"IF('名刺管理（Eight）'!H395=\"\",\"\",'名刺管理（Eight）'!H395)","v":""},{"$f":"IF('名刺管理（Eight）'!K395=\"\",\"\",'名刺管理（Eight）'!K395)","v":""},{"$f":"IF('名刺管理（Eight）'!L395=\"\",\"\",'名刺管理（Eight）'!L395)","v":""},{"$f":"IF('名刺管理（Eight）'!M395=\"\",\"\",'名刺管理（Eight）'!M395)","v":""},{"$f":"IF('名刺管理（Eight）'!N395=\"\",\"\",TEXT('名刺管理（Eight）'!N395,\"yyyy/m/d\"))","v":""}]
[{"$f":"LEFT('名刺管理（Eight）'!D396,D398)","v":""},{"$f":"RIGHT('名刺管理（Eight）'!D396,E398)","v":""},{"$f":"IF('名刺管理（Eight）'!D396=\"\",\"\",IF(LEN('名刺管理（Eight）'!D396)=D398+E398,\"\",\"不一致\"))","v":""},null,null,{"$f":"IF('名刺管理（Eight）'!A396=\"\",\"\",'名刺管理（Eight）'!A396)","v":""},{"$f":"IF('名刺管理（Eight）'!B396=\"\",\"\",'名刺管理（Eight）'!B396)","v":""},{"$f":"IF('名刺管理（Eight）'!C396=\"\",\"\",'名刺管理（Eight）'!C396)","v":""},{"$f":"IF('名刺管理（Eight）'!E396=\"\",\"\",'名刺管理（Eight）'!E396)","v":""},{"$f":"IF('名刺管理（Eight）'!F396=\"\",\"\",'名刺管理（Eight）'!F396)","v":""},{"$f":"IF('名刺管理（Eight）'!G396=\"\",\"\",IF(LEFT('名刺管理（Eight）'!G396,3)=\"神奈川\",LEFT('名刺管理（Eight）'!G396,4),IF(LEFT('名刺管理（Eight）'!G396,3)=\"和歌山\",LEFT('名刺管理（Eight）'!G396,4),IF(LEFT('名刺管理（Eight）'!G396,3)=\"鹿児島\",LEFT('名刺管理（Eight）'!G396,4),LEFT('名刺管理（Eight）'!G396,3)))))","v":""},{"$f":"IF(K398=\"\",\"\",IF(LEN(K398)=3,MID('名刺管理（Eight）'!G396,4,50),MID('名刺管理（Eight）'!G396,5,50)))","v":""},{"$f":"IF('名刺管理（Eight）'!H396=\"\",\"\",'名刺管理（Eight）'!H396)","v":""},{"$f":"IF('名刺管理（Eight）'!K396=\"\",\"\",'名刺管理（Eight）'!K396)","v":""},{"$f":"IF('名刺管理（Eight）'!L396=\"\",\"\",'名刺管理（Eight）'!L396)","v":""},{"$f":"IF('名刺管理（Eight）'!M396=\"\",\"\",'名刺管理（Eight）'!M396)","v":""},{"$f":"IF('名刺管理（Eight）'!N396=\"\",\"\",TEXT('名刺管理（Eight）'!N396,\"yyyy/m/d\"))","v":""}]
[{"$f":"LEFT('名刺管理（Eight）'!D397,D399)","v":""},{"$f":"RIGHT('名刺管理（Eight）'!D397,E399)","v":""},{"$f":"IF('名刺管理（Eight）'!D397=\"\",\"\",IF(LEN('名刺管理（Eight）'!D397)=D399+E399,\"\",\"不一致\"))","v":""},null,null,{"$f":"IF('名刺管理（Eight）'!A397=\"\",\"\",'名刺管理（Eight）'!A397)","v":""},{"$f":"IF('名刺管理（Eight）'!B397=\"\",\"\",'名刺管理（Eight）'!B397)","v":""},{"$f":"IF('名刺管理（Eight）'!C397=\"\",\"\",'名刺管理（Eight）'!C397)","v":""},{"$f":"IF('名刺管理（Eight）'!E397=\"\",\"\",'名刺管理（Eight）'!E397)","v":""},{"$f":"IF('名刺管理（Eight）'!F397=\"\",\"\",'名刺管理（Eight）'!F397)","v":""},{"$f":"IF('名刺管理（Eight）'!G397=\"\",\"\",IF(LEFT('名刺管理（Eight）'!G397,3)=\"神奈川\",LEFT('名刺管理（Eight）'!G397,4),IF(LEFT('名刺管理（Eight）'!G397,3)=\"和歌山\",LEFT('名刺管理（Eight）'!G397,4),IF(LEFT('名刺管理（Eight）'!G397,3)=\"鹿児島\",LEFT('名刺管理（Eight）'!G397,4),LEFT('名刺管理（Eight）'!G397,3)))))","v":""},{"$f":"IF(K399=\"\",\"\",IF(LEN(K399)=3,MID('名刺管理（Eight）'!G397,4,50),MID('名刺管理（Eight）'!G397,5,50)))","v":""},{"$f":"IF('名刺管理（Eight）'!H397=\"\",\"\",'名刺管理（Eight）'!H397)","v":""},{"$f":"IF('名刺管理（Eight）'!K397=\"\",\"\",'名刺管理（Eight）'!K397)","v":""},{"$f":"IF('名刺管理（Eight）'!L397=\"\",\"\",'名刺管理（Eight）'!L397)","v":""},{"$f":"IF('名刺管理（Eight）'!M397=\"\",\"\",'名刺管理（Eight）'!M397)","v":""},{"$f":"IF('名刺管理（Eight）'!N397=\"\",\"\",TEXT('名刺管理（Eight）'!N397,\"yyyy/m/d\"))","v":""}]
[{"$f":"LEFT('名刺管理（Eight）'!D398,D400)","v":""},{"$f":"RIGHT('名刺管理（Eight）'!D398,E400)","v":""},{"$f":"IF('名刺管理（Eight）'!D398=\"\",\"\",IF(LEN('名刺管理（Eight）'!D398)=D400+E400,\"\",\"不一致\"))","v":""},null,null,{"$f":"IF('名刺管理（Eight）'!A398=\"\",\"\",'名刺管理（Eight）'!A398)","v":""},{"$f":"IF('名刺管理（Eight）'!B398=\"\",\"\",'名刺管理（Eight）'!B398)","v":""},{"$f":"IF('名刺管理（Eight）'!C398=\"\",\"\",'名刺管理（Eight）'!C398)","v":""},{"$f":"IF('名刺管理（Eight）'!E398=\"\",\"\",'名刺管理（Eight）'!E398)","v":""},{"$f":"IF('名刺管理（Eight）'!F398=\"\",\"\",'名刺管理（Eight）'!F398)","v":""},{"$f":"IF('名刺管理（Eight）'!G398=\"\",\"\",IF(LEFT('名刺管理（Eight）'!G398,3)=\"神奈川\",LEFT('名刺管理（Eight）'!G398,4),IF(LEFT('名刺管理（Eight）'!G398,3)=\"和歌山\",LEFT('名刺管理（Eight）'!G398,4),IF(LEFT('名刺管理（Eight）'!G398,3)=\"鹿児島\",LEFT('名刺管理（Eight）'!G398,4),LEFT('名刺管理（Eight）'!G398,3)))))","v":""},{"$f":"IF(K400=\"\",\"\",IF(LEN(K400)=3,MID('名刺管理（Eight）'!G398,4,50),MID('名刺管理（Eight）'!G398,5,50)))","v":""},{"$f":"IF('名刺管理（Eight）'!H398=\"\",\"\",'名刺管理（Eight）'!H398)","v":""},{"$f":"IF('名刺管理（Eight）'!K398=\"\",\"\",'名刺管理（Eight）'!K398)","v":""},{"$f":"IF('名刺管理（Eight）'!L398=\"\",\"\",'名刺管理（Eight）'!L398)","v":""},{"$f":"IF('名刺管理（Eight）'!M398=\"\",\"\",'名刺管理（Eight）'!M398)","v":""},{"$f":"IF('名刺管理（Eight）'!N398=\"\",\"\",TEXT('名刺管理（Eight）'!N398,\"yyyy/m/d\"))","v":""}]
[{"$f":"LEFT('名刺管理（Eight）'!D399,D401)","v":""},{"$f":"RIGHT('名刺管理（Eight）'!D399,E401)","v":""},{"$f":"IF('名刺管理（Eight）'!D399=\"\",\"\",IF(LEN('名刺管理（Eight）'!D399)=D401+E401,\"\",\"不一致\"))","v":""},null,null,{"$f":"IF('名刺管理（Eight）'!A399=\"\",\"\",'名刺管理（Eight）'!A399)","v":""},{"$f":"IF('名刺管理（Eight）'!B399=\"\",\"\",'名刺管理（Eight）'!B399)","v":""},{"$f":"IF('名刺管理（Eight）'!C399=\"\",\"\",'名刺管理（Eight）'!C399)","v":""},{"$f":"IF('名刺管理（Eight）'!E399=\"\",\"\",'名刺管理（Eight）'!E399)","v":""},{"$f":"IF('名刺管理（Eight）'!F399=\"\",\"\",'名刺管理（Eight）'!F399)","v":""},{"$f":"IF('名刺管理（Eight）'!G399=\"\",\"\",IF(LEFT('名刺管理（Eight）'!G399,3)=\"神奈川\",LEFT('名刺管理（Eight）'!G399,4),IF(LEFT('名刺管理（Eight）'!G399,3)=\"和歌山\",LEFT('名刺管理（Eight）'!G399,4),IF(LEFT('名刺管理（Eight）'!G399,3)=\"鹿児島\",LEFT('名刺管理（Eight）'!G399,4),LEFT('名刺管理（Eight）'!G399,3)))))","v":""},{"$f":"IF(K401=\"\",\"\",IF(LEN(K401)=3,MID('名刺管理（Eight）'!G399,4,50),MID('名刺管理（Eight）'!G399,5,50)))","v":""},{"$f":"IF('名刺管理（Eight）'!H399=\"\",\"\",'名刺管理（Eight）'!H399)","v":""},{"$f":"IF('名刺管理（Eight）'!K399=\"\",\"\",'名刺管理（Eight）'!K399)","v":""},{"$f":"IF('名刺管理（Eight）'!L399=\"\",\"\",'名刺管理（Eight）'!L399)","v":""},{"$f":"IF('名刺管理（Eight）'!M399=\"\",\"\",'名刺管理（Eight）'!M399)","v":""},{"$f":"IF('名刺管理（Eight）'!N399=\"\",\"\",TEXT('名刺管理（Eight）'!N399,\"yyyy/m/d\"))","v":""}]
[{"$f":"LEFT('名刺管理（Eight）'!D400,D402)","v":""},{"$f":"RIGHT('名刺管理（Eight）'!D400,E402)","v":""},{"$f":"IF('名刺管理（Eight）'!D400=\"\",\"\",IF(LEN('名刺管理（Eight）'!D400)=D402+E402,\"\",\"不一致\"))","v":""},null,null,{"$f":"IF('名刺管理（Eight）'!A400=\"\",\"\",'名刺管理（Eight）'!A400)","v":""},{"$f":"IF('名刺管理（Eight）'!B400=\"\",\"\",'名刺管理（Eight）'!B400)","v":""},{"$f":"IF('名刺管理（Eight）'!C400=\"\",\"\",'名刺管理（Eight）'!C400)","v":""},{"$f":"IF('名刺管理（Eight）'!E400=\"\",\"\",'名刺管理（Eight）'!E400)","v":""},{"$f":"IF('名刺管理（Eight）'!F400=\"\",\"\",'名刺管理（Eight）'!F400)","v":""},{"$f":"IF('名刺管理（Eight）'!G400=\"\",\"\",IF(LEFT('名刺管理（Eight）'!G400,3)=\"神奈川\",LEFT('名刺管理（Eight）'!G400,4),IF(LEFT('名刺管理（Eight）'!G400,3)=\"和歌山\",LEFT('名刺管理（Eight）'!G400,4),IF(LEFT('名刺管理（Eight）'!G400,3)=\"鹿児島\",LEFT('名刺管理（Eight）'!G400,4),LEFT('名刺管理（Eight）'!G400,3)))))","v":""},{"$f":"IF(K402=\"\",\"\",IF(LEN(K402)=3,MID('名刺管理（Eight）'!G400,4,50),MID('名刺管理（Eight）'!G400,5,50)))","v":""},{"$f":"IF('名刺管理（Eight）'!H400=\"\",\"\",'名刺管理（Eight）'!H400)","v":""},{"$f":"IF('名刺管理（Eight）'!K400=\"\",\"\",'名刺管理（Eight）'!K400)","v":""},{"$f":"IF('名刺管理（Eight）'!L400=\"\",\"\",'名刺管理（Eight）'!L400)","v":""},{"$f":"IF('名刺管理（Eight）'!M400=\"\",\"\",'名刺管理（Eight）'!M400)","v":""},{"$f":"IF('名刺管理（Eight）'!N400=\"\",\"\",TEXT('名刺管理（Eight）'!N400,\"yyyy/m/d\"))","v":""}]
[{"$f":"LEFT('名刺管理（Eight）'!D401,D403)","v":""},{"$f":"RIGHT('名刺管理（Eight）'!D401,E403)","v":""},{"$f":"IF('名刺管理（Eight）'!D401=\"\",\"\",IF(LEN('名刺管理（Eight）'!D401)=D403+E403,\"\",\"不一致\"))","v":""},null,null,{"$f":"IF('名刺管理（Eight）'!A401=\"\",\"\",'名刺管理（Eight）'!A401)","v":""},{"$f":"IF('名刺管理（Eight）'!B401=\"\",\"\",'名刺管理（Eight）'!B401)","v":""},{"$f":"IF('名刺管理（Eight）'!C401=\"\",\"\",'名刺管理（Eight）'!C401)","v":""},{"$f":"IF('名刺管理（Eight）'!E401=\"\",\"\",'名刺管理（Eight）'!E401)","v":""},{"$f":"IF('名刺管理（Eight）'!F401=\"\",\"\",'名刺管理（Eight）'!F401)","v":""},{"$f":"IF('名刺管理（Eight）'!G401=\"\",\"\",IF(LEFT('名刺管理（Eight）'!G401,3)=\"神奈川\",LEFT('名刺管理（Eight）'!G401,4),IF(LEFT('名刺管理（Eight）'!G401,3)=\"和歌山\",LEFT('名刺管理（Eight）'!G401,4),IF(LEFT('名刺管理（Eight）'!G401,3)=\"鹿児島\",LEFT('名刺管理（Eight）'!G401,4),LEFT('名刺管理（Eight）'!G401,3)))))","v":""},{"$f":"IF(K403=\"\",\"\",IF(LEN(K403)=3,MID('名刺管理（Eight）'!G401,4,50),MID('名刺管理（Eight）'!G401,5,50)))","v":""},{"$f":"IF('名刺管理（Eight）'!H401=\"\",\"\",'名刺管理（Eight）'!H401)","v":""},{"$f":"IF('名刺管理（Eight）'!K401=\"\",\"\",'名刺管理（Eight）'!K401)","v":""},{"$f":"IF('名刺管理（Eight）'!L401=\"\",\"\",'名刺管理（Eight）'!L401)","v":""},{"$f":"IF('名刺管理（Eight）'!M401=\"\",\"\",'名刺管理（Eight）'!M401)","v":""},{"$f":"IF('名刺管理（Eight）'!N401=\"\",\"\",TEXT('名刺管理（Eight）'!N401,\"yyyy/m/d\"))","v":""}]
[{"$f":"LEFT('名刺管理（Eight）'!D402,D404)","v":""},{"$f":"RIGHT('名刺管理（Eight）'!D402,E404)","v":""},{"$f":"IF('名刺管理（Eight）'!D402=\"\",\"\",IF(LEN('名刺管理（Eight）'!D402)=D404+E404,\"\",\"不一致\"))","v":""},null,null,{"$f":"IF('名刺管理（Eight）'!A402=\"\",\"\",'名刺管理（Eight）'!A402)","v":""},{"$f":"IF('名刺管理（Eight）'!B402=\"\",\"\",'名刺管理（Eight）'!B402)","v":""},{"$f":"IF('名刺管理（Eight）'!C402=\"\",\"\",'名刺管理（Eight）'!C402)","v":""},{"$f":"IF('名刺管理（Eight）'!E402=\"\",\"\",'名刺管理（Eight）'!E402)","v":""},{"$f":"IF('名刺管理（Eight）'!F402=\"\",\"\",'名刺管理（Eight）'!F402)","v":""},{"$f":"IF('名刺管理（Eight）'!G402=\"\",\"\",IF(LEFT('名刺管理（Eight）'!G402,3)=\"神奈川\",LEFT('名刺管理（Eight）'!G402,4),IF(LEFT('名刺管理（Eight）'!G402,3)=\"和歌山\",LEFT('名刺管理（Eight）'!G402,4),IF(LEFT('名刺管理（Eight）'!G402,3)=\"鹿児島\",LEFT('名刺管理（Eight）'!G402,4),LEFT('名刺管理（Eight）'!G402,3)))))","v":""},{"$f":"IF(K404=\"\",\"\",IF(LEN(K404)=3,MID('名刺管理（Eight）'!G402,4,50),MID('名刺管理（Eight）'!G402,5,50)))","v":""},{"$f":"IF('名刺管理（Eight）'!H402=\"\",\"\",'名刺管理（Eight）'!H402)","v":""},{"$f":"IF('名刺管理（Eight）'!K402=\"\",\"\",'名刺管理（Eight）'!K402)","v":""},{"$f":"IF('名刺管理（Eight）'!L402=\"\",\"\",'名刺管理（Eight）'!L402)","v":""},{"$f":"IF('名刺管理（Eight）'!M402=\"\",\"\",'名刺管理（Eight）'!M402)","v":""},{"$f":"IF('名刺管理（Eight）'!N402=\"\",\"\",TEXT('名刺管理（Eight）'!N402,\"yyyy/m/d\"))","v":""}]
[{"$f":"LEFT('名刺管理（Eight）'!D403,D405)","v":""},{"$f":"RIGHT('名刺管理（Eight）'!D403,E405)","v":""},{"$f":"IF('名刺管理（Eight）'!D403=\"\",\"\",IF(LEN('名刺管理（Eight）'!D403)=D405+E405,\"\",\"不一致\"))","v":""},null,null,{"$f":"IF('名刺管理（Eight）'!A403=\"\",\"\",'名刺管理（Eight）'!A403)","v":""},{"$f":"IF('名刺管理（Eight）'!B403=\"\",\"\",'名刺管理（Eight）'!B403)","v":""},{"$f":"IF('名刺管理（Eight）'!C403=\"\",\"\",'名刺管理（Eight）'!C403)","v":""},{"$f":"IF('名刺管理（Eight）'!E403=\"\",\"\",'名刺管理（Eight）'!E403)","v":""},{"$f":"IF('名刺管理（Eight）'!F403=\"\",\"\",'名刺管理（Eight）'!F403)","v":""},{"$f":"IF('名刺管理（Eight）'!G403=\"\",\"\",IF(LEFT('名刺管理（Eight）'!G403,3)=\"神奈川\",LEFT('名刺管理（Eight）'!G403,4),IF(LEFT('名刺管理（Eight）'!G403,3)=\"和歌山\",LEFT('名刺管理（Eight）'!G403,4),IF(LEFT('名刺管理（Eight）'!G403,3)=\"鹿児島\",LEFT('名刺管理（Eight）'!G403,4),LEFT('名刺管理（Eight）'!G403,3)))))","v":""},{"$f":"IF(K405=\"\",\"\",IF(LEN(K405)=3,MID('名刺管理（Eight）'!G403,4,50),MID('名刺管理（Eight）'!G403,5,50)))","v":""},{"$f":"IF('名刺管理（Eight）'!H403=\"\",\"\",'名刺管理（Eight）'!H403)","v":""},{"$f":"IF('名刺管理（Eight）'!K403=\"\",\"\",'名刺管理（Eight）'!K403)","v":""},{"$f":"IF('名刺管理（Eight）'!L403=\"\",\"\",'名刺管理（Eight）'!L403)","v":""},{"$f":"IF('名刺管理（Eight）'!M403=\"\",\"\",'名刺管理（Eight）'!M403)","v":""},{"$f":"IF('名刺管理（Eight）'!N403=\"\",\"\",TEXT('名刺管理（Eight）'!N403,\"yyyy/m/d\"))","v":""}]
[{"$f":"LEFT('名刺管理（Eight）'!D404,D406)","v":""},{"$f":"RIGHT('名刺管理（Eight）'!D404,E406)","v":""},{"$f":"IF('名刺管理（Eight）'!D404=\"\",\"\",IF(LEN('名刺管理（Eight）'!D404)=D406+E406,\"\",\"不一致\"))","v":""},null,null,{"$f":"IF('名刺管理（Eight）'!A404=\"\",\"\",'名刺管理（Eight）'!A404)","v":""},{"$f":"IF('名刺管理（Eight）'!B404=\"\",\"\",'名刺管理（Eight）'!B404)","v":""},{"$f":"IF('名刺管理（Eight）'!C404=\"\",\"\",'名刺管理（Eight）'!C404)","v":""},{"$f":"IF('名刺管理（Eight）'!E404=\"\",\"\",'名刺管理（Eight）'!E404)","v":""},{"$f":"IF('名刺管理（Eight）'!F404=\"\",\"\",'名刺管理（Eight）'!F404)","v":""},{"$f":"IF('名刺管理（Eight）'!G404=\"\",\"\",IF(LEFT('名刺管理（Eight）'!G404,3)=\"神奈川\",LEFT('名刺管理（Eight）'!G404,4),IF(LEFT('名刺管理（Eight）'!G404,3)=\"和歌山\",LEFT('名刺管理（Eight）'!G404,4),IF(LEFT('名刺管理（Eight）'!G404,3)=\"鹿児島\",LEFT('名刺管理（Eight）'!G404,4),LEFT('名刺管理（Eight）'!G404,3)))))","v":""},{"$f":"IF(K406=\"\",\"\",IF(LEN(K406)=3,MID('名刺管理（Eight）'!G404,4,50),MID('名刺管理（Eight）'!G404,5,50)))","v":""},{"$f":"IF('名刺管理（Eight）'!H404=\"\",\"\",'名刺管理（Eight）'!H404)","v":""},{"$f":"IF('名刺管理（Eight）'!K404=\"\",\"\",'名刺管理（Eight）'!K404)","v":""},{"$f":"IF('名刺管理（Eight）'!L404=\"\",\"\",'名刺管理（Eight）'!L404)","v":""},{"$f":"IF('名刺管理（Eight）'!M404=\"\",\"\",'名刺管理（Eight）'!M404)","v":""},{"$f":"IF('名刺管理（Eight）'!N404=\"\",\"\",TEXT('名刺管理（Eight）'!N404,\"yyyy/m/d\"))","v":""}]
[{"$f":"LEFT('名刺管理（Eight）'!D405,D407)","v":""},{"$f":"RIGHT('名刺管理（Eight）'!D405,E407)","v":""},{"$f":"IF('名刺管理（Eight）'!D405=\"\",\"\",IF(LEN('名刺管理（Eight）'!D405)=D407+E407,\"\",\"不一致\"))","v":""},null,null,{"$f":"IF('名刺管理（Eight）'!A405=\"\",\"\",'名刺管理（Eight）'!A405)","v":""},{"$f":"IF('名刺管理（Eight）'!B405=\"\",\"\",'名刺管理（Eight）'!B405)","v":""},{"$f":"IF('名刺管理（Eight）'!C405=\"\",\"\",'名刺管理（Eight）'!C405)","v":""},{"$f":"IF('名刺管理（Eight）'!E405=\"\",\"\",'名刺管理（Eight）'!E405)","v":""},{"$f":"IF('名刺管理（Eight）'!F405=\"\",\"\",'名刺管理（Eight）'!F405)","v":""},{"$f":"IF('名刺管理（Eight）'!G405=\"\",\"\",IF(LEFT('名刺管理（Eight）'!G405,3)=\"神奈川\",LEFT('名刺管理（Eight）'!G405,4),IF(LEFT('名刺管理（Eight）'!G405,3)=\"和歌山\",LEFT('名刺管理（Eight）'!G405,4),IF(LEFT('名刺管理（Eight）'!G405,3)=\"鹿児島\",LEFT('名刺管理（Eight）'!G405,4),LEFT('名刺管理（Eight）'!G405,3)))))","v":""},{"$f":"IF(K407=\"\",\"\",IF(LEN(K407)=3,MID('名刺管理（Eight）'!G405,4,50),MID('名刺管理（Eight）'!G405,5,50)))","v":""},{"$f":"IF('名刺管理（Eight）'!H405=\"\",\"\",'名刺管理（Eight）'!H405)","v":""},{"$f":"IF('名刺管理（Eight）'!K405=\"\",\"\",'名刺管理（Eight）'!K405)","v":""},{"$f":"IF('名刺管理（Eight）'!L405=\"\",\"\",'名刺管理（Eight）'!L405)","v":""},{"$f":"IF('名刺管理（Eight）'!M405=\"\",\"\",'名刺管理（Eight）'!M405)","v":""},{"$f":"IF('名刺管理（Eight）'!N405=\"\",\"\",TEXT('名刺管理（Eight）'!N405,\"yyyy/m/d\"))","v":""}]
[{"$f":"LEFT('名刺管理（Eight）'!D406,D408)","v":""},{"$f":"RIGHT('名刺管理（Eight）'!D406,E408)","v":""},{"$f":"IF('名刺管理（Eight）'!D406=\"\",\"\",IF(LEN('名刺管理（Eight）'!D406)=D408+E408,\"\",\"不一致\"))","v":""},null,null,{"$f":"IF('名刺管理（Eight）'!A406=\"\",\"\",'名刺管理（Eight）'!A406)","v":""},{"$f":"IF('名刺管理（Eight）'!B406=\"\",\"\",'名刺管理（Eight）'!B406)","v":""},{"$f":"IF('名刺管理（Eight）'!C406=\"\",\"\",'名刺管理（Eight）'!C406)","v":""},{"$f":"IF('名刺管理（Eight）'!E406=\"\",\"\",'名刺管理（Eight）'!E406)","v":""},{"$f":"IF('名刺管理（Eight）'!F406=\"\",\"\",'名刺管理（Eight）'!F406)","v":""},{"$f":"IF('名刺管理（Eight）'!G406=\"\",\"\",IF(LEFT('名刺管理（Eight）'!G406,3)=\"神奈川\",LEFT('名刺管理（Eight）'!G406,4),IF(LEFT('名刺管理（Eight）'!G406,3)=\"和歌山\",LEFT('名刺管理（Eight）'!G406,4),IF(LEFT('名刺管理（Eight）'!G406,3)=\"鹿児島\",LEFT('名刺管理（Eight）'!G406,4),LEFT('名刺管理（Eight）'!G406,3)))))","v":""},{"$f":"IF(K408=\"\",\"\",IF(LEN(K408)=3,MID('名刺管理（Eight）'!G406,4,50),MID('名刺管理（Eight）'!G406,5,50)))","v":""},{"$f":"IF('名刺管理（Eight）'!H406=\"\",\"\",'名刺管理（Eight）'!H406)","v":""},{"$f":"IF('名刺管理（Eight）'!K406=\"\",\"\",'名刺管理（Eight）'!K406)","v":""},{"$f":"IF('名刺管理（Eight）'!L406=\"\",\"\",'名刺管理（Eight）'!L406)","v":""},{"$f":"IF('名刺管理（Eight）'!M406=\"\",\"\",'名刺管理（Eight）'!M406)","v":""},{"$f":"IF('名刺管理（Eight）'!N406=\"\",\"\",TEXT('名刺管理（Eight）'!N406,\"yyyy/m/d\"))","v":""}]
[{"$f":"LEFT('名刺管理（Eight）'!D407,D409)","v":""},{"$f":"RIGHT('名刺管理（Eight）'!D407,E409)","v":""},{"$f":"IF('名刺管理（Eight）'!D407=\"\",\"\",IF(LEN('名刺管理（Eight）'!D407)=D409+E409,\"\",\"不一致\"))","v":""},null,null,{"$f":"IF('名刺管理（Eight）'!A407=\"\",\"\",'名刺管理（Eight）'!A407)","v":""},{"$f":"IF('名刺管理（Eight）'!B407=\"\",\"\",'名刺管理（Eight）'!B407)","v":""},{"$f":"IF('名刺管理（Eight）'!C407=\"\",\"\",'名刺管理（Eight）'!C407)","v":""},{"$f":"IF('名刺管理（Eight）'!E407=\"\",\"\",'名刺管理（Eight）'!E407)","v":""},{"$f":"IF('名刺管理（Eight）'!F407=\"\",\"\",'名刺管理（Eight）'!F407)","v":""},{"$f":"IF('名刺管理（Eight）'!G407=\"\",\"\",IF(LEFT('名刺管理（Eight）'!G407,3)=\"神奈川\",LEFT('名刺管理（Eight）'!G407,4),IF(LEFT('名刺管理（Eight）'!G407,3)=\"和歌山\",LEFT('名刺管理（Eight）'!G407,4),IF(LEFT('名刺管理（Eight）'!G407,3)=\"鹿児島\",LEFT('名刺管理（Eight）'!G407,4),LEFT('名刺管理（Eight）'!G407,3)))))","v":""},{"$f":"IF(K409=\"\",\"\",IF(LEN(K409)=3,MID('名刺管理（Eight）'!G407,4,50),MID('名刺管理（Eight）'!G407,5,50)))","v":""},{"$f":"IF('名刺管理（Eight）'!H407=\"\",\"\",'名刺管理（Eight）'!H407)","v":""},{"$f":"IF('名刺管理（Eight）'!K407=\"\",\"\",'名刺管理（Eight）'!K407)","v":""},{"$f":"IF('名刺管理（Eight）'!L407=\"\",\"\",'名刺管理（Eight）'!L407)","v":""},{"$f":"IF('名刺管理（Eight）'!M407=\"\",\"\",'名刺管理（Eight）'!M407)","v":""},{"$f":"IF('名刺管理（Eight）'!N407=\"\",\"\",TEXT('名刺管理（Eight）'!N407,\"yyyy/m/d\"))","v":""}]
[{"$f":"LEFT('名刺管理（Eight）'!D408,D410)","v":""},{"$f":"RIGHT('名刺管理（Eight）'!D408,E410)","v":""},{"$f":"IF('名刺管理（Eight）'!D408=\"\",\"\",IF(LEN('名刺管理（Eight）'!D408)=D410+E410,\"\",\"不一致\"))","v":""},null,null,{"$f":"IF('名刺管理（Eight）'!A408=\"\",\"\",'名刺管理（Eight）'!A408)","v":""},{"$f":"IF('名刺管理（Eight）'!B408=\"\",\"\",'名刺管理（Eight）'!B408)","v":""},{"$f":"IF('名刺管理（Eight）'!C408=\"\",\"\",'名刺管理（Eight）'!C408)","v":""},{"$f":"IF('名刺管理（Eight）'!E408=\"\",\"\",'名刺管理（Eight）'!E408)","v":""},{"$f":"IF('名刺管理（Eight）'!F408=\"\",\"\",'名刺管理（Eight）'!F408)","v":""},{"$f":"IF('名刺管理（Eight）'!G408=\"\",\"\",IF(LEFT('名刺管理（Eight）'!G408,3)=\"神奈川\",LEFT('名刺管理（Eight）'!G408,4),IF(LEFT('名刺管理（Eight）'!G408,3)=\"和歌山\",LEFT('名刺管理（Eight）'!G408,4),IF(LEFT('名刺管理（Eight）'!G408,3)=\"鹿児島\",LEFT('名刺管理（Eight）'!G408,4),LEFT('名刺管理（Eight）'!G408,3)))))","v":""},{"$f":"IF(K410=\"\",\"\",IF(LEN(K410)=3,MID('名刺管理（Eight）'!G408,4,50),MID('名刺管理（Eight）'!G408,5,50)))","v":""},{"$f":"IF('名刺管理（Eight）'!H408=\"\",\"\",'名刺管理（Eight）'!H408)","v":""},{"$f":"IF('名刺管理（Eight）'!K408=\"\",\"\",'名刺管理（Eight）'!K408)","v":""},{"$f":"IF('名刺管理（Eight）'!L408=\"\",\"\",'名刺管理（Eight）'!L408)","v":""},{"$f":"IF('名刺管理（Eight）'!M408=\"\",\"\",'名刺管理（Eight）'!M408)","v":""},{"$f":"IF('名刺管理（Eight）'!N408=\"\",\"\",TEXT('名刺管理（Eight）'!N408,\"yyyy/m/d\"))","v":""}]
[{"$f":"LEFT('名刺管理（Eight）'!D409,D411)","v":""},{"$f":"RIGHT('名刺管理（Eight）'!D409,E411)","v":""},{"$f":"IF('名刺管理（Eight）'!D409=\"\",\"\",IF(LEN('名刺管理（Eight）'!D409)=D411+E411,\"\",\"不一致\"))","v":""},null,null,{"$f":"IF('名刺管理（Eight）'!A409=\"\",\"\",'名刺管理（Eight）'!A409)","v":""},{"$f":"IF('名刺管理（Eight）'!B409=\"\",\"\",'名刺管理（Eight）'!B409)","v":""},{"$f":"IF('名刺管理（Eight）'!C409=\"\",\"\",'名刺管理（Eight）'!C409)","v":""},{"$f":"IF('名刺管理（Eight）'!E409=\"\",\"\",'名刺管理（Eight）'!E409)","v":""},{"$f":"IF('名刺管理（Eight）'!F409=\"\",\"\",'名刺管理（Eight）'!F409)","v":""},{"$f":"IF('名刺管理（Eight）'!G409=\"\",\"\",IF(LEFT('名刺管理（Eight）'!G409,3)=\"神奈川\",LEFT('名刺管理（Eight）'!G409,4),IF(LEFT('名刺管理（Eight）'!G409,3)=\"和歌山\",LEFT('名刺管理（Eight）'!G409,4),IF(LEFT('名刺管理（Eight）'!G409,3)=\"鹿児島\",LEFT('名刺管理（Eight）'!G409,4),LEFT('名刺管理（Eight）'!G409,3)))))","v":""},{"$f":"IF(K411=\"\",\"\",IF(LEN(K411)=3,MID('名刺管理（Eight）'!G409,4,50),MID('名刺管理（Eight）'!G409,5,50)))","v":""},{"$f":"IF('名刺管理（Eight）'!H409=\"\",\"\",'名刺管理（Eight）'!H409)","v":""},{"$f":"IF('名刺管理（Eight）'!K409=\"\",\"\",'名刺管理（Eight）'!K409)","v":""},{"$f":"IF('名刺管理（Eight）'!L409=\"\",\"\",'名刺管理（Eight）'!L409)","v":""},{"$f":"IF('名刺管理（Eight）'!M409=\"\",\"\",'名刺管理（Eight）'!M409)","v":""},{"$f":"IF('名刺管理（Eight）'!N409=\"\",\"\",TEXT('名刺管理（Eight）'!N409,\"yyyy/m/d\"))","v":""}]
[{"$f":"LEFT('名刺管理（Eight）'!D410,D412)","v":""},{"$f":"RIGHT('名刺管理（Eight）'!D410,E412)","v":""},{"$f":"IF('名刺管理（Eight）'!D410=\"\",\"\",IF(LEN('名刺管理（Eight）'!D410)=D412+E412,\"\",\"不一致\"))","v":""},null,null,{"$f":"IF('名刺管理（Eight）'!A410=\"\",\"\",'名刺管理（Eight）'!A410)","v":""},{"$f":"IF('名刺管理（Eight）'!B410=\"\",\"\",'名刺管理（Eight）'!B410)","v":""},{"$f":"IF('名刺管理（Eight）'!C410=\"\",\"\",'名刺管理（Eight）'!C410)","v":""},{"$f":"IF('名刺管理（Eight）'!E410=\"\",\"\",'名刺管理（Eight）'!E410)","v":""},{"$f":"IF('名刺管理（Eight）'!F410=\"\",\"\",'名刺管理（Eight）'!F410)","v":""},{"$f":"IF('名刺管理（Eight）'!G410=\"\",\"\",IF(LEFT('名刺管理（Eight）'!G410,3)=\"神奈川\",LEFT('名刺管理（Eight）'!G410,4),IF(LEFT('名刺管理（Eight）'!G410,3)=\"和歌山\",LEFT('名刺管理（Eight）'!G410,4),IF(LEFT('名刺管理（Eight）'!G410,3)=\"鹿児島\",LEFT('名刺管理（Eight）'!G410,4),LEFT('名刺管理（Eight）'!G410,3)))))","v":""},{"$f":"IF(K412=\"\",\"\",IF(LEN(K412)=3,MID('名刺管理（Eight）'!G410,4,50),MID('名刺管理（Eight）'!G410,5,50)))","v":""},{"$f":"IF('名刺管理（Eight）'!H410=\"\",\"\",'名刺管理（Eight）'!H410)","v":""},{"$f":"IF('名刺管理（Eight）'!K410=\"\",\"\",'名刺管理（Eight）'!K410)","v":""},{"$f":"IF('名刺管理（Eight）'!L410=\"\",\"\",'名刺管理（Eight）'!L410)","v":""},{"$f":"IF('名刺管理（Eight）'!M410=\"\",\"\",'名刺管理（Eight）'!M410)","v":""},{"$f":"IF('名刺管理（Eight）'!N410=\"\",\"\",TEXT('名刺管理（Eight）'!N410,\"yyyy/m/d\"))","v":""}]
[{"$f":"LEFT('名刺管理（Eight）'!D411,D413)","v":""},{"$f":"RIGHT('名刺管理（Eight）'!D411,E413)","v":""},{"$f":"IF('名刺管理（Eight）'!D411=\"\",\"\",IF(LEN('名刺管理（Eight）'!D411)=D413+E413,\"\",\"不一致\"))","v":""},null,null,{"$f":"IF('名刺管理（Eight）'!A411=\"\",\"\",'名刺管理（Eight）'!A411)","v":""},{"$f":"IF('名刺管理（Eight）'!B411=\"\",\"\",'名刺管理（Eight）'!B411)","v":""},{"$f":"IF('名刺管理（Eight）'!C411=\"\",\"\",'名刺管理（Eight）'!C411)","v":""},{"$f":"IF('名刺管理（Eight）'!E411=\"\",\"\",'名刺管理（Eight）'!E411)","v":""},{"$f":"IF('名刺管理（Eight）'!F411=\"\",\"\",'名刺管理（Eight）'!F411)","v":""},{"$f":"IF('名刺管理（Eight）'!G411=\"\",\"\",IF(LEFT('名刺管理（Eight）'!G411,3)=\"神奈川\",LEFT('名刺管理（Eight）'!G411,4),IF(LEFT('名刺管理（Eight）'!G411,3)=\"和歌山\",LEFT('名刺管理（Eight）'!G411,4),IF(LEFT('名刺管理（Eight）'!G411,3)=\"鹿児島\",LEFT('名刺管理（Eight）'!G411,4),LEFT('名刺管理（Eight）'!G411,3)))))","v":""},{"$f":"IF(K413=\"\",\"\",IF(LEN(K413)=3,MID('名刺管理（Eight）'!G411,4,50),MID('名刺管理（Eight）'!G411,5,50)))","v":""},{"$f":"IF('名刺管理（Eight）'!H411=\"\",\"\",'名刺管理（Eight）'!H411)","v":""},{"$f":"IF('名刺管理（Eight）'!K411=\"\",\"\",'名刺管理（Eight）'!K411)","v":""},{"$f":"IF('名刺管理（Eight）'!L411=\"\",\"\",'名刺管理（Eight）'!L411)","v":""},{"$f":"IF('名刺管理（Eight）'!M411=\"\",\"\",'名刺管理（Eight）'!M411)","v":""},{"$f":"IF('名刺管理（Eight）'!N411=\"\",\"\",TEXT('名刺管理（Eight）'!N411,\"yyyy/m/d\"))","v":""}]
[{"$f":"LEFT('名刺管理（Eight）'!D412,D414)","v":""},{"$f":"RIGHT('名刺管理（Eight）'!D412,E414)","v":""},{"$f":"IF('名刺管理（Eight）'!D412=\"\",\"\",IF(LEN('名刺管理（Eight）'!D412)=D414+E414,\"\",\"不一致\"))","v":""},null,null,{"$f":"IF('名刺管理（Eight）'!A412=\"\",\"\",'名刺管理（Eight）'!A412)","v":""},{"$f":"IF('名刺管理（Eight）'!B412=\"\",\"\",'名刺管理（Eight）'!B412)","v":""},{"$f":"IF('名刺管理（Eight）'!C412=\"\",\"\",'名刺管理（Eight）'!C412)","v":""},{"$f":"IF('名刺管理（Eight）'!E412=\"\",\"\",'名刺管理（Eight）'!E412)","v":""},{"$f":"IF('名刺管理（Eight）'!F412=\"\",\"\",'名刺管理（Eight）'!F412)","v":""},{"$f":"IF('名刺管理（Eight）'!G412=\"\",\"\",IF(LEFT('名刺管理（Eight）'!G412,3)=\"神奈川\",LEFT('名刺管理（Eight）'!G412,4),IF(LEFT('名刺管理（Eight）'!G412,3)=\"和歌山\",LEFT('名刺管理（Eight）'!G412,4),IF(LEFT('名刺管理（Eight）'!G412,3)=\"鹿児島\",LEFT('名刺管理（Eight）'!G412,4),LEFT('名刺管理（Eight）'!G412,3)))))","v":""},{"$f":"IF(K414=\"\",\"\",IF(LEN(K414)=3,MID('名刺管理（Eight）'!G412,4,50),MID('名刺管理（Eight）'!G412,5,50)))","v":""},{"$f":"IF('名刺管理（Eight）'!H412=\"\",\"\",'名刺管理（Eight）'!H412)","v":""},{"$f":"IF('名刺管理（Eight）'!K412=\"\",\"\",'名刺管理（Eight）'!K412)","v":""},{"$f":"IF('名刺管理（Eight）'!L412=\"\",\"\",'名刺管理（Eight）'!L412)","v":""},{"$f":"IF('名刺管理（Eight）'!M412=\"\",\"\",'名刺管理（Eight）'!M412)","v":""},{"$f":"IF('名刺管理（Eight）'!N412=\"\",\"\",TEXT('名刺管理（Eight）'!N412,\"yyyy/m/d\"))","v":""}]
[{"$f":"LEFT('名刺管理（Eight）'!D413,D415)","v":""},{"$f":"RIGHT('名刺管理（Eight）'!D413,E415)","v":""},{"$f":"IF('名刺管理（Eight）'!D413=\"\",\"\",IF(LEN('名刺管理（Eight）'!D413)=D415+E415,\"\",\"不一致\"))","v":""},null,null,{"$f":"IF('名刺管理（Eight）'!A413=\"\",\"\",'名刺管理（Eight）'!A413)","v":""},{"$f":"IF('名刺管理（Eight）'!B413=\"\",\"\",'名刺管理（Eight）'!B413)","v":""},{"$f":"IF('名刺管理（Eight）'!C413=\"\",\"\",'名刺管理（Eight）'!C413)","v":""},{"$f":"IF('名刺管理（Eight）'!E413=\"\",\"\",'名刺管理（Eight）'!E413)","v":""},{"$f":"IF('名刺管理（Eight）'!F413=\"\",\"\",'名刺管理（Eight）'!F413)","v":""},{"$f":"IF('名刺管理（Eight）'!G413=\"\",\"\",IF(LEFT('名刺管理（Eight）'!G413,3)=\"神奈川\",LEFT('名刺管理（Eight）'!G413,4),IF(LEFT('名刺管理（Eight）'!G413,3)=\"和歌山\",LEFT('名刺管理（Eight）'!G413,4),IF(LEFT('名刺管理（Eight）'!G413,3)=\"鹿児島\",LEFT('名刺管理（Eight）'!G413,4),LEFT('名刺管理（Eight）'!G413,3)))))","v":""},{"$f":"IF(K415=\"\",\"\",IF(LEN(K415)=3,MID('名刺管理（Eight）'!G413,4,50),MID('名刺管理（Eight）'!G413,5,50)))","v":""},{"$f":"IF('名刺管理（Eight）'!H413=\"\",\"\",'名刺管理（Eight）'!H413)","v":""},{"$f":"IF('名刺管理（Eight）'!K413=\"\",\"\",'名刺管理（Eight）'!K413)","v":""},{"$f":"IF('名刺管理（Eight）'!L413=\"\",\"\",'名刺管理（Eight）'!L413)","v":""},{"$f":"IF('名刺管理（Eight）'!M413=\"\",\"\",'名刺管理（Eight）'!M413)","v":""},{"$f":"IF('名刺管理（Eight）'!N413=\"\",\"\",TEXT('名刺管理（Eight）'!N413,\"yyyy/m/d\"))","v":""}]
[{"$f":"LEFT('名刺管理（Eight）'!D414,D416)","v":""},{"$f":"RIGHT('名刺管理（Eight）'!D414,E416)","v":""},{"$f":"IF('名刺管理（Eight）'!D414=\"\",\"\",IF(LEN('名刺管理（Eight）'!D414)=D416+E416,\"\",\"不一致\"))","v":""},null,null,{"$f":"IF('名刺管理（Eight）'!A414=\"\",\"\",'名刺管理（Eight）'!A414)","v":""},{"$f":"IF('名刺管理（Eight）'!B414=\"\",\"\",'名刺管理（Eight）'!B414)","v":""},{"$f":"IF('名刺管理（Eight）'!C414=\"\",\"\",'名刺管理（Eight）'!C414)","v":""},{"$f":"IF('名刺管理（Eight）'!E414=\"\",\"\",'名刺管理（Eight）'!E414)","v":""},{"$f":"IF('名刺管理（Eight）'!F414=\"\",\"\",'名刺管理（Eight）'!F414)","v":""},{"$f":"IF('名刺管理（Eight）'!G414=\"\",\"\",IF(LEFT('名刺管理（Eight）'!G414,3)=\"神奈川\",LEFT('名刺管理（Eight）'!G414,4),IF(LEFT('名刺管理（Eight）'!G414,3)=\"和歌山\",LEFT('名刺管理（Eight）'!G414,4),IF(LEFT('名刺管理（Eight）'!G414,3)=\"鹿児島\",LEFT('名刺管理（Eight）'!G414,4),LEFT('名刺管理（Eight）'!G414,3)))))","v":""},{"$f":"IF(K416=\"\",\"\",IF(LEN(K416)=3,MID('名刺管理（Eight）'!G414,4,50),MID('名刺管理（Eight）'!G414,5,50)))","v":""},{"$f":"IF('名刺管理（Eight）'!H414=\"\",\"\",'名刺管理（Eight）'!H414)","v":""},{"$f":"IF('名刺管理（Eight）'!K414=\"\",\"\",'名刺管理（Eight）'!K414)","v":""},{"$f":"IF('名刺管理（Eight）'!L414=\"\",\"\",'名刺管理（Eight）'!L414)","v":""},{"$f":"IF('名刺管理（Eight）'!M414=\"\",\"\",'名刺管理（Eight）'!M414)","v":""},{"$f":"IF('名刺管理（Eight）'!N414=\"\",\"\",TEXT('名刺管理（Eight）'!N414,\"yyyy/m/d\"))","v":""}]
[{"$f":"LEFT('名刺管理（Eight）'!D415,D417)","v":""},{"$f":"RIGHT('名刺管理（Eight）'!D415,E417)","v":""},{"$f":"IF('名刺管理（Eight）'!D415=\"\",\"\",IF(LEN('名刺管理（Eight）'!D415)=D417+E417,\"\",\"不一致\"))","v":""},null,null,{"$f":"IF('名刺管理（Eight）'!A415=\"\",\"\",'名刺管理（Eight）'!A415)","v":""},{"$f":"IF('名刺管理（Eight）'!B415=\"\",\"\",'名刺管理（Eight）'!B415)","v":""},{"$f":"IF('名刺管理（Eight）'!C415=\"\",\"\",'名刺管理（Eight）'!C415)","v":""},{"$f":"IF('名刺管理（Eight）'!E415=\"\",\"\",'名刺管理（Eight）'!E415)","v":""},{"$f":"IF('名刺管理（Eight）'!F415=\"\",\"\",'名刺管理（Eight）'!F415)","v":""},{"$f":"IF('名刺管理（Eight）'!G415=\"\",\"\",IF(LEFT('名刺管理（Eight）'!G415,3)=\"神奈川\",LEFT('名刺管理（Eight）'!G415,4),IF(LEFT('名刺管理（Eight）'!G415,3)=\"和歌山\",LEFT('名刺管理（Eight）'!G415,4),IF(LEFT('名刺管理（Eight）'!G415,3)=\"鹿児島\",LEFT('名刺管理（Eight）'!G415,4),LEFT('名刺管理（Eight）'!G415,3)))))","v":""},{"$f":"IF(K417=\"\",\"\",IF(LEN(K417)=3,MID('名刺管理（Eight）'!G415,4,50),MID('名刺管理（Eight）'!G415,5,50)))","v":""},{"$f":"IF('名刺管理（Eight）'!H415=\"\",\"\",'名刺管理（Eight）'!H415)","v":""},{"$f":"IF('名刺管理（Eight）'!K415=\"\",\"\",'名刺管理（Eight）'!K415)","v":""},{"$f":"IF('名刺管理（Eight）'!L415=\"\",\"\",'名刺管理（Eight）'!L415)","v":""},{"$f":"IF('名刺管理（Eight）'!M415=\"\",\"\",'名刺管理（Eight）'!M415)","v":""},{"$f":"IF('名刺管理（Eight）'!N415=\"\",\"\",TEXT('名刺管理（Eight）'!N415,\"yyyy/m/d\"))","v":""}]
[{"$f":"LEFT('名刺管理（Eight）'!D416,D418)","v":""},{"$f":"RIGHT('名刺管理（Eight）'!D416,E418)","v":""},{"$f":"IF('名刺管理（Eight）'!D416=\"\",\"\",IF(LEN('名刺管理（Eight）'!D416)=D418+E418,\"\",\"不一致\"))","v":""},null,null,{"$f":"IF('名刺管理（Eight）'!A416=\"\",\"\",'名刺管理（Eight）'!A416)","v":""},{"$f":"IF('名刺管理（Eight）'!B416=\"\",\"\",'名刺管理（Eight）'!B416)","v":""},{"$f":"IF('名刺管理（Eight）'!C416=\"\",\"\",'名刺管理（Eight）'!C416)","v":""},{"$f":"IF('名刺管理（Eight）'!E416=\"\",\"\",'名刺管理（Eight）'!E416)","v":""},{"$f":"IF('名刺管理（Eight）'!F416=\"\",\"\",'名刺管理（Eight）'!F416)","v":""},{"$f":"IF('名刺管理（Eight）'!G416=\"\",\"\",IF(LEFT('名刺管理（Eight）'!G416,3)=\"神奈川\",LEFT('名刺管理（Eight）'!G416,4),IF(LEFT('名刺管理（Eight）'!G416,3)=\"和歌山\",LEFT('名刺管理（Eight）'!G416,4),IF(LEFT('名刺管理（Eight）'!G416,3)=\"鹿児島\",LEFT('名刺管理（Eight）'!G416,4),LEFT('名刺管理（Eight）'!G416,3)))))","v":""},{"$f":"IF(K418=\"\",\"\",IF(LEN(K418)=3,MID('名刺管理（Eight）'!G416,4,50),MID('名刺管理（Eight）'!G416,5,50)))","v":""},{"$f":"IF('名刺管理（Eight）'!H416=\"\",\"\",'名刺管理（Eight）'!H416)","v":""},{"$f":"IF('名刺管理（Eight）'!K416=\"\",\"\",'名刺管理（Eight）'!K416)","v":""},{"$f":"IF('名刺管理（Eight）'!L416=\"\",\"\",'名刺管理（Eight）'!L416)","v":""},{"$f":"IF('名刺管理（Eight）'!M416=\"\",\"\",'名刺管理（Eight）'!M416)","v":""},{"$f":"IF('名刺管理（Eight）'!N416=\"\",\"\",TEXT('名刺管理（Eight）'!N416,\"yyyy/m/d\"))","v":""}]
[{"$f":"LEFT('名刺管理（Eight）'!D417,D419)","v":""},{"$f":"RIGHT('名刺管理（Eight）'!D417,E419)","v":""},{"$f":"IF('名刺管理（Eight）'!D417=\"\",\"\",IF(LEN('名刺管理（Eight）'!D417)=D419+E419,\"\",\"不一致\"))","v":""},null,null,{"$f":"IF('名刺管理（Eight）'!A417=\"\",\"\",'名刺管理（Eight）'!A417)","v":""},{"$f":"IF('名刺管理（Eight）'!B417=\"\",\"\",'名刺管理（Eight）'!B417)","v":""},{"$f":"IF('名刺管理（Eight）'!C417=\"\",\"\",'名刺管理（Eight）'!C417)","v":""},{"$f":"IF('名刺管理（Eight）'!E417=\"\",\"\",'名刺管理（Eight）'!E417)","v":""},{"$f":"IF('名刺管理（Eight）'!F417=\"\",\"\",'名刺管理（Eight）'!F417)","v":""},{"$f":"IF('名刺管理（Eight）'!G417=\"\",\"\",IF(LEFT('名刺管理（Eight）'!G417,3)=\"神奈川\",LEFT('名刺管理（Eight）'!G417,4),IF(LEFT('名刺管理（Eight）'!G417,3)=\"和歌山\",LEFT('名刺管理（Eight）'!G417,4),IF(LEFT('名刺管理（Eight）'!G417,3)=\"鹿児島\",LEFT('名刺管理（Eight）'!G417,4),LEFT('名刺管理（Eight）'!G417,3)))))","v":""},{"$f":"IF(K419=\"\",\"\",IF(LEN(K419)=3,MID('名刺管理（Eight）'!G417,4,50),MID('名刺管理（Eight）'!G417,5,50)))","v":""},{"$f":"IF('名刺管理（Eight）'!H417=\"\",\"\",'名刺管理（Eight）'!H417)","v":""},{"$f":"IF('名刺管理（Eight）'!K417=\"\",\"\",'名刺管理（Eight）'!K417)","v":""},{"$f":"IF('名刺管理（Eight）'!L417=\"\",\"\",'名刺管理（Eight）'!L417)","v":""},{"$f":"IF('名刺管理（Eight）'!M417=\"\",\"\",'名刺管理（Eight）'!M417)","v":""},{"$f":"IF('名刺管理（Eight）'!N417=\"\",\"\",TEXT('名刺管理（Eight）'!N417,\"yyyy/m/d\"))","v":""}]
[{"$f":"LEFT('名刺管理（Eight）'!D418,D420)","v":""},{"$f":"RIGHT('名刺管理（Eight）'!D418,E420)","v":""},{"$f":"IF('名刺管理（Eight）'!D418=\"\",\"\",IF(LEN('名刺管理（Eight）'!D418)=D420+E420,\"\",\"不一致\"))","v":""},null,null,{"$f":"IF('名刺管理（Eight）'!A418=\"\",\"\",'名刺管理（Eight）'!A418)","v":""},{"$f":"IF('名刺管理（Eight）'!B418=\"\",\"\",'名刺管理（Eight）'!B418)","v":""},{"$f":"IF('名刺管理（Eight）'!C418=\"\",\"\",'名刺管理（Eight）'!C418)","v":""},{"$f":"IF('名刺管理（Eight）'!E418=\"\",\"\",'名刺管理（Eight）'!E418)","v":""},{"$f":"IF('名刺管理（Eight）'!F418=\"\",\"\",'名刺管理（Eight）'!F418)","v":""},{"$f":"IF('名刺管理（Eight）'!G418=\"\",\"\",IF(LEFT('名刺管理（Eight）'!G418,3)=\"神奈川\",LEFT('名刺管理（Eight）'!G418,4),IF(LEFT('名刺管理（Eight）'!G418,3)=\"和歌山\",LEFT('名刺管理（Eight）'!G418,4),IF(LEFT('名刺管理（Eight）'!G418,3)=\"鹿児島\",LEFT('名刺管理（Eight）'!G418,4),LEFT('名刺管理（Eight）'!G418,3)))))","v":""},{"$f":"IF(K420=\"\",\"\",IF(LEN(K420)=3,MID('名刺管理（Eight）'!G418,4,50),MID('名刺管理（Eight）'!G418,5,50)))","v":""},{"$f":"IF('名刺管理（Eight）'!H418=\"\",\"\",'名刺管理（Eight）'!H418)","v":""},{"$f":"IF('名刺管理（Eight）'!K418=\"\",\"\",'名刺管理（Eight）'!K418)","v":""},{"$f":"IF('名刺管理（Eight）'!L418=\"\",\"\",'名刺管理（Eight）'!L418)","v":""},{"$f":"IF('名刺管理（Eight）'!M418=\"\",\"\",'名刺管理（Eight）'!M418)","v":""},{"$f":"IF('名刺管理（Eight）'!N418=\"\",\"\",TEXT('名刺管理（Eight）'!N418,\"yyyy/m/d\"))","v":""}]
[{"$f":"LEFT('名刺管理（Eight）'!D419,D421)","v":""},{"$f":"RIGHT('名刺管理（Eight）'!D419,E421)","v":""},{"$f":"IF('名刺管理（Eight）'!D419=\"\",\"\",IF(LEN('名刺管理（Eight）'!D419)=D421+E421,\"\",\"不一致\"))","v":""},null,null,{"$f":"IF('名刺管理（Eight）'!A419=\"\",\"\",'名刺管理（Eight）'!A419)","v":""},{"$f":"IF('名刺管理（Eight）'!B419=\"\",\"\",'名刺管理（Eight）'!B419)","v":""},{"$f":"IF('名刺管理（Eight）'!C419=\"\",\"\",'名刺管理（Eight）'!C419)","v":""},{"$f":"IF('名刺管理（Eight）'!E419=\"\",\"\",'名刺管理（Eight）'!E419)","v":""},{"$f":"IF('名刺管理（Eight）'!F419=\"\",\"\",'名刺管理（Eight）'!F419)","v":""},{"$f":"IF('名刺管理（Eight）'!G419=\"\",\"\",IF(LEFT('名刺管理（Eight）'!G419,3)=\"神奈川\",LEFT('名刺管理（Eight）'!G419,4),IF(LEFT('名刺管理（Eight）'!G419,3)=\"和歌山\",LEFT('名刺管理（Eight）'!G419,4),IF(LEFT('名刺管理（Eight）'!G419,3)=\"鹿児島\",LEFT('名刺管理（Eight）'!G419,4),LEFT('名刺管理（Eight）'!G419,3)))))","v":""},{"$f":"IF(K421=\"\",\"\",IF(LEN(K421)=3,MID('名刺管理（Eight）'!G419,4,50),MID('名刺管理（Eight）'!G419,5,50)))","v":""},{"$f":"IF('名刺管理（Eight）'!H419=\"\",\"\",'名刺管理（Eight）'!H419)","v":""},{"$f":"IF('名刺管理（Eight）'!K419=\"\",\"\",'名刺管理（Eight）'!K419)","v":""},{"$f":"IF('名刺管理（Eight）'!L419=\"\",\"\",'名刺管理（Eight）'!L419)","v":""},{"$f":"IF('名刺管理（Eight）'!M419=\"\",\"\",'名刺管理（Eight）'!M419)","v":""},{"$f":"IF('名刺管理（Eight）'!N419=\"\",\"\",TEXT('名刺管理（Eight）'!N419,\"yyyy/m/d\"))","v":""}]
[{"$f":"LEFT('名刺管理（Eight）'!D420,D422)","v":""},{"$f":"RIGHT('名刺管理（Eight）'!D420,E422)","v":""},{"$f":"IF('名刺管理（Eight）'!D420=\"\",\"\",IF(LEN('名刺管理（Eight）'!D420)=D422+E422,\"\",\"不一致\"))","v":""},null,null,{"$f":"IF('名刺管理（Eight）'!A420=\"\",\"\",'名刺管理（Eight）'!A420)","v":""},{"$f":"IF('名刺管理（Eight）'!B420=\"\",\"\",'名刺管理（Eight）'!B420)","v":""},{"$f":"IF('名刺管理（Eight）'!C420=\"\",\"\",'名刺管理（Eight）'!C420)","v":""},{"$f":"IF('名刺管理（Eight）'!E420=\"\",\"\",'名刺管理（Eight）'!E420)","v":""},{"$f":"IF('名刺管理（Eight）'!F420=\"\",\"\",'名刺管理（Eight）'!F420)","v":""},{"$f":"IF('名刺管理（Eight）'!G420=\"\",\"\",IF(LEFT('名刺管理（Eight）'!G420,3)=\"神奈川\",LEFT('名刺管理（Eight）'!G420,4),IF(LEFT('名刺管理（Eight）'!G420,3)=\"和歌山\",LEFT('名刺管理（Eight）'!G420,4),IF(LEFT('名刺管理（Eight）'!G420,3)=\"鹿児島\",LEFT('名刺管理（Eight）'!G420,4),LEFT('名刺管理（Eight）'!G420,3)))))","v":""},{"$f":"IF(K422=\"\",\"\",IF(LEN(K422)=3,MID('名刺管理（Eight）'!G420,4,50),MID('名刺管理（Eight）'!G420,5,50)))","v":""},{"$f":"IF('名刺管理（Eight）'!H420=\"\",\"\",'名刺管理（Eight）'!H420)","v":""},{"$f":"IF('名刺管理（Eight）'!K420=\"\",\"\",'名刺管理（Eight）'!K420)","v":""},{"$f":"IF('名刺管理（Eight）'!L420=\"\",\"\",'名刺管理（Eight）'!L420)","v":""},{"$f":"IF('名刺管理（Eight）'!M420=\"\",\"\",'名刺管理（Eight）'!M420)","v":""},{"$f":"IF('名刺管理（Eight）'!N420=\"\",\"\",TEXT('名刺管理（Eight）'!N420,\"yyyy/m/d\"))","v":""}]
[{"$f":"LEFT('名刺管理（Eight）'!D421,D423)","v":""},{"$f":"RIGHT('名刺管理（Eight）'!D421,E423)","v":""},{"$f":"IF('名刺管理（Eight）'!D421=\"\",\"\",IF(LEN('名刺管理（Eight）'!D421)=D423+E423,\"\",\"不一致\"))","v":""},null,null,{"$f":"IF('名刺管理（Eight）'!A421=\"\",\"\",'名刺管理（Eight）'!A421)","v":""},{"$f":"IF('名刺管理（Eight）'!B421=\"\",\"\",'名刺管理（Eight）'!B421)","v":""},{"$f":"IF('名刺管理（Eight）'!C421=\"\",\"\",'名刺管理（Eight）'!C421)","v":""},{"$f":"IF('名刺管理（Eight）'!E421=\"\",\"\",'名刺管理（Eight）'!E421)","v":""},{"$f":"IF('名刺管理（Eight）'!F421=\"\",\"\",'名刺管理（Eight）'!F421)","v":""},{"$f":"IF('名刺管理（Eight）'!G421=\"\",\"\",IF(LEFT('名刺管理（Eight）'!G421,3)=\"神奈川\",LEFT('名刺管理（Eight）'!G421,4),IF(LEFT('名刺管理（Eight）'!G421,3)=\"和歌山\",LEFT('名刺管理（Eight）'!G421,4),IF(LEFT('名刺管理（Eight）'!G421,3)=\"鹿児島\",LEFT('名刺管理（Eight）'!G421,4),LEFT('名刺管理（Eight）'!G421,3)))))","v":""},{"$f":"IF(K423=\"\",\"\",IF(LEN(K423)=3,MID('名刺管理（Eight）'!G421,4,50),MID('名刺管理（Eight）'!G421,5,50)))","v":""},{"$f":"IF('名刺管理（Eight）'!H421=\"\",\"\",'名刺管理（Eight）'!H421)","v":""},{"$f":"IF('名刺管理（Eight）'!K421=\"\",\"\",'名刺管理（Eight）'!K421)","v":""},{"$f":"IF('名刺管理（Eight）'!L421=\"\",\"\",'名刺管理（Eight）'!L421)","v":""},{"$f":"IF('名刺管理（Eight）'!M421=\"\",\"\",'名刺管理（Eight）'!M421)","v":""},{"$f":"IF('名刺管理（Eight）'!N421=\"\",\"\",TEXT('名刺管理（Eight）'!N421,\"yyyy/m/d\"))","v":""}]
[{"$f":"LEFT('名刺管理（Eight）'!D422,D424)","v":""},{"$f":"RIGHT('名刺管理（Eight）'!D422,E424)","v":""},{"$f":"IF('名刺管理（Eight）'!D422=\"\",\"\",IF(LEN('名刺管理（Eight）'!D422)=D424+E424,\"\",\"不一致\"))","v":""},null,null,{"$f":"IF('名刺管理（Eight）'!A422=\"\",\"\",'名刺管理（Eight）'!A422)","v":""},{"$f":"IF('名刺管理（Eight）'!B422=\"\",\"\",'名刺管理（Eight）'!B422)","v":""},{"$f":"IF('名刺管理（Eight）'!C422=\"\",\"\",'名刺管理（Eight）'!C422)","v":""},{"$f":"IF('名刺管理（Eight）'!E422=\"\",\"\",'名刺管理（Eight）'!E422)","v":""},{"$f":"IF('名刺管理（Eight）'!F422=\"\",\"\",'名刺管理（Eight）'!F422)","v":""},{"$f":"IF('名刺管理（Eight）'!G422=\"\",\"\",IF(LEFT('名刺管理（Eight）'!G422,3)=\"神奈川\",LEFT('名刺管理（Eight）'!G422,4),IF(LEFT('名刺管理（Eight）'!G422,3)=\"和歌山\",LEFT('名刺管理（Eight）'!G422,4),IF(LEFT('名刺管理（Eight）'!G422,3)=\"鹿児島\",LEFT('名刺管理（Eight）'!G422,4),LEFT('名刺管理（Eight）'!G422,3)))))","v":""},{"$f":"IF(K424=\"\",\"\",IF(LEN(K424)=3,MID('名刺管理（Eight）'!G422,4,50),MID('名刺管理（Eight）'!G422,5,50)))","v":""},{"$f":"IF('名刺管理（Eight）'!H422=\"\",\"\",'名刺管理（Eight）'!H422)","v":""},{"$f":"IF('名刺管理（Eight）'!K422=\"\",\"\",'名刺管理（Eight）'!K422)","v":""},{"$f":"IF('名刺管理（Eight）'!L422=\"\",\"\",'名刺管理（Eight）'!L422)","v":""},{"$f":"IF('名刺管理（Eight）'!M422=\"\",\"\",'名刺管理（Eight）'!M422)","v":""},{"$f":"IF('名刺管理（Eight）'!N422=\"\",\"\",TEXT('名刺管理（Eight）'!N422,\"yyyy/m/d\"))","v":""}]
[{"$f":"LEFT('名刺管理（Eight）'!D423,D425)","v":""},{"$f":"RIGHT('名刺管理（Eight）'!D423,E425)","v":""},{"$f":"IF('名刺管理（Eight）'!D423=\"\",\"\",IF(LEN('名刺管理（Eight）'!D423)=D425+E425,\"\",\"不一致\"))","v":""},null,null,{"$f":"IF('名刺管理（Eight）'!A423=\"\",\"\",'名刺管理（Eight）'!A423)","v":""},{"$f":"IF('名刺管理（Eight）'!B423=\"\",\"\",'名刺管理（Eight）'!B423)","v":""},{"$f":"IF('名刺管理（Eight）'!C423=\"\",\"\",'名刺管理（Eight）'!C423)","v":""},{"$f":"IF('名刺管理（Eight）'!E423=\"\",\"\",'名刺管理（Eight）'!E423)","v":""},{"$f":"IF('名刺管理（Eight）'!F423=\"\",\"\",'名刺管理（Eight）'!F423)","v":""},{"$f":"IF('名刺管理（Eight）'!G423=\"\",\"\",IF(LEFT('名刺管理（Eight）'!G423,3)=\"神奈川\",LEFT('名刺管理（Eight）'!G423,4),IF(LEFT('名刺管理（Eight）'!G423,3)=\"和歌山\",LEFT('名刺管理（Eight）'!G423,4),IF(LEFT('名刺管理（Eight）'!G423,3)=\"鹿児島\",LEFT('名刺管理（Eight）'!G423,4),LEFT('名刺管理（Eight）'!G423,3)))))","v":""},{"$f":"IF(K425=\"\",\"\",IF(LEN(K425)=3,MID('名刺管理（Eight）'!G423,4,50),MID('名刺管理（Eight）'!G423,5,50)))","v":""},{"$f":"IF('名刺管理（Eight）'!H423=\"\",\"\",'名刺管理（Eight）'!H423)","v":""},{"$f":"IF('名刺管理（Eight）'!K423=\"\",\"\",'名刺管理（Eight）'!K423)","v":""},{"$f":"IF('名刺管理（Eight）'!L423=\"\",\"\",'名刺管理（Eight）'!L423)","v":""},{"$f":"IF('名刺管理（Eight）'!M423=\"\",\"\",'名刺管理（Eight）'!M423)","v":""},{"$f":"IF('名刺管理（Eight）'!N423=\"\",\"\",TEXT('名刺管理（Eight）'!N423,\"yyyy/m/d\"))","v":""}]
[{"$f":"LEFT('名刺管理（Eight）'!D424,D426)","v":""},{"$f":"RIGHT('名刺管理（Eight）'!D424,E426)","v":""},{"$f":"IF('名刺管理（Eight）'!D424=\"\",\"\",IF(LEN('名刺管理（Eight）'!D424)=D426+E426,\"\",\"不一致\"))","v":""},null,null,{"$f":"IF('名刺管理（Eight）'!A424=\"\",\"\",'名刺管理（Eight）'!A424)","v":""},{"$f":"IF('名刺管理（Eight）'!B424=\"\",\"\",'名刺管理（Eight）'!B424)","v":""},{"$f":"IF('名刺管理（Eight）'!C424=\"\",\"\",'名刺管理（Eight）'!C424)","v":""},{"$f":"IF('名刺管理（Eight）'!E424=\"\",\"\",'名刺管理（Eight）'!E424)","v":""},{"$f":"IF('名刺管理（Eight）'!F424=\"\",\"\",'名刺管理（Eight）'!F424)","v":""},{"$f":"IF('名刺管理（Eight）'!G424=\"\",\"\",IF(LEFT('名刺管理（Eight）'!G424,3)=\"神奈川\",LEFT('名刺管理（Eight）'!G424,4),IF(LEFT('名刺管理（Eight）'!G424,3)=\"和歌山\",LEFT('名刺管理（Eight）'!G424,4),IF(LEFT('名刺管理（Eight）'!G424,3)=\"鹿児島\",LEFT('名刺管理（Eight）'!G424,4),LEFT('名刺管理（Eight）'!G424,3)))))","v":""},{"$f":"IF(K426=\"\",\"\",IF(LEN(K426)=3,MID('名刺管理（Eight）'!G424,4,50),MID('名刺管理（Eight）'!G424,5,50)))","v":""},{"$f":"IF('名刺管理（Eight）'!H424=\"\",\"\",'名刺管理（Eight）'!H424)","v":""},{"$f":"IF('名刺管理（Eight）'!K424=\"\",\"\",'名刺管理（Eight）'!K424)","v":""},{"$f":"IF('名刺管理（Eight）'!L424=\"\",\"\",'名刺管理（Eight）'!L424)","v":""},{"$f":"IF('名刺管理（Eight）'!M424=\"\",\"\",'名刺管理（Eight）'!M424)","v":""},{"$f":"IF('名刺管理（Eight）'!N424=\"\",\"\",TEXT('名刺管理（Eight）'!N424,\"yyyy/m/d\"))","v":""}]
[{"$f":"LEFT('名刺管理（Eight）'!D425,D427)","v":""},{"$f":"RIGHT('名刺管理（Eight）'!D425,E427)","v":""},{"$f":"IF('名刺管理（Eight）'!D425=\"\",\"\",IF(LEN('名刺管理（Eight）'!D425)=D427+E427,\"\",\"不一致\"))","v":""},null,null,{"$f":"IF('名刺管理（Eight）'!A425=\"\",\"\",'名刺管理（Eight）'!A425)","v":""},{"$f":"IF('名刺管理（Eight）'!B425=\"\",\"\",'名刺管理（Eight）'!B425)","v":""},{"$f":"IF('名刺管理（Eight）'!C425=\"\",\"\",'名刺管理（Eight）'!C425)","v":""},{"$f":"IF('名刺管理（Eight）'!E425=\"\",\"\",'名刺管理（Eight）'!E425)","v":""},{"$f":"IF('名刺管理（Eight）'!F425=\"\",\"\",'名刺管理（Eight）'!F425)","v":""},{"$f":"IF('名刺管理（Eight）'!G425=\"\",\"\",IF(LEFT('名刺管理（Eight）'!G425,3)=\"神奈川\",LEFT('名刺管理（Eight）'!G425,4),IF(LEFT('名刺管理（Eight）'!G425,3)=\"和歌山\",LEFT('名刺管理（Eight）'!G425,4),IF(LEFT('名刺管理（Eight）'!G425,3)=\"鹿児島\",LEFT('名刺管理（Eight）'!G425,4),LEFT('名刺管理（Eight）'!G425,3)))))","v":""},{"$f":"IF(K427=\"\",\"\",IF(LEN(K427)=3,MID('名刺管理（Eight）'!G425,4,50),MID('名刺管理（Eight）'!G425,5,50)))","v":""},{"$f":"IF('名刺管理（Eight）'!H425=\"\",\"\",'名刺管理（Eight）'!H425)","v":""},{"$f":"IF('名刺管理（Eight）'!K425=\"\",\"\",'名刺管理（Eight）'!K425)","v":""},{"$f":"IF('名刺管理（Eight）'!L425=\"\",\"\",'名刺管理（Eight）'!L425)","v":""},{"$f":"IF('名刺管理（Eight）'!M425=\"\",\"\",'名刺管理（Eight）'!M425)","v":""},{"$f":"IF('名刺管理（Eight）'!N425=\"\",\"\",TEXT('名刺管理（Eight）'!N425,\"yyyy/m/d\"))","v":""}]
[{"$f":"LEFT('名刺管理（Eight）'!D426,D428)","v":""},{"$f":"RIGHT('名刺管理（Eight）'!D426,E428)","v":""},{"$f":"IF('名刺管理（Eight）'!D426=\"\",\"\",IF(LEN('名刺管理（Eight）'!D426)=D428+E428,\"\",\"不一致\"))","v":""},null,null,{"$f":"IF('名刺管理（Eight）'!A426=\"\",\"\",'名刺管理（Eight）'!A426)","v":""},{"$f":"IF('名刺管理（Eight）'!B426=\"\",\"\",'名刺管理（Eight）'!B426)","v":""},{"$f":"IF('名刺管理（Eight）'!C426=\"\",\"\",'名刺管理（Eight）'!C426)","v":""},{"$f":"IF('名刺管理（Eight）'!E426=\"\",\"\",'名刺管理（Eight）'!E426)","v":""},{"$f":"IF('名刺管理（Eight）'!F426=\"\",\"\",'名刺管理（Eight）'!F426)","v":""},{"$f":"IF('名刺管理（Eight）'!G426=\"\",\"\",IF(LEFT('名刺管理（Eight）'!G426,3)=\"神奈川\",LEFT('名刺管理（Eight）'!G426,4),IF(LEFT('名刺管理（Eight）'!G426,3)=\"和歌山\",LEFT('名刺管理（Eight）'!G426,4),IF(LEFT('名刺管理（Eight）'!G426,3)=\"鹿児島\",LEFT('名刺管理（Eight）'!G426,4),LEFT('名刺管理（Eight）'!G426,3)))))","v":""},{"$f":"IF(K428=\"\",\"\",IF(LEN(K428)=3,MID('名刺管理（Eight）'!G426,4,50),MID('名刺管理（Eight）'!G426,5,50)))","v":""},{"$f":"IF('名刺管理（Eight）'!H426=\"\",\"\",'名刺管理（Eight）'!H426)","v":""},{"$f":"IF('名刺管理（Eight）'!K426=\"\",\"\",'名刺管理（Eight）'!K426)","v":""},{"$f":"IF('名刺管理（Eight）'!L426=\"\",\"\",'名刺管理（Eight）'!L426)","v":""},{"$f":"IF('名刺管理（Eight）'!M426=\"\",\"\",'名刺管理（Eight）'!M426)","v":""},{"$f":"IF('名刺管理（Eight）'!N426=\"\",\"\",TEXT('名刺管理（Eight）'!N426,\"yyyy/m/d\"))","v":""}]
[{"$f":"LEFT('名刺管理（Eight）'!D427,D429)","v":""},{"$f":"RIGHT('名刺管理（Eight）'!D427,E429)","v":""},{"$f":"IF('名刺管理（Eight）'!D427=\"\",\"\",IF(LEN('名刺管理（Eight）'!D427)=D429+E429,\"\",\"不一致\"))","v":""},null,null,{"$f":"IF('名刺管理（Eight）'!A427=\"\",\"\",'名刺管理（Eight）'!A427)","v":""},{"$f":"IF('名刺管理（Eight）'!B427=\"\",\"\",'名刺管理（Eight）'!B427)","v":""},{"$f":"IF('名刺管理（Eight）'!C427=\"\",\"\",'名刺管理（Eight）'!C427)","v":""},{"$f":"IF('名刺管理（Eight）'!E427=\"\",\"\",'名刺管理（Eight）'!E427)","v":""},{"$f":"IF('名刺管理（Eight）'!F427=\"\",\"\",'名刺管理（Eight）'!F427)","v":""},{"$f":"IF('名刺管理（Eight）'!G427=\"\",\"\",IF(LEFT('名刺管理（Eight）'!G427,3)=\"神奈川\",LEFT('名刺管理（Eight）'!G427,4),IF(LEFT('名刺管理（Eight）'!G427,3)=\"和歌山\",LEFT('名刺管理（Eight）'!G427,4),IF(LEFT('名刺管理（Eight）'!G427,3)=\"鹿児島\",LEFT('名刺管理（Eight）'!G427,4),LEFT('名刺管理（Eight）'!G427,3)))))","v":""},{"$f":"IF(K429=\"\",\"\",IF(LEN(K429)=3,MID('名刺管理（Eight）'!G427,4,50),MID('名刺管理（Eight）'!G427,5,50)))","v":""},{"$f":"IF('名刺管理（Eight）'!H427=\"\",\"\",'名刺管理（Eight）'!H427)","v":""},{"$f":"IF('名刺管理（Eight）'!K427=\"\",\"\",'名刺管理（Eight）'!K427)","v":""},{"$f":"IF('名刺管理（Eight）'!L427=\"\",\"\",'名刺管理（Eight）'!L427)","v":""},{"$f":"IF('名刺管理（Eight）'!M427=\"\",\"\",'名刺管理（Eight）'!M427)","v":""},{"$f":"IF('名刺管理（Eight）'!N427=\"\",\"\",TEXT('名刺管理（Eight）'!N427,\"yyyy/m/d\"))","v":""}]
[{"$f":"LEFT('名刺管理（Eight）'!D428,D430)","v":""},{"$f":"RIGHT('名刺管理（Eight）'!D428,E430)","v":""},{"$f":"IF('名刺管理（Eight）'!D428=\"\",\"\",IF(LEN('名刺管理（Eight）'!D428)=D430+E430,\"\",\"不一致\"))","v":""},null,null,{"$f":"IF('名刺管理（Eight）'!A428=\"\",\"\",'名刺管理（Eight）'!A428)","v":""},{"$f":"IF('名刺管理（Eight）'!B428=\"\",\"\",'名刺管理（Eight）'!B428)","v":""},{"$f":"IF('名刺管理（Eight）'!C428=\"\",\"\",'名刺管理（Eight）'!C428)","v":""},{"$f":"IF('名刺管理（Eight）'!E428=\"\",\"\",'名刺管理（Eight）'!E428)","v":""},{"$f":"IF('名刺管理（Eight）'!F428=\"\",\"\",'名刺管理（Eight）'!F428)","v":""},{"$f":"IF('名刺管理（Eight）'!G428=\"\",\"\",IF(LEFT('名刺管理（Eight）'!G428,3)=\"神奈川\",LEFT('名刺管理（Eight）'!G428,4),IF(LEFT('名刺管理（Eight）'!G428,3)=\"和歌山\",LEFT('名刺管理（Eight）'!G428,4),IF(LEFT('名刺管理（Eight）'!G428,3)=\"鹿児島\",LEFT('名刺管理（Eight）'!G428,4),LEFT('名刺管理（Eight）'!G428,3)))))","v":""},{"$f":"IF(K430=\"\",\"\",IF(LEN(K430)=3,MID('名刺管理（Eight）'!G428,4,50),MID('名刺管理（Eight）'!G428,5,50)))","v":""},{"$f":"IF('名刺管理（Eight）'!H428=\"\",\"\",'名刺管理（Eight）'!H428)","v":""},{"$f":"IF('名刺管理（Eight）'!K428=\"\",\"\",'名刺管理（Eight）'!K428)","v":""},{"$f":"IF('名刺管理（Eight）'!L428=\"\",\"\",'名刺管理（Eight）'!L428)","v":""},{"$f":"IF('名刺管理（Eight）'!M428=\"\",\"\",'名刺管理（Eight）'!M428)","v":""},{"$f":"IF('名刺管理（Eight）'!N428=\"\",\"\",TEXT('名刺管理（Eight）'!N428,\"yyyy/m/d\"))","v":""}]
[{"$f":"LEFT('名刺管理（Eight）'!D429,D431)","v":""},{"$f":"RIGHT('名刺管理（Eight）'!D429,E431)","v":""},{"$f":"IF('名刺管理（Eight）'!D429=\"\",\"\",IF(LEN('名刺管理（Eight）'!D429)=D431+E431,\"\",\"不一致\"))","v":""},null,null,{"$f":"IF('名刺管理（Eight）'!A429=\"\",\"\",'名刺管理（Eight）'!A429)","v":""},{"$f":"IF('名刺管理（Eight）'!B429=\"\",\"\",'名刺管理（Eight）'!B429)","v":""},{"$f":"IF('名刺管理（Eight）'!C429=\"\",\"\",'名刺管理（Eight）'!C429)","v":""},{"$f":"IF('名刺管理（Eight）'!E429=\"\",\"\",'名刺管理（Eight）'!E429)","v":""},{"$f":"IF('名刺管理（Eight）'!F429=\"\",\"\",'名刺管理（Eight）'!F429)","v":""},{"$f":"IF('名刺管理（Eight）'!G429=\"\",\"\",IF(LEFT('名刺管理（Eight）'!G429,3)=\"神奈川\",LEFT('名刺管理（Eight）'!G429,4),IF(LEFT('名刺管理（Eight）'!G429,3)=\"和歌山\",LEFT('名刺管理（Eight）'!G429,4),IF(LEFT('名刺管理（Eight）'!G429,3)=\"鹿児島\",LEFT('名刺管理（Eight）'!G429,4),LEFT('名刺管理（Eight）'!G429,3)))))","v":""},{"$f":"IF(K431=\"\",\"\",IF(LEN(K431)=3,MID('名刺管理（Eight）'!G429,4,50),MID('名刺管理（Eight）'!G429,5,50)))","v":""},{"$f":"IF('名刺管理（Eight）'!H429=\"\",\"\",'名刺管理（Eight）'!H429)","v":""},{"$f":"IF('名刺管理（Eight）'!K429=\"\",\"\",'名刺管理（Eight）'!K429)","v":""},{"$f":"IF('名刺管理（Eight）'!L429=\"\",\"\",'名刺管理（Eight）'!L429)","v":""},{"$f":"IF('名刺管理（Eight）'!M429=\"\",\"\",'名刺管理（Eight）'!M429)","v":""},{"$f":"IF('名刺管理（Eight）'!N429=\"\",\"\",TEXT('名刺管理（Eight）'!N429,\"yyyy/m/d\"))","v":""}]
[{"$f":"LEFT('名刺管理（Eight）'!D430,D432)","v":""},{"$f":"RIGHT('名刺管理（Eight）'!D430,E432)","v":""},{"$f":"IF('名刺管理（Eight）'!D430=\"\",\"\",IF(LEN('名刺管理（Eight）'!D430)=D432+E432,\"\",\"不一致\"))","v":""},null,null,{"$f":"IF('名刺管理（Eight）'!A430=\"\",\"\",'名刺管理（Eight）'!A430)","v":""},{"$f":"IF('名刺管理（Eight）'!B430=\"\",\"\",'名刺管理（Eight）'!B430)","v":""},{"$f":"IF('名刺管理（Eight）'!C430=\"\",\"\",'名刺管理（Eight）'!C430)","v":""},{"$f":"IF('名刺管理（Eight）'!E430=\"\",\"\",'名刺管理（Eight）'!E430)","v":""},{"$f":"IF('名刺管理（Eight）'!F430=\"\",\"\",'名刺管理（Eight）'!F430)","v":""},{"$f":"IF('名刺管理（Eight）'!G430=\"\",\"\",IF(LEFT('名刺管理（Eight）'!G430,3)=\"神奈川\",LEFT('名刺管理（Eight）'!G430,4),IF(LEFT('名刺管理（Eight）'!G430,3)=\"和歌山\",LEFT('名刺管理（Eight）'!G430,4),IF(LEFT('名刺管理（Eight）'!G430,3)=\"鹿児島\",LEFT('名刺管理（Eight）'!G430,4),LEFT('名刺管理（Eight）'!G430,3)))))","v":""},{"$f":"IF(K432=\"\",\"\",IF(LEN(K432)=3,MID('名刺管理（Eight）'!G430,4,50),MID('名刺管理（Eight）'!G430,5,50)))","v":""},{"$f":"IF('名刺管理（Eight）'!H430=\"\",\"\",'名刺管理（Eight）'!H430)","v":""},{"$f":"IF('名刺管理（Eight）'!K430=\"\",\"\",'名刺管理（Eight）'!K430)","v":""},{"$f":"IF('名刺管理（Eight）'!L430=\"\",\"\",'名刺管理（Eight）'!L430)","v":""},{"$f":"IF('名刺管理（Eight）'!M430=\"\",\"\",'名刺管理（Eight）'!M430)","v":""},{"$f":"IF('名刺管理（Eight）'!N430=\"\",\"\",TEXT('名刺管理（Eight）'!N430,\"yyyy/m/d\"))","v":""}]
[{"$f":"LEFT('名刺管理（Eight）'!D431,D433)","v":""},{"$f":"RIGHT('名刺管理（Eight）'!D431,E433)","v":""},{"$f":"IF('名刺管理（Eight）'!D431=\"\",\"\",IF(LEN('名刺管理（Eight）'!D431)=D433+E433,\"\",\"不一致\"))","v":""},null,null,{"$f":"IF('名刺管理（Eight）'!A431=\"\",\"\",'名刺管理（Eight）'!A431)","v":""},{"$f":"IF('名刺管理（Eight）'!B431=\"\",\"\",'名刺管理（Eight）'!B431)","v":""},{"$f":"IF('名刺管理（Eight）'!C431=\"\",\"\",'名刺管理（Eight）'!C431)","v":""},{"$f":"IF('名刺管理（Eight）'!E431=\"\",\"\",'名刺管理（Eight）'!E431)","v":""},{"$f":"IF('名刺管理（Eight）'!F431=\"\",\"\",'名刺管理（Eight）'!F431)","v":""},{"$f":"IF('名刺管理（Eight）'!G431=\"\",\"\",IF(LEFT('名刺管理（Eight）'!G431,3)=\"神奈川\",LEFT('名刺管理（Eight）'!G431,4),IF(LEFT('名刺管理（Eight）'!G431,3)=\"和歌山\",LEFT('名刺管理（Eight）'!G431,4),IF(LEFT('名刺管理（Eight）'!G431,3)=\"鹿児島\",LEFT('名刺管理（Eight）'!G431,4),LEFT('名刺管理（Eight）'!G431,3)))))","v":""},{"$f":"IF(K433=\"\",\"\",IF(LEN(K433)=3,MID('名刺管理（Eight）'!G431,4,50),MID('名刺管理（Eight）'!G431,5,50)))","v":""},{"$f":"IF('名刺管理（Eight）'!H431=\"\",\"\",'名刺管理（Eight）'!H431)","v":""},{"$f":"IF('名刺管理（Eight）'!K431=\"\",\"\",'名刺管理（Eight）'!K431)","v":""},{"$f":"IF('名刺管理（Eight）'!L431=\"\",\"\",'名刺管理（Eight）'!L431)","v":""},{"$f":"IF('名刺管理（Eight）'!M431=\"\",\"\",'名刺管理（Eight）'!M431)","v":""},{"$f":"IF('名刺管理（Eight）'!N431=\"\",\"\",TEXT('名刺管理（Eight）'!N431,\"yyyy/m/d\"))","v":""}]
[{"$f":"LEFT('名刺管理（Eight）'!D432,D434)","v":""},{"$f":"RIGHT('名刺管理（Eight）'!D432,E434)","v":""},{"$f":"IF('名刺管理（Eight）'!D432=\"\",\"\",IF(LEN('名刺管理（Eight）'!D432)=D434+E434,\"\",\"不一致\"))","v":""},null,null,{"$f":"IF('名刺管理（Eight）'!A432=\"\",\"\",'名刺管理（Eight）'!A432)","v":""},{"$f":"IF('名刺管理（Eight）'!B432=\"\",\"\",'名刺管理（Eight）'!B432)","v":""},{"$f":"IF('名刺管理（Eight）'!C432=\"\",\"\",'名刺管理（Eight）'!C432)","v":""},{"$f":"IF('名刺管理（Eight）'!E432=\"\",\"\",'名刺管理（Eight）'!E432)","v":""},{"$f":"IF('名刺管理（Eight）'!F432=\"\",\"\",'名刺管理（Eight）'!F432)","v":""},{"$f":"IF('名刺管理（Eight）'!G432=\"\",\"\",IF(LEFT('名刺管理（Eight）'!G432,3)=\"神奈川\",LEFT('名刺管理（Eight）'!G432,4),IF(LEFT('名刺管理（Eight）'!G432,3)=\"和歌山\",LEFT('名刺管理（Eight）'!G432,4),IF(LEFT('名刺管理（Eight）'!G432,3)=\"鹿児島\",LEFT('名刺管理（Eight）'!G432,4),LEFT('名刺管理（Eight）'!G432,3)))))","v":""},{"$f":"IF(K434=\"\",\"\",IF(LEN(K434)=3,MID('名刺管理（Eight）'!G432,4,50),MID('名刺管理（Eight）'!G432,5,50)))","v":""},{"$f":"IF('名刺管理（Eight）'!H432=\"\",\"\",'名刺管理（Eight）'!H432)","v":""},{"$f":"IF('名刺管理（Eight）'!K432=\"\",\"\",'名刺管理（Eight）'!K432)","v":""},{"$f":"IF('名刺管理（Eight）'!L432=\"\",\"\",'名刺管理（Eight）'!L432)","v":""},{"$f":"IF('名刺管理（Eight）'!M432=\"\",\"\",'名刺管理（Eight）'!M432)","v":""},{"$f":"IF('名刺管理（Eight）'!N432=\"\",\"\",TEXT('名刺管理（Eight）'!N432,\"yyyy/m/d\"))","v":""}]
[{"$f":"LEFT('名刺管理（Eight）'!D433,D435)","v":""},{"$f":"RIGHT('名刺管理（Eight）'!D433,E435)","v":""},{"$f":"IF('名刺管理（Eight）'!D433=\"\",\"\",IF(LEN('名刺管理（Eight）'!D433)=D435+E435,\"\",\"不一致\"))","v":""},null,null,{"$f":"IF('名刺管理（Eight）'!A433=\"\",\"\",'名刺管理（Eight）'!A433)","v":""},{"$f":"IF('名刺管理（Eight）'!B433=\"\",\"\",'名刺管理（Eight）'!B433)","v":""},{"$f":"IF('名刺管理（Eight）'!C433=\"\",\"\",'名刺管理（Eight）'!C433)","v":""},{"$f":"IF('名刺管理（Eight）'!E433=\"\",\"\",'名刺管理（Eight）'!E433)","v":""},{"$f":"IF('名刺管理（Eight）'!F433=\"\",\"\",'名刺管理（Eight）'!F433)","v":""},{"$f":"IF('名刺管理（Eight）'!G433=\"\",\"\",IF(LEFT('名刺管理（Eight）'!G433,3)=\"神奈川\",LEFT('名刺管理（Eight）'!G433,4),IF(LEFT('名刺管理（Eight）'!G433,3)=\"和歌山\",LEFT('名刺管理（Eight）'!G433,4),IF(LEFT('名刺管理（Eight）'!G433,3)=\"鹿児島\",LEFT('名刺管理（Eight）'!G433,4),LEFT('名刺管理（Eight）'!G433,3)))))","v":""},{"$f":"IF(K435=\"\",\"\",IF(LEN(K435)=3,MID('名刺管理（Eight）'!G433,4,50),MID('名刺管理（Eight）'!G433,5,50)))","v":""},{"$f":"IF('名刺管理（Eight）'!H433=\"\",\"\",'名刺管理（Eight）'!H433)","v":""},{"$f":"IF('名刺管理（Eight）'!K433=\"\",\"\",'名刺管理（Eight）'!K433)","v":""},{"$f":"IF('名刺管理（Eight）'!L433=\"\",\"\",'名刺管理（Eight）'!L433)","v":""},{"$f":"IF('名刺管理（Eight）'!M433=\"\",\"\",'名刺管理（Eight）'!M433)","v":""},{"$f":"IF('名刺管理（Eight）'!N433=\"\",\"\",TEXT('名刺管理（Eight）'!N433,\"yyyy/m/d\"))","v":""}]
[{"$f":"LEFT('名刺管理（Eight）'!D434,D436)","v":""},{"$f":"RIGHT('名刺管理（Eight）'!D434,E436)","v":""},{"$f":"IF('名刺管理（Eight）'!D434=\"\",\"\",IF(LEN('名刺管理（Eight）'!D434)=D436+E436,\"\",\"不一致\"))","v":""},null,null,{"$f":"IF('名刺管理（Eight）'!A434=\"\",\"\",'名刺管理（Eight）'!A434)","v":""},{"$f":"IF('名刺管理（Eight）'!B434=\"\",\"\",'名刺管理（Eight）'!B434)","v":""},{"$f":"IF('名刺管理（Eight）'!C434=\"\",\"\",'名刺管理（Eight）'!C434)","v":""},{"$f":"IF('名刺管理（Eight）'!E434=\"\",\"\",'名刺管理（Eight）'!E434)","v":""},{"$f":"IF('名刺管理（Eight）'!F434=\"\",\"\",'名刺管理（Eight）'!F434)","v":""},{"$f":"IF('名刺管理（Eight）'!G434=\"\",\"\",IF(LEFT('名刺管理（Eight）'!G434,3)=\"神奈川\",LEFT('名刺管理（Eight）'!G434,4),IF(LEFT('名刺管理（Eight）'!G434,3)=\"和歌山\",LEFT('名刺管理（Eight）'!G434,4),IF(LEFT('名刺管理（Eight）'!G434,3)=\"鹿児島\",LEFT('名刺管理（Eight）'!G434,4),LEFT('名刺管理（Eight）'!G434,3)))))","v":""},{"$f":"IF(K436=\"\",\"\",IF(LEN(K436)=3,MID('名刺管理（Eight）'!G434,4,50),MID('名刺管理（Eight）'!G434,5,50)))","v":""},{"$f":"IF('名刺管理（Eight）'!H434=\"\",\"\",'名刺管理（Eight）'!H434)","v":""},{"$f":"IF('名刺管理（Eight）'!K434=\"\",\"\",'名刺管理（Eight）'!K434)","v":""},{"$f":"IF('名刺管理（Eight）'!L434=\"\",\"\",'名刺管理（Eight）'!L434)","v":""},{"$f":"IF('名刺管理（Eight）'!M434=\"\",\"\",'名刺管理（Eight）'!M434)","v":""},{"$f":"IF('名刺管理（Eight）'!N434=\"\",\"\",TEXT('名刺管理（Eight）'!N434,\"yyyy/m/d\"))","v":""}]
[{"$f":"LEFT('名刺管理（Eight）'!D435,D437)","v":""},{"$f":"RIGHT('名刺管理（Eight）'!D435,E437)","v":""},{"$f":"IF('名刺管理（Eight）'!D435=\"\",\"\",IF(LEN('名刺管理（Eight）'!D435)=D437+E437,\"\",\"不一致\"))","v":""},null,null,{"$f":"IF('名刺管理（Eight）'!A435=\"\",\"\",'名刺管理（Eight）'!A435)","v":""},{"$f":"IF('名刺管理（Eight）'!B435=\"\",\"\",'名刺管理（Eight）'!B435)","v":""},{"$f":"IF('名刺管理（Eight）'!C435=\"\",\"\",'名刺管理（Eight）'!C435)","v":""},{"$f":"IF('名刺管理（Eight）'!E435=\"\",\"\",'名刺管理（Eight）'!E435)","v":""},{"$f":"IF('名刺管理（Eight）'!F435=\"\",\"\",'名刺管理（Eight）'!F435)","v":""},{"$f":"IF('名刺管理（Eight）'!G435=\"\",\"\",IF(LEFT('名刺管理（Eight）'!G435,3)=\"神奈川\",LEFT('名刺管理（Eight）'!G435,4),IF(LEFT('名刺管理（Eight）'!G435,3)=\"和歌山\",LEFT('名刺管理（Eight）'!G435,4),IF(LEFT('名刺管理（Eight）'!G435,3)=\"鹿児島\",LEFT('名刺管理（Eight）'!G435,4),LEFT('名刺管理（Eight）'!G435,3)))))","v":""},{"$f":"IF(K437=\"\",\"\",IF(LEN(K437)=3,MID('名刺管理（Eight）'!G435,4,50),MID('名刺管理（Eight）'!G435,5,50)))","v":""},{"$f":"IF('名刺管理（Eight）'!H435=\"\",\"\",'名刺管理（Eight）'!H435)","v":""},{"$f":"IF('名刺管理（Eight）'!K435=\"\",\"\",'名刺管理（Eight）'!K435)","v":""},{"$f":"IF('名刺管理（Eight）'!L435=\"\",\"\",'名刺管理（Eight）'!L435)","v":""},{"$f":"IF('名刺管理（Eight）'!M435=\"\",\"\",'名刺管理（Eight）'!M435)","v":""},{"$f":"IF('名刺管理（Eight）'!N435=\"\",\"\",TEXT('名刺管理（Eight）'!N435,\"yyyy/m/d\"))","v":""}]
[{"$f":"LEFT('名刺管理（Eight）'!D436,D438)","v":""},{"$f":"RIGHT('名刺管理（Eight）'!D436,E438)","v":""},{"$f":"IF('名刺管理（Eight）'!D436=\"\",\"\",IF(LEN('名刺管理（Eight）'!D436)=D438+E438,\"\",\"不一致\"))","v":""},null,null,{"$f":"IF('名刺管理（Eight）'!A436=\"\",\"\",'名刺管理（Eight）'!A436)","v":""},{"$f":"IF('名刺管理（Eight）'!B436=\"\",\"\",'名刺管理（Eight）'!B436)","v":""},{"$f":"IF('名刺管理（Eight）'!C436=\"\",\"\",'名刺管理（Eight）'!C436)","v":""},{"$f":"IF('名刺管理（Eight）'!E436=\"\",\"\",'名刺管理（Eight）'!E436)","v":""},{"$f":"IF('名刺管理（Eight）'!F436=\"\",\"\",'名刺管理（Eight）'!F436)","v":""},{"$f":"IF('名刺管理（Eight）'!G436=\"\",\"\",IF(LEFT('名刺管理（Eight）'!G436,3)=\"神奈川\",LEFT('名刺管理（Eight）'!G436,4),IF(LEFT('名刺管理（Eight）'!G436,3)=\"和歌山\",LEFT('名刺管理（Eight）'!G436,4),IF(LEFT('名刺管理（Eight）'!G436,3)=\"鹿児島\",LEFT('名刺管理（Eight）'!G436,4),LEFT('名刺管理（Eight）'!G436,3)))))","v":""},{"$f":"IF(K438=\"\",\"\",IF(LEN(K438)=3,MID('名刺管理（Eight）'!G436,4,50),MID('名刺管理（Eight）'!G436,5,50)))","v":""},{"$f":"IF('名刺管理（Eight）'!H436=\"\",\"\",'名刺管理（Eight）'!H436)","v":""},{"$f":"IF('名刺管理（Eight）'!K436=\"\",\"\",'名刺管理（Eight）'!K436)","v":""},{"$f":"IF('名刺管理（Eight）'!L436=\"\",\"\",'名刺管理（Eight）'!L436)","v":""},{"$f":"IF('名刺管理（Eight）'!M436=\"\",\"\",'名刺管理（Eight）'!M436)","v":""},{"$f":"IF('名刺管理（Eight）'!N436=\"\",\"\",TEXT('名刺管理（Eight）'!N436,\"yyyy/m/d\"))","v":""}]
[{"$f":"LEFT('名刺管理（Eight）'!D437,D439)","v":""},{"$f":"RIGHT('名刺管理（Eight）'!D437,E439)","v":""},{"$f":"IF('名刺管理（Eight）'!D437=\"\",\"\",IF(LEN('名刺管理（Eight）'!D437)=D439+E439,\"\",\"不一致\"))","v":""},null,null,{"$f":"IF('名刺管理（Eight）'!A437=\"\",\"\",'名刺管理（Eight）'!A437)","v":""},{"$f":"IF('名刺管理（Eight）'!B437=\"\",\"\",'名刺管理（Eight）'!B437)","v":""},{"$f":"IF('名刺管理（Eight）'!C437=\"\",\"\",'名刺管理（Eight）'!C437)","v":""},{"$f":"IF('名刺管理（Eight）'!E437=\"\",\"\",'名刺管理（Eight）'!E437)","v":""},{"$f":"IF('名刺管理（Eight）'!F437=\"\",\"\",'名刺管理（Eight）'!F437)","v":""},{"$f":"IF('名刺管理（Eight）'!G437=\"\",\"\",IF(LEFT('名刺管理（Eight）'!G437,3)=\"神奈川\",LEFT('名刺管理（Eight）'!G437,4),IF(LEFT('名刺管理（Eight）'!G437,3)=\"和歌山\",LEFT('名刺管理（Eight）'!G437,4),IF(LEFT('名刺管理（Eight）'!G437,3)=\"鹿児島\",LEFT('名刺管理（Eight）'!G437,4),LEFT('名刺管理（Eight）'!G437,3)))))","v":""},{"$f":"IF(K439=\"\",\"\",IF(LEN(K439)=3,MID('名刺管理（Eight）'!G437,4,50),MID('名刺管理（Eight）'!G437,5,50)))","v":""},{"$f":"IF('名刺管理（Eight）'!H437=\"\",\"\",'名刺管理（Eight）'!H437)","v":""},{"$f":"IF('名刺管理（Eight）'!K437=\"\",\"\",'名刺管理（Eight）'!K437)","v":""},{"$f":"IF('名刺管理（Eight）'!L437=\"\",\"\",'名刺管理（Eight）'!L437)","v":""},{"$f":"IF('名刺管理（Eight）'!M437=\"\",\"\",'名刺管理（Eight）'!M437)","v":""},{"$f":"IF('名刺管理（Eight）'!N437=\"\",\"\",TEXT('名刺管理（Eight）'!N437,\"yyyy/m/d\"))","v":""}]
[{"$f":"LEFT('名刺管理（Eight）'!D438,D440)","v":""},{"$f":"RIGHT('名刺管理（Eight）'!D438,E440)","v":""},{"$f":"IF('名刺管理（Eight）'!D438=\"\",\"\",IF(LEN('名刺管理（Eight）'!D438)=D440+E440,\"\",\"不一致\"))","v":""},null,null,{"$f":"IF('名刺管理（Eight）'!A438=\"\",\"\",'名刺管理（Eight）'!A438)","v":""},{"$f":"IF('名刺管理（Eight）'!B438=\"\",\"\",'名刺管理（Eight）'!B438)","v":""},{"$f":"IF('名刺管理（Eight）'!C438=\"\",\"\",'名刺管理（Eight）'!C438)","v":""},{"$f":"IF('名刺管理（Eight）'!E438=\"\",\"\",'名刺管理（Eight）'!E438)","v":""},{"$f":"IF('名刺管理（Eight）'!F438=\"\",\"\",'名刺管理（Eight）'!F438)","v":""},{"$f":"IF('名刺管理（Eight）'!G438=\"\",\"\",IF(LEFT('名刺管理（Eight）'!G438,3)=\"神奈川\",LEFT('名刺管理（Eight）'!G438,4),IF(LEFT('名刺管理（Eight）'!G438,3)=\"和歌山\",LEFT('名刺管理（Eight）'!G438,4),IF(LEFT('名刺管理（Eight）'!G438,3)=\"鹿児島\",LEFT('名刺管理（Eight）'!G438,4),LEFT('名刺管理（Eight）'!G438,3)))))","v":""},{"$f":"IF(K440=\"\",\"\",IF(LEN(K440)=3,MID('名刺管理（Eight）'!G438,4,50),MID('名刺管理（Eight）'!G438,5,50)))","v":""},{"$f":"IF('名刺管理（Eight）'!H438=\"\",\"\",'名刺管理（Eight）'!H438)","v":""},{"$f":"IF('名刺管理（Eight）'!K438=\"\",\"\",'名刺管理（Eight）'!K438)","v":""},{"$f":"IF('名刺管理（Eight）'!L438=\"\",\"\",'名刺管理（Eight）'!L438)","v":""},{"$f":"IF('名刺管理（Eight）'!M438=\"\",\"\",'名刺管理（Eight）'!M438)","v":""},{"$f":"IF('名刺管理（Eight）'!N438=\"\",\"\",TEXT('名刺管理（Eight）'!N438,\"yyyy/m/d\"))","v":""}]
[{"$f":"LEFT('名刺管理（Eight）'!D439,D441)","v":""},{"$f":"RIGHT('名刺管理（Eight）'!D439,E441)","v":""},{"$f":"IF('名刺管理（Eight）'!D439=\"\",\"\",IF(LEN('名刺管理（Eight）'!D439)=D441+E441,\"\",\"不一致\"))","v":""},null,null,{"$f":"IF('名刺管理（Eight）'!A439=\"\",\"\",'名刺管理（Eight）'!A439)","v":""},{"$f":"IF('名刺管理（Eight）'!B439=\"\",\"\",'名刺管理（Eight）'!B439)","v":""},{"$f":"IF('名刺管理（Eight）'!C439=\"\",\"\",'名刺管理（Eight）'!C439)","v":""},{"$f":"IF('名刺管理（Eight）'!E439=\"\",\"\",'名刺管理（Eight）'!E439)","v":""},{"$f":"IF('名刺管理（Eight）'!F439=\"\",\"\",'名刺管理（Eight）'!F439)","v":""},{"$f":"IF('名刺管理（Eight）'!G439=\"\",\"\",IF(LEFT('名刺管理（Eight）'!G439,3)=\"神奈川\",LEFT('名刺管理（Eight）'!G439,4),IF(LEFT('名刺管理（Eight）'!G439,3)=\"和歌山\",LEFT('名刺管理（Eight）'!G439,4),IF(LEFT('名刺管理（Eight）'!G439,3)=\"鹿児島\",LEFT('名刺管理（Eight）'!G439,4),LEFT('名刺管理（Eight）'!G439,3)))))","v":""},{"$f":"IF(K441=\"\",\"\",IF(LEN(K441)=3,MID('名刺管理（Eight）'!G439,4,50),MID('名刺管理（Eight）'!G439,5,50)))","v":""},{"$f":"IF('名刺管理（Eight）'!H439=\"\",\"\",'名刺管理（Eight）'!H439)","v":""},{"$f":"IF('名刺管理（Eight）'!K439=\"\",\"\",'名刺管理（Eight）'!K439)","v":""},{"$f":"IF('名刺管理（Eight）'!L439=\"\",\"\",'名刺管理（Eight）'!L439)","v":""},{"$f":"IF('名刺管理（Eight）'!M439=\"\",\"\",'名刺管理（Eight）'!M439)","v":""},{"$f":"IF('名刺管理（Eight）'!N439=\"\",\"\",TEXT('名刺管理（Eight）'!N439,\"yyyy/m/d\"))","v":""}]
[{"$f":"LEFT('名刺管理（Eight）'!D440,D442)","v":""},{"$f":"RIGHT('名刺管理（Eight）'!D440,E442)","v":""},{"$f":"IF('名刺管理（Eight）'!D440=\"\",\"\",IF(LEN('名刺管理（Eight）'!D440)=D442+E442,\"\",\"不一致\"))","v":""},null,null,{"$f":"IF('名刺管理（Eight）'!A440=\"\",\"\",'名刺管理（Eight）'!A440)","v":""},{"$f":"IF('名刺管理（Eight）'!B440=\"\",\"\",'名刺管理（Eight）'!B440)","v":""},{"$f":"IF('名刺管理（Eight）'!C440=\"\",\"\",'名刺管理（Eight）'!C440)","v":""},{"$f":"IF('名刺管理（Eight）'!E440=\"\",\"\",'名刺管理（Eight）'!E440)","v":""},{"$f":"IF('名刺管理（Eight）'!F440=\"\",\"\",'名刺管理（Eight）'!F440)","v":""},{"$f":"IF('名刺管理（Eight）'!G440=\"\",\"\",IF(LEFT('名刺管理（Eight）'!G440,3)=\"神奈川\",LEFT('名刺管理（Eight）'!G440,4),IF(LEFT('名刺管理（Eight）'!G440,3)=\"和歌山\",LEFT('名刺管理（Eight）'!G440,4),IF(LEFT('名刺管理（Eight）'!G440,3)=\"鹿児島\",LEFT('名刺管理（Eight）'!G440,4),LEFT('名刺管理（Eight）'!G440,3)))))","v":""},{"$f":"IF(K442=\"\",\"\",IF(LEN(K442)=3,MID('名刺管理（Eight）'!G440,4,50),MID('名刺管理（Eight）'!G440,5,50)))","v":""},{"$f":"IF('名刺管理（Eight）'!H440=\"\",\"\",'名刺管理（Eight）'!H440)","v":""},{"$f":"IF('名刺管理（Eight）'!K440=\"\",\"\",'名刺管理（Eight）'!K440)","v":""},{"$f":"IF('名刺管理（Eight）'!L440=\"\",\"\",'名刺管理（Eight）'!L440)","v":""},{"$f":"IF('名刺管理（Eight）'!M440=\"\",\"\",'名刺管理（Eight）'!M440)","v":""},{"$f":"IF('名刺管理（Eight）'!N440=\"\",\"\",TEXT('名刺管理（Eight）'!N440,\"yyyy/m/d\"))","v":""}]
[{"$f":"LEFT('名刺管理（Eight）'!D441,D443)","v":""},{"$f":"RIGHT('名刺管理（Eight）'!D441,E443)","v":""},{"$f":"IF('名刺管理（Eight）'!D441=\"\",\"\",IF(LEN('名刺管理（Eight）'!D441)=D443+E443,\"\",\"不一致\"))","v":""},null,null,{"$f":"IF('名刺管理（Eight）'!A441=\"\",\"\",'名刺管理（Eight）'!A441)","v":""},{"$f":"IF('名刺管理（Eight）'!B441=\"\",\"\",'名刺管理（Eight）'!B441)","v":""},{"$f":"IF('名刺管理（Eight）'!C441=\"\",\"\",'名刺管理（Eight）'!C441)","v":""},{"$f":"IF('名刺管理（Eight）'!E441=\"\",\"\",'名刺管理（Eight）'!E441)","v":""},{"$f":"IF('名刺管理（Eight）'!F441=\"\",\"\",'名刺管理（Eight）'!F441)","v":""},{"$f":"IF('名刺管理（Eight）'!G441=\"\",\"\",IF(LEFT('名刺管理（Eight）'!G441,3)=\"神奈川\",LEFT('名刺管理（Eight）'!G441,4),IF(LEFT('名刺管理（Eight）'!G441,3)=\"和歌山\",LEFT('名刺管理（Eight）'!G441,4),IF(LEFT('名刺管理（Eight）'!G441,3)=\"鹿児島\",LEFT('名刺管理（Eight）'!G441,4),LEFT('名刺管理（Eight）'!G441,3)))))","v":""},{"$f":"IF(K443=\"\",\"\",IF(LEN(K443)=3,MID('名刺管理（Eight）'!G441,4,50),MID('名刺管理（Eight）'!G441,5,50)))","v":""},{"$f":"IF('名刺管理（Eight）'!H441=\"\",\"\",'名刺管理（Eight）'!H441)","v":""},{"$f":"IF('名刺管理（Eight）'!K441=\"\",\"\",'名刺管理（Eight）'!K441)","v":""},{"$f":"IF('名刺管理（Eight）'!L441=\"\",\"\",'名刺管理（Eight）'!L441)","v":""},{"$f":"IF('名刺管理（Eight）'!M441=\"\",\"\",'名刺管理（Eight）'!M441)","v":""},{"$f":"IF('名刺管理（Eight）'!N441=\"\",\"\",TEXT('名刺管理（Eight）'!N441,\"yyyy/m/d\"))","v":""}]
[{"$f":"LEFT('名刺管理（Eight）'!D442,D444)","v":""},{"$f":"RIGHT('名刺管理（Eight）'!D442,E444)","v":""},{"$f":"IF('名刺管理（Eight）'!D442=\"\",\"\",IF(LEN('名刺管理（Eight）'!D442)=D444+E444,\"\",\"不一致\"))","v":""},null,null,{"$f":"IF('名刺管理（Eight）'!A442=\"\",\"\",'名刺管理（Eight）'!A442)","v":""},{"$f":"IF('名刺管理（Eight）'!B442=\"\",\"\",'名刺管理（Eight）'!B442)","v":""},{"$f":"IF('名刺管理（Eight）'!C442=\"\",\"\",'名刺管理（Eight）'!C442)","v":""},{"$f":"IF('名刺管理（Eight）'!E442=\"\",\"\",'名刺管理（Eight）'!E442)","v":""},{"$f":"IF('名刺管理（Eight）'!F442=\"\",\"\",'名刺管理（Eight）'!F442)","v":""},{"$f":"IF('名刺管理（Eight）'!G442=\"\",\"\",IF(LEFT('名刺管理（Eight）'!G442,3)=\"神奈川\",LEFT('名刺管理（Eight）'!G442,4),IF(LEFT('名刺管理（Eight）'!G442,3)=\"和歌山\",LEFT('名刺管理（Eight）'!G442,4),IF(LEFT('名刺管理（Eight）'!G442,3)=\"鹿児島\",LEFT('名刺管理（Eight）'!G442,4),LEFT('名刺管理（Eight）'!G442,3)))))","v":""},{"$f":"IF(K444=\"\",\"\",IF(LEN(K444)=3,MID('名刺管理（Eight）'!G442,4,50),MID('名刺管理（Eight）'!G442,5,50)))","v":""},{"$f":"IF('名刺管理（Eight）'!H442=\"\",\"\",'名刺管理（Eight）'!H442)","v":""},{"$f":"IF('名刺管理（Eight）'!K442=\"\",\"\",'名刺管理（Eight）'!K442)","v":""},{"$f":"IF('名刺管理（Eight）'!L442=\"\",\"\",'名刺管理（Eight）'!L442)","v":""},{"$f":"IF('名刺管理（Eight）'!M442=\"\",\"\",'名刺管理（Eight）'!M442)","v":""},{"$f":"IF('名刺管理（Eight）'!N442=\"\",\"\",TEXT('名刺管理（Eight）'!N442,\"yyyy/m/d\"))","v":""}]
[{"$f":"LEFT('名刺管理（Eight）'!D443,D445)","v":""},{"$f":"RIGHT('名刺管理（Eight）'!D443,E445)","v":""},{"$f":"IF('名刺管理（Eight）'!D443=\"\",\"\",IF(LEN('名刺管理（Eight）'!D443)=D445+E445,\"\",\"不一致\"))","v":""},null,null,{"$f":"IF('名刺管理（Eight）'!A443=\"\",\"\",'名刺管理（Eight）'!A443)","v":""},{"$f":"IF('名刺管理（Eight）'!B443=\"\",\"\",'名刺管理（Eight）'!B443)","v":""},{"$f":"IF('名刺管理（Eight）'!C443=\"\",\"\",'名刺管理（Eight）'!C443)","v":""},{"$f":"IF('名刺管理（Eight）'!E443=\"\",\"\",'名刺管理（Eight）'!E443)","v":""},{"$f":"IF('名刺管理（Eight）'!F443=\"\",\"\",'名刺管理（Eight）'!F443)","v":""},{"$f":"IF('名刺管理（Eight）'!G443=\"\",\"\",IF(LEFT('名刺管理（Eight）'!G443,3)=\"神奈川\",LEFT('名刺管理（Eight）'!G443,4),IF(LEFT('名刺管理（Eight）'!G443,3)=\"和歌山\",LEFT('名刺管理（Eight）'!G443,4),IF(LEFT('名刺管理（Eight）'!G443,3)=\"鹿児島\",LEFT('名刺管理（Eight）'!G443,4),LEFT('名刺管理（Eight）'!G443,3)))))","v":""},{"$f":"IF(K445=\"\",\"\",IF(LEN(K445)=3,MID('名刺管理（Eight）'!G443,4,50),MID('名刺管理（Eight）'!G443,5,50)))","v":""},{"$f":"IF('名刺管理（Eight）'!H443=\"\",\"\",'名刺管理（Eight）'!H443)","v":""},{"$f":"IF('名刺管理（Eight）'!K443=\"\",\"\",'名刺管理（Eight）'!K443)","v":""},{"$f":"IF('名刺管理（Eight）'!L443=\"\",\"\",'名刺管理（Eight）'!L443)","v":""},{"$f":"IF('名刺管理（Eight）'!M443=\"\",\"\",'名刺管理（Eight）'!M443)","v":""},{"$f":"IF('名刺管理（Eight）'!N443=\"\",\"\",TEXT('名刺管理（Eight）'!N443,\"yyyy/m/d\"))","v":""}]
[{"$f":"LEFT('名刺管理（Eight）'!D444,D446)","v":""},{"$f":"RIGHT('名刺管理（Eight）'!D444,E446)","v":""},{"$f":"IF('名刺管理（Eight）'!D444=\"\",\"\",IF(LEN('名刺管理（Eight）'!D444)=D446+E446,\"\",\"不一致\"))","v":""},null,null,{"$f":"IF('名刺管理（Eight）'!A444=\"\",\"\",'名刺管理（Eight）'!A444)","v":""},{"$f":"IF('名刺管理（Eight）'!B444=\"\",\"\",'名刺管理（Eight）'!B444)","v":""},{"$f":"IF('名刺管理（Eight）'!C444=\"\",\"\",'名刺管理（Eight）'!C444)","v":""},{"$f":"IF('名刺管理（Eight）'!E444=\"\",\"\",'名刺管理（Eight）'!E444)","v":""},{"$f":"IF('名刺管理（Eight）'!F444=\"\",\"\",'名刺管理（Eight）'!F444)","v":""},{"$f":"IF('名刺管理（Eight）'!G444=\"\",\"\",IF(LEFT('名刺管理（Eight）'!G444,3)=\"神奈川\",LEFT('名刺管理（Eight）'!G444,4),IF(LEFT('名刺管理（Eight）'!G444,3)=\"和歌山\",LEFT('名刺管理（Eight）'!G444,4),IF(LEFT('名刺管理（Eight）'!G444,3)=\"鹿児島\",LEFT('名刺管理（Eight）'!G444,4),LEFT('名刺管理（Eight）'!G444,3)))))","v":""},{"$f":"IF(K446=\"\",\"\",IF(LEN(K446)=3,MID('名刺管理（Eight）'!G444,4,50),MID('名刺管理（Eight）'!G444,5,50)))","v":""},{"$f":"IF('名刺管理（Eight）'!H444=\"\",\"\",'名刺管理（Eight）'!H444)","v":""},{"$f":"IF('名刺管理（Eight）'!K444=\"\",\"\",'名刺管理（Eight）'!K444)","v":""},{"$f":"IF('名刺管理（Eight）'!L444=\"\",\"\",'名刺管理（Eight）'!L444)","v":""},{"$f":"IF('名刺管理（Eight）'!M444=\"\",\"\",'名刺管理（Eight）'!M444)","v":""},{"$f":"IF('名刺管理（Eight）'!N444=\"\",\"\",TEXT('名刺管理（Eight）'!N444,\"yyyy/m/d\"))","v":""}]
[{"$f":"LEFT('名刺管理（Eight）'!D445,D447)","v":""},{"$f":"RIGHT('名刺管理（Eight）'!D445,E447)","v":""},{"$f":"IF('名刺管理（Eight）'!D445=\"\",\"\",IF(LEN('名刺管理（Eight）'!D445)=D447+E447,\"\",\"不一致\"))","v":""},null,null,{"$f":"IF('名刺管理（Eight）'!A445=\"\",\"\",'名刺管理（Eight）'!A445)","v":""},{"$f":"IF('名刺管理（Eight）'!B445=\"\",\"\",'名刺管理（Eight）'!B445)","v":""},{"$f":"IF('名刺管理（Eight）'!C445=\"\",\"\",'名刺管理（Eight）'!C445)","v":""},{"$f":"IF('名刺管理（Eight）'!E445=\"\",\"\",'名刺管理（Eight）'!E445)","v":""},{"$f":"IF('名刺管理（Eight）'!F445=\"\",\"\",'名刺管理（Eight）'!F445)","v":""},{"$f":"IF('名刺管理（Eight）'!G445=\"\",\"\",IF(LEFT('名刺管理（Eight）'!G445,3)=\"神奈川\",LEFT('名刺管理（Eight）'!G445,4),IF(LEFT('名刺管理（Eight）'!G445,3)=\"和歌山\",LEFT('名刺管理（Eight）'!G445,4),IF(LEFT('名刺管理（Eight）'!G445,3)=\"鹿児島\",LEFT('名刺管理（Eight）'!G445,4),LEFT('名刺管理（Eight）'!G445,3)))))","v":""},{"$f":"IF(K447=\"\",\"\",IF(LEN(K447)=3,MID('名刺管理（Eight）'!G445,4,50),MID('名刺管理（Eight）'!G445,5,50)))","v":""},{"$f":"IF('名刺管理（Eight）'!H445=\"\",\"\",'名刺管理（Eight）'!H445)","v":""},{"$f":"IF('名刺管理（Eight）'!K445=\"\",\"\",'名刺管理（Eight）'!K445)","v":""},{"$f":"IF('名刺管理（Eight）'!L445=\"\",\"\",'名刺管理（Eight）'!L445)","v":""},{"$f":"IF('名刺管理（Eight）'!M445=\"\",\"\",'名刺管理（Eight）'!M445)","v":""},{"$f":"IF('名刺管理（Eight）'!N445=\"\",\"\",TEXT('名刺管理（Eight）'!N445,\"yyyy/m/d\"))","v":""}]
[{"$f":"LEFT('名刺管理（Eight）'!D446,D448)","v":""},{"$f":"RIGHT('名刺管理（Eight）'!D446,E448)","v":""},{"$f":"IF('名刺管理（Eight）'!D446=\"\",\"\",IF(LEN('名刺管理（Eight）'!D446)=D448+E448,\"\",\"不一致\"))","v":""},null,null,{"$f":"IF('名刺管理（Eight）'!A446=\"\",\"\",'名刺管理（Eight）'!A446)","v":""},{"$f":"IF('名刺管理（Eight）'!B446=\"\",\"\",'名刺管理（Eight）'!B446)","v":""},{"$f":"IF('名刺管理（Eight）'!C446=\"\",\"\",'名刺管理（Eight）'!C446)","v":""},{"$f":"IF('名刺管理（Eight）'!E446=\"\",\"\",'名刺管理（Eight）'!E446)","v":""},{"$f":"IF('名刺管理（Eight）'!F446=\"\",\"\",'名刺管理（Eight）'!F446)","v":""},{"$f":"IF('名刺管理（Eight）'!G446=\"\",\"\",IF(LEFT('名刺管理（Eight）'!G446,3)=\"神奈川\",LEFT('名刺管理（Eight）'!G446,4),IF(LEFT('名刺管理（Eight）'!G446,3)=\"和歌山\",LEFT('名刺管理（Eight）'!G446,4),IF(LEFT('名刺管理（Eight）'!G446,3)=\"鹿児島\",LEFT('名刺管理（Eight）'!G446,4),LEFT('名刺管理（Eight）'!G446,3)))))","v":""},{"$f":"IF(K448=\"\",\"\",IF(LEN(K448)=3,MID('名刺管理（Eight）'!G446,4,50),MID('名刺管理（Eight）'!G446,5,50)))","v":""},{"$f":"IF('名刺管理（Eight）'!H446=\"\",\"\",'名刺管理（Eight）'!H446)","v":""},{"$f":"IF('名刺管理（Eight）'!K446=\"\",\"\",'名刺管理（Eight）'!K446)","v":""},{"$f":"IF('名刺管理（Eight）'!L446=\"\",\"\",'名刺管理（Eight）'!L446)","v":""},{"$f":"IF('名刺管理（Eight）'!M446=\"\",\"\",'名刺管理（Eight）'!M446)","v":""},{"$f":"IF('名刺管理（Eight）'!N446=\"\",\"\",TEXT('名刺管理（Eight）'!N446,\"yyyy/m/d\"))","v":""}]
[{"$f":"LEFT('名刺管理（Eight）'!D447,D449)","v":""},{"$f":"RIGHT('名刺管理（Eight）'!D447,E449)","v":""},{"$f":"IF('名刺管理（Eight）'!D447=\"\",\"\",IF(LEN('名刺管理（Eight）'!D447)=D449+E449,\"\",\"不一致\"))","v":""},null,null,{"$f":"IF('名刺管理（Eight）'!A447=\"\",\"\",'名刺管理（Eight）'!A447)","v":""},{"$f":"IF('名刺管理（Eight）'!B447=\"\",\"\",'名刺管理（Eight）'!B447)","v":""},{"$f":"IF('名刺管理（Eight）'!C447=\"\",\"\",'名刺管理（Eight）'!C447)","v":""},{"$f":"IF('名刺管理（Eight）'!E447=\"\",\"\",'名刺管理（Eight）'!E447)","v":""},{"$f":"IF('名刺管理（Eight）'!F447=\"\",\"\",'名刺管理（Eight）'!F447)","v":""},{"$f":"IF('名刺管理（Eight）'!G447=\"\",\"\",IF(LEFT('名刺管理（Eight）'!G447,3)=\"神奈川\",LEFT('名刺管理（Eight）'!G447,4),IF(LEFT('名刺管理（Eight）'!G447,3)=\"和歌山\",LEFT('名刺管理（Eight）'!G447,4),IF(LEFT('名刺管理（Eight）'!G447,3)=\"鹿児島\",LEFT('名刺管理（Eight）'!G447,4),LEFT('名刺管理（Eight）'!G447,3)))))","v":""},{"$f":"IF(K449=\"\",\"\",IF(LEN(K449)=3,MID('名刺管理（Eight）'!G447,4,50),MID('名刺管理（Eight）'!G447,5,50)))","v":""},{"$f":"IF('名刺管理（Eight）'!H447=\"\",\"\",'名刺管理（Eight）'!H447)","v":""},{"$f":"IF('名刺管理（Eight）'!K447=\"\",\"\",'名刺管理（Eight）'!K447)","v":""},{"$f":"IF('名刺管理（Eight）'!L447=\"\",\"\",'名刺管理（Eight）'!L447)","v":""},{"$f":"IF('名刺管理（Eight）'!M447=\"\",\"\",'名刺管理（Eight）'!M447)","v":""},{"$f":"IF('名刺管理（Eight）'!N447=\"\",\"\",TEXT('名刺管理（Eight）'!N447,\"yyyy/m/d\"))","v":""}]
[{"$f":"LEFT('名刺管理（Eight）'!D448,D450)","v":""},{"$f":"RIGHT('名刺管理（Eight）'!D448,E450)","v":""},{"$f":"IF('名刺管理（Eight）'!D448=\"\",\"\",IF(LEN('名刺管理（Eight）'!D448)=D450+E450,\"\",\"不一致\"))","v":""},null,null,{"$f":"IF('名刺管理（Eight）'!A448=\"\",\"\",'名刺管理（Eight）'!A448)","v":""},{"$f":"IF('名刺管理（Eight）'!B448=\"\",\"\",'名刺管理（Eight）'!B448)","v":""},{"$f":"IF('名刺管理（Eight）'!C448=\"\",\"\",'名刺管理（Eight）'!C448)","v":""},{"$f":"IF('名刺管理（Eight）'!E448=\"\",\"\",'名刺管理（Eight）'!E448)","v":""},{"$f":"IF('名刺管理（Eight）'!F448=\"\",\"\",'名刺管理（Eight）'!F448)","v":""},{"$f":"IF('名刺管理（Eight）'!G448=\"\",\"\",IF(LEFT('名刺管理（Eight）'!G448,3)=\"神奈川\",LEFT('名刺管理（Eight）'!G448,4),IF(LEFT('名刺管理（Eight）'!G448,3)=\"和歌山\",LEFT('名刺管理（Eight）'!G448,4),IF(LEFT('名刺管理（Eight）'!G448,3)=\"鹿児島\",LEFT('名刺管理（Eight）'!G448,4),LEFT('名刺管理（Eight）'!G448,3)))))","v":""},{"$f":"IF(K450=\"\",\"\",IF(LEN(K450)=3,MID('名刺管理（Eight）'!G448,4,50),MID('名刺管理（Eight）'!G448,5,50)))","v":""},{"$f":"IF('名刺管理（Eight）'!H448=\"\",\"\",'名刺管理（Eight）'!H448)","v":""},{"$f":"IF('名刺管理（Eight）'!K448=\"\",\"\",'名刺管理（Eight）'!K448)","v":""},{"$f":"IF('名刺管理（Eight）'!L448=\"\",\"\",'名刺管理（Eight）'!L448)","v":""},{"$f":"IF('名刺管理（Eight）'!M448=\"\",\"\",'名刺管理（Eight）'!M448)","v":""},{"$f":"IF('名刺管理（Eight）'!N448=\"\",\"\",TEXT('名刺管理（Eight）'!N448,\"yyyy/m/d\"))","v":""}]
[{"$f":"LEFT('名刺管理（Eight）'!D449,D451)","v":""},{"$f":"RIGHT('名刺管理（Eight）'!D449,E451)","v":""},{"$f":"IF('名刺管理（Eight）'!D449=\"\",\"\",IF(LEN('名刺管理（Eight）'!D449)=D451+E451,\"\",\"不一致\"))","v":""},null,null,{"$f":"IF('名刺管理（Eight）'!A449=\"\",\"\",'名刺管理（Eight）'!A449)","v":""},{"$f":"IF('名刺管理（Eight）'!B449=\"\",\"\",'名刺管理（Eight）'!B449)","v":""},{"$f":"IF('名刺管理（Eight）'!C449=\"\",\"\",'名刺管理（Eight）'!C449)","v":""},{"$f":"IF('名刺管理（Eight）'!E449=\"\",\"\",'名刺管理（Eight）'!E449)","v":""},{"$f":"IF('名刺管理（Eight）'!F449=\"\",\"\",'名刺管理（Eight）'!F449)","v":""},{"$f":"IF('名刺管理（Eight）'!G449=\"\",\"\",IF(LEFT('名刺管理（Eight）'!G449,3)=\"神奈川\",LEFT('名刺管理（Eight）'!G449,4),IF(LEFT('名刺管理（Eight）'!G449,3)=\"和歌山\",LEFT('名刺管理（Eight）'!G449,4),IF(LEFT('名刺管理（Eight）'!G449,3)=\"鹿児島\",LEFT('名刺管理（Eight）'!G449,4),LEFT('名刺管理（Eight）'!G449,3)))))","v":""},{"$f":"IF(K451=\"\",\"\",IF(LEN(K451)=3,MID('名刺管理（Eight）'!G449,4,50),MID('名刺管理（Eight）'!G449,5,50)))","v":""},{"$f":"IF('名刺管理（Eight）'!H449=\"\",\"\",'名刺管理（Eight）'!H449)","v":""},{"$f":"IF('名刺管理（Eight）'!K449=\"\",\"\",'名刺管理（Eight）'!K449)","v":""},{"$f":"IF('名刺管理（Eight）'!L449=\"\",\"\",'名刺管理（Eight）'!L449)","v":""},{"$f":"IF('名刺管理（Eight）'!M449=\"\",\"\",'名刺管理（Eight）'!M449)","v":""},{"$f":"IF('名刺管理（Eight）'!N449=\"\",\"\",TEXT('名刺管理（Eight）'!N449,\"yyyy/m/d\"))","v":""}]
[{"$f":"LEFT('名刺管理（Eight）'!D450,D452)","v":""},{"$f":"RIGHT('名刺管理（Eight）'!D450,E452)","v":""},{"$f":"IF('名刺管理（Eight）'!D450=\"\",\"\",IF(LEN('名刺管理（Eight）'!D450)=D452+E452,\"\",\"不一致\"))","v":""},null,null,{"$f":"IF('名刺管理（Eight）'!A450=\"\",\"\",'名刺管理（Eight）'!A450)","v":""},{"$f":"IF('名刺管理（Eight）'!B450=\"\",\"\",'名刺管理（Eight）'!B450)","v":""},{"$f":"IF('名刺管理（Eight）'!C450=\"\",\"\",'名刺管理（Eight）'!C450)","v":""},{"$f":"IF('名刺管理（Eight）'!E450=\"\",\"\",'名刺管理（Eight）'!E450)","v":""},{"$f":"IF('名刺管理（Eight）'!F450=\"\",\"\",'名刺管理（Eight）'!F450)","v":""},{"$f":"IF('名刺管理（Eight）'!G450=\"\",\"\",IF(LEFT('名刺管理（Eight）'!G450,3)=\"神奈川\",LEFT('名刺管理（Eight）'!G450,4),IF(LEFT('名刺管理（Eight）'!G450,3)=\"和歌山\",LEFT('名刺管理（Eight）'!G450,4),IF(LEFT('名刺管理（Eight）'!G450,3)=\"鹿児島\",LEFT('名刺管理（Eight）'!G450,4),LEFT('名刺管理（Eight）'!G450,3)))))","v":""},{"$f":"IF(K452=\"\",\"\",IF(LEN(K452)=3,MID('名刺管理（Eight）'!G450,4,50),MID('名刺管理（Eight）'!G450,5,50)))","v":""},{"$f":"IF('名刺管理（Eight）'!H450=\"\",\"\",'名刺管理（Eight）'!H450)","v":""},{"$f":"IF('名刺管理（Eight）'!K450=\"\",\"\",'名刺管理（Eight）'!K450)","v":""},{"$f":"IF('名刺管理（Eight）'!L450=\"\",\"\",'名刺管理（Eight）'!L450)","v":""},{"$f":"IF('名刺管理（Eight）'!M450=\"\",\"\",'名刺管理（Eight）'!M450)","v":""},{"$f":"IF('名刺管理（Eight）'!N450=\"\",\"\",TEXT('名刺管理（Eight）'!N450,\"yyyy/m/d\"))","v":""}]
[{"$f":"LEFT('名刺管理（Eight）'!D451,D453)","v":""},{"$f":"RIGHT('名刺管理（Eight）'!D451,E453)","v":""},{"$f":"IF('名刺管理（Eight）'!D451=\"\",\"\",IF(LEN('名刺管理（Eight）'!D451)=D453+E453,\"\",\"不一致\"))","v":""},null,null,{"$f":"IF('名刺管理（Eight）'!A451=\"\",\"\",'名刺管理（Eight）'!A451)","v":""},{"$f":"IF('名刺管理（Eight）'!B451=\"\",\"\",'名刺管理（Eight）'!B451)","v":""},{"$f":"IF('名刺管理（Eight）'!C451=\"\",\"\",'名刺管理（Eight）'!C451)","v":""},{"$f":"IF('名刺管理（Eight）'!E451=\"\",\"\",'名刺管理（Eight）'!E451)","v":""},{"$f":"IF('名刺管理（Eight）'!F451=\"\",\"\",'名刺管理（Eight）'!F451)","v":""},{"$f":"IF('名刺管理（Eight）'!G451=\"\",\"\",IF(LEFT('名刺管理（Eight）'!G451,3)=\"神奈川\",LEFT('名刺管理（Eight）'!G451,4),IF(LEFT('名刺管理（Eight）'!G451,3)=\"和歌山\",LEFT('名刺管理（Eight）'!G451,4),IF(LEFT('名刺管理（Eight）'!G451,3)=\"鹿児島\",LEFT('名刺管理（Eight）'!G451,4),LEFT('名刺管理（Eight）'!G451,3)))))","v":""},{"$f":"IF(K453=\"\",\"\",IF(LEN(K453)=3,MID('名刺管理（Eight）'!G451,4,50),MID('名刺管理（Eight）'!G451,5,50)))","v":""},{"$f":"IF('名刺管理（Eight）'!H451=\"\",\"\",'名刺管理（Eight）'!H451)","v":""},{"$f":"IF('名刺管理（Eight）'!K451=\"\",\"\",'名刺管理（Eight）'!K451)","v":""},{"$f":"IF('名刺管理（Eight）'!L451=\"\",\"\",'名刺管理（Eight）'!L451)","v":""},{"$f":"IF('名刺管理（Eight）'!M451=\"\",\"\",'名刺管理（Eight）'!M451)","v":""},{"$f":"IF('名刺管理（Eight）'!N451=\"\",\"\",TEXT('名刺管理（Eight）'!N451,\"yyyy/m/d\"))","v":""}]
[{"$f":"LEFT('名刺管理（Eight）'!D452,D454)","v":""},{"$f":"RIGHT('名刺管理（Eight）'!D452,E454)","v":""},{"$f":"IF('名刺管理（Eight）'!D452=\"\",\"\",IF(LEN('名刺管理（Eight）'!D452)=D454+E454,\"\",\"不一致\"))","v":""},null,null,{"$f":"IF('名刺管理（Eight）'!A452=\"\",\"\",'名刺管理（Eight）'!A452)","v":""},{"$f":"IF('名刺管理（Eight）'!B452=\"\",\"\",'名刺管理（Eight）'!B452)","v":""},{"$f":"IF('名刺管理（Eight）'!C452=\"\",\"\",'名刺管理（Eight）'!C452)","v":""},{"$f":"IF('名刺管理（Eight）'!E452=\"\",\"\",'名刺管理（Eight）'!E452)","v":""},{"$f":"IF('名刺管理（Eight）'!F452=\"\",\"\",'名刺管理（Eight）'!F452)","v":""},{"$f":"IF('名刺管理（Eight）'!G452=\"\",\"\",IF(LEFT('名刺管理（Eight）'!G452,3)=\"神奈川\",LEFT('名刺管理（Eight）'!G452,4),IF(LEFT('名刺管理（Eight）'!G452,3)=\"和歌山\",LEFT('名刺管理（Eight）'!G452,4),IF(LEFT('名刺管理（Eight）'!G452,3)=\"鹿児島\",LEFT('名刺管理（Eight）'!G452,4),LEFT('名刺管理（Eight）'!G452,3)))))","v":""},{"$f":"IF(K454=\"\",\"\",IF(LEN(K454)=3,MID('名刺管理（Eight）'!G452,4,50),MID('名刺管理（Eight）'!G452,5,50)))","v":""},{"$f":"IF('名刺管理（Eight）'!H452=\"\",\"\",'名刺管理（Eight）'!H452)","v":""},{"$f":"IF('名刺管理（Eight）'!K452=\"\",\"\",'名刺管理（Eight）'!K452)","v":""},{"$f":"IF('名刺管理（Eight）'!L452=\"\",\"\",'名刺管理（Eight）'!L452)","v":""},{"$f":"IF('名刺管理（Eight）'!M452=\"\",\"\",'名刺管理（Eight）'!M452)","v":""},{"$f":"IF('名刺管理（Eight）'!N452=\"\",\"\",TEXT('名刺管理（Eight）'!N452,\"yyyy/m/d\"))","v":""}]
[{"$f":"LEFT('名刺管理（Eight）'!D453,D455)","v":""},{"$f":"RIGHT('名刺管理（Eight）'!D453,E455)","v":""},{"$f":"IF('名刺管理（Eight）'!D453=\"\",\"\",IF(LEN('名刺管理（Eight）'!D453)=D455+E455,\"\",\"不一致\"))","v":""},null,null,{"$f":"IF('名刺管理（Eight）'!A453=\"\",\"\",'名刺管理（Eight）'!A453)","v":""},{"$f":"IF('名刺管理（Eight）'!B453=\"\",\"\",'名刺管理（Eight）'!B453)","v":""},{"$f":"IF('名刺管理（Eight）'!C453=\"\",\"\",'名刺管理（Eight）'!C453)","v":""},{"$f":"IF('名刺管理（Eight）'!E453=\"\",\"\",'名刺管理（Eight）'!E453)","v":""},{"$f":"IF('名刺管理（Eight）'!F453=\"\",\"\",'名刺管理（Eight）'!F453)","v":""},{"$f":"IF('名刺管理（Eight）'!G453=\"\",\"\",IF(LEFT('名刺管理（Eight）'!G453,3)=\"神奈川\",LEFT('名刺管理（Eight）'!G453,4),IF(LEFT('名刺管理（Eight）'!G453,3)=\"和歌山\",LEFT('名刺管理（Eight）'!G453,4),IF(LEFT('名刺管理（Eight）'!G453,3)=\"鹿児島\",LEFT('名刺管理（Eight）'!G453,4),LEFT('名刺管理（Eight）'!G453,3)))))","v":""},{"$f":"IF(K455=\"\",\"\",IF(LEN(K455)=3,MID('名刺管理（Eight）'!G453,4,50),MID('名刺管理（Eight）'!G453,5,50)))","v":""},{"$f":"IF('名刺管理（Eight）'!H453=\"\",\"\",'名刺管理（Eight）'!H453)","v":""},{"$f":"IF('名刺管理（Eight）'!K453=\"\",\"\",'名刺管理（Eight）'!K453)","v":""},{"$f":"IF('名刺管理（Eight）'!L453=\"\",\"\",'名刺管理（Eight）'!L453)","v":""},{"$f":"IF('名刺管理（Eight）'!M453=\"\",\"\",'名刺管理（Eight）'!M453)","v":""},{"$f":"IF('名刺管理（Eight）'!N453=\"\",\"\",TEXT('名刺管理（Eight）'!N453,\"yyyy/m/d\"))","v":""}]
[{"$f":"LEFT('名刺管理（Eight）'!D454,D456)","v":""},{"$f":"RIGHT('名刺管理（Eight）'!D454,E456)","v":""},{"$f":"IF('名刺管理（Eight）'!D454=\"\",\"\",IF(LEN('名刺管理（Eight）'!D454)=D456+E456,\"\",\"不一致\"))","v":""},null,null,{"$f":"IF('名刺管理（Eight）'!A454=\"\",\"\",'名刺管理（Eight）'!A454)","v":""},{"$f":"IF('名刺管理（Eight）'!B454=\"\",\"\",'名刺管理（Eight）'!B454)","v":""},{"$f":"IF('名刺管理（Eight）'!C454=\"\",\"\",'名刺管理（Eight）'!C454)","v":""},{"$f":"IF('名刺管理（Eight）'!E454=\"\",\"\",'名刺管理（Eight）'!E454)","v":""},{"$f":"IF('名刺管理（Eight）'!F454=\"\",\"\",'名刺管理（Eight）'!F454)","v":""},{"$f":"IF('名刺管理（Eight）'!G454=\"\",\"\",IF(LEFT('名刺管理（Eight）'!G454,3)=\"神奈川\",LEFT('名刺管理（Eight）'!G454,4),IF(LEFT('名刺管理（Eight）'!G454,3)=\"和歌山\",LEFT('名刺管理（Eight）'!G454,4),IF(LEFT('名刺管理（Eight）'!G454,3)=\"鹿児島\",LEFT('名刺管理（Eight）'!G454,4),LEFT('名刺管理（Eight）'!G454,3)))))","v":""},{"$f":"IF(K456=\"\",\"\",IF(LEN(K456)=3,MID('名刺管理（Eight）'!G454,4,50),MID('名刺管理（Eight）'!G454,5,50)))","v":""},{"$f":"IF('名刺管理（Eight）'!H454=\"\",\"\",'名刺管理（Eight）'!H454)","v":""},{"$f":"IF('名刺管理（Eight）'!K454=\"\",\"\",'名刺管理（Eight）'!K454)","v":""},{"$f":"IF('名刺管理（Eight）'!L454=\"\",\"\",'名刺管理（Eight）'!L454)","v":""},{"$f":"IF('名刺管理（Eight）'!M454=\"\",\"\",'名刺管理（Eight）'!M454)","v":""},{"$f":"IF('名刺管理（Eight）'!N454=\"\",\"\",TEXT('名刺管理（Eight）'!N454,\"yyyy/m/d\"))","v":""}]
[{"$f":"LEFT('名刺管理（Eight）'!D455,D457)","v":""},{"$f":"RIGHT('名刺管理（Eight）'!D455,E457)","v":""},{"$f":"IF('名刺管理（Eight）'!D455=\"\",\"\",IF(LEN('名刺管理（Eight）'!D455)=D457+E457,\"\",\"不一致\"))","v":""},null,null,{"$f":"IF('名刺管理（Eight）'!A455=\"\",\"\",'名刺管理（Eight）'!A455)","v":""},{"$f":"IF('名刺管理（Eight）'!B455=\"\",\"\",'名刺管理（Eight）'!B455)","v":""},{"$f":"IF('名刺管理（Eight）'!C455=\"\",\"\",'名刺管理（Eight）'!C455)","v":""},{"$f":"IF('名刺管理（Eight）'!E455=\"\",\"\",'名刺管理（Eight）'!E455)","v":""},{"$f":"IF('名刺管理（Eight）'!F455=\"\",\"\",'名刺管理（Eight）'!F455)","v":""},{"$f":"IF('名刺管理（Eight）'!G455=\"\",\"\",IF(LEFT('名刺管理（Eight）'!G455,3)=\"神奈川\",LEFT('名刺管理（Eight）'!G455,4),IF(LEFT('名刺管理（Eight）'!G455,3)=\"和歌山\",LEFT('名刺管理（Eight）'!G455,4),IF(LEFT('名刺管理（Eight）'!G455,3)=\"鹿児島\",LEFT('名刺管理（Eight）'!G455,4),LEFT('名刺管理（Eight）'!G455,3)))))","v":""},{"$f":"IF(K457=\"\",\"\",IF(LEN(K457)=3,MID('名刺管理（Eight）'!G455,4,50),MID('名刺管理（Eight）'!G455,5,50)))","v":""},{"$f":"IF('名刺管理（Eight）'!H455=\"\",\"\",'名刺管理（Eight）'!H455)","v":""},{"$f":"IF('名刺管理（Eight）'!K455=\"\",\"\",'名刺管理（Eight）'!K455)","v":""},{"$f":"IF('名刺管理（Eight）'!L455=\"\",\"\",'名刺管理（Eight）'!L455)","v":""},{"$f":"IF('名刺管理（Eight）'!M455=\"\",\"\",'名刺管理（Eight）'!M455)","v":""},{"$f":"IF('名刺管理（Eight）'!N455=\"\",\"\",TEXT('名刺管理（Eight）'!N455,\"yyyy/m/d\"))","v":""}]
[{"$f":"LEFT('名刺管理（Eight）'!D456,D458)","v":""},{"$f":"RIGHT('名刺管理（Eight）'!D456,E458)","v":""},{"$f":"IF('名刺管理（Eight）'!D456=\"\",\"\",IF(LEN('名刺管理（Eight）'!D456)=D458+E458,\"\",\"不一致\"))","v":""},null,null,{"$f":"IF('名刺管理（Eight）'!A456=\"\",\"\",'名刺管理（Eight）'!A456)","v":""},{"$f":"IF('名刺管理（Eight）'!B456=\"\",\"\",'名刺管理（Eight）'!B456)","v":""},{"$f":"IF('名刺管理（Eight）'!C456=\"\",\"\",'名刺管理（Eight）'!C456)","v":""},{"$f":"IF('名刺管理（Eight）'!E456=\"\",\"\",'名刺管理（Eight）'!E456)","v":""},{"$f":"IF('名刺管理（Eight）'!F456=\"\",\"\",'名刺管理（Eight）'!F456)","v":""},{"$f":"IF('名刺管理（Eight）'!G456=\"\",\"\",IF(LEFT('名刺管理（Eight）'!G456,3)=\"神奈川\",LEFT('名刺管理（Eight）'!G456,4),IF(LEFT('名刺管理（Eight）'!G456,3)=\"和歌山\",LEFT('名刺管理（Eight）'!G456,4),IF(LEFT('名刺管理（Eight）'!G456,3)=\"鹿児島\",LEFT('名刺管理（Eight）'!G456,4),LEFT('名刺管理（Eight）'!G456,3)))))","v":""},{"$f":"IF(K458=\"\",\"\",IF(LEN(K458)=3,MID('名刺管理（Eight）'!G456,4,50),MID('名刺管理（Eight）'!G456,5,50)))","v":""},{"$f":"IF('名刺管理（Eight）'!H456=\"\",\"\",'名刺管理（Eight）'!H456)","v":""},{"$f":"IF('名刺管理（Eight）'!K456=\"\",\"\",'名刺管理（Eight）'!K456)","v":""},{"$f":"IF('名刺管理（Eight）'!L456=\"\",\"\",'名刺管理（Eight）'!L456)","v":""},{"$f":"IF('名刺管理（Eight）'!M456=\"\",\"\",'名刺管理（Eight）'!M456)","v":""},{"$f":"IF('名刺管理（Eight）'!N456=\"\",\"\",TEXT('名刺管理（Eight）'!N456,\"yyyy/m/d\"))","v":""}]
[{"$f":"LEFT('名刺管理（Eight）'!D457,D459)","v":""},{"$f":"RIGHT('名刺管理（Eight）'!D457,E459)","v":""},{"$f":"IF('名刺管理（Eight）'!D457=\"\",\"\",IF(LEN('名刺管理（Eight）'!D457)=D459+E459,\"\",\"不一致\"))","v":""},null,null,{"$f":"IF('名刺管理（Eight）'!A457=\"\",\"\",'名刺管理（Eight）'!A457)","v":""},{"$f":"IF('名刺管理（Eight）'!B457=\"\",\"\",'名刺管理（Eight）'!B457)","v":""},{"$f":"IF('名刺管理（Eight）'!C457=\"\",\"\",'名刺管理（Eight）'!C457)","v":""},{"$f":"IF('名刺管理（Eight）'!E457=\"\",\"\",'名刺管理（Eight）'!E457)","v":""},{"$f":"IF('名刺管理（Eight）'!F457=\"\",\"\",'名刺管理（Eight）'!F457)","v":""},{"$f":"IF('名刺管理（Eight）'!G457=\"\",\"\",IF(LEFT('名刺管理（Eight）'!G457,3)=\"神奈川\",LEFT('名刺管理（Eight）'!G457,4),IF(LEFT('名刺管理（Eight）'!G457,3)=\"和歌山\",LEFT('名刺管理（Eight）'!G457,4),IF(LEFT('名刺管理（Eight）'!G457,3)=\"鹿児島\",LEFT('名刺管理（Eight）'!G457,4),LEFT('名刺管理（Eight）'!G457,3)))))","v":""},{"$f":"IF(K459=\"\",\"\",IF(LEN(K459)=3,MID('名刺管理（Eight）'!G457,4,50),MID('名刺管理（Eight）'!G457,5,50)))","v":""},{"$f":"IF('名刺管理（Eight）'!H457=\"\",\"\",'名刺管理（Eight）'!H457)","v":""},{"$f":"IF('名刺管理（Eight）'!K457=\"\",\"\",'名刺管理（Eight）'!K457)","v":""},{"$f":"IF('名刺管理（Eight）'!L457=\"\",\"\",'名刺管理（Eight）'!L457)","v":""},{"$f":"IF('名刺管理（Eight）'!M457=\"\",\"\",'名刺管理（Eight）'!M457)","v":""},{"$f":"IF('名刺管理（Eight）'!N457=\"\",\"\",TEXT('名刺管理（Eight）'!N457,\"yyyy/m/d\"))","v":""}]
[{"$f":"LEFT('名刺管理（Eight）'!D458,D460)","v":""},{"$f":"RIGHT('名刺管理（Eight）'!D458,E460)","v":""},{"$f":"IF('名刺管理（Eight）'!D458=\"\",\"\",IF(LEN('名刺管理（Eight）'!D458)=D460+E460,\"\",\"不一致\"))","v":""},null,null,{"$f":"IF('名刺管理（Eight）'!A458=\"\",\"\",'名刺管理（Eight）'!A458)","v":""},{"$f":"IF('名刺管理（Eight）'!B458=\"\",\"\",'名刺管理（Eight）'!B458)","v":""},{"$f":"IF('名刺管理（Eight）'!C458=\"\",\"\",'名刺管理（Eight）'!C458)","v":""},{"$f":"IF('名刺管理（Eight）'!E458=\"\",\"\",'名刺管理（Eight）'!E458)","v":""},{"$f":"IF('名刺管理（Eight）'!F458=\"\",\"\",'名刺管理（Eight）'!F458)","v":""},{"$f":"IF('名刺管理（Eight）'!G458=\"\",\"\",IF(LEFT('名刺管理（Eight）'!G458,3)=\"神奈川\",LEFT('名刺管理（Eight）'!G458,4),IF(LEFT('名刺管理（Eight）'!G458,3)=\"和歌山\",LEFT('名刺管理（Eight）'!G458,4),IF(LEFT('名刺管理（Eight）'!G458,3)=\"鹿児島\",LEFT('名刺管理（Eight）'!G458,4),LEFT('名刺管理（Eight）'!G458,3)))))","v":""},{"$f":"IF(K460=\"\",\"\",IF(LEN(K460)=3,MID('名刺管理（Eight）'!G458,4,50),MID('名刺管理（Eight）'!G458,5,50)))","v":""},{"$f":"IF('名刺管理（Eight）'!H458=\"\",\"\",'名刺管理（Eight）'!H458)","v":""},{"$f":"IF('名刺管理（Eight）'!K458=\"\",\"\",'名刺管理（Eight）'!K458)","v":""},{"$f":"IF('名刺管理（Eight）'!L458=\"\",\"\",'名刺管理（Eight）'!L458)","v":""},{"$f":"IF('名刺管理（Eight）'!M458=\"\",\"\",'名刺管理（Eight）'!M458)","v":""},{"$f":"IF('名刺管理（Eight）'!N458=\"\",\"\",TEXT('名刺管理（Eight）'!N458,\"yyyy/m/d\"))","v":""}]
[{"$f":"LEFT('名刺管理（Eight）'!D459,D461)","v":""},{"$f":"RIGHT('名刺管理（Eight）'!D459,E461)","v":""},{"$f":"IF('名刺管理（Eight）'!D459=\"\",\"\",IF(LEN('名刺管理（Eight）'!D459)=D461+E461,\"\",\"不一致\"))","v":""},null,null,{"$f":"IF('名刺管理（Eight）'!A459=\"\",\"\",'名刺管理（Eight）'!A459)","v":""},{"$f":"IF('名刺管理（Eight）'!B459=\"\",\"\",'名刺管理（Eight）'!B459)","v":""},{"$f":"IF('名刺管理（Eight）'!C459=\"\",\"\",'名刺管理（Eight）'!C459)","v":""},{"$f":"IF('名刺管理（Eight）'!E459=\"\",\"\",'名刺管理（Eight）'!E459)","v":""},{"$f":"IF('名刺管理（Eight）'!F459=\"\",\"\",'名刺管理（Eight）'!F459)","v":""},{"$f":"IF('名刺管理（Eight）'!G459=\"\",\"\",IF(LEFT('名刺管理（Eight）'!G459,3)=\"神奈川\",LEFT('名刺管理（Eight）'!G459,4),IF(LEFT('名刺管理（Eight）'!G459,3)=\"和歌山\",LEFT('名刺管理（Eight）'!G459,4),IF(LEFT('名刺管理（Eight）'!G459,3)=\"鹿児島\",LEFT('名刺管理（Eight）'!G459,4),LEFT('名刺管理（Eight）'!G459,3)))))","v":""},{"$f":"IF(K461=\"\",\"\",IF(LEN(K461)=3,MID('名刺管理（Eight）'!G459,4,50),MID('名刺管理（Eight）'!G459,5,50)))","v":""},{"$f":"IF('名刺管理（Eight）'!H459=\"\",\"\",'名刺管理（Eight）'!H459)","v":""},{"$f":"IF('名刺管理（Eight）'!K459=\"\",\"\",'名刺管理（Eight）'!K459)","v":""},{"$f":"IF('名刺管理（Eight）'!L459=\"\",\"\",'名刺管理（Eight）'!L459)","v":""},{"$f":"IF('名刺管理（Eight）'!M459=\"\",\"\",'名刺管理（Eight）'!M459)","v":""},{"$f":"IF('名刺管理（Eight）'!N459=\"\",\"\",TEXT('名刺管理（Eight）'!N459,\"yyyy/m/d\"))","v":""}]
[{"$f":"LEFT('名刺管理（Eight）'!D460,D462)","v":""},{"$f":"RIGHT('名刺管理（Eight）'!D460,E462)","v":""},{"$f":"IF('名刺管理（Eight）'!D460=\"\",\"\",IF(LEN('名刺管理（Eight）'!D460)=D462+E462,\"\",\"不一致\"))","v":""},null,null,{"$f":"IF('名刺管理（Eight）'!A460=\"\",\"\",'名刺管理（Eight）'!A460)","v":""},{"$f":"IF('名刺管理（Eight）'!B460=\"\",\"\",'名刺管理（Eight）'!B460)","v":""},{"$f":"IF('名刺管理（Eight）'!C460=\"\",\"\",'名刺管理（Eight）'!C460)","v":""},{"$f":"IF('名刺管理（Eight）'!E460=\"\",\"\",'名刺管理（Eight）'!E460)","v":""},{"$f":"IF('名刺管理（Eight）'!F460=\"\",\"\",'名刺管理（Eight）'!F460)","v":""},{"$f":"IF('名刺管理（Eight）'!G460=\"\",\"\",IF(LEFT('名刺管理（Eight）'!G460,3)=\"神奈川\",LEFT('名刺管理（Eight）'!G460,4),IF(LEFT('名刺管理（Eight）'!G460,3)=\"和歌山\",LEFT('名刺管理（Eight）'!G460,4),IF(LEFT('名刺管理（Eight）'!G460,3)=\"鹿児島\",LEFT('名刺管理（Eight）'!G460,4),LEFT('名刺管理（Eight）'!G460,3)))))","v":""},{"$f":"IF(K462=\"\",\"\",IF(LEN(K462)=3,MID('名刺管理（Eight）'!G460,4,50),MID('名刺管理（Eight）'!G460,5,50)))","v":""},{"$f":"IF('名刺管理（Eight）'!H460=\"\",\"\",'名刺管理（Eight）'!H460)","v":""},{"$f":"IF('名刺管理（Eight）'!K460=\"\",\"\",'名刺管理（Eight）'!K460)","v":""},{"$f":"IF('名刺管理（Eight）'!L460=\"\",\"\",'名刺管理（Eight）'!L460)","v":""},{"$f":"IF('名刺管理（Eight）'!M460=\"\",\"\",'名刺管理（Eight）'!M460)","v":""},{"$f":"IF('名刺管理（Eight）'!N460=\"\",\"\",TEXT('名刺管理（Eight）'!N460,\"yyyy/m/d\"))","v":""}]
[{"$f":"LEFT('名刺管理（Eight）'!D461,D463)","v":""},{"$f":"RIGHT('名刺管理（Eight）'!D461,E463)","v":""},{"$f":"IF('名刺管理（Eight）'!D461=\"\",\"\",IF(LEN('名刺管理（Eight）'!D461)=D463+E463,\"\",\"不一致\"))","v":""},null,null,{"$f":"IF('名刺管理（Eight）'!A461=\"\",\"\",'名刺管理（Eight）'!A461)","v":""},{"$f":"IF('名刺管理（Eight）'!B461=\"\",\"\",'名刺管理（Eight）'!B461)","v":""},{"$f":"IF('名刺管理（Eight）'!C461=\"\",\"\",'名刺管理（Eight）'!C461)","v":""},{"$f":"IF('名刺管理（Eight）'!E461=\"\",\"\",'名刺管理（Eight）'!E461)","v":""},{"$f":"IF('名刺管理（Eight）'!F461=\"\",\"\",'名刺管理（Eight）'!F461)","v":""},{"$f":"IF('名刺管理（Eight）'!G461=\"\",\"\",IF(LEFT('名刺管理（Eight）'!G461,3)=\"神奈川\",LEFT('名刺管理（Eight）'!G461,4),IF(LEFT('名刺管理（Eight）'!G461,3)=\"和歌山\",LEFT('名刺管理（Eight）'!G461,4),IF(LEFT('名刺管理（Eight）'!G461,3)=\"鹿児島\",LEFT('名刺管理（Eight）'!G461,4),LEFT('名刺管理（Eight）'!G461,3)))))","v":""},{"$f":"IF(K463=\"\",\"\",IF(LEN(K463)=3,MID('名刺管理（Eight）'!G461,4,50),MID('名刺管理（Eight）'!G461,5,50)))","v":""},{"$f":"IF('名刺管理（Eight）'!H461=\"\",\"\",'名刺管理（Eight）'!H461)","v":""},{"$f":"IF('名刺管理（Eight）'!K461=\"\",\"\",'名刺管理（Eight）'!K461)","v":""},{"$f":"IF('名刺管理（Eight）'!L461=\"\",\"\",'名刺管理（Eight）'!L461)","v":""},{"$f":"IF('名刺管理（Eight）'!M461=\"\",\"\",'名刺管理（Eight）'!M461)","v":""},{"$f":"IF('名刺管理（Eight）'!N461=\"\",\"\",TEXT('名刺管理（Eight）'!N461,\"yyyy/m/d\"))","v":""}]
[{"$f":"LEFT('名刺管理（Eight）'!D462,D464)","v":""},{"$f":"RIGHT('名刺管理（Eight）'!D462,E464)","v":""},{"$f":"IF('名刺管理（Eight）'!D462=\"\",\"\",IF(LEN('名刺管理（Eight）'!D462)=D464+E464,\"\",\"不一致\"))","v":""},null,null,{"$f":"IF('名刺管理（Eight）'!A462=\"\",\"\",'名刺管理（Eight）'!A462)","v":""},{"$f":"IF('名刺管理（Eight）'!B462=\"\",\"\",'名刺管理（Eight）'!B462)","v":""},{"$f":"IF('名刺管理（Eight）'!C462=\"\",\"\",'名刺管理（Eight）'!C462)","v":""},{"$f":"IF('名刺管理（Eight）'!E462=\"\",\"\",'名刺管理（Eight）'!E462)","v":""},{"$f":"IF('名刺管理（Eight）'!F462=\"\",\"\",'名刺管理（Eight）'!F462)","v":""},{"$f":"IF('名刺管理（Eight）'!G462=\"\",\"\",IF(LEFT('名刺管理（Eight）'!G462,3)=\"神奈川\",LEFT('名刺管理（Eight）'!G462,4),IF(LEFT('名刺管理（Eight）'!G462,3)=\"和歌山\",LEFT('名刺管理（Eight）'!G462,4),IF(LEFT('名刺管理（Eight）'!G462,3)=\"鹿児島\",LEFT('名刺管理（Eight）'!G462,4),LEFT('名刺管理（Eight）'!G462,3)))))","v":""},{"$f":"IF(K464=\"\",\"\",IF(LEN(K464)=3,MID('名刺管理（Eight）'!G462,4,50),MID('名刺管理（Eight）'!G462,5,50)))","v":""},{"$f":"IF('名刺管理（Eight）'!H462=\"\",\"\",'名刺管理（Eight）'!H462)","v":""},{"$f":"IF('名刺管理（Eight）'!K462=\"\",\"\",'名刺管理（Eight）'!K462)","v":""},{"$f":"IF('名刺管理（Eight）'!L462=\"\",\"\",'名刺管理（Eight）'!L462)","v":""},{"$f":"IF('名刺管理（Eight）'!M462=\"\",\"\",'名刺管理（Eight）'!M462)","v":""},{"$f":"IF('名刺管理（Eight）'!N462=\"\",\"\",TEXT('名刺管理（Eight）'!N462,\"yyyy/m/d\"))","v":""}]
[{"$f":"LEFT('名刺管理（Eight）'!D463,D465)","v":""},{"$f":"RIGHT('名刺管理（Eight）'!D463,E465)","v":""},{"$f":"IF('名刺管理（Eight）'!D463=\"\",\"\",IF(LEN('名刺管理（Eight）'!D463)=D465+E465,\"\",\"不一致\"))","v":""},null,null,{"$f":"IF('名刺管理（Eight）'!A463=\"\",\"\",'名刺管理（Eight）'!A463)","v":""},{"$f":"IF('名刺管理（Eight）'!B463=\"\",\"\",'名刺管理（Eight）'!B463)","v":""},{"$f":"IF('名刺管理（Eight）'!C463=\"\",\"\",'名刺管理（Eight）'!C463)","v":""},{"$f":"IF('名刺管理（Eight）'!E463=\"\",\"\",'名刺管理（Eight）'!E463)","v":""},{"$f":"IF('名刺管理（Eight）'!F463=\"\",\"\",'名刺管理（Eight）'!F463)","v":""},{"$f":"IF('名刺管理（Eight）'!G463=\"\",\"\",IF(LEFT('名刺管理（Eight）'!G463,3)=\"神奈川\",LEFT('名刺管理（Eight）'!G463,4),IF(LEFT('名刺管理（Eight）'!G463,3)=\"和歌山\",LEFT('名刺管理（Eight）'!G463,4),IF(LEFT('名刺管理（Eight）'!G463,3)=\"鹿児島\",LEFT('名刺管理（Eight）'!G463,4),LEFT('名刺管理（Eight）'!G463,3)))))","v":""},{"$f":"IF(K465=\"\",\"\",IF(LEN(K465)=3,MID('名刺管理（Eight）'!G463,4,50),MID('名刺管理（Eight）'!G463,5,50)))","v":""},{"$f":"IF('名刺管理（Eight）'!H463=\"\",\"\",'名刺管理（Eight）'!H463)","v":""},{"$f":"IF('名刺管理（Eight）'!K463=\"\",\"\",'名刺管理（Eight）'!K463)","v":""},{"$f":"IF('名刺管理（Eight）'!L463=\"\",\"\",'名刺管理（Eight）'!L463)","v":""},{"$f":"IF('名刺管理（Eight）'!M463=\"\",\"\",'名刺管理（Eight）'!M463)","v":""},{"$f":"IF('名刺管理（Eight）'!N463=\"\",\"\",TEXT('名刺管理（Eight）'!N463,\"yyyy/m/d\"))","v":""}]
[{"$f":"LEFT('名刺管理（Eight）'!D464,D466)","v":""},{"$f":"RIGHT('名刺管理（Eight）'!D464,E466)","v":""},{"$f":"IF('名刺管理（Eight）'!D464=\"\",\"\",IF(LEN('名刺管理（Eight）'!D464)=D466+E466,\"\",\"不一致\"))","v":""},null,null,{"$f":"IF('名刺管理（Eight）'!A464=\"\",\"\",'名刺管理（Eight）'!A464)","v":""},{"$f":"IF('名刺管理（Eight）'!B464=\"\",\"\",'名刺管理（Eight）'!B464)","v":""},{"$f":"IF('名刺管理（Eight）'!C464=\"\",\"\",'名刺管理（Eight）'!C464)","v":""},{"$f":"IF('名刺管理（Eight）'!E464=\"\",\"\",'名刺管理（Eight）'!E464)","v":""},{"$f":"IF('名刺管理（Eight）'!F464=\"\",\"\",'名刺管理（Eight）'!F464)","v":""},{"$f":"IF('名刺管理（Eight）'!G464=\"\",\"\",IF(LEFT('名刺管理（Eight）'!G464,3)=\"神奈川\",LEFT('名刺管理（Eight）'!G464,4),IF(LEFT('名刺管理（Eight）'!G464,3)=\"和歌山\",LEFT('名刺管理（Eight）'!G464,4),IF(LEFT('名刺管理（Eight）'!G464,3)=\"鹿児島\",LEFT('名刺管理（Eight）'!G464,4),LEFT('名刺管理（Eight）'!G464,3)))))","v":""},{"$f":"IF(K466=\"\",\"\",IF(LEN(K466)=3,MID('名刺管理（Eight）'!G464,4,50),MID('名刺管理（Eight）'!G464,5,50)))","v":""},{"$f":"IF('名刺管理（Eight）'!H464=\"\",\"\",'名刺管理（Eight）'!H464)","v":""},{"$f":"IF('名刺管理（Eight）'!K464=\"\",\"\",'名刺管理（Eight）'!K464)","v":""},{"$f":"IF('名刺管理（Eight）'!L464=\"\",\"\",'名刺管理（Eight）'!L464)","v":""},{"$f":"IF('名刺管理（Eight）'!M464=\"\",\"\",'名刺管理（Eight）'!M464)","v":""},{"$f":"IF('名刺管理（Eight）'!N464=\"\",\"\",TEXT('名刺管理（Eight）'!N464,\"yyyy/m/d\"))","v":""}]
[{"$f":"LEFT('名刺管理（Eight）'!D465,D467)","v":""},{"$f":"RIGHT('名刺管理（Eight）'!D465,E467)","v":""},{"$f":"IF('名刺管理（Eight）'!D465=\"\",\"\",IF(LEN('名刺管理（Eight）'!D465)=D467+E467,\"\",\"不一致\"))","v":""},null,null,{"$f":"IF('名刺管理（Eight）'!A465=\"\",\"\",'名刺管理（Eight）'!A465)","v":""},{"$f":"IF('名刺管理（Eight）'!B465=\"\",\"\",'名刺管理（Eight）'!B465)","v":""},{"$f":"IF('名刺管理（Eight）'!C465=\"\",\"\",'名刺管理（Eight）'!C465)","v":""},{"$f":"IF('名刺管理（Eight）'!E465=\"\",\"\",'名刺管理（Eight）'!E465)","v":""},{"$f":"IF('名刺管理（Eight）'!F465=\"\",\"\",'名刺管理（Eight）'!F465)","v":""},{"$f":"IF('名刺管理（Eight）'!G465=\"\",\"\",IF(LEFT('名刺管理（Eight）'!G465,3)=\"神奈川\",LEFT('名刺管理（Eight）'!G465,4),IF(LEFT('名刺管理（Eight）'!G465,3)=\"和歌山\",LEFT('名刺管理（Eight）'!G465,4),IF(LEFT('名刺管理（Eight）'!G465,3)=\"鹿児島\",LEFT('名刺管理（Eight）'!G465,4),LEFT('名刺管理（Eight）'!G465,3)))))","v":""},{"$f":"IF(K467=\"\",\"\",IF(LEN(K467)=3,MID('名刺管理（Eight）'!G465,4,50),MID('名刺管理（Eight）'!G465,5,50)))","v":""},{"$f":"IF('名刺管理（Eight）'!H465=\"\",\"\",'名刺管理（Eight）'!H465)","v":""},{"$f":"IF('名刺管理（Eight）'!K465=\"\",\"\",'名刺管理（Eight）'!K465)","v":""},{"$f":"IF('名刺管理（Eight）'!L465=\"\",\"\",'名刺管理（Eight）'!L465)","v":""},{"$f":"IF('名刺管理（Eight）'!M465=\"\",\"\",'名刺管理（Eight）'!M465)","v":""},{"$f":"IF('名刺管理（Eight）'!N465=\"\",\"\",TEXT('名刺管理（Eight）'!N465,\"yyyy/m/d\"))","v":""}]
[{"$f":"LEFT('名刺管理（Eight）'!D466,D468)","v":""},{"$f":"RIGHT('名刺管理（Eight）'!D466,E468)","v":""},{"$f":"IF('名刺管理（Eight）'!D466=\"\",\"\",IF(LEN('名刺管理（Eight）'!D466)=D468+E468,\"\",\"不一致\"))","v":""},null,null,{"$f":"IF('名刺管理（Eight）'!A466=\"\",\"\",'名刺管理（Eight）'!A466)","v":""},{"$f":"IF('名刺管理（Eight）'!B466=\"\",\"\",'名刺管理（Eight）'!B466)","v":""},{"$f":"IF('名刺管理（Eight）'!C466=\"\",\"\",'名刺管理（Eight）'!C466)","v":""},{"$f":"IF('名刺管理（Eight）'!E466=\"\",\"\",'名刺管理（Eight）'!E466)","v":""},{"$f":"IF('名刺管理（Eight）'!F466=\"\",\"\",'名刺管理（Eight）'!F466)","v":""},{"$f":"IF('名刺管理（Eight）'!G466=\"\",\"\",IF(LEFT('名刺管理（Eight）'!G466,3)=\"神奈川\",LEFT('名刺管理（Eight）'!G466,4),IF(LEFT('名刺管理（Eight）'!G466,3)=\"和歌山\",LEFT('名刺管理（Eight）'!G466,4),IF(LEFT('名刺管理（Eight）'!G466,3)=\"鹿児島\",LEFT('名刺管理（Eight）'!G466,4),LEFT('名刺管理（Eight）'!G466,3)))))","v":""},{"$f":"IF(K468=\"\",\"\",IF(LEN(K468)=3,MID('名刺管理（Eight）'!G466,4,50),MID('名刺管理（Eight）'!G466,5,50)))","v":""},{"$f":"IF('名刺管理（Eight）'!H466=\"\",\"\",'名刺管理（Eight）'!H466)","v":""},{"$f":"IF('名刺管理（Eight）'!K466=\"\",\"\",'名刺管理（Eight）'!K466)","v":""},{"$f":"IF('名刺管理（Eight）'!L466=\"\",\"\",'名刺管理（Eight）'!L466)","v":""},{"$f":"IF('名刺管理（Eight）'!M466=\"\",\"\",'名刺管理（Eight）'!M466)","v":""},{"$f":"IF('名刺管理（Eight）'!N466=\"\",\"\",TEXT('名刺管理（Eight）'!N466,\"yyyy/m/d\"))","v":""}]
[{"$f":"LEFT('名刺管理（Eight）'!D467,D469)","v":""},{"$f":"RIGHT('名刺管理（Eight）'!D467,E469)","v":""},{"$f":"IF('名刺管理（Eight）'!D467=\"\",\"\",IF(LEN('名刺管理（Eight）'!D467)=D469+E469,\"\",\"不一致\"))","v":""},null,null,{"$f":"IF('名刺管理（Eight）'!A467=\"\",\"\",'名刺管理（Eight）'!A467)","v":""},{"$f":"IF('名刺管理（Eight）'!B467=\"\",\"\",'名刺管理（Eight）'!B467)","v":""},{"$f":"IF('名刺管理（Eight）'!C467=\"\",\"\",'名刺管理（Eight）'!C467)","v":""},{"$f":"IF('名刺管理（Eight）'!E467=\"\",\"\",'名刺管理（Eight）'!E467)","v":""},{"$f":"IF('名刺管理（Eight）'!F467=\"\",\"\",'名刺管理（Eight）'!F467)","v":""},{"$f":"IF('名刺管理（Eight）'!G467=\"\",\"\",IF(LEFT('名刺管理（Eight）'!G467,3)=\"神奈川\",LEFT('名刺管理（Eight）'!G467,4),IF(LEFT('名刺管理（Eight）'!G467,3)=\"和歌山\",LEFT('名刺管理（Eight）'!G467,4),IF(LEFT('名刺管理（Eight）'!G467,3)=\"鹿児島\",LEFT('名刺管理（Eight）'!G467,4),LEFT('名刺管理（Eight）'!G467,3)))))","v":""},{"$f":"IF(K469=\"\",\"\",IF(LEN(K469)=3,MID('名刺管理（Eight）'!G467,4,50),MID('名刺管理（Eight）'!G467,5,50)))","v":""},{"$f":"IF('名刺管理（Eight）'!H467=\"\",\"\",'名刺管理（Eight）'!H467)","v":""},{"$f":"IF('名刺管理（Eight）'!K467=\"\",\"\",'名刺管理（Eight）'!K467)","v":""},{"$f":"IF('名刺管理（Eight）'!L467=\"\",\"\",'名刺管理（Eight）'!L467)","v":""},{"$f":"IF('名刺管理（Eight）'!M467=\"\",\"\",'名刺管理（Eight）'!M467)","v":""},{"$f":"IF('名刺管理（Eight）'!N467=\"\",\"\",TEXT('名刺管理（Eight）'!N467,\"yyyy/m/d\"))","v":""}]
[{"$f":"LEFT('名刺管理（Eight）'!D468,D470)","v":""},{"$f":"RIGHT('名刺管理（Eight）'!D468,E470)","v":""},{"$f":"IF('名刺管理（Eight）'!D468=\"\",\"\",IF(LEN('名刺管理（Eight）'!D468)=D470+E470,\"\",\"不一致\"))","v":""},null,null,{"$f":"IF('名刺管理（Eight）'!A468=\"\",\"\",'名刺管理（Eight）'!A468)","v":""},{"$f":"IF('名刺管理（Eight）'!B468=\"\",\"\",'名刺管理（Eight）'!B468)","v":""},{"$f":"IF('名刺管理（Eight）'!C468=\"\",\"\",'名刺管理（Eight）'!C468)","v":""},{"$f":"IF('名刺管理（Eight）'!E468=\"\",\"\",'名刺管理（Eight）'!E468)","v":""},{"$f":"IF('名刺管理（Eight）'!F468=\"\",\"\",'名刺管理（Eight）'!F468)","v":""},{"$f":"IF('名刺管理（Eight）'!G468=\"\",\"\",IF(LEFT('名刺管理（Eight）'!G468,3)=\"神奈川\",LEFT('名刺管理（Eight）'!G468,4),IF(LEFT('名刺管理（Eight）'!G468,3)=\"和歌山\",LEFT('名刺管理（Eight）'!G468,4),IF(LEFT('名刺管理（Eight）'!G468,3)=\"鹿児島\",LEFT('名刺管理（Eight）'!G468,4),LEFT('名刺管理（Eight）'!G468,3)))))","v":""},{"$f":"IF(K470=\"\",\"\",IF(LEN(K470)=3,MID('名刺管理（Eight）'!G468,4,50),MID('名刺管理（Eight）'!G468,5,50)))","v":""},{"$f":"IF('名刺管理（Eight）'!H468=\"\",\"\",'名刺管理（Eight）'!H468)","v":""},{"$f":"IF('名刺管理（Eight）'!K468=\"\",\"\",'名刺管理（Eight）'!K468)","v":""},{"$f":"IF('名刺管理（Eight）'!L468=\"\",\"\",'名刺管理（Eight）'!L468)","v":""},{"$f":"IF('名刺管理（Eight）'!M468=\"\",\"\",'名刺管理（Eight）'!M468)","v":""},{"$f":"IF('名刺管理（Eight）'!N468=\"\",\"\",TEXT('名刺管理（Eight）'!N468,\"yyyy/m/d\"))","v":""}]
[{"$f":"LEFT('名刺管理（Eight）'!D469,D471)","v":""},{"$f":"RIGHT('名刺管理（Eight）'!D469,E471)","v":""},{"$f":"IF('名刺管理（Eight）'!D469=\"\",\"\",IF(LEN('名刺管理（Eight）'!D469)=D471+E471,\"\",\"不一致\"))","v":""},null,null,{"$f":"IF('名刺管理（Eight）'!A469=\"\",\"\",'名刺管理（Eight）'!A469)","v":""},{"$f":"IF('名刺管理（Eight）'!B469=\"\",\"\",'名刺管理（Eight）'!B469)","v":""},{"$f":"IF('名刺管理（Eight）'!C469=\"\",\"\",'名刺管理（Eight）'!C469)","v":""},{"$f":"IF('名刺管理（Eight）'!E469=\"\",\"\",'名刺管理（Eight）'!E469)","v":""},{"$f":"IF('名刺管理（Eight）'!F469=\"\",\"\",'名刺管理（Eight）'!F469)","v":""},{"$f":"IF('名刺管理（Eight）'!G469=\"\",\"\",IF(LEFT('名刺管理（Eight）'!G469,3)=\"神奈川\",LEFT('名刺管理（Eight）'!G469,4),IF(LEFT('名刺管理（Eight）'!G469,3)=\"和歌山\",LEFT('名刺管理（Eight）'!G469,4),IF(LEFT('名刺管理（Eight）'!G469,3)=\"鹿児島\",LEFT('名刺管理（Eight）'!G469,4),LEFT('名刺管理（Eight）'!G469,3)))))","v":""},{"$f":"IF(K471=\"\",\"\",IF(LEN(K471)=3,MID('名刺管理（Eight）'!G469,4,50),MID('名刺管理（Eight）'!G469,5,50)))","v":""},{"$f":"IF('名刺管理（Eight）'!H469=\"\",\"\",'名刺管理（Eight）'!H469)","v":""},{"$f":"IF('名刺管理（Eight）'!K469=\"\",\"\",'名刺管理（Eight）'!K469)","v":""},{"$f":"IF('名刺管理（Eight）'!L469=\"\",\"\",'名刺管理（Eight）'!L469)","v":""},{"$f":"IF('名刺管理（Eight）'!M469=\"\",\"\",'名刺管理（Eight）'!M469)","v":""},{"$f":"IF('名刺管理（Eight）'!N469=\"\",\"\",TEXT('名刺管理（Eight）'!N469,\"yyyy/m/d\"))","v":""}]
[{"$f":"LEFT('名刺管理（Eight）'!D470,D472)","v":""},{"$f":"RIGHT('名刺管理（Eight）'!D470,E472)","v":""},{"$f":"IF('名刺管理（Eight）'!D470=\"\",\"\",IF(LEN('名刺管理（Eight）'!D470)=D472+E472,\"\",\"不一致\"))","v":""},null,null,{"$f":"IF('名刺管理（Eight）'!A470=\"\",\"\",'名刺管理（Eight）'!A470)","v":""},{"$f":"IF('名刺管理（Eight）'!B470=\"\",\"\",'名刺管理（Eight）'!B470)","v":""},{"$f":"IF('名刺管理（Eight）'!C470=\"\",\"\",'名刺管理（Eight）'!C470)","v":""},{"$f":"IF('名刺管理（Eight）'!E470=\"\",\"\",'名刺管理（Eight）'!E470)","v":""},{"$f":"IF('名刺管理（Eight）'!F470=\"\",\"\",'名刺管理（Eight）'!F470)","v":""},{"$f":"IF('名刺管理（Eight）'!G470=\"\",\"\",IF(LEFT('名刺管理（Eight）'!G470,3)=\"神奈川\",LEFT('名刺管理（Eight）'!G470,4),IF(LEFT('名刺管理（Eight）'!G470,3)=\"和歌山\",LEFT('名刺管理（Eight）'!G470,4),IF(LEFT('名刺管理（Eight）'!G470,3)=\"鹿児島\",LEFT('名刺管理（Eight）'!G470,4),LEFT('名刺管理（Eight）'!G470,3)))))","v":""},{"$f":"IF(K472=\"\",\"\",IF(LEN(K472)=3,MID('名刺管理（Eight）'!G470,4,50),MID('名刺管理（Eight）'!G470,5,50)))","v":""},{"$f":"IF('名刺管理（Eight）'!H470=\"\",\"\",'名刺管理（Eight）'!H470)","v":""},{"$f":"IF('名刺管理（Eight）'!K470=\"\",\"\",'名刺管理（Eight）'!K470)","v":""},{"$f":"IF('名刺管理（Eight）'!L470=\"\",\"\",'名刺管理（Eight）'!L470)","v":""},{"$f":"IF('名刺管理（Eight）'!M470=\"\",\"\",'名刺管理（Eight）'!M470)","v":""},{"$f":"IF('名刺管理（Eight）'!N470=\"\",\"\",TEXT('名刺管理（Eight）'!N470,\"yyyy/m/d\"))","v":""}]
[{"$f":"LEFT('名刺管理（Eight）'!D471,D473)","v":""},{"$f":"RIGHT('名刺管理（Eight）'!D471,E473)","v":""},{"$f":"IF('名刺管理（Eight）'!D471=\"\",\"\",IF(LEN('名刺管理（Eight）'!D471)=D473+E473,\"\",\"不一致\"))","v":""},null,null,{"$f":"IF('名刺管理（Eight）'!A471=\"\",\"\",'名刺管理（Eight）'!A471)","v":""},{"$f":"IF('名刺管理（Eight）'!B471=\"\",\"\",'名刺管理（Eight）'!B471)","v":""},{"$f":"IF('名刺管理（Eight）'!C471=\"\",\"\",'名刺管理（Eight）'!C471)","v":""},{"$f":"IF('名刺管理（Eight）'!E471=\"\",\"\",'名刺管理（Eight）'!E471)","v":""},{"$f":"IF('名刺管理（Eight）'!F471=\"\",\"\",'名刺管理（Eight）'!F471)","v":""},{"$f":"IF('名刺管理（Eight）'!G471=\"\",\"\",IF(LEFT('名刺管理（Eight）'!G471,3)=\"神奈川\",LEFT('名刺管理（Eight）'!G471,4),IF(LEFT('名刺管理（Eight）'!G471,3)=\"和歌山\",LEFT('名刺管理（Eight）'!G471,4),IF(LEFT('名刺管理（Eight）'!G471,3)=\"鹿児島\",LEFT('名刺管理（Eight）'!G471,4),LEFT('名刺管理（Eight）'!G471,3)))))","v":""},{"$f":"IF(K473=\"\",\"\",IF(LEN(K473)=3,MID('名刺管理（Eight）'!G471,4,50),MID('名刺管理（Eight）'!G471,5,50)))","v":""},{"$f":"IF('名刺管理（Eight）'!H471=\"\",\"\",'名刺管理（Eight）'!H471)","v":""},{"$f":"IF('名刺管理（Eight）'!K471=\"\",\"\",'名刺管理（Eight）'!K471)","v":""},{"$f":"IF('名刺管理（Eight）'!L471=\"\",\"\",'名刺管理（Eight）'!L471)","v":""},{"$f":"IF('名刺管理（Eight）'!M471=\"\",\"\",'名刺管理（Eight）'!M471)","v":""},{"$f":"IF('名刺管理（Eight）'!N471=\"\",\"\",TEXT('名刺管理（Eight）'!N471,\"yyyy/m/d\"))","v":""}]
[{"$f":"LEFT('名刺管理（Eight）'!D472,D474)","v":""},{"$f":"RIGHT('名刺管理（Eight）'!D472,E474)","v":""},{"$f":"IF('名刺管理（Eight）'!D472=\"\",\"\",IF(LEN('名刺管理（Eight）'!D472)=D474+E474,\"\",\"不一致\"))","v":""},null,null,{"$f":"IF('名刺管理（Eight）'!A472=\"\",\"\",'名刺管理（Eight）'!A472)","v":""},{"$f":"IF('名刺管理（Eight）'!B472=\"\",\"\",'名刺管理（Eight）'!B472)","v":""},{"$f":"IF('名刺管理（Eight）'!C472=\"\",\"\",'名刺管理（Eight）'!C472)","v":""},{"$f":"IF('名刺管理（Eight）'!E472=\"\",\"\",'名刺管理（Eight）'!E472)","v":""},{"$f":"IF('名刺管理（Eight）'!F472=\"\",\"\",'名刺管理（Eight）'!F472)","v":""},{"$f":"IF('名刺管理（Eight）'!G472=\"\",\"\",IF(LEFT('名刺管理（Eight）'!G472,3)=\"神奈川\",LEFT('名刺管理（Eight）'!G472,4),IF(LEFT('名刺管理（Eight）'!G472,3)=\"和歌山\",LEFT('名刺管理（Eight）'!G472,4),IF(LEFT('名刺管理（Eight）'!G472,3)=\"鹿児島\",LEFT('名刺管理（Eight）'!G472,4),LEFT('名刺管理（Eight）'!G472,3)))))","v":""},{"$f":"IF(K474=\"\",\"\",IF(LEN(K474)=3,MID('名刺管理（Eight）'!G472,4,50),MID('名刺管理（Eight）'!G472,5,50)))","v":""},{"$f":"IF('名刺管理（Eight）'!H472=\"\",\"\",'名刺管理（Eight）'!H472)","v":""},{"$f":"IF('名刺管理（Eight）'!K472=\"\",\"\",'名刺管理（Eight）'!K472)","v":""},{"$f":"IF('名刺管理（Eight）'!L472=\"\",\"\",'名刺管理（Eight）'!L472)","v":""},{"$f":"IF('名刺管理（Eight）'!M472=\"\",\"\",'名刺管理（Eight）'!M472)","v":""},{"$f":"IF('名刺管理（Eight）'!N472=\"\",\"\",TEXT('名刺管理（Eight）'!N472,\"yyyy/m/d\"))","v":""}]
[{"$f":"LEFT('名刺管理（Eight）'!D473,D475)","v":""},{"$f":"RIGHT('名刺管理（Eight）'!D473,E475)","v":""},{"$f":"IF('名刺管理（Eight）'!D473=\"\",\"\",IF(LEN('名刺管理（Eight）'!D473)=D475+E475,\"\",\"不一致\"))","v":""},null,null,{"$f":"IF('名刺管理（Eight）'!A473=\"\",\"\",'名刺管理（Eight）'!A473)","v":""},{"$f":"IF('名刺管理（Eight）'!B473=\"\",\"\",'名刺管理（Eight）'!B473)","v":""},{"$f":"IF('名刺管理（Eight）'!C473=\"\",\"\",'名刺管理（Eight）'!C473)","v":""},{"$f":"IF('名刺管理（Eight）'!E473=\"\",\"\",'名刺管理（Eight）'!E473)","v":""},{"$f":"IF('名刺管理（Eight）'!F473=\"\",\"\",'名刺管理（Eight）'!F473)","v":""},{"$f":"IF('名刺管理（Eight）'!G473=\"\",\"\",IF(LEFT('名刺管理（Eight）'!G473,3)=\"神奈川\",LEFT('名刺管理（Eight）'!G473,4),IF(LEFT('名刺管理（Eight）'!G473,3)=\"和歌山\",LEFT('名刺管理（Eight）'!G473,4),IF(LEFT('名刺管理（Eight）'!G473,3)=\"鹿児島\",LEFT('名刺管理（Eight）'!G473,4),LEFT('名刺管理（Eight）'!G473,3)))))","v":""},{"$f":"IF(K475=\"\",\"\",IF(LEN(K475)=3,MID('名刺管理（Eight）'!G473,4,50),MID('名刺管理（Eight）'!G473,5,50)))","v":""},{"$f":"IF('名刺管理（Eight）'!H473=\"\",\"\",'名刺管理（Eight）'!H473)","v":""},{"$f":"IF('名刺管理（Eight）'!K473=\"\",\"\",'名刺管理（Eight）'!K473)","v":""},{"$f":"IF('名刺管理（Eight）'!L473=\"\",\"\",'名刺管理（Eight）'!L473)","v":""},{"$f":"IF('名刺管理（Eight）'!M473=\"\",\"\",'名刺管理（Eight）'!M473)","v":""},{"$f":"IF('名刺管理（Eight）'!N473=\"\",\"\",TEXT('名刺管理（Eight）'!N473,\"yyyy/m/d\"))","v":""}]
[{"$f":"LEFT('名刺管理（Eight）'!D474,D476)","v":""},{"$f":"RIGHT('名刺管理（Eight）'!D474,E476)","v":""},{"$f":"IF('名刺管理（Eight）'!D474=\"\",\"\",IF(LEN('名刺管理（Eight）'!D474)=D476+E476,\"\",\"不一致\"))","v":""},null,null,{"$f":"IF('名刺管理（Eight）'!A474=\"\",\"\",'名刺管理（Eight）'!A474)","v":""},{"$f":"IF('名刺管理（Eight）'!B474=\"\",\"\",'名刺管理（Eight）'!B474)","v":""},{"$f":"IF('名刺管理（Eight）'!C474=\"\",\"\",'名刺管理（Eight）'!C474)","v":""},{"$f":"IF('名刺管理（Eight）'!E474=\"\",\"\",'名刺管理（Eight）'!E474)","v":""},{"$f":"IF('名刺管理（Eight）'!F474=\"\",\"\",'名刺管理（Eight）'!F474)","v":""},{"$f":"IF('名刺管理（Eight）'!G474=\"\",\"\",IF(LEFT('名刺管理（Eight）'!G474,3)=\"神奈川\",LEFT('名刺管理（Eight）'!G474,4),IF(LEFT('名刺管理（Eight）'!G474,3)=\"和歌山\",LEFT('名刺管理（Eight）'!G474,4),IF(LEFT('名刺管理（Eight）'!G474,3)=\"鹿児島\",LEFT('名刺管理（Eight）'!G474,4),LEFT('名刺管理（Eight）'!G474,3)))))","v":""},{"$f":"IF(K476=\"\",\"\",IF(LEN(K476)=3,MID('名刺管理（Eight）'!G474,4,50),MID('名刺管理（Eight）'!G474,5,50)))","v":""},{"$f":"IF('名刺管理（Eight）'!H474=\"\",\"\",'名刺管理（Eight）'!H474)","v":""},{"$f":"IF('名刺管理（Eight）'!K474=\"\",\"\",'名刺管理（Eight）'!K474)","v":""},{"$f":"IF('名刺管理（Eight）'!L474=\"\",\"\",'名刺管理（Eight）'!L474)","v":""},{"$f":"IF('名刺管理（Eight）'!M474=\"\",\"\",'名刺管理（Eight）'!M474)","v":""},{"$f":"IF('名刺管理（Eight）'!N474=\"\",\"\",TEXT('名刺管理（Eight）'!N474,\"yyyy/m/d\"))","v":""}]
[{"$f":"LEFT('名刺管理（Eight）'!D475,D477)","v":""},{"$f":"RIGHT('名刺管理（Eight）'!D475,E477)","v":""},{"$f":"IF('名刺管理（Eight）'!D475=\"\",\"\",IF(LEN('名刺管理（Eight）'!D475)=D477+E477,\"\",\"不一致\"))","v":""},null,null,{"$f":"IF('名刺管理（Eight）'!A475=\"\",\"\",'名刺管理（Eight）'!A475)","v":""},{"$f":"IF('名刺管理（Eight）'!B475=\"\",\"\",'名刺管理（Eight）'!B475)","v":""},{"$f":"IF('名刺管理（Eight）'!C475=\"\",\"\",'名刺管理（Eight）'!C475)","v":""},{"$f":"IF('名刺管理（Eight）'!E475=\"\",\"\",'名刺管理（Eight）'!E475)","v":""},{"$f":"IF('名刺管理（Eight）'!F475=\"\",\"\",'名刺管理（Eight）'!F475)","v":""},{"$f":"IF('名刺管理（Eight）'!G475=\"\",\"\",IF(LEFT('名刺管理（Eight）'!G475,3)=\"神奈川\",LEFT('名刺管理（Eight）'!G475,4),IF(LEFT('名刺管理（Eight）'!G475,3)=\"和歌山\",LEFT('名刺管理（Eight）'!G475,4),IF(LEFT('名刺管理（Eight）'!G475,3)=\"鹿児島\",LEFT('名刺管理（Eight）'!G475,4),LEFT('名刺管理（Eight）'!G475,3)))))","v":""},{"$f":"IF(K477=\"\",\"\",IF(LEN(K477)=3,MID('名刺管理（Eight）'!G475,4,50),MID('名刺管理（Eight）'!G475,5,50)))","v":""},{"$f":"IF('名刺管理（Eight）'!H475=\"\",\"\",'名刺管理（Eight）'!H475)","v":""},{"$f":"IF('名刺管理（Eight）'!K475=\"\",\"\",'名刺管理（Eight）'!K475)","v":""},{"$f":"IF('名刺管理（Eight）'!L475=\"\",\"\",'名刺管理（Eight）'!L475)","v":""},{"$f":"IF('名刺管理（Eight）'!M475=\"\",\"\",'名刺管理（Eight）'!M475)","v":""},{"$f":"IF('名刺管理（Eight）'!N475=\"\",\"\",TEXT('名刺管理（Eight）'!N475,\"yyyy/m/d\"))","v":""}]
[{"$f":"LEFT('名刺管理（Eight）'!D476,D478)","v":""},{"$f":"RIGHT('名刺管理（Eight）'!D476,E478)","v":""},{"$f":"IF('名刺管理（Eight）'!D476=\"\",\"\",IF(LEN('名刺管理（Eight）'!D476)=D478+E478,\"\",\"不一致\"))","v":""},null,null,{"$f":"IF('名刺管理（Eight）'!A476=\"\",\"\",'名刺管理（Eight）'!A476)","v":""},{"$f":"IF('名刺管理（Eight）'!B476=\"\",\"\",'名刺管理（Eight）'!B476)","v":""},{"$f":"IF('名刺管理（Eight）'!C476=\"\",\"\",'名刺管理（Eight）'!C476)","v":""},{"$f":"IF('名刺管理（Eight）'!E476=\"\",\"\",'名刺管理（Eight）'!E476)","v":""},{"$f":"IF('名刺管理（Eight）'!F476=\"\",\"\",'名刺管理（Eight）'!F476)","v":""},{"$f":"IF('名刺管理（Eight）'!G476=\"\",\"\",IF(LEFT('名刺管理（Eight）'!G476,3)=\"神奈川\",LEFT('名刺管理（Eight）'!G476,4),IF(LEFT('名刺管理（Eight）'!G476,3)=\"和歌山\",LEFT('名刺管理（Eight）'!G476,4),IF(LEFT('名刺管理（Eight）'!G476,3)=\"鹿児島\",LEFT('名刺管理（Eight）'!G476,4),LEFT('名刺管理（Eight）'!G476,3)))))","v":""},{"$f":"IF(K478=\"\",\"\",IF(LEN(K478)=3,MID('名刺管理（Eight）'!G476,4,50),MID('名刺管理（Eight）'!G476,5,50)))","v":""},{"$f":"IF('名刺管理（Eight）'!H476=\"\",\"\",'名刺管理（Eight）'!H476)","v":""},{"$f":"IF('名刺管理（Eight）'!K476=\"\",\"\",'名刺管理（Eight）'!K476)","v":""},{"$f":"IF('名刺管理（Eight）'!L476=\"\",\"\",'名刺管理（Eight）'!L476)","v":""},{"$f":"IF('名刺管理（Eight）'!M476=\"\",\"\",'名刺管理（Eight）'!M476)","v":""},{"$f":"IF('名刺管理（Eight）'!N476=\"\",\"\",TEXT('名刺管理（Eight）'!N476,\"yyyy/m/d\"))","v":""}]
[{"$f":"LEFT('名刺管理（Eight）'!D477,D479)","v":""},{"$f":"RIGHT('名刺管理（Eight）'!D477,E479)","v":""},{"$f":"IF('名刺管理（Eight）'!D477=\"\",\"\",IF(LEN('名刺管理（Eight）'!D477)=D479+E479,\"\",\"不一致\"))","v":""},null,null,{"$f":"IF('名刺管理（Eight）'!A477=\"\",\"\",'名刺管理（Eight）'!A477)","v":""},{"$f":"IF('名刺管理（Eight）'!B477=\"\",\"\",'名刺管理（Eight）'!B477)","v":""},{"$f":"IF('名刺管理（Eight）'!C477=\"\",\"\",'名刺管理（Eight）'!C477)","v":""},{"$f":"IF('名刺管理（Eight）'!E477=\"\",\"\",'名刺管理（Eight）'!E477)","v":""},{"$f":"IF('名刺管理（Eight）'!F477=\"\",\"\",'名刺管理（Eight）'!F477)","v":""},{"$f":"IF('名刺管理（Eight）'!G477=\"\",\"\",IF(LEFT('名刺管理（Eight）'!G477,3)=\"神奈川\",LEFT('名刺管理（Eight）'!G477,4),IF(LEFT('名刺管理（Eight）'!G477,3)=\"和歌山\",LEFT('名刺管理（Eight）'!G477,4),IF(LEFT('名刺管理（Eight）'!G477,3)=\"鹿児島\",LEFT('名刺管理（Eight）'!G477,4),LEFT('名刺管理（Eight）'!G477,3)))))","v":""},{"$f":"IF(K479=\"\",\"\",IF(LEN(K479)=3,MID('名刺管理（Eight）'!G477,4,50),MID('名刺管理（Eight）'!G477,5,50)))","v":""},{"$f":"IF('名刺管理（Eight）'!H477=\"\",\"\",'名刺管理（Eight）'!H477)","v":""},{"$f":"IF('名刺管理（Eight）'!K477=\"\",\"\",'名刺管理（Eight）'!K477)","v":""},{"$f":"IF('名刺管理（Eight）'!L477=\"\",\"\",'名刺管理（Eight）'!L477)","v":""},{"$f":"IF('名刺管理（Eight）'!M477=\"\",\"\",'名刺管理（Eight）'!M477)","v":""},{"$f":"IF('名刺管理（Eight）'!N477=\"\",\"\",TEXT('名刺管理（Eight）'!N477,\"yyyy/m/d\"))","v":""}]
[{"$f":"LEFT('名刺管理（Eight）'!D478,D480)","v":""},{"$f":"RIGHT('名刺管理（Eight）'!D478,E480)","v":""},{"$f":"IF('名刺管理（Eight）'!D478=\"\",\"\",IF(LEN('名刺管理（Eight）'!D478)=D480+E480,\"\",\"不一致\"))","v":""},null,null,{"$f":"IF('名刺管理（Eight）'!A478=\"\",\"\",'名刺管理（Eight）'!A478)","v":""},{"$f":"IF('名刺管理（Eight）'!B478=\"\",\"\",'名刺管理（Eight）'!B478)","v":""},{"$f":"IF('名刺管理（Eight）'!C478=\"\",\"\",'名刺管理（Eight）'!C478)","v":""},{"$f":"IF('名刺管理（Eight）'!E478=\"\",\"\",'名刺管理（Eight）'!E478)","v":""},{"$f":"IF('名刺管理（Eight）'!F478=\"\",\"\",'名刺管理（Eight）'!F478)","v":""},{"$f":"IF('名刺管理（Eight）'!G478=\"\",\"\",IF(LEFT('名刺管理（Eight）'!G478,3)=\"神奈川\",LEFT('名刺管理（Eight）'!G478,4),IF(LEFT('名刺管理（Eight）'!G478,3)=\"和歌山\",LEFT('名刺管理（Eight）'!G478,4),IF(LEFT('名刺管理（Eight）'!G478,3)=\"鹿児島\",LEFT('名刺管理（Eight）'!G478,4),LEFT('名刺管理（Eight）'!G478,3)))))","v":""},{"$f":"IF(K480=\"\",\"\",IF(LEN(K480)=3,MID('名刺管理（Eight）'!G478,4,50),MID('名刺管理（Eight）'!G478,5,50)))","v":""},{"$f":"IF('名刺管理（Eight）'!H478=\"\",\"\",'名刺管理（Eight）'!H478)","v":""},{"$f":"IF('名刺管理（Eight）'!K478=\"\",\"\",'名刺管理（Eight）'!K478)","v":""},{"$f":"IF('名刺管理（Eight）'!L478=\"\",\"\",'名刺管理（Eight）'!L478)","v":""},{"$f":"IF('名刺管理（Eight）'!M478=\"\",\"\",'名刺管理（Eight）'!M478)","v":""},{"$f":"IF('名刺管理（Eight）'!N478=\"\",\"\",TEXT('名刺管理（Eight）'!N478,\"yyyy/m/d\"))","v":""}]
[{"$f":"LEFT('名刺管理（Eight）'!D479,D481)","v":""},{"$f":"RIGHT('名刺管理（Eight）'!D479,E481)","v":""},{"$f":"IF('名刺管理（Eight）'!D479=\"\",\"\",IF(LEN('名刺管理（Eight）'!D479)=D481+E481,\"\",\"不一致\"))","v":""},null,null,{"$f":"IF('名刺管理（Eight）'!A479=\"\",\"\",'名刺管理（Eight）'!A479)","v":""},{"$f":"IF('名刺管理（Eight）'!B479=\"\",\"\",'名刺管理（Eight）'!B479)","v":""},{"$f":"IF('名刺管理（Eight）'!C479=\"\",\"\",'名刺管理（Eight）'!C479)","v":""},{"$f":"IF('名刺管理（Eight）'!E479=\"\",\"\",'名刺管理（Eight）'!E479)","v":""},{"$f":"IF('名刺管理（Eight）'!F479=\"\",\"\",'名刺管理（Eight）'!F479)","v":""},{"$f":"IF('名刺管理（Eight）'!G479=\"\",\"\",IF(LEFT('名刺管理（Eight）'!G479,3)=\"神奈川\",LEFT('名刺管理（Eight）'!G479,4),IF(LEFT('名刺管理（Eight）'!G479,3)=\"和歌山\",LEFT('名刺管理（Eight）'!G479,4),IF(LEFT('名刺管理（Eight）'!G479,3)=\"鹿児島\",LEFT('名刺管理（Eight）'!G479,4),LEFT('名刺管理（Eight）'!G479,3)))))","v":""},{"$f":"IF(K481=\"\",\"\",IF(LEN(K481)=3,MID('名刺管理（Eight）'!G479,4,50),MID('名刺管理（Eight）'!G479,5,50)))","v":""},{"$f":"IF('名刺管理（Eight）'!H479=\"\",\"\",'名刺管理（Eight）'!H479)","v":""},{"$f":"IF('名刺管理（Eight）'!K479=\"\",\"\",'名刺管理（Eight）'!K479)","v":""},{"$f":"IF('名刺管理（Eight）'!L479=\"\",\"\",'名刺管理（Eight）'!L479)","v":""},{"$f":"IF('名刺管理（Eight）'!M479=\"\",\"\",'名刺管理（Eight）'!M479)","v":""},{"$f":"IF('名刺管理（Eight）'!N479=\"\",\"\",TEXT('名刺管理（Eight）'!N479,\"yyyy/m/d\"))","v":""}]
[{"$f":"LEFT('名刺管理（Eight）'!D480,D482)","v":""},{"$f":"RIGHT('名刺管理（Eight）'!D480,E482)","v":""},{"$f":"IF('名刺管理（Eight）'!D480=\"\",\"\",IF(LEN('名刺管理（Eight）'!D480)=D482+E482,\"\",\"不一致\"))","v":""},null,null,{"$f":"IF('名刺管理（Eight）'!A480=\"\",\"\",'名刺管理（Eight）'!A480)","v":""},{"$f":"IF('名刺管理（Eight）'!B480=\"\",\"\",'名刺管理（Eight）'!B480)","v":""},{"$f":"IF('名刺管理（Eight）'!C480=\"\",\"\",'名刺管理（Eight）'!C480)","v":""},{"$f":"IF('名刺管理（Eight）'!E480=\"\",\"\",'名刺管理（Eight）'!E480)","v":""},{"$f":"IF('名刺管理（Eight）'!F480=\"\",\"\",'名刺管理（Eight）'!F480)","v":""},{"$f":"IF('名刺管理（Eight）'!G480=\"\",\"\",IF(LEFT('名刺管理（Eight）'!G480,3)=\"神奈川\",LEFT('名刺管理（Eight）'!G480,4),IF(LEFT('名刺管理（Eight）'!G480,3)=\"和歌山\",LEFT('名刺管理（Eight）'!G480,4),IF(LEFT('名刺管理（Eight）'!G480,3)=\"鹿児島\",LEFT('名刺管理（Eight）'!G480,4),LEFT('名刺管理（Eight）'!G480,3)))))","v":""},{"$f":"IF(K482=\"\",\"\",IF(LEN(K482)=3,MID('名刺管理（Eight）'!G480,4,50),MID('名刺管理（Eight）'!G480,5,50)))","v":""},{"$f":"IF('名刺管理（Eight）'!H480=\"\",\"\",'名刺管理（Eight）'!H480)","v":""},{"$f":"IF('名刺管理（Eight）'!K480=\"\",\"\",'名刺管理（Eight）'!K480)","v":""},{"$f":"IF('名刺管理（Eight）'!L480=\"\",\"\",'名刺管理（Eight）'!L480)","v":""},{"$f":"IF('名刺管理（Eight）'!M480=\"\",\"\",'名刺管理（Eight）'!M480)","v":""},{"$f":"IF('名刺管理（Eight）'!N480=\"\",\"\",TEXT('名刺管理（Eight）'!N480,\"yyyy/m/d\"))","v":""}]
[{"$f":"LEFT('名刺管理（Eight）'!D481,D483)","v":""},{"$f":"RIGHT('名刺管理（Eight）'!D481,E483)","v":""},{"$f":"IF('名刺管理（Eight）'!D481=\"\",\"\",IF(LEN('名刺管理（Eight）'!D481)=D483+E483,\"\",\"不一致\"))","v":""},null,null,{"$f":"IF('名刺管理（Eight）'!A481=\"\",\"\",'名刺管理（Eight）'!A481)","v":""},{"$f":"IF('名刺管理（Eight）'!B481=\"\",\"\",'名刺管理（Eight）'!B481)","v":""},{"$f":"IF('名刺管理（Eight）'!C481=\"\",\"\",'名刺管理（Eight）'!C481)","v":""},{"$f":"IF('名刺管理（Eight）'!E481=\"\",\"\",'名刺管理（Eight）'!E481)","v":""},{"$f":"IF('名刺管理（Eight）'!F481=\"\",\"\",'名刺管理（Eight）'!F481)","v":""},{"$f":"IF('名刺管理（Eight）'!G481=\"\",\"\",IF(LEFT('名刺管理（Eight）'!G481,3)=\"神奈川\",LEFT('名刺管理（Eight）'!G481,4),IF(LEFT('名刺管理（Eight）'!G481,3)=\"和歌山\",LEFT('名刺管理（Eight）'!G481,4),IF(LEFT('名刺管理（Eight）'!G481,3)=\"鹿児島\",LEFT('名刺管理（Eight）'!G481,4),LEFT('名刺管理（Eight）'!G481,3)))))","v":""},{"$f":"IF(K483=\"\",\"\",IF(LEN(K483)=3,MID('名刺管理（Eight）'!G481,4,50),MID('名刺管理（Eight）'!G481,5,50)))","v":""},{"$f":"IF('名刺管理（Eight）'!H481=\"\",\"\",'名刺管理（Eight）'!H481)","v":""},{"$f":"IF('名刺管理（Eight）'!K481=\"\",\"\",'名刺管理（Eight）'!K481)","v":""},{"$f":"IF('名刺管理（Eight）'!L481=\"\",\"\",'名刺管理（Eight）'!L481)","v":""},{"$f":"IF('名刺管理（Eight）'!M481=\"\",\"\",'名刺管理（Eight）'!M481)","v":""},{"$f":"IF('名刺管理（Eight）'!N481=\"\",\"\",TEXT('名刺管理（Eight）'!N481,\"yyyy/m/d\"))","v":""}]
[{"$f":"LEFT('名刺管理（Eight）'!D482,D484)","v":""},{"$f":"RIGHT('名刺管理（Eight）'!D482,E484)","v":""},{"$f":"IF('名刺管理（Eight）'!D482=\"\",\"\",IF(LEN('名刺管理（Eight）'!D482)=D484+E484,\"\",\"不一致\"))","v":""},null,null,{"$f":"IF('名刺管理（Eight）'!A482=\"\",\"\",'名刺管理（Eight）'!A482)","v":""},{"$f":"IF('名刺管理（Eight）'!B482=\"\",\"\",'名刺管理（Eight）'!B482)","v":""},{"$f":"IF('名刺管理（Eight）'!C482=\"\",\"\",'名刺管理（Eight）'!C482)","v":""},{"$f":"IF('名刺管理（Eight）'!E482=\"\",\"\",'名刺管理（Eight）'!E482)","v":""},{"$f":"IF('名刺管理（Eight）'!F482=\"\",\"\",'名刺管理（Eight）'!F482)","v":""},{"$f":"IF('名刺管理（Eight）'!G482=\"\",\"\",IF(LEFT('名刺管理（Eight）'!G482,3)=\"神奈川\",LEFT('名刺管理（Eight）'!G482,4),IF(LEFT('名刺管理（Eight）'!G482,3)=\"和歌山\",LEFT('名刺管理（Eight）'!G482,4),IF(LEFT('名刺管理（Eight）'!G482,3)=\"鹿児島\",LEFT('名刺管理（Eight）'!G482,4),LEFT('名刺管理（Eight）'!G482,3)))))","v":""},{"$f":"IF(K484=\"\",\"\",IF(LEN(K484)=3,MID('名刺管理（Eight）'!G482,4,50),MID('名刺管理（Eight）'!G482,5,50)))","v":""},{"$f":"IF('名刺管理（Eight）'!H482=\"\",\"\",'名刺管理（Eight）'!H482)","v":""},{"$f":"IF('名刺管理（Eight）'!K482=\"\",\"\",'名刺管理（Eight）'!K482)","v":""},{"$f":"IF('名刺管理（Eight）'!L482=\"\",\"\",'名刺管理（Eight）'!L482)","v":""},{"$f":"IF('名刺管理（Eight）'!M482=\"\",\"\",'名刺管理（Eight）'!M482)","v":""},{"$f":"IF('名刺管理（Eight）'!N482=\"\",\"\",TEXT('名刺管理（Eight）'!N482,\"yyyy/m/d\"))","v":""}]
[{"$f":"LEFT('名刺管理（Eight）'!D483,D485)","v":""},{"$f":"RIGHT('名刺管理（Eight）'!D483,E485)","v":""},{"$f":"IF('名刺管理（Eight）'!D483=\"\",\"\",IF(LEN('名刺管理（Eight）'!D483)=D485+E485,\"\",\"不一致\"))","v":""},null,null,{"$f":"IF('名刺管理（Eight）'!A483=\"\",\"\",'名刺管理（Eight）'!A483)","v":""},{"$f":"IF('名刺管理（Eight）'!B483=\"\",\"\",'名刺管理（Eight）'!B483)","v":""},{"$f":"IF('名刺管理（Eight）'!C483=\"\",\"\",'名刺管理（Eight）'!C483)","v":""},{"$f":"IF('名刺管理（Eight）'!E483=\"\",\"\",'名刺管理（Eight）'!E483)","v":""},{"$f":"IF('名刺管理（Eight）'!F483=\"\",\"\",'名刺管理（Eight）'!F483)","v":""},{"$f":"IF('名刺管理（Eight）'!G483=\"\",\"\",IF(LEFT('名刺管理（Eight）'!G483,3)=\"神奈川\",LEFT('名刺管理（Eight）'!G483,4),IF(LEFT('名刺管理（Eight）'!G483,3)=\"和歌山\",LEFT('名刺管理（Eight）'!G483,4),IF(LEFT('名刺管理（Eight）'!G483,3)=\"鹿児島\",LEFT('名刺管理（Eight）'!G483,4),LEFT('名刺管理（Eight）'!G483,3)))))","v":""},{"$f":"IF(K485=\"\",\"\",IF(LEN(K485)=3,MID('名刺管理（Eight）'!G483,4,50),MID('名刺管理（Eight）'!G483,5,50)))","v":""},{"$f":"IF('名刺管理（Eight）'!H483=\"\",\"\",'名刺管理（Eight）'!H483)","v":""},{"$f":"IF('名刺管理（Eight）'!K483=\"\",\"\",'名刺管理（Eight）'!K483)","v":""},{"$f":"IF('名刺管理（Eight）'!L483=\"\",\"\",'名刺管理（Eight）'!L483)","v":""},{"$f":"IF('名刺管理（Eight）'!M483=\"\",\"\",'名刺管理（Eight）'!M483)","v":""},{"$f":"IF('名刺管理（Eight）'!N483=\"\",\"\",TEXT('名刺管理（Eight）'!N483,\"yyyy/m/d\"))","v":""}]
[{"$f":"LEFT('名刺管理（Eight）'!D484,D486)","v":""},{"$f":"RIGHT('名刺管理（Eight）'!D484,E486)","v":""},{"$f":"IF('名刺管理（Eight）'!D484=\"\",\"\",IF(LEN('名刺管理（Eight）'!D484)=D486+E486,\"\",\"不一致\"))","v":""},null,null,{"$f":"IF('名刺管理（Eight）'!A484=\"\",\"\",'名刺管理（Eight）'!A484)","v":""},{"$f":"IF('名刺管理（Eight）'!B484=\"\",\"\",'名刺管理（Eight）'!B484)","v":""},{"$f":"IF('名刺管理（Eight）'!C484=\"\",\"\",'名刺管理（Eight）'!C484)","v":""},{"$f":"IF('名刺管理（Eight）'!E484=\"\",\"\",'名刺管理（Eight）'!E484)","v":""},{"$f":"IF('名刺管理（Eight）'!F484=\"\",\"\",'名刺管理（Eight）'!F484)","v":""},{"$f":"IF('名刺管理（Eight）'!G484=\"\",\"\",IF(LEFT('名刺管理（Eight）'!G484,3)=\"神奈川\",LEFT('名刺管理（Eight）'!G484,4),IF(LEFT('名刺管理（Eight）'!G484,3)=\"和歌山\",LEFT('名刺管理（Eight）'!G484,4),IF(LEFT('名刺管理（Eight）'!G484,3)=\"鹿児島\",LEFT('名刺管理（Eight）'!G484,4),LEFT('名刺管理（Eight）'!G484,3)))))","v":""},{"$f":"IF(K486=\"\",\"\",IF(LEN(K486)=3,MID('名刺管理（Eight）'!G484,4,50),MID('名刺管理（Eight）'!G484,5,50)))","v":""},{"$f":"IF('名刺管理（Eight）'!H484=\"\",\"\",'名刺管理（Eight）'!H484)","v":""},{"$f":"IF('名刺管理（Eight）'!K484=\"\",\"\",'名刺管理（Eight）'!K484)","v":""},{"$f":"IF('名刺管理（Eight）'!L484=\"\",\"\",'名刺管理（Eight）'!L484)","v":""},{"$f":"IF('名刺管理（Eight）'!M484=\"\",\"\",'名刺管理（Eight）'!M484)","v":""},{"$f":"IF('名刺管理（Eight）'!N484=\"\",\"\",TEXT('名刺管理（Eight）'!N484,\"yyyy/m/d\"))","v":""}]
[{"$f":"LEFT('名刺管理（Eight）'!D485,D487)","v":""},{"$f":"RIGHT('名刺管理（Eight）'!D485,E487)","v":""},{"$f":"IF('名刺管理（Eight）'!D485=\"\",\"\",IF(LEN('名刺管理（Eight）'!D485)=D487+E487,\"\",\"不一致\"))","v":""},null,null,{"$f":"IF('名刺管理（Eight）'!A485=\"\",\"\",'名刺管理（Eight）'!A485)","v":""},{"$f":"IF('名刺管理（Eight）'!B485=\"\",\"\",'名刺管理（Eight）'!B485)","v":""},{"$f":"IF('名刺管理（Eight）'!C485=\"\",\"\",'名刺管理（Eight）'!C485)","v":""},{"$f":"IF('名刺管理（Eight）'!E485=\"\",\"\",'名刺管理（Eight）'!E485)","v":""},{"$f":"IF('名刺管理（Eight）'!F485=\"\",\"\",'名刺管理（Eight）'!F485)","v":""},{"$f":"IF('名刺管理（Eight）'!G485=\"\",\"\",IF(LEFT('名刺管理（Eight）'!G485,3)=\"神奈川\",LEFT('名刺管理（Eight）'!G485,4),IF(LEFT('名刺管理（Eight）'!G485,3)=\"和歌山\",LEFT('名刺管理（Eight）'!G485,4),IF(LEFT('名刺管理（Eight）'!G485,3)=\"鹿児島\",LEFT('名刺管理（Eight）'!G485,4),LEFT('名刺管理（Eight）'!G485,3)))))","v":""},{"$f":"IF(K487=\"\",\"\",IF(LEN(K487)=3,MID('名刺管理（Eight）'!G485,4,50),MID('名刺管理（Eight）'!G485,5,50)))","v":""},{"$f":"IF('名刺管理（Eight）'!H485=\"\",\"\",'名刺管理（Eight）'!H485)","v":""},{"$f":"IF('名刺管理（Eight）'!K485=\"\",\"\",'名刺管理（Eight）'!K485)","v":""},{"$f":"IF('名刺管理（Eight）'!L485=\"\",\"\",'名刺管理（Eight）'!L485)","v":""},{"$f":"IF('名刺管理（Eight）'!M485=\"\",\"\",'名刺管理（Eight）'!M485)","v":""},{"$f":"IF('名刺管理（Eight）'!N485=\"\",\"\",TEXT('名刺管理（Eight）'!N485,\"yyyy/m/d\"))","v":""}]
[{"$f":"LEFT('名刺管理（Eight）'!D486,D488)","v":""},{"$f":"RIGHT('名刺管理（Eight）'!D486,E488)","v":""},{"$f":"IF('名刺管理（Eight）'!D486=\"\",\"\",IF(LEN('名刺管理（Eight）'!D486)=D488+E488,\"\",\"不一致\"))","v":""},null,null,{"$f":"IF('名刺管理（Eight）'!A486=\"\",\"\",'名刺管理（Eight）'!A486)","v":""},{"$f":"IF('名刺管理（Eight）'!B486=\"\",\"\",'名刺管理（Eight）'!B486)","v":""},{"$f":"IF('名刺管理（Eight）'!C486=\"\",\"\",'名刺管理（Eight）'!C486)","v":""},{"$f":"IF('名刺管理（Eight）'!E486=\"\",\"\",'名刺管理（Eight）'!E486)","v":""},{"$f":"IF('名刺管理（Eight）'!F486=\"\",\"\",'名刺管理（Eight）'!F486)","v":""},{"$f":"IF('名刺管理（Eight）'!G486=\"\",\"\",IF(LEFT('名刺管理（Eight）'!G486,3)=\"神奈川\",LEFT('名刺管理（Eight）'!G486,4),IF(LEFT('名刺管理（Eight）'!G486,3)=\"和歌山\",LEFT('名刺管理（Eight）'!G486,4),IF(LEFT('名刺管理（Eight）'!G486,3)=\"鹿児島\",LEFT('名刺管理（Eight）'!G486,4),LEFT('名刺管理（Eight）'!G486,3)))))","v":""},{"$f":"IF(K488=\"\",\"\",IF(LEN(K488)=3,MID('名刺管理（Eight）'!G486,4,50),MID('名刺管理（Eight）'!G486,5,50)))","v":""},{"$f":"IF('名刺管理（Eight）'!H486=\"\",\"\",'名刺管理（Eight）'!H486)","v":""},{"$f":"IF('名刺管理（Eight）'!K486=\"\",\"\",'名刺管理（Eight）'!K486)","v":""},{"$f":"IF('名刺管理（Eight）'!L486=\"\",\"\",'名刺管理（Eight）'!L486)","v":""},{"$f":"IF('名刺管理（Eight）'!M486=\"\",\"\",'名刺管理（Eight）'!M486)","v":""},{"$f":"IF('名刺管理（Eight）'!N486=\"\",\"\",TEXT('名刺管理（Eight）'!N486,\"yyyy/m/d\"))","v":""}]
[{"$f":"LEFT('名刺管理（Eight）'!D487,D489)","v":""},{"$f":"RIGHT('名刺管理（Eight）'!D487,E489)","v":""},{"$f":"IF('名刺管理（Eight）'!D487=\"\",\"\",IF(LEN('名刺管理（Eight）'!D487)=D489+E489,\"\",\"不一致\"))","v":""},null,null,{"$f":"IF('名刺管理（Eight）'!A487=\"\",\"\",'名刺管理（Eight）'!A487)","v":""},{"$f":"IF('名刺管理（Eight）'!B487=\"\",\"\",'名刺管理（Eight）'!B487)","v":""},{"$f":"IF('名刺管理（Eight）'!C487=\"\",\"\",'名刺管理（Eight）'!C487)","v":""},{"$f":"IF('名刺管理（Eight）'!E487=\"\",\"\",'名刺管理（Eight）'!E487)","v":""},{"$f":"IF('名刺管理（Eight）'!F487=\"\",\"\",'名刺管理（Eight）'!F487)","v":""},{"$f":"IF('名刺管理（Eight）'!G487=\"\",\"\",IF(LEFT('名刺管理（Eight）'!G487,3)=\"神奈川\",LEFT('名刺管理（Eight）'!G487,4),IF(LEFT('名刺管理（Eight）'!G487,3)=\"和歌山\",LEFT('名刺管理（Eight）'!G487,4),IF(LEFT('名刺管理（Eight）'!G487,3)=\"鹿児島\",LEFT('名刺管理（Eight）'!G487,4),LEFT('名刺管理（Eight）'!G487,3)))))","v":""},{"$f":"IF(K489=\"\",\"\",IF(LEN(K489)=3,MID('名刺管理（Eight）'!G487,4,50),MID('名刺管理（Eight）'!G487,5,50)))","v":""},{"$f":"IF('名刺管理（Eight）'!H487=\"\",\"\",'名刺管理（Eight）'!H487)","v":""},{"$f":"IF('名刺管理（Eight）'!K487=\"\",\"\",'名刺管理（Eight）'!K487)","v":""},{"$f":"IF('名刺管理（Eight）'!L487=\"\",\"\",'名刺管理（Eight）'!L487)","v":""},{"$f":"IF('名刺管理（Eight）'!M487=\"\",\"\",'名刺管理（Eight）'!M487)","v":""},{"$f":"IF('名刺管理（Eight）'!N487=\"\",\"\",TEXT('名刺管理（Eight）'!N487,\"yyyy/m/d\"))","v":""}]
[{"$f":"LEFT('名刺管理（Eight）'!D488,D490)","v":""},{"$f":"RIGHT('名刺管理（Eight）'!D488,E490)","v":""},{"$f":"IF('名刺管理（Eight）'!D488=\"\",\"\",IF(LEN('名刺管理（Eight）'!D488)=D490+E490,\"\",\"不一致\"))","v":""},null,null,{"$f":"IF('名刺管理（Eight）'!A488=\"\",\"\",'名刺管理（Eight）'!A488)","v":""},{"$f":"IF('名刺管理（Eight）'!B488=\"\",\"\",'名刺管理（Eight）'!B488)","v":""},{"$f":"IF('名刺管理（Eight）'!C488=\"\",\"\",'名刺管理（Eight）'!C488)","v":""},{"$f":"IF('名刺管理（Eight）'!E488=\"\",\"\",'名刺管理（Eight）'!E488)","v":""},{"$f":"IF('名刺管理（Eight）'!F488=\"\",\"\",'名刺管理（Eight）'!F488)","v":""},{"$f":"IF('名刺管理（Eight）'!G488=\"\",\"\",IF(LEFT('名刺管理（Eight）'!G488,3)=\"神奈川\",LEFT('名刺管理（Eight）'!G488,4),IF(LEFT('名刺管理（Eight）'!G488,3)=\"和歌山\",LEFT('名刺管理（Eight）'!G488,4),IF(LEFT('名刺管理（Eight）'!G488,3)=\"鹿児島\",LEFT('名刺管理（Eight）'!G488,4),LEFT('名刺管理（Eight）'!G488,3)))))","v":""},{"$f":"IF(K490=\"\",\"\",IF(LEN(K490)=3,MID('名刺管理（Eight）'!G488,4,50),MID('名刺管理（Eight）'!G488,5,50)))","v":""},{"$f":"IF('名刺管理（Eight）'!H488=\"\",\"\",'名刺管理（Eight）'!H488)","v":""},{"$f":"IF('名刺管理（Eight）'!K488=\"\",\"\",'名刺管理（Eight）'!K488)","v":""},{"$f":"IF('名刺管理（Eight）'!L488=\"\",\"\",'名刺管理（Eight）'!L488)","v":""},{"$f":"IF('名刺管理（Eight）'!M488=\"\",\"\",'名刺管理（Eight）'!M488)","v":""},{"$f":"IF('名刺管理（Eight）'!N488=\"\",\"\",TEXT('名刺管理（Eight）'!N488,\"yyyy/m/d\"))","v":""}]
[{"$f":"LEFT('名刺管理（Eight）'!D489,D491)","v":""},{"$f":"RIGHT('名刺管理（Eight）'!D489,E491)","v":""},{"$f":"IF('名刺管理（Eight）'!D489=\"\",\"\",IF(LEN('名刺管理（Eight）'!D489)=D491+E491,\"\",\"不一致\"))","v":""},null,null,{"$f":"IF('名刺管理（Eight）'!A489=\"\",\"\",'名刺管理（Eight）'!A489)","v":""},{"$f":"IF('名刺管理（Eight）'!B489=\"\",\"\",'名刺管理（Eight）'!B489)","v":""},{"$f":"IF('名刺管理（Eight）'!C489=\"\",\"\",'名刺管理（Eight）'!C489)","v":""},{"$f":"IF('名刺管理（Eight）'!E489=\"\",\"\",'名刺管理（Eight）'!E489)","v":""},{"$f":"IF('名刺管理（Eight）'!F489=\"\",\"\",'名刺管理（Eight）'!F489)","v":""},{"$f":"IF('名刺管理（Eight）'!G489=\"\",\"\",IF(LEFT('名刺管理（Eight）'!G489,3)=\"神奈川\",LEFT('名刺管理（Eight）'!G489,4),IF(LEFT('名刺管理（Eight）'!G489,3)=\"和歌山\",LEFT('名刺管理（Eight）'!G489,4),IF(LEFT('名刺管理（Eight）'!G489,3)=\"鹿児島\",LEFT('名刺管理（Eight）'!G489,4),LEFT('名刺管理（Eight）'!G489,3)))))","v":""},{"$f":"IF(K491=\"\",\"\",IF(LEN(K491)=3,MID('名刺管理（Eight）'!G489,4,50),MID('名刺管理（Eight）'!G489,5,50)))","v":""},{"$f":"IF('名刺管理（Eight）'!H489=\"\",\"\",'名刺管理（Eight）'!H489)","v":""},{"$f":"IF('名刺管理（Eight）'!K489=\"\",\"\",'名刺管理（Eight）'!K489)","v":""},{"$f":"IF('名刺管理（Eight）'!L489=\"\",\"\",'名刺管理（Eight）'!L489)","v":""},{"$f":"IF('名刺管理（Eight）'!M489=\"\",\"\",'名刺管理（Eight）'!M489)","v":""},{"$f":"IF('名刺管理（Eight）'!N489=\"\",\"\",TEXT('名刺管理（Eight）'!N489,\"yyyy/m/d\"))","v":""}]
[{"$f":"LEFT('名刺管理（Eight）'!D490,D492)","v":""},{"$f":"RIGHT('名刺管理（Eight）'!D490,E492)","v":""},{"$f":"IF('名刺管理（Eight）'!D490=\"\",\"\",IF(LEN('名刺管理（Eight）'!D490)=D492+E492,\"\",\"不一致\"))","v":""},null,null,{"$f":"IF('名刺管理（Eight）'!A490=\"\",\"\",'名刺管理（Eight）'!A490)","v":""},{"$f":"IF('名刺管理（Eight）'!B490=\"\",\"\",'名刺管理（Eight）'!B490)","v":""},{"$f":"IF('名刺管理（Eight）'!C490=\"\",\"\",'名刺管理（Eight）'!C490)","v":""},{"$f":"IF('名刺管理（Eight）'!E490=\"\",\"\",'名刺管理（Eight）'!E490)","v":""},{"$f":"IF('名刺管理（Eight）'!F490=\"\",\"\",'名刺管理（Eight）'!F490)","v":""},{"$f":"IF('名刺管理（Eight）'!G490=\"\",\"\",IF(LEFT('名刺管理（Eight）'!G490,3)=\"神奈川\",LEFT('名刺管理（Eight）'!G490,4),IF(LEFT('名刺管理（Eight）'!G490,3)=\"和歌山\",LEFT('名刺管理（Eight）'!G490,4),IF(LEFT('名刺管理（Eight）'!G490,3)=\"鹿児島\",LEFT('名刺管理（Eight）'!G490,4),LEFT('名刺管理（Eight）'!G490,3)))))","v":""},{"$f":"IF(K492=\"\",\"\",IF(LEN(K492)=3,MID('名刺管理（Eight）'!G490,4,50),MID('名刺管理（Eight）'!G490,5,50)))","v":""},{"$f":"IF('名刺管理（Eight）'!H490=\"\",\"\",'名刺管理（Eight）'!H490)","v":""},{"$f":"IF('名刺管理（Eight）'!K490=\"\",\"\",'名刺管理（Eight）'!K490)","v":""},{"$f":"IF('名刺管理（Eight）'!L490=\"\",\"\",'名刺管理（Eight）'!L490)","v":""},{"$f":"IF('名刺管理（Eight）'!M490=\"\",\"\",'名刺管理（Eight）'!M490)","v":""},{"$f":"IF('名刺管理（Eight）'!N490=\"\",\"\",TEXT('名刺管理（Eight）'!N490,\"yyyy/m/d\"))","v":""}]
[{"$f":"LEFT('名刺管理（Eight）'!D491,D493)","v":""},{"$f":"RIGHT('名刺管理（Eight）'!D491,E493)","v":""},{"$f":"IF('名刺管理（Eight）'!D491=\"\",\"\",IF(LEN('名刺管理（Eight）'!D491)=D493+E493,\"\",\"不一致\"))","v":""},null,null,{"$f":"IF('名刺管理（Eight）'!A491=\"\",\"\",'名刺管理（Eight）'!A491)","v":""},{"$f":"IF('名刺管理（Eight）'!B491=\"\",\"\",'名刺管理（Eight）'!B491)","v":""},{"$f":"IF('名刺管理（Eight）'!C491=\"\",\"\",'名刺管理（Eight）'!C491)","v":""},{"$f":"IF('名刺管理（Eight）'!E491=\"\",\"\",'名刺管理（Eight）'!E491)","v":""},{"$f":"IF('名刺管理（Eight）'!F491=\"\",\"\",'名刺管理（Eight）'!F491)","v":""},{"$f":"IF('名刺管理（Eight）'!G491=\"\",\"\",IF(LEFT('名刺管理（Eight）'!G491,3)=\"神奈川\",LEFT('名刺管理（Eight）'!G491,4),IF(LEFT('名刺管理（Eight）'!G491,3)=\"和歌山\",LEFT('名刺管理（Eight）'!G491,4),IF(LEFT('名刺管理（Eight）'!G491,3)=\"鹿児島\",LEFT('名刺管理（Eight）'!G491,4),LEFT('名刺管理（Eight）'!G491,3)))))","v":""},{"$f":"IF(K493=\"\",\"\",IF(LEN(K493)=3,MID('名刺管理（Eight）'!G491,4,50),MID('名刺管理（Eight）'!G491,5,50)))","v":""},{"$f":"IF('名刺管理（Eight）'!H491=\"\",\"\",'名刺管理（Eight）'!H491)","v":""},{"$f":"IF('名刺管理（Eight）'!K491=\"\",\"\",'名刺管理（Eight）'!K491)","v":""},{"$f":"IF('名刺管理（Eight）'!L491=\"\",\"\",'名刺管理（Eight）'!L491)","v":""},{"$f":"IF('名刺管理（Eight）'!M491=\"\",\"\",'名刺管理（Eight）'!M491)","v":""},{"$f":"IF('名刺管理（Eight）'!N491=\"\",\"\",TEXT('名刺管理（Eight）'!N491,\"yyyy/m/d\"))","v":""}]
[{"$f":"LEFT('名刺管理（Eight）'!D492,D494)","v":""},{"$f":"RIGHT('名刺管理（Eight）'!D492,E494)","v":""},{"$f":"IF('名刺管理（Eight）'!D492=\"\",\"\",IF(LEN('名刺管理（Eight）'!D492)=D494+E494,\"\",\"不一致\"))","v":""},null,null,{"$f":"IF('名刺管理（Eight）'!A492=\"\",\"\",'名刺管理（Eight）'!A492)","v":""},{"$f":"IF('名刺管理（Eight）'!B492=\"\",\"\",'名刺管理（Eight）'!B492)","v":""},{"$f":"IF('名刺管理（Eight）'!C492=\"\",\"\",'名刺管理（Eight）'!C492)","v":""},{"$f":"IF('名刺管理（Eight）'!E492=\"\",\"\",'名刺管理（Eight）'!E492)","v":""},{"$f":"IF('名刺管理（Eight）'!F492=\"\",\"\",'名刺管理（Eight）'!F492)","v":""},{"$f":"IF('名刺管理（Eight）'!G492=\"\",\"\",IF(LEFT('名刺管理（Eight）'!G492,3)=\"神奈川\",LEFT('名刺管理（Eight）'!G492,4),IF(LEFT('名刺管理（Eight）'!G492,3)=\"和歌山\",LEFT('名刺管理（Eight）'!G492,4),IF(LEFT('名刺管理（Eight）'!G492,3)=\"鹿児島\",LEFT('名刺管理（Eight）'!G492,4),LEFT('名刺管理（Eight）'!G492,3)))))","v":""},{"$f":"IF(K494=\"\",\"\",IF(LEN(K494)=3,MID('名刺管理（Eight）'!G492,4,50),MID('名刺管理（Eight）'!G492,5,50)))","v":""},{"$f":"IF('名刺管理（Eight）'!H492=\"\",\"\",'名刺管理（Eight）'!H492)","v":""},{"$f":"IF('名刺管理（Eight）'!K492=\"\",\"\",'名刺管理（Eight）'!K492)","v":""},{"$f":"IF('名刺管理（Eight）'!L492=\"\",\"\",'名刺管理（Eight）'!L492)","v":""},{"$f":"IF('名刺管理（Eight）'!M492=\"\",\"\",'名刺管理（Eight）'!M492)","v":""},{"$f":"IF('名刺管理（Eight）'!N492=\"\",\"\",TEXT('名刺管理（Eight）'!N492,\"yyyy/m/d\"))","v":""}]
[{"$f":"LEFT('名刺管理（Eight）'!D493,D495)","v":""},{"$f":"RIGHT('名刺管理（Eight）'!D493,E495)","v":""},{"$f":"IF('名刺管理（Eight）'!D493=\"\",\"\",IF(LEN('名刺管理（Eight）'!D493)=D495+E495,\"\",\"不一致\"))","v":""},null,null,{"$f":"IF('名刺管理（Eight）'!A493=\"\",\"\",'名刺管理（Eight）'!A493)","v":""},{"$f":"IF('名刺管理（Eight）'!B493=\"\",\"\",'名刺管理（Eight）'!B493)","v":""},{"$f":"IF('名刺管理（Eight）'!C493=\"\",\"\",'名刺管理（Eight）'!C493)","v":""},{"$f":"IF('名刺管理（Eight）'!E493=\"\",\"\",'名刺管理（Eight）'!E493)","v":""},{"$f":"IF('名刺管理（Eight）'!F493=\"\",\"\",'名刺管理（Eight）'!F493)","v":""},{"$f":"IF('名刺管理（Eight）'!G493=\"\",\"\",IF(LEFT('名刺管理（Eight）'!G493,3)=\"神奈川\",LEFT('名刺管理（Eight）'!G493,4),IF(LEFT('名刺管理（Eight）'!G493,3)=\"和歌山\",LEFT('名刺管理（Eight）'!G493,4),IF(LEFT('名刺管理（Eight）'!G493,3)=\"鹿児島\",LEFT('名刺管理（Eight）'!G493,4),LEFT('名刺管理（Eight）'!G493,3)))))","v":""},{"$f":"IF(K495=\"\",\"\",IF(LEN(K495)=3,MID('名刺管理（Eight）'!G493,4,50),MID('名刺管理（Eight）'!G493,5,50)))","v":""},{"$f":"IF('名刺管理（Eight）'!H493=\"\",\"\",'名刺管理（Eight）'!H493)","v":""},{"$f":"IF('名刺管理（Eight）'!K493=\"\",\"\",'名刺管理（Eight）'!K493)","v":""},{"$f":"IF('名刺管理（Eight）'!L493=\"\",\"\",'名刺管理（Eight）'!L493)","v":""},{"$f":"IF('名刺管理（Eight）'!M493=\"\",\"\",'名刺管理（Eight）'!M493)","v":""},{"$f":"IF('名刺管理（Eight）'!N493=\"\",\"\",TEXT('名刺管理（Eight）'!N493,\"yyyy/m/d\"))","v":""}]
[{"$f":"LEFT('名刺管理（Eight）'!D494,D496)","v":""},{"$f":"RIGHT('名刺管理（Eight）'!D494,E496)","v":""},{"$f":"IF('名刺管理（Eight）'!D494=\"\",\"\",IF(LEN('名刺管理（Eight）'!D494)=D496+E496,\"\",\"不一致\"))","v":""},null,null,{"$f":"IF('名刺管理（Eight）'!A494=\"\",\"\",'名刺管理（Eight）'!A494)","v":""},{"$f":"IF('名刺管理（Eight）'!B494=\"\",\"\",'名刺管理（Eight）'!B494)","v":""},{"$f":"IF('名刺管理（Eight）'!C494=\"\",\"\",'名刺管理（Eight）'!C494)","v":""},{"$f":"IF('名刺管理（Eight）'!E494=\"\",\"\",'名刺管理（Eight）'!E494)","v":""},{"$f":"IF('名刺管理（Eight）'!F494=\"\",\"\",'名刺管理（Eight）'!F494)","v":""},{"$f":"IF('名刺管理（Eight）'!G494=\"\",\"\",IF(LEFT('名刺管理（Eight）'!G494,3)=\"神奈川\",LEFT('名刺管理（Eight）'!G494,4),IF(LEFT('名刺管理（Eight）'!G494,3)=\"和歌山\",LEFT('名刺管理（Eight）'!G494,4),IF(LEFT('名刺管理（Eight）'!G494,3)=\"鹿児島\",LEFT('名刺管理（Eight）'!G494,4),LEFT('名刺管理（Eight）'!G494,3)))))","v":""},{"$f":"IF(K496=\"\",\"\",IF(LEN(K496)=3,MID('名刺管理（Eight）'!G494,4,50),MID('名刺管理（Eight）'!G494,5,50)))","v":""},{"$f":"IF('名刺管理（Eight）'!H494=\"\",\"\",'名刺管理（Eight）'!H494)","v":""},{"$f":"IF('名刺管理（Eight）'!K494=\"\",\"\",'名刺管理（Eight）'!K494)","v":""},{"$f":"IF('名刺管理（Eight）'!L494=\"\",\"\",'名刺管理（Eight）'!L494)","v":""},{"$f":"IF('名刺管理（Eight）'!M494=\"\",\"\",'名刺管理（Eight）'!M494)","v":""},{"$f":"IF('名刺管理（Eight）'!N494=\"\",\"\",TEXT('名刺管理（Eight）'!N494,\"yyyy/m/d\"))","v":""}]
[{"$f":"LEFT('名刺管理（Eight）'!D495,D497)","v":""},{"$f":"RIGHT('名刺管理（Eight）'!D495,E497)","v":""},{"$f":"IF('名刺管理（Eight）'!D495=\"\",\"\",IF(LEN('名刺管理（Eight）'!D495)=D497+E497,\"\",\"不一致\"))","v":""},null,null,{"$f":"IF('名刺管理（Eight）'!A495=\"\",\"\",'名刺管理（Eight）'!A495)","v":""},{"$f":"IF('名刺管理（Eight）'!B495=\"\",\"\",'名刺管理（Eight）'!B495)","v":""},{"$f":"IF('名刺管理（Eight）'!C495=\"\",\"\",'名刺管理（Eight）'!C495)","v":""},{"$f":"IF('名刺管理（Eight）'!E495=\"\",\"\",'名刺管理（Eight）'!E495)","v":""},{"$f":"IF('名刺管理（Eight）'!F495=\"\",\"\",'名刺管理（Eight）'!F495)","v":""},{"$f":"IF('名刺管理（Eight）'!G495=\"\",\"\",IF(LEFT('名刺管理（Eight）'!G495,3)=\"神奈川\",LEFT('名刺管理（Eight）'!G495,4),IF(LEFT('名刺管理（Eight）'!G495,3)=\"和歌山\",LEFT('名刺管理（Eight）'!G495,4),IF(LEFT('名刺管理（Eight）'!G495,3)=\"鹿児島\",LEFT('名刺管理（Eight）'!G495,4),LEFT('名刺管理（Eight）'!G495,3)))))","v":""},{"$f":"IF(K497=\"\",\"\",IF(LEN(K497)=3,MID('名刺管理（Eight）'!G495,4,50),MID('名刺管理（Eight）'!G495,5,50)))","v":""},{"$f":"IF('名刺管理（Eight）'!H495=\"\",\"\",'名刺管理（Eight）'!H495)","v":""},{"$f":"IF('名刺管理（Eight）'!K495=\"\",\"\",'名刺管理（Eight）'!K495)","v":""},{"$f":"IF('名刺管理（Eight）'!L495=\"\",\"\",'名刺管理（Eight）'!L495)","v":""},{"$f":"IF('名刺管理（Eight）'!M495=\"\",\"\",'名刺管理（Eight）'!M495)","v":""},{"$f":"IF('名刺管理（Eight）'!N495=\"\",\"\",TEXT('名刺管理（Eight）'!N495,\"yyyy/m/d\"))","v":""}]
[{"$f":"LEFT('名刺管理（Eight）'!D496,D498)","v":""},{"$f":"RIGHT('名刺管理（Eight）'!D496,E498)","v":""},{"$f":"IF('名刺管理（Eight）'!D496=\"\",\"\",IF(LEN('名刺管理（Eight）'!D496)=D498+E498,\"\",\"不一致\"))","v":""},null,null,{"$f":"IF('名刺管理（Eight）'!A496=\"\",\"\",'名刺管理（Eight）'!A496)","v":""},{"$f":"IF('名刺管理（Eight）'!B496=\"\",\"\",'名刺管理（Eight）'!B496)","v":""},{"$f":"IF('名刺管理（Eight）'!C496=\"\",\"\",'名刺管理（Eight）'!C496)","v":""},{"$f":"IF('名刺管理（Eight）'!E496=\"\",\"\",'名刺管理（Eight）'!E496)","v":""},{"$f":"IF('名刺管理（Eight）'!F496=\"\",\"\",'名刺管理（Eight）'!F496)","v":""},{"$f":"IF('名刺管理（Eight）'!G496=\"\",\"\",IF(LEFT('名刺管理（Eight）'!G496,3)=\"神奈川\",LEFT('名刺管理（Eight）'!G496,4),IF(LEFT('名刺管理（Eight）'!G496,3)=\"和歌山\",LEFT('名刺管理（Eight）'!G496,4),IF(LEFT('名刺管理（Eight）'!G496,3)=\"鹿児島\",LEFT('名刺管理（Eight）'!G496,4),LEFT('名刺管理（Eight）'!G496,3)))))","v":""},{"$f":"IF(K498=\"\",\"\",IF(LEN(K498)=3,MID('名刺管理（Eight）'!G496,4,50),MID('名刺管理（Eight）'!G496,5,50)))","v":""},{"$f":"IF('名刺管理（Eight）'!H496=\"\",\"\",'名刺管理（Eight）'!H496)","v":""},{"$f":"IF('名刺管理（Eight）'!K496=\"\",\"\",'名刺管理（Eight）'!K496)","v":""},{"$f":"IF('名刺管理（Eight）'!L496=\"\",\"\",'名刺管理（Eight）'!L496)","v":""},{"$f":"IF('名刺管理（Eight）'!M496=\"\",\"\",'名刺管理（Eight）'!M496)","v":""},{"$f":"IF('名刺管理（Eight）'!N496=\"\",\"\",TEXT('名刺管理（Eight）'!N496,\"yyyy/m/d\"))","v":""}]
[{"$f":"LEFT('名刺管理（Eight）'!D497,D499)","v":""},{"$f":"RIGHT('名刺管理（Eight）'!D497,E499)","v":""},{"$f":"IF('名刺管理（Eight）'!D497=\"\",\"\",IF(LEN('名刺管理（Eight）'!D497)=D499+E499,\"\",\"不一致\"))","v":""},null,null,{"$f":"IF('名刺管理（Eight）'!A497=\"\",\"\",'名刺管理（Eight）'!A497)","v":""},{"$f":"IF('名刺管理（Eight）'!B497=\"\",\"\",'名刺管理（Eight）'!B497)","v":""},{"$f":"IF('名刺管理（Eight）'!C497=\"\",\"\",'名刺管理（Eight）'!C497)","v":""},{"$f":"IF('名刺管理（Eight）'!E497=\"\",\"\",'名刺管理（Eight）'!E497)","v":""},{"$f":"IF('名刺管理（Eight）'!F497=\"\",\"\",'名刺管理（Eight）'!F497)","v":""},{"$f":"IF('名刺管理（Eight）'!G497=\"\",\"\",IF(LEFT('名刺管理（Eight）'!G497,3)=\"神奈川\",LEFT('名刺管理（Eight）'!G497,4),IF(LEFT('名刺管理（Eight）'!G497,3)=\"和歌山\",LEFT('名刺管理（Eight）'!G497,4),IF(LEFT('名刺管理（Eight）'!G497,3)=\"鹿児島\",LEFT('名刺管理（Eight）'!G497,4),LEFT('名刺管理（Eight）'!G497,3)))))","v":""},{"$f":"IF(K499=\"\",\"\",IF(LEN(K499)=3,MID('名刺管理（Eight）'!G497,4,50),MID('名刺管理（Eight）'!G497,5,50)))","v":""},{"$f":"IF('名刺管理（Eight）'!H497=\"\",\"\",'名刺管理（Eight）'!H497)","v":""},{"$f":"IF('名刺管理（Eight）'!K497=\"\",\"\",'名刺管理（Eight）'!K497)","v":""},{"$f":"IF('名刺管理（Eight）'!L497=\"\",\"\",'名刺管理（Eight）'!L497)","v":""},{"$f":"IF('名刺管理（Eight）'!M497=\"\",\"\",'名刺管理（Eight）'!M497)","v":""},{"$f":"IF('名刺管理（Eight）'!N497=\"\",\"\",TEXT('名刺管理（Eight）'!N497,\"yyyy/m/d\"))","v":""}]
[{"$f":"LEFT('名刺管理（Eight）'!D498,D500)","v":""},{"$f":"RIGHT('名刺管理（Eight）'!D498,E500)","v":""},{"$f":"IF('名刺管理（Eight）'!D498=\"\",\"\",IF(LEN('名刺管理（Eight）'!D498)=D500+E500,\"\",\"不一致\"))","v":""},null,null,{"$f":"IF('名刺管理（Eight）'!A498=\"\",\"\",'名刺管理（Eight）'!A498)","v":""},{"$f":"IF('名刺管理（Eight）'!B498=\"\",\"\",'名刺管理（Eight）'!B498)","v":""},{"$f":"IF('名刺管理（Eight）'!C498=\"\",\"\",'名刺管理（Eight）'!C498)","v":""},{"$f":"IF('名刺管理（Eight）'!E498=\"\",\"\",'名刺管理（Eight）'!E498)","v":""},{"$f":"IF('名刺管理（Eight）'!F498=\"\",\"\",'名刺管理（Eight）'!F498)","v":""},{"$f":"IF('名刺管理（Eight）'!G498=\"\",\"\",IF(LEFT('名刺管理（Eight）'!G498,3)=\"神奈川\",LEFT('名刺管理（Eight）'!G498,4),IF(LEFT('名刺管理（Eight）'!G498,3)=\"和歌山\",LEFT('名刺管理（Eight）'!G498,4),IF(LEFT('名刺管理（Eight）'!G498,3)=\"鹿児島\",LEFT('名刺管理（Eight）'!G498,4),LEFT('名刺管理（Eight）'!G498,3)))))","v":""},{"$f":"IF(K500=\"\",\"\",IF(LEN(K500)=3,MID('名刺管理（Eight）'!G498,4,50),MID('名刺管理（Eight）'!G498,5,50)))","v":""},{"$f":"IF('名刺管理（Eight）'!H498=\"\",\"\",'名刺管理（Eight）'!H498)","v":""},{"$f":"IF('名刺管理（Eight）'!K498=\"\",\"\",'名刺管理（Eight）'!K498)","v":""},{"$f":"IF('名刺管理（Eight）'!L498=\"\",\"\",'名刺管理（Eight）'!L498)","v":""},{"$f":"IF('名刺管理（Eight）'!M498=\"\",\"\",'名刺管理（Eight）'!M498)","v":""},{"$f":"IF('名刺管理（Eight）'!N498=\"\",\"\",TEXT('名刺管理（Eight）'!N498,\"yyyy/m/d\"))","v":""}]
[{"$f":"LEFT('名刺管理（Eight）'!D499,D501)","v":""},{"$f":"RIGHT('名刺管理（Eight）'!D499,E501)","v":""},{"$f":"IF('名刺管理（Eight）'!D499=\"\",\"\",IF(LEN('名刺管理（Eight）'!D499)=D501+E501,\"\",\"不一致\"))","v":""},null,null,{"$f":"IF('名刺管理（Eight）'!A499=\"\",\"\",'名刺管理（Eight）'!A499)","v":""},{"$f":"IF('名刺管理（Eight）'!B499=\"\",\"\",'名刺管理（Eight）'!B499)","v":""},{"$f":"IF('名刺管理（Eight）'!C499=\"\",\"\",'名刺管理（Eight）'!C499)","v":""},{"$f":"IF('名刺管理（Eight）'!E499=\"\",\"\",'名刺管理（Eight）'!E499)","v":""},{"$f":"IF('名刺管理（Eight）'!F499=\"\",\"\",'名刺管理（Eight）'!F499)","v":""},{"$f":"IF('名刺管理（Eight）'!G499=\"\",\"\",IF(LEFT('名刺管理（Eight）'!G499,3)=\"神奈川\",LEFT('名刺管理（Eight）'!G499,4),IF(LEFT('名刺管理（Eight）'!G499,3)=\"和歌山\",LEFT('名刺管理（Eight）'!G499,4),IF(LEFT('名刺管理（Eight）'!G499,3)=\"鹿児島\",LEFT('名刺管理（Eight）'!G499,4),LEFT('名刺管理（Eight）'!G499,3)))))","v":""},{"$f":"IF(K501=\"\",\"\",IF(LEN(K501)=3,MID('名刺管理（Eight）'!G499,4,50),MID('名刺管理（Eight）'!G499,5,50)))","v":""},{"$f":"IF('名刺管理（Eight）'!H499=\"\",\"\",'名刺管理（Eight）'!H499)","v":""},{"$f":"IF('名刺管理（Eight）'!K499=\"\",\"\",'名刺管理（Eight）'!K499)","v":""},{"$f":"IF('名刺管理（Eight）'!L499=\"\",\"\",'名刺管理（Eight）'!L499)","v":""},{"$f":"IF('名刺管理（Eight）'!M499=\"\",\"\",'名刺管理（Eight）'!M499)","v":""},{"$f":"IF('名刺管理（Eight）'!N499=\"\",\"\",TEXT('名刺管理（Eight）'!N499,\"yyyy/m/d\"))","v":""}]